{"text_format":"1","workbook":"xlsx","n_sheets":7,"sheets":["Disclaimer","Patient Tracking","Caseload Overview - DO NOT EDIT","Caseload Overview","Caseload Overview - BACKUP","Data Validation Lists","Data Prep"],"not_rendered":{"charts":0,"images":4,"macros":1,"external_links":1,"defined_names":15,"comments":0,"pivot_tables":0},"unopened":[],"bounds":{"document_bytes":16777216,"sheet_cells":100000,"rows_first":2000,"rows_last":500,"rows_between":2000,"halvings":0,"cell_chars":16384,"cell_head_chars":4096},"cells_cut":0,"cells_raw":0,"read":"whole","date_system":"1900"}

{"sheet":"Disclaimer","index":0,"n_rows":22,"n_cols":2,"rows_kept":22,"cut":false,"hidden":false,"merged":[[9,1,18,4]]}
[]
[]
[]
[]
[]
[]
[]
[]
[]
[null,"THIS TEMPLATE (\"TEMPLATE\") IS PROVIDED \"AS-IS” AND UW MAKES NO WARRANTIES, EXPRESS OR IMPLIED, INCLUDING WARRANTIES OF MERCHANTABILITY OR FITNESS FOR A PARTICULAR PURPOSE, NONINFRINGEMENT AND INTERFERENCE IN USE OF THE TEMPLATE AND HEREBY DISCLAIMS ALL SUCH WARRANTIES AS TO ANY MATTER WHATSOEVER.  UW SHALL NOT BE LIABLE FOR ANY DIRECT, CONSEQUENTIAL, LOST PROFITS, OR OTHER DAMAGES SUFFERED BY THE USE OF THE TEMPLATE. IN NO EVENT SHALL UW BE RESPONSIBLE OR LIABLE FOR ANY CLAIM FOR PUNITIVE OR EXEMPLARY DAMAGES OR LOST PROFITS OR ANY OTHER FORM OF CONSEQUENTIAL DAMAGES ARISING FROM ANY USE OF THE TEMPLATE. USERS OF THE TEMPLATE  HEREBY RELEASE UW, UWSOM, THEIR OFFICERS, AGENTS, EMPLOYEES, REPRESENTATIVES, FACULTY, AND STUDENTS FROM ALL CLAIMS RELATING TO THE FOREGOING. \n\nIT IS THE RESPONSIBILITY OF THE ORGANIZATION TO ESTABLISH A SYSTEM FOR STORING AND SHARING INFORMATION CONTAINED IN THE TEMPLATE IN A WAY THAT COMPLIES WITH HIPAA REGULATIONS. IT IS STRONGLY ENCOURAGED THAT THE ORGANIZATION CONSULT WITH WHOMEVER MANAGES HIPAA COMPLIANCE AT THE ORGANIZATION TO ENSURE A SECURE PLAN IS PUT INTO PLACE.  "]
[]
[]
[]
[]
[]
[]
[]
[]
[]
[]
[]
[null,"As Agreed:"]

{"sheet":"Patient Tracking","index":1,"n_rows":163,"n_cols":27,"rows_kept":163,"cut":false,"hidden":false,"merged":[[1,15,1,16],[0,0,0,1],[0,2,0,5],[0,6,0,10],[0,11,0,14],[0,15,0,17]]}
["Patient information",null,"Enrollment Status and Actions",null,null,null,"Contacts",null,null,null,null,"Measurements",null,null,null,"Contact Notes and Psychiatric Case Review"]
["MRN","Name ","Treatment Status","Display\n(Hide past tx episodes or view only the most recent contact)","Tickler","Episode Number\n(Episode of care/tx)","Follow-up Contact Number","Date Follow-up Due","Date Follow-up Due","Actual Contact Dates","Type of Contact","PHQ-9 Score \n(Target is < 5 within 5-7 months of initial elevated PHQ-9)","% Change in PHQ-9 score \n(Target is -50% within 5-7 months of initial elevated PHQ-9)","GAD-7 Score \n(Target is < 10 within 5-7 months of initial elevated GAD-7)","% Change in GAD-7 score \n(Target is -50% within 10 weeks of tx initiation or change)","Care Manager Contact Notes and Flag for Psychiatric Case Review\n(Include notes about appointment reminder calls, referrals to specialty services, etc.)",null,"Date of Psychiatric Case Review\n(Date of most recent Psychiatric Case Review automatically populates at top)","Column R","Pre-Column J: Episode","Pre-Column J: Episode+MRN","Pre-Column J: Remove Date=0","Column J","Column L","Column L no score","Column N","Column N no score"]
[1234,"Joe Smith","Active",{"$f":"IF(A3<>\"\",\"Show Initial Assessment row\",\"\")","v":"Show Initial Assessment row"}," ",{"$f":"MAX(IF(A4:A50=A3,F4:F50,\"\"))","v":1},"Current Episode Initial Assessment","2-week follow-up schedule",null,{"$f":"IF(W3<>0,W3,\"\")","v":"2017-04-01"},null,{"$f":"IF(Y3=\"no score\",Y3,X3)","v":15},null,{"$f":"IF(AA3=\"no score\",AA3,Z3)","v":11},null,null,null,{"$f":"IF(S3<>0,S3,\"\")","v":"2016-10-24"},{"$f":"MAX(IF(A4:A50=A3,R4:R50,\"\"))","v":"2016-10-24"},{"$f":"MAX(IF(A4:A50=A3,F4:F50,\"\"))","v":1},{"$f":"T3&\"pt\"&A3","v":"1pt1234"},null,{"$f":"MIN(IF(U4:U50=U3,V4:V50,\"\"))","v":"2017-04-01"},{"$f":"MAX(IF('Data Prep'!S2:S60=\"initial score\"&'Patient Tracking'!A3,'Data Prep'!Z2:Z60,\"\"))","v":15},{"$f":"IF(ISNA(MATCH(\"initial score\"&'Patient Tracking'!A3,'Data Prep'!S2:S60,0)),\"No score\",\"\")","v":""},{"$f":"MAX(IF('Data Prep'!T2:T60=\"initial score\"&'Patient Tracking'!A3,'Data Prep'!AD2:AD60,\"\"))","v":11},{"$f":"IF(ISNA(MATCH(\"initial score\"&'Patient Tracking'!A3,'Data Prep'!T2:T60,0)),\"No score\",\"\")","v":""}]
[{"$f":"IF(A3<>\"\",A3,\"\")","v":1234},{"$f":"IF(B3<>\"\",B3,\"\")","v":"Joe Smith"},{"$f":"IF(C3<>\"\",C3,\"\")","v":"Active"},{"$f":"IF(AND(E4=\" \",F3>F4), \"DESELECT to hide past tx episodes\",IF(OR(E4=\"Past due\",E4=\"contact due today\",E4=\"contact due in 1 day\",E4=\"contact due in 2 days\",E4=\"contact due in 3 days\",E4=\"contact due in 4 days\",E4=\"contact due in 5 days\",AND(J4<>\"\",OR(J5=\"\",A4<>A5))),\"Show only most recent visit & ticklers\",\"\"))","v":""},{"$f":"IF(C3=\"Active\",IF(J4=\"\",IF(I4<TODAY(), \"Past Due\",(IF(I4=TODAY(),\"Contact due today\",IF(I4=(TODAY()+1), \"Contact due in 1 day\",IF(I4=(TODAY()+2), \"Contact due in 2 days\",IF(I4=(TODAY()+3), \"Contact due in 3 days\",IF(I4=(TODAY()+4), \"Contact due in 4 days\",IF(I4=(TODAY()+5), \"Contact due in 5 days\",\" \")))))))),\" \"),\" \")","v":" "},1,"Initial Assessment",{"$f":"IF(J4<>\"\",\"\",I4)","v":""},{"$f":"IF(H3=\"1-week follow-up schedule\",IF(J3=\"\",\" \",IF(ISERROR(J3+7),\" \",J3+7)),IF(H3=\"1-month follow-up schedule\",IF(J3=\"\",\" \",IF(ISERROR(J3+30),\" \",J3+30)),IF(J3=\"\",\" \",IF(ISERROR(J3+14),\" \",J3+14))))","v":"2017-04-15"},"2017-04-01","In person at clinic",15,{"$f":"IF(L4=\".\",\"\",IF(ISERROR((L4/L3)-1),\"\",((L4/L3)-1)))","v":0},11,{"$f":"IF(N4=\".\",\"\",IF(ISERROR((N4/N3)-1),\"\",((N4/N3)-1)))","v":0},null,null,"2016-09-04",null,{"$f":"F4","v":1},{"$f":"T4&\"pt\"&A4","v":"1pt1234"},{"$f":"IF(J4<>0,J4,9999999)","v":42826}]
[{"$f":"IF(A4<>\"\",A4,\"\")","v":1234},"Joe Smith","Active",{"$f":"IF(AND(E5=\" \",F3>F5), \"DESELECT to hide past tx episodes\",IF(OR(E5=\"Past due\",E5=\"contact due today\",E5=\"contact due in 1 day\",E5=\"contact due in 2 days\",E5=\"contact due in 3 days\",E5=\"contact due in 4 days\",E5=\"contact due in 5 days\",AND(J5<>\"\",OR(J6=\"\",A5<>A6))),\"Show only most recent visit & ticklers\",\"\"))","v":""},{"$f":"IF(OR(C4=\"Active\",C4=\"Relapse Prevention\"),IF(J5=\"\",IF(I5<TODAY(), \"Past Due\",(IF(I5=TODAY(),\"Contact due today\",IF(I5=(TODAY()+1), \"Contact due in 1 day\",IF(I5=(TODAY()+2), \"Contact due in 2 days\",IF(I5=(TODAY()+3), \"Contact due in 3 days\",IF(I5=(TODAY()+4), \"Contact due in 4 days\",IF(I5=(TODAY()+5), \"Contact due in 5 days\",\" \")))))))),\" \"),\" \")","v":" "},1,{"$f":"IF(AND(F5=F4,F5<>\"\"),IFERROR(G4+1,1),IF(F5<>\"\",\"Initial Assessment\",\"\"))","v":1},{"$f":"IF(J5<>\"\",\"\",I5)","v":""},{"$f":"IF(I4=\" \",\" \",(IF(H3=\"1-week follow-up schedule\",IF(J4=\"\",I4+7,IF(ISERROR(J4+7),I4+7,J4+7)),IF(H3=\"1-month follow-up schedule\",IF(J4=\"\",I4+30,IF(ISERROR(J4+30),I4+30,J4+30)),IF(J4=\"\",I4+14,IF(ISERROR(J4+14),I4+14,J4+14))))))","v":"2017-04-15"},"2017-04-15","In person at clinic",13,{"$f":"IF(L5=\".\",\"\",IF(ISERROR((L5/L3)-1),\"\",((L5/L3)-1)))","v":-0.1333333333333333},11,{"$f":"IF(N5=\".\",\"\",IF(ISERROR((N5/N3)-1),\"\",((N5/N3)-1)))","v":0},null,null,"2016-10-24",null,{"$f":"F5","v":1},{"$f":"T5&\"pt\"&A5","v":"1pt1234"},{"$f":"IF(J5<>0,J5,9999999)","v":42840}]
[1234,"Joe Smith","Active",{"$f":"IF(AND(E6=\" \",F3>F6), \"DESELECT to hide past tx episodes\",IF(OR(E6=\"Past due\",E6=\"contact due today\",E6=\"contact due in 1 day\",E6=\"contact due in 2 days\",E6=\"contact due in 3 days\",E6=\"contact due in 4 days\",E6=\"contact due in 5 days\",AND(J6<>\"\",OR(J7=\"\",A6<>A7))),\"Show only most recent visit & ticklers\",\"\"))","v":""},{"$f":"IF(OR(C5=\"Active\",C5=\"Relapse Prevention\"),IF(J6=\"\",IF(I6<TODAY(), \"Past Due\",(IF(I6=TODAY(),\"Contact due today\",IF(I6=(TODAY()+1), \"Contact due in 1 day\",IF(I6=(TODAY()+2), \"Contact due in 2 days\",IF(I6=(TODAY()+3), \"Contact due in 3 days\",IF(I6=(TODAY()+4), \"Contact due in 4 days\",IF(I6=(TODAY()+5), \"Contact due in 5 days\",\" \")))))))),\" \"),\" \")","v":" "},1,2,"",{"$f":"IF(I5=\" \",\" \",(IF(H3=\"1-week follow-up schedule\",IF(J5=\"\",I5+7,IF(ISERROR(J5+7),I5+7,J5+7)),IF(H3=\"1-month follow-up schedule\",IF(J5=\"\",I5+30,IF(ISERROR(J5+30),I5+30,J5+30)),IF(J5=\"\",I5+14,IF(ISERROR(J5+14),I5+14,J5+14))))))","v":"2017-04-29"},"2017-04-29","In person at clinic",15,{"$f":"IF(L6=\".\",\"\",IF(ISERROR((L6/L3)-1),\"\",((L6/L3)-1)))","v":0},9,{"$f":"IF(N6=\".\",\"\",IF(ISERROR((N6/N3)-1),\"\",((N6/N3)-1)))","v":-0.18181818181818177},null,null,null,null,1,"1pt1234",42854]
[1234,"Joe Smith","Active",{"$f":"IF(AND(E7=\" \",F3>F7), \"DESELECT to hide past tx episodes\",IF(OR(E7=\"Past due\",E7=\"contact due today\",E7=\"contact due in 1 day\",E7=\"contact due in 2 days\",E7=\"contact due in 3 days\",E7=\"contact due in 4 days\",E7=\"contact due in 5 days\",AND(J7<>\"\",OR(J8=\"\",A7<>A8))),\"Show only most recent visit & ticklers\",\"\"))","v":""}," ",1,3,"",{"$f":"IF(I6=\" \",\" \",(IF(H3=\"1-week follow-up schedule\",IF(J6=\"\",I6+7,IF(ISERROR(J6+7),I6+7,J6+7)),IF(H3=\"1-month follow-up schedule\",IF(J6=\"\",I6+30,IF(ISERROR(J6+30),I6+30,J6+30)),IF(J6=\"\",I6+14,IF(ISERROR(J6+14),I6+14,J6+14))))))","v":"2017-05-13"},"2017-05-12","Phone",12,{"$f":"IF(L7=\".\",\"\",IF(ISERROR((L7/L3)-1),\"\",((L7/L3)-1)))","v":-0.19999999999999996},6,{"$f":"IF(N7=\".\",\"\",IF(ISERROR((N7/N3)-1),\"\",((N7/N3)-1)))","v":-0.45454545454545459},null,null,null,null,1,"1pt1234",42867]
[1234,"Joe Smith","Active",{"$f":"IF(AND(E8=\" \",F3>F8), \"DESELECT to hide past tx episodes\",IF(OR(E8=\"Past due\",E8=\"contact due today\",E8=\"contact due in 1 day\",E8=\"contact due in 2 days\",E8=\"contact due in 3 days\",E8=\"contact due in 4 days\",E8=\"contact due in 5 days\",AND(J8<>\"\",OR(J9=\"\",A8<>A9))),\"Show only most recent visit & ticklers\",\"\"))","v":""}," ",1,4,"",{"$f":"IF(I7=\" \",\" \",(IF(H3=\"1-week follow-up schedule\",IF(J7=\"\",I7+7,IF(ISERROR(J7+7),I7+7,J7+7)),IF(H3=\"1-month follow-up schedule\",IF(J7=\"\",I7+30,IF(ISERROR(J7+30),I7+30,J7+30)),IF(J7=\"\",I7+14,IF(ISERROR(J7+14),I7+14,J7+14))))))","v":"2017-05-26"},"2017-05-25","In person at clinic",11,{"$f":"IF(L8=\".\",\"\",IF(ISERROR((L8/L3)-1),\"\",((L8/L3)-1)))","v":-0.26666666666666672},7,{"$f":"IF(N8=\".\",\"\",IF(ISERROR((N8/N3)-1),\"\",((N8/N3)-1)))","v":-0.36363636363636365},null,null,null,null,1,"1pt1234",42880]
[1234,"Joe Smith","Active",{"$f":"IF(AND(E9=\" \",F3>F9), \"DESELECT to hide past tx episodes\",IF(OR(E9=\"Past due\",E9=\"contact due today\",E9=\"contact due in 1 day\",E9=\"contact due in 2 days\",E9=\"contact due in 3 days\",E9=\"contact due in 4 days\",E9=\"contact due in 5 days\",AND(J9<>\"\",OR(J10=\"\",A9<>A10))),\"Show only most recent visit & ticklers\",\"\"))","v":""}," ",1,5,"",{"$f":"IF(I8=\" \",\" \",(IF(H3=\"1-week follow-up schedule\",IF(J8=\"\",I8+7,IF(ISERROR(J8+7),I8+7,J8+7)),IF(H3=\"1-month follow-up schedule\",IF(J8=\"\",I8+30,IF(ISERROR(J8+30),I8+30,J8+30)),IF(J8=\"\",I8+14,IF(ISERROR(J8+14),I8+14,J8+14))))))","v":"2017-06-08"},"2017-06-08","In person at clinic",9,{"$f":"IF(L9=\".\",\"\",IF(ISERROR((L9/L3)-1),\"\",((L9/L3)-1)))","v":-0.4},7,{"$f":"IF(N9=\".\",\"\",IF(ISERROR((N9/N3)-1),\"\",((N9/N3)-1)))","v":-0.36363636363636365},null,null,null,null,1,"1pt1234",42894]
[1234,"Joe Smith","Active",{"$f":"IF(AND(E10=\" \",F3>F10), \"DESELECT to hide past tx episodes\",IF(OR(E10=\"Past due\",E10=\"contact due today\",E10=\"contact due in 1 day\",E10=\"contact due in 2 days\",E10=\"contact due in 3 days\",E10=\"contact due in 4 days\",E10=\"contact due in 5 days\",AND(J10<>\"\",OR(J11=\"\",A10<>A11))),\"Show only most recent visit & ticklers\",\"\"))","v":"Show only most recent visit & ticklers"}," ",1,6,"",{"$f":"IF(I9=\" \",\" \",(IF(H3=\"1-week follow-up schedule\",IF(J9=\"\",I9+7,IF(ISERROR(J9+7),I9+7,J9+7)),IF(H3=\"1-month follow-up schedule\",IF(J9=\"\",I9+30,IF(ISERROR(J9+30),I9+30,J9+30)),IF(J9=\"\",I9+14,IF(ISERROR(J9+14),I9+14,J9+14))))))","v":"2017-06-22"},"2017-07-11","In person at clinic",8,{"$f":"IF(L10=\".\",\"\",IF(ISERROR((L10/L3)-1),\"\",((L10/L3)-1)))","v":-0.46666666666666667},4,{"$f":"IF(N10=\".\",\"\",IF(ISERROR((N10/N3)-1),\"\",((N10/N3)-1)))","v":-0.63636363636363635},null,null,null,null,1,"1pt1234",42927]
[1234,"Joe Smith","Active",{"$f":"IF(AND(E11=\" \",F3>F11), \"DESELECT to hide past tx episodes\",IF(OR(E11=\"Past due\",E11=\"contact due today\",E11=\"contact due in 1 day\",E11=\"contact due in 2 days\",E11=\"contact due in 3 days\",E11=\"contact due in 4 days\",E11=\"contact due in 5 days\",AND(J11<>\"\",OR(J12=\"\",A11<>A12))),\"Show only most recent visit & ticklers\",\"\"))","v":"DESELECT to hide past tx episodes"}," ",null,"","2017-07-25",{"$f":"IF(I10=\" \",\" \",(IF(H3=\"1-week follow-up schedule\",IF(J10=\"\",I10+7,IF(ISERROR(J10+7),I10+7,J10+7)),IF(H3=\"1-month follow-up schedule\",IF(J10=\"\",I10+30,IF(ISERROR(J10+30),I10+30,J10+30)),IF(J10=\"\",I10+14,IF(ISERROR(J10+14),I10+14,J10+14))))))","v":"2017-07-25"},null,null,".",{"$f":"IF(L11=\".\",\"\",IF(ISERROR((L11/L3)-1),\"\",((L11/L3)-1)))","v":""},".",{"$f":"IF(N11=\".\",\"\",IF(ISERROR((N11/N3)-1),\"\",((N11/N3)-1)))","v":""},null,null,null,null,0,"0pt1234",9999999]
[1234,"Joe Smith","Active",{"$f":"IF(AND(E12=\" \",F3>F12), \"DESELECT to hide past tx episodes\",IF(OR(E12=\"Past due\",E12=\"contact due today\",E12=\"contact due in 1 day\",E12=\"contact due in 2 days\",E12=\"contact due in 3 days\",E12=\"contact due in 4 days\",E12=\"contact due in 5 days\",AND(J12<>\"\",OR(J13=\"\",A12<>A13))),\"Show only most recent visit & ticklers\",\"\"))","v":"DESELECT to hide past tx episodes"}," ",null,"","2017-08-08",{"$f":"IF(I11=\" \",\" \",(IF(H3=\"1-week follow-up schedule\",IF(J11=\"\",I11+7,IF(ISERROR(J11+7),I11+7,J11+7)),IF(H3=\"1-month follow-up schedule\",IF(J11=\"\",I11+30,IF(ISERROR(J11+30),I11+30,J11+30)),IF(J11=\"\",I11+14,IF(ISERROR(J11+14),I11+14,J11+14))))))","v":"2017-08-08"},null,null,".",{"$f":"IF(L12=\".\",\"\",IF(ISERROR((L12/L3)-1),\"\",((L12/L3)-1)))","v":""},".",{"$f":"IF(N12=\".\",\"\",IF(ISERROR((N12/N3)-1),\"\",((N12/N3)-1)))","v":""},null,null,null,null,0,"0pt1234",9999999]
[1234,"Joe Smith","Active",{"$f":"IF(AND(E13=\" \",F3>F13), \"DESELECT to hide past tx episodes\",IF(OR(E13=\"Past due\",E13=\"contact due today\",E13=\"contact due in 1 day\",E13=\"contact due in 2 days\",E13=\"contact due in 3 days\",E13=\"contact due in 4 days\",E13=\"contact due in 5 days\",AND(J13<>\"\",OR(J14=\"\",A13<>A14))),\"Show only most recent visit & ticklers\",\"\"))","v":"DESELECT to hide past tx episodes"}," ",null,"","2017-08-22",{"$f":"IF(I12=\" \",\" \",(IF(H3=\"1-week follow-up schedule\",IF(J12=\"\",I12+7,IF(ISERROR(J12+7),I12+7,J12+7)),IF(H3=\"1-month follow-up schedule\",IF(J12=\"\",I12+30,IF(ISERROR(J12+30),I12+30,J12+30)),IF(J12=\"\",I12+14,IF(ISERROR(J12+14),I12+14,J12+14))))))","v":"2017-08-22"},null,null,".",{"$f":"IF(L13=\".\",\"\",IF(ISERROR((L13/L3)-1),\"\",((L13/L3)-1)))","v":""},".",{"$f":"IF(N13=\".\",\"\",IF(ISERROR((N13/N3)-1),\"\",((N13/N3)-1)))","v":""},null,null,null,null,0,"0pt1234",9999999]
[1234,"Joe Smith","Active",{"$f":"IF(AND(E14=\" \",F3>F14), \"DESELECT to hide past tx episodes\",IF(OR(E14=\"Past due\",E14=\"contact due today\",E14=\"contact due in 1 day\",E14=\"contact due in 2 days\",E14=\"contact due in 3 days\",E14=\"contact due in 4 days\",E14=\"contact due in 5 days\",AND(J14<>\"\",OR(J15=\"\",A14<>A15))),\"Show only most recent visit & ticklers\",\"\"))","v":"DESELECT to hide past tx episodes"}," ",null,"","2017-09-05",{"$f":"IF(I13=\" \",\" \",(IF(H3=\"1-week follow-up schedule\",IF(J13=\"\",I13+7,IF(ISERROR(J13+7),I13+7,J13+7)),IF(H3=\"1-month follow-up schedule\",IF(J13=\"\",I13+30,IF(ISERROR(J13+30),I13+30,J13+30)),IF(J13=\"\",I13+14,IF(ISERROR(J13+14),I13+14,J13+14))))))","v":"2017-09-05"},null,null,".",{"$f":"IF(L14=\".\",\"\",IF(ISERROR((L14/L3)-1),\"\",((L14/L3)-1)))","v":""},".",{"$f":"IF(N14=\".\",\"\",IF(ISERROR((N14/N3)-1),\"\",((N14/N3)-1)))","v":""},null,null,null,null,0,"0pt1234",9999999]
[1234,"Joe Smith","Active",{"$f":"IF(AND(E15=\" \",F3>F15), \"DESELECT to hide past tx episodes\",IF(OR(E15=\"Past due\",E15=\"contact due today\",E15=\"contact due in 1 day\",E15=\"contact due in 2 days\",E15=\"contact due in 3 days\",E15=\"contact due in 4 days\",E15=\"contact due in 5 days\",AND(J15<>\"\",OR(J16=\"\",A15<>A16))),\"Show only most recent visit & ticklers\",\"\"))","v":"DESELECT to hide past tx episodes"}," ",null,"","2017-09-19",{"$f":"IF(I14=\" \",\" \",(IF(H3=\"1-week follow-up schedule\",IF(J14=\"\",I14+7,IF(ISERROR(J14+7),I14+7,J14+7)),IF(H3=\"1-month follow-up schedule\",IF(J14=\"\",I14+30,IF(ISERROR(J14+30),I14+30,J14+30)),IF(J14=\"\",I14+14,IF(ISERROR(J14+14),I14+14,J14+14))))))","v":"2017-09-19"},null,null,".",{"$f":"IF(L15=\".\",\"\",IF(ISERROR((L15/L3)-1),\"\",((L15/L3)-1)))","v":""},".",{"$f":"IF(N15=\".\",\"\",IF(ISERROR((N15/N3)-1),\"\",((N15/N3)-1)))","v":""},null,null,null,null,0,"0pt1234",9999999]
[1234,"Joe Smith","Active",{"$f":"IF(AND(E16=\" \",F3>F16), \"DESELECT to hide past tx episodes\",IF(OR(E16=\"Past due\",E16=\"contact due today\",E16=\"contact due in 1 day\",E16=\"contact due in 2 days\",E16=\"contact due in 3 days\",E16=\"contact due in 4 days\",E16=\"contact due in 5 days\",AND(J16<>\"\",OR(J17=\"\",A16<>A17))),\"Show only most recent visit & ticklers\",\"\"))","v":"DESELECT to hide past tx episodes"}," ",null,"","2017-10-03",{"$f":"IF(I15=\" \",\" \",(IF(H3=\"1-week follow-up schedule\",IF(J15=\"\",I15+7,IF(ISERROR(J15+7),I15+7,J15+7)),IF(H3=\"1-month follow-up schedule\",IF(J15=\"\",I15+30,IF(ISERROR(J15+30),I15+30,J15+30)),IF(J15=\"\",I15+14,IF(ISERROR(J15+14),I15+14,J15+14))))))","v":"2017-10-03"},null,null,".",{"$f":"IF(L16=\".\",\"\",IF(ISERROR((L16/L3)-1),\"\",((L16/L3)-1)))","v":""},".",{"$f":"IF(N16=\".\",\"\",IF(ISERROR((N16/N3)-1),\"\",((N16/N3)-1)))","v":""},null,null,null,null,0,"0pt1234",9999999]
[1234,"Joe Smith","Active",{"$f":"IF(AND(E17=\" \",F3>F17), \"DESELECT to hide past tx episodes\",IF(OR(E17=\"Past due\",E17=\"contact due today\",E17=\"contact due in 1 day\",E17=\"contact due in 2 days\",E17=\"contact due in 3 days\",E17=\"contact due in 4 days\",E17=\"contact due in 5 days\",AND(J17<>\"\",OR(J18=\"\",A17<>A18))),\"Show only most recent visit & ticklers\",\"\"))","v":"DESELECT to hide past tx episodes"}," ",null,"","2017-10-17",{"$f":"IF(I16=\" \",\" \",(IF(H3=\"1-week follow-up schedule\",IF(J16=\"\",I16+7,IF(ISERROR(J16+7),I16+7,J16+7)),IF(H3=\"1-month follow-up schedule\",IF(J16=\"\",I16+30,IF(ISERROR(J16+30),I16+30,J16+30)),IF(J16=\"\",I16+14,IF(ISERROR(J16+14),I16+14,J16+14))))))","v":"2017-10-17"},null,null,".",{"$f":"IF(L17=\".\",\"\",IF(ISERROR((L17/L3)-1),\"\",((L17/L3)-1)))","v":""},".",{"$f":"IF(N17=\".\",\"\",IF(ISERROR((N17/N3)-1),\"\",((N17/N3)-1)))","v":""},null,null,null,null,0,"0pt1234",9999999]
[1234,"Joe Smith","Active",{"$f":"IF(AND(E18=\" \",F3>F18), \"DESELECT to hide past tx episodes\",IF(OR(E18=\"Past due\",E18=\"contact due today\",E18=\"contact due in 1 day\",E18=\"contact due in 2 days\",E18=\"contact due in 3 days\",E18=\"contact due in 4 days\",E18=\"contact due in 5 days\",AND(J18<>\"\",OR(J19=\"\",A18<>A19))),\"Show only most recent visit & ticklers\",\"\"))","v":"DESELECT to hide past tx episodes"}," ",null,"","2017-10-31",{"$f":"IF(I17=\" \",\" \",(IF(H3=\"1-week follow-up schedule\",IF(J17=\"\",I17+7,IF(ISERROR(J17+7),I17+7,J17+7)),IF(H3=\"1-month follow-up schedule\",IF(J17=\"\",I17+30,IF(ISERROR(J17+30),I17+30,J17+30)),IF(J17=\"\",I17+14,IF(ISERROR(J17+14),I17+14,J17+14))))))","v":"2017-10-31"},null,null,".",{"$f":"IF(L18=\".\",\"\",IF(ISERROR((L18/L3)-1),\"\",((L18/L3)-1)))","v":""},".",{"$f":"IF(N18=\".\",\"\",IF(ISERROR((N18/N3)-1),\"\",((N18/N3)-1)))","v":""},null,null,null,null,0,"0pt1234",9999999]
[1222,"Bob Dolittle","Active",{"$f":"IF(A19<>\"\",\"Show Initial Assessment row\",\"\")","v":"Show Initial Assessment row"}," ",{"$f":"MAX(IF(A20:A66=A19,F20:F66,\"\"))","v":2},"Current Episode Initial Assessment","2-week follow-up schedule",null,{"$f":"IF(W19<>0,W19,\"\")","v":"2017-03-02"},null,{"$f":"IF(Y19=\"no score\",Y19,X19)","v":22},null,{"$f":"IF(AA19=\"no score\",AA19,Z19)","v":12},null,null,"Flag as safety risk",{"$f":"IF(S19<>0,S19,\"\")","v":"2016-09-17"},{"$f":"MAX(IF(A20:A66=A19,R20:R66,\"\"))","v":"2016-09-17"},{"$f":"MAX(IF(A20:A66=A19,F20:F66,\"\"))","v":2},{"$f":"T19&\"pt\"&A19","v":"2pt1222"},null,{"$f":"MIN(IF(U20:U66=U19,V20:V66,\"\"))","v":"2017-03-02"},{"$f":"MAX(IF('Data Prep'!S18:S76=\"initial score\"&'Patient Tracking'!A19,'Data Prep'!Z18:Z76,\"\"))","v":22},{"$f":"IF(ISNA(MATCH(\"initial score\"&'Patient Tracking'!A19,'Data Prep'!S18:S76,0)),\"No score\",\"\")","v":""},{"$f":"MAX(IF('Data Prep'!T18:T76=\"initial score\"&'Patient Tracking'!A19,'Data Prep'!AD18:AD76,\"\"))","v":12},{"$f":"IF(ISNA(MATCH(\"initial score\"&'Patient Tracking'!A19,'Data Prep'!T18:T76,0)),\"No score\",\"\")","v":""}]
[{"$f":"IF(A19<>\"\",A19,\"\")","v":1222},{"$f":"IF(B19<>\"\",B19,\"\")","v":"Bob Dolittle"},{"$f":"IF(C19<>\"\",C19,\"\")","v":"Active"},{"$f":"IF(AND(E20=\" \",F19>F20), \"DESELECT to hide past tx episodes\",IF(OR(E20=\"Past due\",E20=\"contact due today\",E20=\"contact due in 1 day\",E20=\"contact due in 2 days\",E20=\"contact due in 3 days\",E20=\"contact due in 4 days\",E20=\"contact due in 5 days\",AND(J20<>\"\",OR(J21=\"\",A20<>A21))),\"Show only most recent visit & ticklers\",\"\"))","v":"DESELECT to hide past tx episodes"},{"$f":"IF(C19=\"Active\",IF(J20=\"\",IF(I20<TODAY(), \"Past Due\",(IF(I20=TODAY(),\"Contact due today\",IF(I20=(TODAY()+1), \"Contact due in 1 day\",IF(I20=(TODAY()+2), \"Contact due in 2 days\",IF(I20=(TODAY()+3), \"Contact due in 3 days\",IF(I20=(TODAY()+4), \"Contact due in 4 days\",IF(I20=(TODAY()+5), \"Contact due in 5 days\",\" \")))))))),\" \"),\" \")","v":" "},1,"Initial Assessment",{"$f":"IF(J20<>\"\",\"\",I20)","v":""},{"$f":"IF(H19=\"1-week follow-up schedule\",IF(J19=\"\",\" \",IF(ISERROR(J19+7),\" \",J19+7)),IF(H19=\"1-month follow-up schedule\",IF(J19=\"\",\" \",IF(ISERROR(J19+30),\" \",J19+30)),IF(J19=\"\",\" \",IF(ISERROR(J19+14),\" \",J19+14))))","v":"2017-03-16"},"2015-03-05","In person at clinic",21,{"$f":"IF(L20=\".\",\"\",IF(ISERROR((L20/L19)-1),\"\",((L20/L19)-1)))","v":-4.5454545454545414E-2},12,{"$f":"IF(N20=\".\",\"\",IF(ISERROR((N20/N19)-1),\"\",((N20/N19)-1)))","v":0},null,null,"2015-03-31",null,{"$f":"F20","v":1},{"$f":"T20&\"pt\"&A20","v":"1pt1222"},{"$f":"IF(J20<>0,J20,9999999)","v":42068}]
[{"$f":"IF(A20<>\"\",A20,\"\")","v":1222},"Bob Dolittle","Active",{"$f":"IF(AND(E21=\" \",F19>F21), \"DESELECT to hide past tx episodes\",IF(OR(E21=\"Past due\",E21=\"contact due today\",E21=\"contact due in 1 day\",E21=\"contact due in 2 days\",E21=\"contact due in 3 days\",E21=\"contact due in 4 days\",E21=\"contact due in 5 days\",AND(J21<>\"\",OR(J22=\"\",A21<>A22))),\"Show only most recent visit & ticklers\",\"\"))","v":"DESELECT to hide past tx episodes"},{"$f":"IF(OR(C20=\"Active\",C20=\"Relapse Prevention\"),IF(J21=\"\",IF(I21<TODAY(), \"Past Due\",(IF(I21=TODAY(),\"Contact due today\",IF(I21=(TODAY()+1), \"Contact due in 1 day\",IF(I21=(TODAY()+2), \"Contact due in 2 days\",IF(I21=(TODAY()+3), \"Contact due in 3 days\",IF(I21=(TODAY()+4), \"Contact due in 4 days\",IF(I21=(TODAY()+5), \"Contact due in 5 days\",\" \")))))))),\" \"),\" \")","v":" "},1,{"$f":"IF(AND(F21=F20,F21<>\"\"),IFERROR(G20+1,1),IF(F21<>\"\",\"Initial Assessment\",\"\"))","v":1},{"$f":"IF(J21<>\"\",\"\",I21)","v":""},{"$f":"IF(I20=\" \",\" \",(IF(H19=\"1-week follow-up schedule\",IF(J20=\"\",I20+7,IF(ISERROR(J20+7),I20+7,J20+7)),IF(H19=\"1-month follow-up schedule\",IF(J20=\"\",I20+30,IF(ISERROR(J20+30),I20+30,J20+30)),IF(J20=\"\",I20+14,IF(ISERROR(J20+14),I20+14,J20+14))))))","v":"2015-03-19"},"2015-06-19","In person at clinic",19,{"$f":"IF(L21=\".\",\"\",IF(ISERROR((L21/L19)-1),\"\",((L21/L19)-1)))","v":-0.13636363636363635},10,{"$f":"IF(N21=\".\",\"\",IF(ISERROR((N21/N19)-1),\"\",((N21/N19)-1)))","v":-0.16666666666666663},null,null,"2016-02-18",null,{"$f":"F21","v":1},{"$f":"T21&\"pt\"&A21","v":"1pt1222"},{"$f":"IF(J21<>0,J21,9999999)","v":42174}]
[{"$f":"IF(A21<>\"\",A21,\"\")","v":1222},"Bob Dolittle","Active",{"$f":"IF(AND(E22=\" \",F19>F22), \"DESELECT to hide past tx episodes\",IF(OR(E22=\"Past due\",E22=\"contact due today\",E22=\"contact due in 1 day\",E22=\"contact due in 2 days\",E22=\"contact due in 3 days\",E22=\"contact due in 4 days\",E22=\"contact due in 5 days\",AND(J22<>\"\",OR(J23=\"\",A22<>A23))),\"Show only most recent visit & ticklers\",\"\"))","v":"DESELECT to hide past tx episodes"},{"$f":"IF(OR(C21=\"Active\",C21=\"Relapse Prevention\"),IF(J22=\"\",IF(I22<TODAY(), \"Past Due\",(IF(I22=TODAY(),\"Contact due today\",IF(I22=(TODAY()+1), \"Contact due in 1 day\",IF(I22=(TODAY()+2), \"Contact due in 2 days\",IF(I22=(TODAY()+3), \"Contact due in 3 days\",IF(I22=(TODAY()+4), \"Contact due in 4 days\",IF(I22=(TODAY()+5), \"Contact due in 5 days\",\" \")))))))),\" \"),\" \")","v":" "},1,2,"",{"$f":"IF(I21=\" \",\" \",(IF(H19=\"1-week follow-up schedule\",IF(J21=\"\",I21+7,IF(ISERROR(J21+7),I21+7,J21+7)),IF(H19=\"1-month follow-up schedule\",IF(J21=\"\",I21+30,IF(ISERROR(J21+30),I21+30,J21+30)),IF(J21=\"\",I21+14,IF(ISERROR(J21+14),I21+14,J21+14))))))","v":"2015-07-03"},"2015-07-02","In person at clinic",15,{"$f":"IF(L22=\".\",\"\",IF(ISERROR((L22/L19)-1),\"\",((L22/L19)-1)))","v":-0.31818181818181823},7,{"$f":"IF(N22=\".\",\"\",IF(ISERROR((N22/N19)-1),\"\",((N22/N19)-1)))","v":-0.41666666666666663},null,null,"2016-09-17",null,1,"1pt1222",42187]
[{"$f":"IF(A22<>\"\",A22,\"\")","v":1222},"Bob Dolittle","Active",{"$f":"IF(AND(E23=\" \",F19>F23), \"DESELECT to hide past tx episodes\",IF(OR(E23=\"Past due\",E23=\"contact due today\",E23=\"contact due in 1 day\",E23=\"contact due in 2 days\",E23=\"contact due in 3 days\",E23=\"contact due in 4 days\",E23=\"contact due in 5 days\",AND(J23<>\"\",OR(J24=\"\",A23<>A24))),\"Show only most recent visit & ticklers\",\"\"))","v":"DESELECT to hide past tx episodes"}," ",1,3,"",{"$f":"IF(I22=\" \",\" \",(IF(H19=\"1-week follow-up schedule\",IF(J22=\"\",I22+7,IF(ISERROR(J22+7),I22+7,J22+7)),IF(H19=\"1-month follow-up schedule\",IF(J22=\"\",I22+30,IF(ISERROR(J22+30),I22+30,J22+30)),IF(J22=\"\",I22+14,IF(ISERROR(J22+14),I22+14,J22+14))))))","v":"2015-07-16"},"2015-07-16","In person at clinic",10,{"$f":"IF(L23=\".\",\"\",IF(ISERROR((L23/L19)-1),\"\",((L23/L19)-1)))","v":-0.54545454545454541},7,{"$f":"IF(N23=\".\",\"\",IF(ISERROR((N23/N19)-1),\"\",((N23/N19)-1)))","v":-0.41666666666666663},null,null,null,null,1,"1pt1222",42201]
[{"$f":"IF(A23<>\"\",A23,\"\")","v":1222},"Bob Dolittle","Active",{"$f":"IF(AND(E24=\" \",F19>F24), \"DESELECT to hide past tx episodes\",IF(OR(E24=\"Past due\",E24=\"contact due today\",E24=\"contact due in 1 day\",E24=\"contact due in 2 days\",E24=\"contact due in 3 days\",E24=\"contact due in 4 days\",E24=\"contact due in 5 days\",AND(J24<>\"\",OR(J25=\"\",A24<>A25))),\"Show only most recent visit & ticklers\",\"\"))","v":"DESELECT to hide past tx episodes"}," ",1,4,"",{"$f":"IF(I23=\" \",\" \",(IF(H19=\"1-week follow-up schedule\",IF(J23=\"\",I23+7,IF(ISERROR(J23+7),I23+7,J23+7)),IF(H19=\"1-month follow-up schedule\",IF(J23=\"\",I23+30,IF(ISERROR(J23+30),I23+30,J23+30)),IF(J23=\"\",I23+14,IF(ISERROR(J23+14),I23+14,J23+14))))))","v":"2015-07-30"},"2015-08-01","In person at clinic",9,{"$f":"IF(L24=\".\",\"\",IF(ISERROR((L24/L19)-1),\"\",((L24/L19)-1)))","v":-0.59090909090909083},8,{"$f":"IF(N24=\".\",\"\",IF(ISERROR((N24/N19)-1),\"\",((N24/N19)-1)))","v":-0.33333333333333337},null,null,null,null,1,"1pt1222",42217]
[{"$f":"IF(A24<>\"\",A24,\"\")","v":1222},"Bob Dolittle","Active",{"$f":"IF(AND(E25=\" \",F19>F25), \"DESELECT to hide past tx episodes\",IF(OR(E25=\"Past due\",E25=\"contact due today\",E25=\"contact due in 1 day\",E25=\"contact due in 2 days\",E25=\"contact due in 3 days\",E25=\"contact due in 4 days\",E25=\"contact due in 5 days\",AND(J25<>\"\",OR(J26=\"\",A25<>A26))),\"Show only most recent visit & ticklers\",\"\"))","v":"DESELECT to hide past tx episodes"}," ",1,5,"",{"$f":"IF(I24=\" \",\" \",(IF(H19=\"1-week follow-up schedule\",IF(J24=\"\",I24+7,IF(ISERROR(J24+7),I24+7,J24+7)),IF(H19=\"1-month follow-up schedule\",IF(J24=\"\",I24+30,IF(ISERROR(J24+30),I24+30,J24+30)),IF(J24=\"\",I24+14,IF(ISERROR(J24+14),I24+14,J24+14))))))","v":"2015-08-15"},"Missed",null,".",{"$f":"IF(L25=\".\",\"\",IF(ISERROR((L25/L19)-1),\"\",((L25/L19)-1)))","v":""},".",{"$f":"IF(N25=\".\",\"\",IF(ISERROR((N25/N19)-1),\"\",((N25/N19)-1)))","v":""},null,null,null,null,1,"1pt1222","Missed"]
[{"$f":"IF(A25<>\"\",A25,\"\")","v":1222},"Bob Dolittle","Active",{"$f":"IF(AND(E26=\" \",F19>F26), \"DESELECT to hide past tx episodes\",IF(OR(E26=\"Past due\",E26=\"contact due today\",E26=\"contact due in 1 day\",E26=\"contact due in 2 days\",E26=\"contact due in 3 days\",E26=\"contact due in 4 days\",E26=\"contact due in 5 days\",AND(J26<>\"\",OR(J27=\"\",A26<>A27))),\"Show only most recent visit & ticklers\",\"\"))","v":"DESELECT to hide past tx episodes"}," ",1,6,"",{"$f":"IF(I25=\" \",\" \",(IF(H19=\"1-week follow-up schedule\",IF(J25=\"\",I25+7,IF(ISERROR(J25+7),I25+7,J25+7)),IF(H19=\"1-month follow-up schedule\",IF(J25=\"\",I25+30,IF(ISERROR(J25+30),I25+30,J25+30)),IF(J25=\"\",I25+14,IF(ISERROR(J25+14),I25+14,J25+14))))))","v":"2015-08-29"},"Missed",null,".",{"$f":"IF(L26=\".\",\"\",IF(ISERROR((L26/L19)-1),\"\",((L26/L19)-1)))","v":""},".",{"$f":"IF(N26=\".\",\"\",IF(ISERROR((N26/N19)-1),\"\",((N26/N19)-1)))","v":""},null,null,null,null,1,"1pt1222","Missed"]
[{"$f":"IF(A26<>\"\",A26,\"\")","v":1222},"Bob Dolittle","Active",{"$f":"IF(AND(E27=\" \",F19>F27), \"DESELECT to hide past tx episodes\",IF(OR(E27=\"Past due\",E27=\"contact due today\",E27=\"contact due in 1 day\",E27=\"contact due in 2 days\",E27=\"contact due in 3 days\",E27=\"contact due in 4 days\",E27=\"contact due in 5 days\",AND(J27<>\"\",OR(J28=\"\",A27<>A28))),\"Show only most recent visit & ticklers\",\"\"))","v":"DESELECT to hide past tx episodes"}," ",1,7,"",{"$f":"IF(I26=\" \",\" \",(IF(H19=\"1-week follow-up schedule\",IF(J26=\"\",I26+7,IF(ISERROR(J26+7),I26+7,J26+7)),IF(H19=\"1-month follow-up schedule\",IF(J26=\"\",I26+30,IF(ISERROR(J26+30),I26+30,J26+30)),IF(J26=\"\",I26+14,IF(ISERROR(J26+14),I26+14,J26+14))))))","v":"2015-09-12"},"2015-09-15","Phone",".",{"$f":"IF(L27=\".\",\"\",IF(ISERROR((L27/L19)-1),\"\",((L27/L19)-1)))","v":""},".",{"$f":"IF(N27=\".\",\"\",IF(ISERROR((N27/N19)-1),\"\",((N27/N19)-1)))","v":""},"Pt does not wish to continue care; discharged",null,null,null,1,"1pt1222",42262]
[{"$f":"IF(A27<>\"\",A27,\"\")","v":1222},"Bob Dolittle","Active",{"$f":"IF(AND(E28=\" \",F19>F28), \"DESELECT to hide past tx episodes\",IF(OR(E28=\"Past due\",E28=\"contact due today\",E28=\"contact due in 1 day\",E28=\"contact due in 2 days\",E28=\"contact due in 3 days\",E28=\"contact due in 4 days\",E28=\"contact due in 5 days\",AND(J28<>\"\",OR(J29=\"\",A28<>A29))),\"Show only most recent visit & ticklers\",\"\"))","v":""}," ",2,"Initial Assessment","",{"$f":"IF(I27=\" \",\" \",(IF(H19=\"1-week follow-up schedule\",IF(J27=\"\",I27+7,IF(ISERROR(J27+7),I27+7,J27+7)),IF(H19=\"1-month follow-up schedule\",IF(J27=\"\",I27+30,IF(ISERROR(J27+30),I27+30,J27+30)),IF(J27=\"\",I27+14,IF(ISERROR(J27+14),I27+14,J27+14))))))","v":"2015-09-29"},"2017-03-02","In person at clinic",22,{"$f":"IF(L28=\".\",\"\",IF(ISERROR((L28/L19)-1),\"\",((L28/L19)-1)))","v":0},12,{"$f":"IF(N28=\".\",\"\",IF(ISERROR((N28/N19)-1),\"\",((N28/N19)-1)))","v":0},null,null,null,null,2,"2pt1222",42796]
[{"$f":"IF(A28<>\"\",A28,\"\")","v":1222},"Bob Dolittle","Active",{"$f":"IF(AND(E29=\" \",F19>F29), \"DESELECT to hide past tx episodes\",IF(OR(E29=\"Past due\",E29=\"contact due today\",E29=\"contact due in 1 day\",E29=\"contact due in 2 days\",E29=\"contact due in 3 days\",E29=\"contact due in 4 days\",E29=\"contact due in 5 days\",AND(J29<>\"\",OR(J30=\"\",A29<>A30))),\"Show only most recent visit & ticklers\",\"\"))","v":""}," ",2,1,"",{"$f":"IF(I28=\" \",\" \",(IF(H19=\"1-week follow-up schedule\",IF(J28=\"\",I28+7,IF(ISERROR(J28+7),I28+7,J28+7)),IF(H19=\"1-month follow-up schedule\",IF(J28=\"\",I28+30,IF(ISERROR(J28+30),I28+30,J28+30)),IF(J28=\"\",I28+14,IF(ISERROR(J28+14),I28+14,J28+14))))))","v":"2017-03-16"},"2017-03-16","Phone",21,{"$f":"IF(L29=\".\",\"\",IF(ISERROR((L29/L19)-1),\"\",((L29/L19)-1)))","v":-4.5454545454545414E-2},10,{"$f":"IF(N29=\".\",\"\",IF(ISERROR((N29/N19)-1),\"\",((N29/N19)-1)))","v":-0.16666666666666663},null,null,null,null,2,"2pt1222",42810]
[{"$f":"IF(A29<>\"\",A29,\"\")","v":1222},"Bob Dolittle","Active",{"$f":"IF(AND(E30=\" \",F19>F30), \"DESELECT to hide past tx episodes\",IF(OR(E30=\"Past due\",E30=\"contact due today\",E30=\"contact due in 1 day\",E30=\"contact due in 2 days\",E30=\"contact due in 3 days\",E30=\"contact due in 4 days\",E30=\"contact due in 5 days\",AND(J30<>\"\",OR(J31=\"\",A30<>A31))),\"Show only most recent visit & ticklers\",\"\"))","v":""}," ",2,2,"",{"$f":"IF(I29=\" \",\" \",(IF(H19=\"1-week follow-up schedule\",IF(J29=\"\",I29+7,IF(ISERROR(J29+7),I29+7,J29+7)),IF(H19=\"1-month follow-up schedule\",IF(J29=\"\",I29+30,IF(ISERROR(J29+30),I29+30,J29+30)),IF(J29=\"\",I29+14,IF(ISERROR(J29+14),I29+14,J29+14))))))","v":"2017-03-30"},"2017-03-30","In person at clinic",22,{"$f":"IF(L30=\".\",\"\",IF(ISERROR((L30/L19)-1),\"\",((L30/L19)-1)))","v":0},11,{"$f":"IF(N30=\".\",\"\",IF(ISERROR((N30/N19)-1),\"\",((N30/N19)-1)))","v":-8.333333333333337E-2},null,null,null,null,2,"2pt1222",42824]
[{"$f":"IF(A30<>\"\",A30,\"\")","v":1222},"Bob Dolittle","Active",{"$f":"IF(AND(E31=\" \",F19>F31), \"DESELECT to hide past tx episodes\",IF(OR(E31=\"Past due\",E31=\"contact due today\",E31=\"contact due in 1 day\",E31=\"contact due in 2 days\",E31=\"contact due in 3 days\",E31=\"contact due in 4 days\",E31=\"contact due in 5 days\",AND(J31<>\"\",OR(J32=\"\",A31<>A32))),\"Show only most recent visit & ticklers\",\"\"))","v":""}," ",2,3,"",{"$f":"IF(I30=\" \",\" \",(IF(H19=\"1-week follow-up schedule\",IF(J30=\"\",I30+7,IF(ISERROR(J30+7),I30+7,J30+7)),IF(H19=\"1-month follow-up schedule\",IF(J30=\"\",I30+30,IF(ISERROR(J30+30),I30+30,J30+30)),IF(J30=\"\",I30+14,IF(ISERROR(J30+14),I30+14,J30+14))))))","v":"2017-04-13"},"Missed",null,".",{"$f":"IF(L31=\".\",\"\",IF(ISERROR((L31/L19)-1),\"\",((L31/L19)-1)))","v":""},".",{"$f":"IF(N31=\".\",\"\",IF(ISERROR((N31/N19)-1),\"\",((N31/N19)-1)))","v":""},null,null,null,null,2,"2pt1222","Missed"]
[{"$f":"IF(A31<>\"\",A31,\"\")","v":1222},"Bob Dolittle","Active",{"$f":"IF(AND(E32=\" \",F19>F32), \"DESELECT to hide past tx episodes\",IF(OR(E32=\"Past due\",E32=\"contact due today\",E32=\"contact due in 1 day\",E32=\"contact due in 2 days\",E32=\"contact due in 3 days\",E32=\"contact due in 4 days\",E32=\"contact due in 5 days\",AND(J32<>\"\",OR(J33=\"\",A32<>A33))),\"Show only most recent visit & ticklers\",\"\"))","v":"Show only most recent visit & ticklers"}," ",2,4,"",{"$f":"IF(I31=\" \",\" \",(IF(H19=\"1-week follow-up schedule\",IF(J31=\"\",I31+7,IF(ISERROR(J31+7),I31+7,J31+7)),IF(H19=\"1-month follow-up schedule\",IF(J31=\"\",I31+30,IF(ISERROR(J31+30),I31+30,J31+30)),IF(J31=\"\",I31+14,IF(ISERROR(J31+14),I31+14,J31+14))))))","v":"2017-04-27"},"2017-07-01",null,19,{"$f":"IF(L32=\".\",\"\",IF(ISERROR((L32/L19)-1),\"\",((L32/L19)-1)))","v":-0.13636363636363635},10,{"$f":"IF(N32=\".\",\"\",IF(ISERROR((N32/N19)-1),\"\",((N32/N19)-1)))","v":-0.16666666666666663},null,null,null,null,2,"2pt1222",42917]
[{"$f":"IF(A32<>\"\",A32,\"\")","v":1222},"Bob Dolittle","Active",{"$f":"IF(AND(E33=\" \",F19>F33), \"DESELECT to hide past tx episodes\",IF(OR(E33=\"Past due\",E33=\"contact due today\",E33=\"contact due in 1 day\",E33=\"contact due in 2 days\",E33=\"contact due in 3 days\",E33=\"contact due in 4 days\",E33=\"contact due in 5 days\",AND(J33<>\"\",OR(J34=\"\",A33<>A34))),\"Show only most recent visit & ticklers\",\"\"))","v":"Show only most recent visit & ticklers"},"Contact due in 4 days",null,"","2017-07-15",{"$f":"IF(I32=\" \",\" \",(IF(H19=\"1-week follow-up schedule\",IF(J32=\"\",I32+7,IF(ISERROR(J32+7),I32+7,J32+7)),IF(H19=\"1-month follow-up schedule\",IF(J32=\"\",I32+30,IF(ISERROR(J32+30),I32+30,J32+30)),IF(J32=\"\",I32+14,IF(ISERROR(J32+14),I32+14,J32+14))))))","v":"2017-07-15"},null,null,".",{"$f":"IF(L33=\".\",\"\",IF(ISERROR((L33/L19)-1),\"\",((L33/L19)-1)))","v":""},".",{"$f":"IF(N33=\".\",\"\",IF(ISERROR((N33/N19)-1),\"\",((N33/N19)-1)))","v":""},null,null,null,null,0,"0pt1222",9999999]
[{"$f":"IF(A33<>\"\",A33,\"\")","v":1222},"Bob Dolittle","Active",{"$f":"IF(AND(E34=\" \",F19>F34), \"DESELECT to hide past tx episodes\",IF(OR(E34=\"Past due\",E34=\"contact due today\",E34=\"contact due in 1 day\",E34=\"contact due in 2 days\",E34=\"contact due in 3 days\",E34=\"contact due in 4 days\",E34=\"contact due in 5 days\",AND(J34<>\"\",OR(J35=\"\",A34<>A35))),\"Show only most recent visit & ticklers\",\"\"))","v":"DESELECT to hide past tx episodes"}," ",null,"","2017-07-29",{"$f":"IF(I33=\" \",\" \",(IF(H19=\"1-week follow-up schedule\",IF(J33=\"\",I33+7,IF(ISERROR(J33+7),I33+7,J33+7)),IF(H19=\"1-month follow-up schedule\",IF(J33=\"\",I33+30,IF(ISERROR(J33+30),I33+30,J33+30)),IF(J33=\"\",I33+14,IF(ISERROR(J33+14),I33+14,J33+14))))))","v":"2017-07-29"},null,null,".",{"$f":"IF(L34=\".\",\"\",IF(ISERROR((L34/L19)-1),\"\",((L34/L19)-1)))","v":""},".",{"$f":"IF(N34=\".\",\"\",IF(ISERROR((N34/N19)-1),\"\",((N34/N19)-1)))","v":""},null,null,null,null,0,"0pt1222",9999999]
[5555,"Albert Smith","Active",{"$f":"IF(A35<>\"\",\"Show Initial Assessment row\",\"\")","v":"Show Initial Assessment row"}," ",{"$f":"MAX(IF(A36:A82=A35,F36:F82,\"\"))","v":2},"Current Episode Initial Assessment","2-week follow-up schedule",null,{"$f":"IF(W35<>0,W35,\"\")","v":"2017-03-05"},null,{"$f":"IF(Y35=\"no score\",Y35,X35)","v":18},null,{"$f":"IF(AA35=\"no score\",AA35,Z35)","v":14},null,null,"Flag for discussion",{"$f":"IF(S35<>0,S35,\"\")","v":""},{"$f":"MAX(IF(A36:A82=A35,R36:R82,\"\"))","v":"00:00:00"},{"$f":"MAX(IF(A36:A82=A35,F36:F82,\"\"))","v":2},{"$f":"T35&\"pt\"&A35","v":"2pt5555"},null,{"$f":"MIN(IF(U36:U82=U35,V36:V82,\"\"))","v":"2017-03-05"},{"$f":"MAX(IF('Data Prep'!S34:S92=\"initial score\"&'Patient Tracking'!A35,'Data Prep'!Z34:Z92,\"\"))","v":18},{"$f":"IF(ISNA(MATCH(\"initial score\"&'Patient Tracking'!A35,'Data Prep'!S34:S92,0)),\"No score\",\"\")","v":""},{"$f":"MAX(IF('Data Prep'!T34:T92=\"initial score\"&'Patient Tracking'!A35,'Data Prep'!AD34:AD92,\"\"))","v":14},{"$f":"IF(ISNA(MATCH(\"initial score\"&'Patient Tracking'!A35,'Data Prep'!T34:T92,0)),\"No score\",\"\")","v":""}]
[{"$f":"IF(A35<>\"\",A35,\"\")","v":5555},{"$f":"IF(B35<>\"\",B35,\"\")","v":"Albert Smith"},{"$f":"IF(C35<>\"\",C35,\"\")","v":"Active"},{"$f":"IF(AND(E36=\" \",F35>F36), \"DESELECT to hide past tx episodes\",IF(OR(E36=\"Past due\",E36=\"contact due today\",E36=\"contact due in 1 day\",E36=\"contact due in 2 days\",E36=\"contact due in 3 days\",E36=\"contact due in 4 days\",E36=\"contact due in 5 days\",AND(J36<>\"\",OR(J37=\"\",A36<>A37))),\"Show only most recent visit & ticklers\",\"\"))","v":"DESELECT to hide past tx episodes"},{"$f":"IF(C35=\"Active\",IF(J36=\"\",IF(I36<TODAY(), \"Past Due\",(IF(I36=TODAY(),\"Contact due today\",IF(I36=(TODAY()+1), \"Contact due in 1 day\",IF(I36=(TODAY()+2), \"Contact due in 2 days\",IF(I36=(TODAY()+3), \"Contact due in 3 days\",IF(I36=(TODAY()+4), \"Contact due in 4 days\",IF(I36=(TODAY()+5), \"Contact due in 5 days\",\" \")))))))),\" \"),\" \")","v":" "},1,"Initial Assessment",{"$f":"IF(J36<>\"\",\"\",I36)","v":""},{"$f":"IF(H35=\"1-week follow-up schedule\",IF(J35=\"\",\" \",IF(ISERROR(J35+7),\" \",J35+7)),IF(H35=\"1-month follow-up schedule\",IF(J35=\"\",\" \",IF(ISERROR(J35+30),\" \",J35+30)),IF(J35=\"\",\" \",IF(ISERROR(J35+14),\" \",J35+14))))","v":"2017-03-19"},"2014-04-18","Phone",18,{"$f":"IF(L36=\".\",\"\",IF(ISERROR((L36/L35)-1),\"\",((L36/L35)-1)))","v":0},14,{"$f":"IF(N36=\".\",\"\",IF(ISERROR((N36/N35)-1),\"\",((N36/N35)-1)))","v":0},null,null,null,null,{"$f":"F36","v":1},{"$f":"T36&\"pt\"&A36","v":"1pt5555"},{"$f":"IF(J36<>0,J36,9999999)","v":41747}]
[{"$f":"IF(A36<>\"\",A36,\"\")","v":5555},"Albert Smith","Active",{"$f":"IF(AND(E37=\" \",F35>F37), \"DESELECT to hide past tx episodes\",IF(OR(E37=\"Past due\",E37=\"contact due today\",E37=\"contact due in 1 day\",E37=\"contact due in 2 days\",E37=\"contact due in 3 days\",E37=\"contact due in 4 days\",E37=\"contact due in 5 days\",AND(J37<>\"\",OR(J38=\"\",A37<>A38))),\"Show only most recent visit & ticklers\",\"\"))","v":"DESELECT to hide past tx episodes"},{"$f":"IF(OR(C36=\"Active\",C36=\"Relapse Prevention\"),IF(J37=\"\",IF(I37<TODAY(), \"Past Due\",(IF(I37=TODAY(),\"Contact due today\",IF(I37=(TODAY()+1), \"Contact due in 1 day\",IF(I37=(TODAY()+2), \"Contact due in 2 days\",IF(I37=(TODAY()+3), \"Contact due in 3 days\",IF(I37=(TODAY()+4), \"Contact due in 4 days\",IF(I37=(TODAY()+5), \"Contact due in 5 days\",\" \")))))))),\" \"),\" \")","v":" "},1,{"$f":"IF(AND(F37=F36,F37<>\"\"),IFERROR(G36+1,1),IF(F37<>\"\",\"Initial Assessment\",\"\"))","v":1},{"$f":"IF(J37<>\"\",\"\",I37)","v":""},{"$f":"IF(I36=\" \",\" \",(IF(H35=\"1-week follow-up schedule\",IF(J36=\"\",I36+7,IF(ISERROR(J36+7),I36+7,J36+7)),IF(H35=\"1-month follow-up schedule\",IF(J36=\"\",I36+30,IF(ISERROR(J36+30),I36+30,J36+30)),IF(J36=\"\",I36+14,IF(ISERROR(J36+14),I36+14,J36+14))))))","v":"2014-05-02"},"2014-05-02","Phone",19,{"$f":"IF(L37=\".\",\"\",IF(ISERROR((L37/L35)-1),\"\",((L37/L35)-1)))","v":5.555555555555558E-2},15,{"$f":"IF(N37=\".\",\"\",IF(ISERROR((N37/N35)-1),\"\",((N37/N35)-1)))","v":7.1428571428571397E-2},null,null,null,null,{"$f":"F37","v":1},{"$f":"T37&\"pt\"&A37","v":"1pt5555"},{"$f":"IF(J37<>0,J37,9999999)","v":41761}]
[{"$f":"IF(A37<>\"\",A37,\"\")","v":5555},"Albert Smith","Active",{"$f":"IF(AND(E38=\" \",F35>F38), \"DESELECT to hide past tx episodes\",IF(OR(E38=\"Past due\",E38=\"contact due today\",E38=\"contact due in 1 day\",E38=\"contact due in 2 days\",E38=\"contact due in 3 days\",E38=\"contact due in 4 days\",E38=\"contact due in 5 days\",AND(J38<>\"\",OR(J39=\"\",A38<>A39))),\"Show only most recent visit & ticklers\",\"\"))","v":"DESELECT to hide past tx episodes"},{"$f":"IF(OR(C37=\"Active\",C37=\"Relapse Prevention\"),IF(J38=\"\",IF(I38<TODAY(), \"Past Due\",(IF(I38=TODAY(),\"Contact due today\",IF(I38=(TODAY()+1), \"Contact due in 1 day\",IF(I38=(TODAY()+2), \"Contact due in 2 days\",IF(I38=(TODAY()+3), \"Contact due in 3 days\",IF(I38=(TODAY()+4), \"Contact due in 4 days\",IF(I38=(TODAY()+5), \"Contact due in 5 days\",\" \")))))))),\" \"),\" \")","v":" "},1,2,"",{"$f":"IF(I37=\" \",\" \",(IF(H35=\"1-week follow-up schedule\",IF(J37=\"\",I37+7,IF(ISERROR(J37+7),I37+7,J37+7)),IF(H35=\"1-month follow-up schedule\",IF(J37=\"\",I37+30,IF(ISERROR(J37+30),I37+30,J37+30)),IF(J37=\"\",I37+14,IF(ISERROR(J37+14),I37+14,J37+14))))))","v":"2014-05-16"},"2014-05-16","In person at clinic",17,{"$f":"IF(L38=\".\",\"\",IF(ISERROR((L38/L35)-1),\"\",((L38/L35)-1)))","v":-5.555555555555558E-2},13,{"$f":"IF(N38=\".\",\"\",IF(ISERROR((N38/N35)-1),\"\",((N38/N35)-1)))","v":-7.1428571428571397E-2},null,null,null,null,1,"1pt5555",41775]
[{"$f":"IF(A38<>\"\",A38,\"\")","v":5555},"Albert Smith","Active",{"$f":"IF(AND(E39=\" \",F35>F39), \"DESELECT to hide past tx episodes\",IF(OR(E39=\"Past due\",E39=\"contact due today\",E39=\"contact due in 1 day\",E39=\"contact due in 2 days\",E39=\"contact due in 3 days\",E39=\"contact due in 4 days\",E39=\"contact due in 5 days\",AND(J39<>\"\",OR(J40=\"\",A39<>A40))),\"Show only most recent visit & ticklers\",\"\"))","v":"DESELECT to hide past tx episodes"}," ",1,3,"",{"$f":"IF(I38=\" \",\" \",(IF(H35=\"1-week follow-up schedule\",IF(J38=\"\",I38+7,IF(ISERROR(J38+7),I38+7,J38+7)),IF(H35=\"1-month follow-up schedule\",IF(J38=\"\",I38+30,IF(ISERROR(J38+30),I38+30,J38+30)),IF(J38=\"\",I38+14,IF(ISERROR(J38+14),I38+14,J38+14))))))","v":"2014-05-30"},"2014-05-30","In person at clinic",17,{"$f":"IF(L39=\".\",\"\",IF(ISERROR((L39/L35)-1),\"\",((L39/L35)-1)))","v":-5.555555555555558E-2},14,{"$f":"IF(N39=\".\",\"\",IF(ISERROR((N39/N35)-1),\"\",((N39/N35)-1)))","v":0},null,null,null,null,1,"1pt5555",41789]
[{"$f":"IF(A39<>\"\",A39,\"\")","v":5555},"Albert Smith","Active",{"$f":"IF(AND(E40=\" \",F35>F40), \"DESELECT to hide past tx episodes\",IF(OR(E40=\"Past due\",E40=\"contact due today\",E40=\"contact due in 1 day\",E40=\"contact due in 2 days\",E40=\"contact due in 3 days\",E40=\"contact due in 4 days\",E40=\"contact due in 5 days\",AND(J40<>\"\",OR(J41=\"\",A40<>A41))),\"Show only most recent visit & ticklers\",\"\"))","v":"DESELECT to hide past tx episodes"}," ",1,4,"",{"$f":"IF(I39=\" \",\" \",(IF(H35=\"1-week follow-up schedule\",IF(J39=\"\",I39+7,IF(ISERROR(J39+7),I39+7,J39+7)),IF(H35=\"1-month follow-up schedule\",IF(J39=\"\",I39+30,IF(ISERROR(J39+30),I39+30,J39+30)),IF(J39=\"\",I39+14,IF(ISERROR(J39+14),I39+14,J39+14))))))","v":"2014-06-13"},"Missed",null,".",{"$f":"IF(L40=\".\",\"\",IF(ISERROR((L40/L35)-1),\"\",((L40/L35)-1)))","v":""},".",{"$f":"IF(N40=\".\",\"\",IF(ISERROR((N40/N35)-1),\"\",((N40/N35)-1)))","v":""},null,null,null,null,1,"1pt5555","Missed"]
[{"$f":"IF(A40<>\"\",A40,\"\")","v":5555},"Albert Smith","Active",{"$f":"IF(AND(E41=\" \",F35>F41), \"DESELECT to hide past tx episodes\",IF(OR(E41=\"Past due\",E41=\"contact due today\",E41=\"contact due in 1 day\",E41=\"contact due in 2 days\",E41=\"contact due in 3 days\",E41=\"contact due in 4 days\",E41=\"contact due in 5 days\",AND(J41<>\"\",OR(J42=\"\",A41<>A42))),\"Show only most recent visit & ticklers\",\"\"))","v":"DESELECT to hide past tx episodes"}," ",1,5,"",{"$f":"IF(I40=\" \",\" \",(IF(H35=\"1-week follow-up schedule\",IF(J40=\"\",I40+7,IF(ISERROR(J40+7),I40+7,J40+7)),IF(H35=\"1-month follow-up schedule\",IF(J40=\"\",I40+30,IF(ISERROR(J40+30),I40+30,J40+30)),IF(J40=\"\",I40+14,IF(ISERROR(J40+14),I40+14,J40+14))))))","v":"2014-06-27"},"Missed",null,".",{"$f":"IF(L41=\".\",\"\",IF(ISERROR((L41/L35)-1),\"\",((L41/L35)-1)))","v":""},".",{"$f":"IF(N41=\".\",\"\",IF(ISERROR((N41/N35)-1),\"\",((N41/N35)-1)))","v":""},null,null,null,null,1,"1pt5555","Missed"]
[{"$f":"IF(A41<>\"\",A41,\"\")","v":5555},"Albert Smith","Active",{"$f":"IF(AND(E42=\" \",F35>F42), \"DESELECT to hide past tx episodes\",IF(OR(E42=\"Past due\",E42=\"contact due today\",E42=\"contact due in 1 day\",E42=\"contact due in 2 days\",E42=\"contact due in 3 days\",E42=\"contact due in 4 days\",E42=\"contact due in 5 days\",AND(J42<>\"\",OR(J43=\"\",A42<>A43))),\"Show only most recent visit & ticklers\",\"\"))","v":""}," ",2,"Initial Assessment","",{"$f":"IF(I41=\" \",\" \",(IF(H35=\"1-week follow-up schedule\",IF(J41=\"\",I41+7,IF(ISERROR(J41+7),I41+7,J41+7)),IF(H35=\"1-month follow-up schedule\",IF(J41=\"\",I41+30,IF(ISERROR(J41+30),I41+30,J41+30)),IF(J41=\"\",I41+14,IF(ISERROR(J41+14),I41+14,J41+14))))))","v":"2014-07-11"},"2017-03-05","In person at clinic",18,{"$f":"IF(L42=\".\",\"\",IF(ISERROR((L42/L35)-1),\"\",((L42/L35)-1)))","v":0},14,{"$f":"IF(N42=\".\",\"\",IF(ISERROR((N42/N35)-1),\"\",((N42/N35)-1)))","v":0},null,null,null,null,2,"2pt5555",42799]
[{"$f":"IF(A42<>\"\",A42,\"\")","v":5555},"Albert Smith","Active",{"$f":"IF(AND(E43=\" \",F35>F43), \"DESELECT to hide past tx episodes\",IF(OR(E43=\"Past due\",E43=\"contact due today\",E43=\"contact due in 1 day\",E43=\"contact due in 2 days\",E43=\"contact due in 3 days\",E43=\"contact due in 4 days\",E43=\"contact due in 5 days\",AND(J43<>\"\",OR(J44=\"\",A43<>A44))),\"Show only most recent visit & ticklers\",\"\"))","v":""}," ",2,1,"",{"$f":"IF(I42=\" \",\" \",(IF(H35=\"1-week follow-up schedule\",IF(J42=\"\",I42+7,IF(ISERROR(J42+7),I42+7,J42+7)),IF(H35=\"1-month follow-up schedule\",IF(J42=\"\",I42+30,IF(ISERROR(J42+30),I42+30,J42+30)),IF(J42=\"\",I42+14,IF(ISERROR(J42+14),I42+14,J42+14))))))","v":"2017-03-19"},"2017-03-24","In person at clinic",17,{"$f":"IF(L43=\".\",\"\",IF(ISERROR((L43/L35)-1),\"\",((L43/L35)-1)))","v":-5.555555555555558E-2},11,{"$f":"IF(N43=\".\",\"\",IF(ISERROR((N43/N35)-1),\"\",((N43/N35)-1)))","v":-0.2142857142857143},null,null,null,null,2,"2pt5555",42818]
[{"$f":"IF(A43<>\"\",A43,\"\")","v":5555},"Albert Smith","Active",{"$f":"IF(AND(E44=\" \",F35>F44), \"DESELECT to hide past tx episodes\",IF(OR(E44=\"Past due\",E44=\"contact due today\",E44=\"contact due in 1 day\",E44=\"contact due in 2 days\",E44=\"contact due in 3 days\",E44=\"contact due in 4 days\",E44=\"contact due in 5 days\",AND(J44<>\"\",OR(J45=\"\",A44<>A45))),\"Show only most recent visit & ticklers\",\"\"))","v":""}," ",2,2,"",{"$f":"IF(I43=\" \",\" \",(IF(H35=\"1-week follow-up schedule\",IF(J43=\"\",I43+7,IF(ISERROR(J43+7),I43+7,J43+7)),IF(H35=\"1-month follow-up schedule\",IF(J43=\"\",I43+30,IF(ISERROR(J43+30),I43+30,J43+30)),IF(J43=\"\",I43+14,IF(ISERROR(J43+14),I43+14,J43+14))))))","v":"2017-04-07"},"2017-04-07","In person at clinic",18,{"$f":"IF(L44=\".\",\"\",IF(ISERROR((L44/L35)-1),\"\",((L44/L35)-1)))","v":0},11,{"$f":"IF(N44=\".\",\"\",IF(ISERROR((N44/N35)-1),\"\",((N44/N35)-1)))","v":-0.2142857142857143},null,null,null,null,2,"2pt5555",42832]
[{"$f":"IF(A44<>\"\",A44,\"\")","v":5555},"Albert Smith","Active",{"$f":"IF(AND(E45=\" \",F35>F45), \"DESELECT to hide past tx episodes\",IF(OR(E45=\"Past due\",E45=\"contact due today\",E45=\"contact due in 1 day\",E45=\"contact due in 2 days\",E45=\"contact due in 3 days\",E45=\"contact due in 4 days\",E45=\"contact due in 5 days\",AND(J45<>\"\",OR(J46=\"\",A45<>A46))),\"Show only most recent visit & ticklers\",\"\"))","v":""}," ",2,3,"",{"$f":"IF(I44=\" \",\" \",(IF(H35=\"1-week follow-up schedule\",IF(J44=\"\",I44+7,IF(ISERROR(J44+7),I44+7,J44+7)),IF(H35=\"1-month follow-up schedule\",IF(J44=\"\",I44+30,IF(ISERROR(J44+30),I44+30,J44+30)),IF(J44=\"\",I44+14,IF(ISERROR(J44+14),I44+14,J44+14))))))","v":"2017-04-21"},"2017-04-21","Phone",17,{"$f":"IF(L45=\".\",\"\",IF(ISERROR((L45/L35)-1),\"\",((L45/L35)-1)))","v":-5.555555555555558E-2},11,{"$f":"IF(N45=\".\",\"\",IF(ISERROR((N45/N35)-1),\"\",((N45/N35)-1)))","v":-0.2142857142857143},null,null,null,null,2,"2pt5555",42846]
[{"$f":"IF(A45<>\"\",A45,\"\")","v":5555},"Albert Smith","Active",{"$f":"IF(AND(E46=\" \",F35>F46), \"DESELECT to hide past tx episodes\",IF(OR(E46=\"Past due\",E46=\"contact due today\",E46=\"contact due in 1 day\",E46=\"contact due in 2 days\",E46=\"contact due in 3 days\",E46=\"contact due in 4 days\",E46=\"contact due in 5 days\",AND(J46<>\"\",OR(J47=\"\",A46<>A47))),\"Show only most recent visit & ticklers\",\"\"))","v":""}," ",2,4,"",{"$f":"IF(I45=\" \",\" \",(IF(H35=\"1-week follow-up schedule\",IF(J45=\"\",I45+7,IF(ISERROR(J45+7),I45+7,J45+7)),IF(H35=\"1-month follow-up schedule\",IF(J45=\"\",I45+30,IF(ISERROR(J45+30),I45+30,J45+30)),IF(J45=\"\",I45+14,IF(ISERROR(J45+14),I45+14,J45+14))))))","v":"2017-05-05"},"2017-05-08","In person at clinic",19,{"$f":"IF(L46=\".\",\"\",IF(ISERROR((L46/L35)-1),\"\",((L46/L35)-1)))","v":5.555555555555558E-2},10,{"$f":"IF(N46=\".\",\"\",IF(ISERROR((N46/N35)-1),\"\",((N46/N35)-1)))","v":-0.2857142857142857},null,null,null,null,2,"2pt5555",42863]
[{"$f":"IF(A46<>\"\",A46,\"\")","v":5555},"Albert Smith","Active",{"$f":"IF(AND(E47=\" \",F35>F47), \"DESELECT to hide past tx episodes\",IF(OR(E47=\"Past due\",E47=\"contact due today\",E47=\"contact due in 1 day\",E47=\"contact due in 2 days\",E47=\"contact due in 3 days\",E47=\"contact due in 4 days\",E47=\"contact due in 5 days\",AND(J47<>\"\",OR(J48=\"\",A47<>A48))),\"Show only most recent visit & ticklers\",\"\"))","v":""}," ",2,5,"",{"$f":"IF(I46=\" \",\" \",(IF(H35=\"1-week follow-up schedule\",IF(J46=\"\",I46+7,IF(ISERROR(J46+7),I46+7,J46+7)),IF(H35=\"1-month follow-up schedule\",IF(J46=\"\",I46+30,IF(ISERROR(J46+30),I46+30,J46+30)),IF(J46=\"\",I46+14,IF(ISERROR(J46+14),I46+14,J46+14))))))","v":"2017-05-22"},"2017-06-30","In person at clinic",18,{"$f":"IF(L47=\".\",\"\",IF(ISERROR((L47/L35)-1),\"\",((L47/L35)-1)))","v":0},10,{"$f":"IF(N47=\".\",\"\",IF(ISERROR((N47/N35)-1),\"\",((N47/N35)-1)))","v":-0.2857142857142857},null,null,null,null,2,"2pt5555",42916]
[{"$f":"IF(A47<>\"\",A47,\"\")","v":5555},"Albert Smith","Active",{"$f":"IF(AND(E48=\" \",F35>F48), \"DESELECT to hide past tx episodes\",IF(OR(E48=\"Past due\",E48=\"contact due today\",E48=\"contact due in 1 day\",E48=\"contact due in 2 days\",E48=\"contact due in 3 days\",E48=\"contact due in 4 days\",E48=\"contact due in 5 days\",AND(J48<>\"\",OR(J49=\"\",A48<>A49))),\"Show only most recent visit & ticklers\",\"\"))","v":"Show only most recent visit & ticklers"}," ",2,6,"",{"$f":"IF(I47=\" \",\" \",(IF(H35=\"1-week follow-up schedule\",IF(J47=\"\",I47+7,IF(ISERROR(J47+7),I47+7,J47+7)),IF(H35=\"1-month follow-up schedule\",IF(J47=\"\",I47+30,IF(ISERROR(J47+30),I47+30,J47+30)),IF(J47=\"\",I47+14,IF(ISERROR(J47+14),I47+14,J47+14))))))","v":"2017-07-14"},"Missed",null,".",{"$f":"IF(L48=\".\",\"\",IF(ISERROR((L48/L35)-1),\"\",((L48/L35)-1)))","v":""},".",{"$f":"IF(N48=\".\",\"\",IF(ISERROR((N48/N35)-1),\"\",((N48/N35)-1)))","v":""},null,null,null,null,2,"2pt5555","Missed"]
[{"$f":"IF(A48<>\"\",A48,\"\")","v":5555},"Albert Smith","Active",{"$f":"IF(AND(E49=\" \",F35>F49), \"DESELECT to hide past tx episodes\",IF(OR(E49=\"Past due\",E49=\"contact due today\",E49=\"contact due in 1 day\",E49=\"contact due in 2 days\",E49=\"contact due in 3 days\",E49=\"contact due in 4 days\",E49=\"contact due in 5 days\",AND(J49<>\"\",OR(J50=\"\",A49<>A50))),\"Show only most recent visit & ticklers\",\"\"))","v":"DESELECT to hide past tx episodes"}," ",null,"","2017-07-28",{"$f":"IF(I48=\" \",\" \",(IF(H35=\"1-week follow-up schedule\",IF(J48=\"\",I48+7,IF(ISERROR(J48+7),I48+7,J48+7)),IF(H35=\"1-month follow-up schedule\",IF(J48=\"\",I48+30,IF(ISERROR(J48+30),I48+30,J48+30)),IF(J48=\"\",I48+14,IF(ISERROR(J48+14),I48+14,J48+14))))))","v":"2017-07-28"},null,null,".",{"$f":"IF(L49=\".\",\"\",IF(ISERROR((L49/L35)-1),\"\",((L49/L35)-1)))","v":""},".",{"$f":"IF(N49=\".\",\"\",IF(ISERROR((N49/N35)-1),\"\",((N49/N35)-1)))","v":""},null,null,null,null,0,"0pt5555",9999999]
[{"$f":"IF(A49<>\"\",A49,\"\")","v":5555},"Albert Smith","Active",{"$f":"IF(AND(E50=\" \",F35>F50), \"DESELECT to hide past tx episodes\",IF(OR(E50=\"Past due\",E50=\"contact due today\",E50=\"contact due in 1 day\",E50=\"contact due in 2 days\",E50=\"contact due in 3 days\",E50=\"contact due in 4 days\",E50=\"contact due in 5 days\",AND(J50<>\"\",OR(J51=\"\",A50<>A51))),\"Show only most recent visit & ticklers\",\"\"))","v":"DESELECT to hide past tx episodes"}," ",null,"","2017-08-11",{"$f":"IF(I49=\" \",\" \",(IF(H35=\"1-week follow-up schedule\",IF(J49=\"\",I49+7,IF(ISERROR(J49+7),I49+7,J49+7)),IF(H35=\"1-month follow-up schedule\",IF(J49=\"\",I49+30,IF(ISERROR(J49+30),I49+30,J49+30)),IF(J49=\"\",I49+14,IF(ISERROR(J49+14),I49+14,J49+14))))))","v":"2017-08-11"},null,null,".",{"$f":"IF(L50=\".\",\"\",IF(ISERROR((L50/L35)-1),\"\",((L50/L35)-1)))","v":""},".",{"$f":"IF(N50=\".\",\"\",IF(ISERROR((N50/N35)-1),\"\",((N50/N35)-1)))","v":""},null,null,null,null,0,"0pt5555",9999999]
[4321,"John Doe","Inactive",{"$f":"IF(A51<>\"\",\"Show Initial Assessment row\",\"\")","v":"Show Initial Assessment row"}," ",{"$f":"MAX(IF(A52:A98=A51,F52:F98,\"\"))","v":1},"Current Episode Initial Assessment","1-month follow-up schedule",null,{"$f":"IF(W51<>0,W51,\"\")","v":"2016-01-15"},null,{"$f":"IF(Y51=\"no score\",Y51,X51)","v":20},null,{"$f":"IF(AA51=\"no score\",AA51,Z51)","v":14},null,null,null,{"$f":"IF(S51<>0,S51,\"\")","v":"2016-11-01"},{"$f":"MAX(IF(A52:A98=A51,R52:R98,\"\"))","v":"2016-11-01"},{"$f":"MAX(IF(A52:A98=A51,F52:F98,\"\"))","v":1},{"$f":"T51&\"pt\"&A51","v":"1pt4321"},null,{"$f":"MIN(IF(U52:U98=U51,V52:V98,\"\"))","v":"2016-01-15"},{"$f":"MAX(IF('Data Prep'!S50:S108=\"initial score\"&'Patient Tracking'!A51,'Data Prep'!Z50:Z108,\"\"))","v":20},{"$f":"IF(ISNA(MATCH(\"initial score\"&'Patient Tracking'!A51,'Data Prep'!S50:S108,0)),\"No score\",\"\")","v":""},{"$f":"MAX(IF('Data Prep'!T50:T108=\"initial score\"&'Patient Tracking'!A51,'Data Prep'!AD50:AD108,\"\"))","v":14},{"$f":"IF(ISNA(MATCH(\"initial score\"&'Patient Tracking'!A51,'Data Prep'!T50:T108,0)),\"No score\",\"\")","v":""}]
[{"$f":"IF(A51<>\"\",A51,\"\")","v":4321},{"$f":"IF(B51<>\"\",B51,\"\")","v":"John Doe"},{"$f":"IF(C51<>\"\",C51,\"\")","v":"Inactive"},{"$f":"IF(AND(E52=\" \",F51>F52), \"DESELECT to hide past tx episodes\",IF(OR(E52=\"Past due\",E52=\"contact due today\",E52=\"contact due in 1 day\",E52=\"contact due in 2 days\",E52=\"contact due in 3 days\",E52=\"contact due in 4 days\",E52=\"contact due in 5 days\",AND(J52<>\"\",OR(J53=\"\",A52<>A53))),\"Show only most recent visit & ticklers\",\"\"))","v":""},{"$f":"IF(C51=\"Active\",IF(J52=\"\",IF(I52<TODAY(), \"Past Due\",(IF(I52=TODAY(),\"Contact due today\",IF(I52=(TODAY()+1), \"Contact due in 1 day\",IF(I52=(TODAY()+2), \"Contact due in 2 days\",IF(I52=(TODAY()+3), \"Contact due in 3 days\",IF(I52=(TODAY()+4), \"Contact due in 4 days\",IF(I52=(TODAY()+5), \"Contact due in 5 days\",\" \")))))))),\" \"),\" \")","v":" "},1,"Initial Assessment",{"$f":"IF(J52<>\"\",\"\",I52)","v":""},{"$f":"IF(H51=\"1-week follow-up schedule\",IF(J51=\"\",\" \",IF(ISERROR(J51+7),\" \",J51+7)),IF(H51=\"1-month follow-up schedule\",IF(J51=\"\",\" \",IF(ISERROR(J51+30),\" \",J51+30)),IF(J51=\"\",\" \",IF(ISERROR(J51+14),\" \",J51+14))))","v":"2016-02-14"},"2016-01-15","In person at clinic",20,{"$f":"IF(L52=\".\",\"\",IF(ISERROR((L52/L51)-1),\"\",((L52/L51)-1)))","v":0},14,{"$f":"IF(N52=\".\",\"\",IF(ISERROR((N52/N51)-1),\"\",((N52/N51)-1)))","v":0},null,null,"2016-02-08",null,{"$f":"F52","v":1},{"$f":"T52&\"pt\"&A52","v":"1pt4321"},{"$f":"IF(J52<>0,J52,9999999)","v":42384}]
[{"$f":"IF(A52<>\"\",A52,\"\")","v":4321},"John Doe","Inactive",{"$f":"IF(AND(E53=\" \",F51>F53), \"DESELECT to hide past tx episodes\",IF(OR(E53=\"Past due\",E53=\"contact due today\",E53=\"contact due in 1 day\",E53=\"contact due in 2 days\",E53=\"contact due in 3 days\",E53=\"contact due in 4 days\",E53=\"contact due in 5 days\",AND(J53<>\"\",OR(J54=\"\",A53<>A54))),\"Show only most recent visit & ticklers\",\"\"))","v":""},{"$f":"IF(OR(C52=\"Active\",C52=\"Relapse Prevention\"),IF(J53=\"\",IF(I53<TODAY(), \"Past Due\",(IF(I53=TODAY(),\"Contact due today\",IF(I53=(TODAY()+1), \"Contact due in 1 day\",IF(I53=(TODAY()+2), \"Contact due in 2 days\",IF(I53=(TODAY()+3), \"Contact due in 3 days\",IF(I53=(TODAY()+4), \"Contact due in 4 days\",IF(I53=(TODAY()+5), \"Contact due in 5 days\",\" \")))))))),\" \"),\" \")","v":" "},1,{"$f":"IF(AND(F53=F52,F53<>\"\"),IFERROR(G52+1,1),IF(F53<>\"\",\"Initial Assessment\",\"\"))","v":1},{"$f":"IF(J53<>\"\",\"\",I53)","v":""},{"$f":"IF(I52=\" \",\" \",(IF(H51=\"1-week follow-up schedule\",IF(J52=\"\",I52+7,IF(ISERROR(J52+7),I52+7,J52+7)),IF(H51=\"1-month follow-up schedule\",IF(J52=\"\",I52+30,IF(ISERROR(J52+30),I52+30,J52+30)),IF(J52=\"\",I52+14,IF(ISERROR(J52+14),I52+14,J52+14))))))","v":"2016-02-14"},"2016-01-28","In person at clinic",21,{"$f":"IF(L53=\".\",\"\",IF(ISERROR((L53/L51)-1),\"\",((L53/L51)-1)))","v":5.0000000000000044E-2},13,{"$f":"IF(N53=\".\",\"\",IF(ISERROR((N53/N51)-1),\"\",((N53/N51)-1)))","v":-7.1428571428571397E-2},null,null,"2016-02-20",null,{"$f":"F53","v":1},{"$f":"T53&\"pt\"&A53","v":"1pt4321"},{"$f":"IF(J53<>0,J53,9999999)","v":42397}]
[{"$f":"IF(A53<>\"\",A53,\"\")","v":4321},"John Doe","Inactive",{"$f":"IF(AND(E54=\" \",F51>F54), \"DESELECT to hide past tx episodes\",IF(OR(E54=\"Past due\",E54=\"contact due today\",E54=\"contact due in 1 day\",E54=\"contact due in 2 days\",E54=\"contact due in 3 days\",E54=\"contact due in 4 days\",E54=\"contact due in 5 days\",AND(J54<>\"\",OR(J55=\"\",A54<>A55))),\"Show only most recent visit & ticklers\",\"\"))","v":""},{"$f":"IF(OR(C53=\"Active\",C53=\"Relapse Prevention\"),IF(J54=\"\",IF(I54<TODAY(), \"Past Due\",(IF(I54=TODAY(),\"Contact due today\",IF(I54=(TODAY()+1), \"Contact due in 1 day\",IF(I54=(TODAY()+2), \"Contact due in 2 days\",IF(I54=(TODAY()+3), \"Contact due in 3 days\",IF(I54=(TODAY()+4), \"Contact due in 4 days\",IF(I54=(TODAY()+5), \"Contact due in 5 days\",\" \")))))))),\" \"),\" \")","v":" "},1,2,"",{"$f":"IF(I53=\" \",\" \",(IF(H51=\"1-week follow-up schedule\",IF(J53=\"\",I53+7,IF(ISERROR(J53+7),I53+7,J53+7)),IF(H51=\"1-month follow-up schedule\",IF(J53=\"\",I53+30,IF(ISERROR(J53+30),I53+30,J53+30)),IF(J53=\"\",I53+14,IF(ISERROR(J53+14),I53+14,J53+14))))))","v":"2016-02-27"},"2016-02-12","In person at clinic",18,{"$f":"IF(L54=\".\",\"\",IF(ISERROR((L54/L51)-1),\"\",((L54/L51)-1)))","v":-9.9999999999999978E-2},11,{"$f":"IF(N54=\".\",\"\",IF(ISERROR((N54/N51)-1),\"\",((N54/N51)-1)))","v":-0.2142857142857143},null,null,"2016-05-30",null,1,"1pt4321",42412]
[{"$f":"IF(A54<>\"\",A54,\"\")","v":4321},"John Doe","Inactive",{"$f":"IF(AND(E55=\" \",F51>F55), \"DESELECT to hide past tx episodes\",IF(OR(E55=\"Past due\",E55=\"contact due today\",E55=\"contact due in 1 day\",E55=\"contact due in 2 days\",E55=\"contact due in 3 days\",E55=\"contact due in 4 days\",E55=\"contact due in 5 days\",AND(J55<>\"\",OR(J56=\"\",A55<>A56))),\"Show only most recent visit & ticklers\",\"\"))","v":""}," ",1,3,"",{"$f":"IF(I54=\" \",\" \",(IF(H51=\"1-week follow-up schedule\",IF(J54=\"\",I54+7,IF(ISERROR(J54+7),I54+7,J54+7)),IF(H51=\"1-month follow-up schedule\",IF(J54=\"\",I54+30,IF(ISERROR(J54+30),I54+30,J54+30)),IF(J54=\"\",I54+14,IF(ISERROR(J54+14),I54+14,J54+14))))))","v":"2016-03-13"},"2016-02-25","In person at clinic",16,{"$f":"IF(L55=\".\",\"\",IF(ISERROR((L55/L51)-1),\"\",((L55/L51)-1)))","v":-0.19999999999999996},11,{"$f":"IF(N55=\".\",\"\",IF(ISERROR((N55/N51)-1),\"\",((N55/N51)-1)))","v":-0.2142857142857143},null,null,"2016-06-15",null,1,"1pt4321",42425]
[{"$f":"IF(A55<>\"\",A55,\"\")","v":4321},"John Doe","Inactive",{"$f":"IF(AND(E56=\" \",F51>F56), \"DESELECT to hide past tx episodes\",IF(OR(E56=\"Past due\",E56=\"contact due today\",E56=\"contact due in 1 day\",E56=\"contact due in 2 days\",E56=\"contact due in 3 days\",E56=\"contact due in 4 days\",E56=\"contact due in 5 days\",AND(J56<>\"\",OR(J57=\"\",A56<>A57))),\"Show only most recent visit & ticklers\",\"\"))","v":""}," ",1,4,"",{"$f":"IF(I55=\" \",\" \",(IF(H51=\"1-week follow-up schedule\",IF(J55=\"\",I55+7,IF(ISERROR(J55+7),I55+7,J55+7)),IF(H51=\"1-month follow-up schedule\",IF(J55=\"\",I55+30,IF(ISERROR(J55+30),I55+30,J55+30)),IF(J55=\"\",I55+14,IF(ISERROR(J55+14),I55+14,J55+14))))))","v":"2016-03-26"},"2016-03-09","Phone",14,{"$f":"IF(L56=\".\",\"\",IF(ISERROR((L56/L51)-1),\"\",((L56/L51)-1)))","v":-0.30000000000000004},9,{"$f":"IF(N56=\".\",\"\",IF(ISERROR((N56/N51)-1),\"\",((N56/N51)-1)))","v":-0.3571428571428571},null,null,"2016-11-01",null,1,"1pt4321",42438]
[{"$f":"IF(A56<>\"\",A56,\"\")","v":4321},"John Doe","Inactive",{"$f":"IF(AND(E57=\" \",F51>F57), \"DESELECT to hide past tx episodes\",IF(OR(E57=\"Past due\",E57=\"contact due today\",E57=\"contact due in 1 day\",E57=\"contact due in 2 days\",E57=\"contact due in 3 days\",E57=\"contact due in 4 days\",E57=\"contact due in 5 days\",AND(J57<>\"\",OR(J58=\"\",A57<>A58))),\"Show only most recent visit & ticklers\",\"\"))","v":""}," ",1,5,"",{"$f":"IF(I56=\" \",\" \",(IF(H51=\"1-week follow-up schedule\",IF(J56=\"\",I56+7,IF(ISERROR(J56+7),I56+7,J56+7)),IF(H51=\"1-month follow-up schedule\",IF(J56=\"\",I56+30,IF(ISERROR(J56+30),I56+30,J56+30)),IF(J56=\"\",I56+14,IF(ISERROR(J56+14),I56+14,J56+14))))))","v":"2016-04-08"},"2016-03-25","In person at clinic",14,{"$f":"IF(L57=\".\",\"\",IF(ISERROR((L57/L51)-1),\"\",((L57/L51)-1)))","v":-0.30000000000000004},7,{"$f":"IF(N57=\".\",\"\",IF(ISERROR((N57/N51)-1),\"\",((N57/N51)-1)))","v":-0.5},null,null,null,null,1,"1pt4321",42454]
[{"$f":"IF(A57<>\"\",A57,\"\")","v":4321},"John Doe","Inactive",{"$f":"IF(AND(E58=\" \",F51>F58), \"DESELECT to hide past tx episodes\",IF(OR(E58=\"Past due\",E58=\"contact due today\",E58=\"contact due in 1 day\",E58=\"contact due in 2 days\",E58=\"contact due in 3 days\",E58=\"contact due in 4 days\",E58=\"contact due in 5 days\",AND(J58<>\"\",OR(J59=\"\",A58<>A59))),\"Show only most recent visit & ticklers\",\"\"))","v":""}," ",1,6,"",{"$f":"IF(I57=\" \",\" \",(IF(H51=\"1-week follow-up schedule\",IF(J57=\"\",I57+7,IF(ISERROR(J57+7),I57+7,J57+7)),IF(H51=\"1-month follow-up schedule\",IF(J57=\"\",I57+30,IF(ISERROR(J57+30),I57+30,J57+30)),IF(J57=\"\",I57+14,IF(ISERROR(J57+14),I57+14,J57+14))))))","v":"2016-04-24"},"2016-04-09","Phone",11,{"$f":"IF(L58=\".\",\"\",IF(ISERROR((L58/L51)-1),\"\",((L58/L51)-1)))","v":-0.44999999999999996},6,{"$f":"IF(N58=\".\",\"\",IF(ISERROR((N58/N51)-1),\"\",((N58/N51)-1)))","v":-0.5714285714285714},null,null,null,null,1,"1pt4321",42469]
[{"$f":"IF(A58<>\"\",A58,\"\")","v":4321},"John Doe","Inactive",{"$f":"IF(AND(E59=\" \",F51>F59), \"DESELECT to hide past tx episodes\",IF(OR(E59=\"Past due\",E59=\"contact due today\",E59=\"contact due in 1 day\",E59=\"contact due in 2 days\",E59=\"contact due in 3 days\",E59=\"contact due in 4 days\",E59=\"contact due in 5 days\",AND(J59<>\"\",OR(J60=\"\",A59<>A60))),\"Show only most recent visit & ticklers\",\"\"))","v":""}," ",1,7,"",{"$f":"IF(I58=\" \",\" \",(IF(H51=\"1-week follow-up schedule\",IF(J58=\"\",I58+7,IF(ISERROR(J58+7),I58+7,J58+7)),IF(H51=\"1-month follow-up schedule\",IF(J58=\"\",I58+30,IF(ISERROR(J58+30),I58+30,J58+30)),IF(J58=\"\",I58+14,IF(ISERROR(J58+14),I58+14,J58+14))))))","v":"2016-05-09"},"Missed",null,".",{"$f":"IF(L59=\".\",\"\",IF(ISERROR((L59/L51)-1),\"\",((L59/L51)-1)))","v":""},".",{"$f":"IF(N59=\".\",\"\",IF(ISERROR((N59/N51)-1),\"\",((N59/N51)-1)))","v":""},null,null,null,null,1,"1pt4321","Missed"]
[{"$f":"IF(A59<>\"\",A59,\"\")","v":4321},"John Doe","Inactive",{"$f":"IF(AND(E60=\" \",F51>F60), \"DESELECT to hide past tx episodes\",IF(OR(E60=\"Past due\",E60=\"contact due today\",E60=\"contact due in 1 day\",E60=\"contact due in 2 days\",E60=\"contact due in 3 days\",E60=\"contact due in 4 days\",E60=\"contact due in 5 days\",AND(J60<>\"\",OR(J61=\"\",A60<>A61))),\"Show only most recent visit & ticklers\",\"\"))","v":""}," ",1,8,"",{"$f":"IF(I59=\" \",\" \",(IF(H51=\"1-week follow-up schedule\",IF(J59=\"\",I59+7,IF(ISERROR(J59+7),I59+7,J59+7)),IF(H51=\"1-month follow-up schedule\",IF(J59=\"\",I59+30,IF(ISERROR(J59+30),I59+30,J59+30)),IF(J59=\"\",I59+14,IF(ISERROR(J59+14),I59+14,J59+14))))))","v":"2016-06-08"},"2016-05-04","In person at clinic",8,{"$f":"IF(L60=\".\",\"\",IF(ISERROR((L60/L51)-1),\"\",((L60/L51)-1)))","v":-0.6},4,{"$f":"IF(N60=\".\",\"\",IF(ISERROR((N60/N51)-1),\"\",((N60/N51)-1)))","v":-0.7142857142857143},null,null,null,null,1,"1pt4321",42494]
[{"$f":"IF(A60<>\"\",A60,\"\")","v":4321},"John Doe","Inactive",{"$f":"IF(AND(E61=\" \",F51>F61), \"DESELECT to hide past tx episodes\",IF(OR(E61=\"Past due\",E61=\"contact due today\",E61=\"contact due in 1 day\",E61=\"contact due in 2 days\",E61=\"contact due in 3 days\",E61=\"contact due in 4 days\",E61=\"contact due in 5 days\",AND(J61<>\"\",OR(J62=\"\",A61<>A62))),\"Show only most recent visit & ticklers\",\"\"))","v":""}," ",1,9,"",{"$f":"IF(I60=\" \",\" \",(IF(H51=\"1-week follow-up schedule\",IF(J60=\"\",I60+7,IF(ISERROR(J60+7),I60+7,J60+7)),IF(H51=\"1-month follow-up schedule\",IF(J60=\"\",I60+30,IF(ISERROR(J60+30),I60+30,J60+30)),IF(J60=\"\",I60+14,IF(ISERROR(J60+14),I60+14,J60+14))))))","v":"2016-06-03"},"2016-05-20","In person at clinic",4,{"$f":"IF(L61=\".\",\"\",IF(ISERROR((L61/L51)-1),\"\",((L61/L51)-1)))","v":-0.8},4,{"$f":"IF(N61=\".\",\"\",IF(ISERROR((N61/N51)-1),\"\",((N61/N51)-1)))","v":-0.7142857142857143},null,null,null,null,1,"1pt4321",42510]
[{"$f":"IF(A61<>\"\",A61,\"\")","v":4321},"John Doe","Inactive",{"$f":"IF(AND(E62=\" \",F51>F62), \"DESELECT to hide past tx episodes\",IF(OR(E62=\"Past due\",E62=\"contact due today\",E62=\"contact due in 1 day\",E62=\"contact due in 2 days\",E62=\"contact due in 3 days\",E62=\"contact due in 4 days\",E62=\"contact due in 5 days\",AND(J62<>\"\",OR(J63=\"\",A62<>A63))),\"Show only most recent visit & ticklers\",\"\"))","v":""}," ",1,10,"",{"$f":"IF(I61=\" \",\" \",(IF(H51=\"1-week follow-up schedule\",IF(J61=\"\",I61+7,IF(ISERROR(J61+7),I61+7,J61+7)),IF(H51=\"1-month follow-up schedule\",IF(J61=\"\",I61+30,IF(ISERROR(J61+30),I61+30,J61+30)),IF(J61=\"\",I61+14,IF(ISERROR(J61+14),I61+14,J61+14))))))","v":"2016-06-19"},"2016-06-06","Phone",4,{"$f":"IF(L62=\".\",\"\",IF(ISERROR((L62/L51)-1),\"\",((L62/L51)-1)))","v":-0.8},3,{"$f":"IF(N62=\".\",\"\",IF(ISERROR((N62/N51)-1),\"\",((N62/N51)-1)))","v":-0.7857142857142857},null,null,null,null,1,"1pt4321",42527]
[{"$f":"IF(A62<>\"\",A62,\"\")","v":4321},"John Doe","Inactive",{"$f":"IF(AND(E63=\" \",F51>F63), \"DESELECT to hide past tx episodes\",IF(OR(E63=\"Past due\",E63=\"contact due today\",E63=\"contact due in 1 day\",E63=\"contact due in 2 days\",E63=\"contact due in 3 days\",E63=\"contact due in 4 days\",E63=\"contact due in 5 days\",AND(J63<>\"\",OR(J64=\"\",A63<>A64))),\"Show only most recent visit & ticklers\",\"\"))","v":""}," ",1,11,"",{"$f":"IF(I62=\" \",\" \",(IF(H51=\"1-week follow-up schedule\",IF(J62=\"\",I62+7,IF(ISERROR(J62+7),I62+7,J62+7)),IF(H51=\"1-month follow-up schedule\",IF(J62=\"\",I62+30,IF(ISERROR(J62+30),I62+30,J62+30)),IF(J62=\"\",I62+14,IF(ISERROR(J62+14),I62+14,J62+14))))))","v":"2016-07-06"},"2016-07-06","Phone",2,{"$f":"IF(L63=\".\",\"\",IF(ISERROR((L63/L51)-1),\"\",((L63/L51)-1)))","v":-0.9},3,{"$f":"IF(N63=\".\",\"\",IF(ISERROR((N63/N51)-1),\"\",((N63/N51)-1)))","v":-0.7857142857142857},null,null,null,null,1,"1pt4321",42557]
[{"$f":"IF(A63<>\"\",A63,\"\")","v":4321},"John Doe","Inactive",{"$f":"IF(AND(E64=\" \",F51>F64), \"DESELECT to hide past tx episodes\",IF(OR(E64=\"Past due\",E64=\"contact due today\",E64=\"contact due in 1 day\",E64=\"contact due in 2 days\",E64=\"contact due in 3 days\",E64=\"contact due in 4 days\",E64=\"contact due in 5 days\",AND(J64<>\"\",OR(J65=\"\",A64<>A65))),\"Show only most recent visit & ticklers\",\"\"))","v":""}," ",1,12,"",{"$f":"IF(I63=\" \",\" \",(IF(H51=\"1-week follow-up schedule\",IF(J63=\"\",I63+7,IF(ISERROR(J63+7),I63+7,J63+7)),IF(H51=\"1-month follow-up schedule\",IF(J63=\"\",I63+30,IF(ISERROR(J63+30),I63+30,J63+30)),IF(J63=\"\",I63+14,IF(ISERROR(J63+14),I63+14,J63+14))))))","v":"2016-08-05"},"2016-08-03","In person at clinic",2,{"$f":"IF(L64=\".\",\"\",IF(ISERROR((L64/L51)-1),\"\",((L64/L51)-1)))","v":-0.9},1,{"$f":"IF(N64=\".\",\"\",IF(ISERROR((N64/N51)-1),\"\",((N64/N51)-1)))","v":-0.9285714285714286},null,null,null,null,1,"1pt4321",42585]
[{"$f":"IF(A64<>\"\",A64,\"\")","v":4321},"John Doe","Inactive",{"$f":"IF(AND(E65=\" \",F51>F65), \"DESELECT to hide past tx episodes\",IF(OR(E65=\"Past due\",E65=\"contact due today\",E65=\"contact due in 1 day\",E65=\"contact due in 2 days\",E65=\"contact due in 3 days\",E65=\"contact due in 4 days\",E65=\"contact due in 5 days\",AND(J65<>\"\",OR(J66=\"\",A65<>A66))),\"Show only most recent visit & ticklers\",\"\"))","v":"Show only most recent visit & ticklers"}," ",1,13,"",{"$f":"IF(I64=\" \",\" \",(IF(H51=\"1-week follow-up schedule\",IF(J64=\"\",I64+7,IF(ISERROR(J64+7),I64+7,J64+7)),IF(H51=\"1-month follow-up schedule\",IF(J64=\"\",I64+30,IF(ISERROR(J64+30),I64+30,J64+30)),IF(J64=\"\",I64+14,IF(ISERROR(J64+14),I64+14,J64+14))))))","v":"2016-09-02"},"2016-11-16","Phone",0,{"$f":"IF(L65=\".\",\"\",IF(ISERROR((L65/L51)-1),\"\",((L65/L51)-1)))","v":-1},1,{"$f":"IF(N65=\".\",\"\",IF(ISERROR((N65/N51)-1),\"\",((N65/N51)-1)))","v":-0.9285714285714286},null,null,null,null,1,"1pt4321",42690]
[{"$f":"IF(A65<>\"\",A65,\"\")","v":4321},"John Doe","Inactive",{"$f":"IF(AND(E66=\" \",F51>F66), \"DESELECT to hide past tx episodes\",IF(OR(E66=\"Past due\",E66=\"contact due today\",E66=\"contact due in 1 day\",E66=\"contact due in 2 days\",E66=\"contact due in 3 days\",E66=\"contact due in 4 days\",E66=\"contact due in 5 days\",AND(J66<>\"\",OR(J67=\"\",A66<>A67))),\"Show only most recent visit & ticklers\",\"\"))","v":"DESELECT to hide past tx episodes"}," ",null,"","2016-12-16",{"$f":"IF(I65=\" \",\" \",(IF(H51=\"1-week follow-up schedule\",IF(J65=\"\",I65+7,IF(ISERROR(J65+7),I65+7,J65+7)),IF(H51=\"1-month follow-up schedule\",IF(J65=\"\",I65+30,IF(ISERROR(J65+30),I65+30,J65+30)),IF(J65=\"\",I65+14,IF(ISERROR(J65+14),I65+14,J65+14))))))","v":"2016-12-16"},null,null,".",{"$f":"IF(L66=\".\",\"\",IF(ISERROR((L66/L51)-1),\"\",((L66/L51)-1)))","v":""},".",{"$f":"IF(N66=\".\",\"\",IF(ISERROR((N66/N51)-1),\"\",((N66/N51)-1)))","v":""},null,null,null,null,0,"0pt4321",9999999]
[1678,"Susan Test","Active",{"$f":"IF(A67<>\"\",\"Show Initial Assessment row\",\"\")","v":"Show Initial Assessment row"}," ",{"$f":"MAX(IF(A68:A114=A67,F68:F114,\"\"))","v":1},"Current Episode Initial Assessment","2-week follow-up schedule",null,{"$f":"IF(W67<>0,W67,\"\")","v":"2016-11-20"},null,{"$f":"IF(Y67=\"no score\",Y67,X67)","v":22},null,{"$f":"IF(AA67=\"no score\",AA67,Z67)","v":18},null,null,"Flag for discussion & safety risk",{"$f":"IF(S67<>0,S67,\"\")","v":"2016-09-15"},{"$f":"MAX(IF(A68:A114=A67,R68:R114,\"\"))","v":"2016-09-15"},{"$f":"MAX(IF(A68:A114=A67,F68:F114,\"\"))","v":1},{"$f":"T67&\"pt\"&A67","v":"1pt1678"},null,{"$f":"MIN(IF(U68:U114=U67,V68:V114,\"\"))","v":"2016-11-20"},{"$f":"MAX(IF('Data Prep'!S66:S124=\"initial score\"&'Patient Tracking'!A67,'Data Prep'!Z66:Z124,\"\"))","v":22},{"$f":"IF(ISNA(MATCH(\"initial score\"&'Patient Tracking'!A67,'Data Prep'!S66:S124,0)),\"No score\",\"\")","v":""},{"$f":"MAX(IF('Data Prep'!T66:T124=\"initial score\"&'Patient Tracking'!A67,'Data Prep'!AD66:AD124,\"\"))","v":18},{"$f":"IF(ISNA(MATCH(\"initial score\"&'Patient Tracking'!A67,'Data Prep'!T66:T124,0)),\"No score\",\"\")","v":""}]
[{"$f":"IF(A67<>\"\",A67,\"\")","v":1678},{"$f":"IF(B67<>\"\",B67,\"\")","v":"Susan Test"},{"$f":"IF(C67<>\"\",C67,\"\")","v":"Active"},{"$f":"IF(AND(E68=\" \",F67>F68), \"DESELECT to hide past tx episodes\",IF(OR(E68=\"Past due\",E68=\"contact due today\",E68=\"contact due in 1 day\",E68=\"contact due in 2 days\",E68=\"contact due in 3 days\",E68=\"contact due in 4 days\",E68=\"contact due in 5 days\",AND(J68<>\"\",OR(J69=\"\",A68<>A69))),\"Show only most recent visit & ticklers\",\"\"))","v":""},{"$f":"IF(C67=\"Active\",IF(J68=\"\",IF(I68<TODAY(), \"Past Due\",(IF(I68=TODAY(),\"Contact due today\",IF(I68=(TODAY()+1), \"Contact due in 1 day\",IF(I68=(TODAY()+2), \"Contact due in 2 days\",IF(I68=(TODAY()+3), \"Contact due in 3 days\",IF(I68=(TODAY()+4), \"Contact due in 4 days\",IF(I68=(TODAY()+5), \"Contact due in 5 days\",\" \")))))))),\" \"),\" \")","v":" "},1,"Initial Assessment",{"$f":"IF(J68<>\"\",\"\",I68)","v":""},{"$f":"IF(H67=\"1-week follow-up schedule\",IF(J67=\"\",\" \",IF(ISERROR(J67+7),\" \",J67+7)),IF(H67=\"1-month follow-up schedule\",IF(J67=\"\",\" \",IF(ISERROR(J67+30),\" \",J67+30)),IF(J67=\"\",\" \",IF(ISERROR(J67+14),\" \",J67+14))))","v":"2016-12-04"},"2016-11-20","In person at clinic",".",{"$f":"IF(L68=\".\",\"\",IF(ISERROR((L68/L67)-1),\"\",((L68/L67)-1)))","v":""},".",{"$f":"IF(N68=\".\",\"\",IF(ISERROR((N68/N67)-1),\"\",((N68/N67)-1)))","v":""},"Initial scores obtained on 10/17/15.  See notes below.",null,"2016-03-30",null,{"$f":"F68","v":1},{"$f":"T68&\"pt\"&A68","v":"1pt1678"},{"$f":"IF(J68<>0,J68,9999999)","v":42694}]
[{"$f":"IF(A68<>\"\",A68,\"\")","v":1678},"Susan Test","Active",{"$f":"IF(AND(E69=\" \",F67>F69), \"DESELECT to hide past tx episodes\",IF(OR(E69=\"Past due\",E69=\"contact due today\",E69=\"contact due in 1 day\",E69=\"contact due in 2 days\",E69=\"contact due in 3 days\",E69=\"contact due in 4 days\",E69=\"contact due in 5 days\",AND(J69<>\"\",OR(J70=\"\",A69<>A70))),\"Show only most recent visit & ticklers\",\"\"))","v":""},{"$f":"IF(OR(C68=\"Active\",C68=\"Relapse Prevention\"),IF(J69=\"\",IF(I69<TODAY(), \"Past Due\",(IF(I69=TODAY(),\"Contact due today\",IF(I69=(TODAY()+1), \"Contact due in 1 day\",IF(I69=(TODAY()+2), \"Contact due in 2 days\",IF(I69=(TODAY()+3), \"Contact due in 3 days\",IF(I69=(TODAY()+4), \"Contact due in 4 days\",IF(I69=(TODAY()+5), \"Contact due in 5 days\",\" \")))))))),\" \"),\" \")","v":" "},1,{"$f":"IF(AND(F69=F68,F69<>\"\"),IFERROR(G68+1,1),IF(F69<>\"\",\"Initial Assessment\",\"\"))","v":1},{"$f":"IF(J69<>\"\",\"\",I69)","v":""},{"$f":"IF(I68=\" \",\" \",(IF(H67=\"1-week follow-up schedule\",IF(J68=\"\",I68+7,IF(ISERROR(J68+7),I68+7,J68+7)),IF(H67=\"1-month follow-up schedule\",IF(J68=\"\",I68+30,IF(ISERROR(J68+30),I68+30,J68+30)),IF(J68=\"\",I68+14,IF(ISERROR(J68+14),I68+14,J68+14))))))","v":"2016-12-04"},"2016-12-04","In person at clinic",".",{"$f":"IF(L69=\".\",\"\",IF(ISERROR((L69/L67)-1),\"\",((L69/L67)-1)))","v":""},".",{"$f":"IF(N69=\".\",\"\",IF(ISERROR((N69/N67)-1),\"\",((N69/N67)-1)))","v":""},"Pt was resistant to completing scales; will try next time",null,"2016-05-20",null,{"$f":"F69","v":1},{"$f":"T69&\"pt\"&A69","v":"1pt1678"},{"$f":"IF(J69<>0,J69,9999999)","v":42708}]
[{"$f":"IF(A69<>\"\",A69,\"\")","v":1678},"Susan Test","Active",{"$f":"IF(AND(E70=\" \",F67>F70), \"DESELECT to hide past tx episodes\",IF(OR(E70=\"Past due\",E70=\"contact due today\",E70=\"contact due in 1 day\",E70=\"contact due in 2 days\",E70=\"contact due in 3 days\",E70=\"contact due in 4 days\",E70=\"contact due in 5 days\",AND(J70<>\"\",OR(J71=\"\",A70<>A71))),\"Show only most recent visit & ticklers\",\"\"))","v":""},{"$f":"IF(OR(C69=\"Active\",C69=\"Relapse Prevention\"),IF(J70=\"\",IF(I70<TODAY(), \"Past Due\",(IF(I70=TODAY(),\"Contact due today\",IF(I70=(TODAY()+1), \"Contact due in 1 day\",IF(I70=(TODAY()+2), \"Contact due in 2 days\",IF(I70=(TODAY()+3), \"Contact due in 3 days\",IF(I70=(TODAY()+4), \"Contact due in 4 days\",IF(I70=(TODAY()+5), \"Contact due in 5 days\",\" \")))))))),\" \"),\" \")","v":" "},1,2,"",{"$f":"IF(I69=\" \",\" \",(IF(H67=\"1-week follow-up schedule\",IF(J69=\"\",I69+7,IF(ISERROR(J69+7),I69+7,J69+7)),IF(H67=\"1-month follow-up schedule\",IF(J69=\"\",I69+30,IF(ISERROR(J69+30),I69+30,J69+30)),IF(J69=\"\",I69+14,IF(ISERROR(J69+14),I69+14,J69+14))))))","v":"2016-12-18"},"2016-12-16","In person at clinic",".",{"$f":"IF(L70=\".\",\"\",IF(ISERROR((L70/L67)-1),\"\",((L70/L67)-1)))","v":""},".",{"$f":"IF(N70=\".\",\"\",IF(ISERROR((N70/N67)-1),\"\",((N70/N67)-1)))","v":""},"Pt uncomfortable with answering questions for scales.  Having a very bad day; says might feel differently next visit",null,"2016-07-01",null,1,"1pt1678",42720]
[{"$f":"IF(A70<>\"\",A70,\"\")","v":1678},"Susan Test","Active",{"$f":"IF(AND(E71=\" \",F67>F71), \"DESELECT to hide past tx episodes\",IF(OR(E71=\"Past due\",E71=\"contact due today\",E71=\"contact due in 1 day\",E71=\"contact due in 2 days\",E71=\"contact due in 3 days\",E71=\"contact due in 4 days\",E71=\"contact due in 5 days\",AND(J71<>\"\",OR(J72=\"\",A71<>A72))),\"Show only most recent visit & ticklers\",\"\"))","v":""}," ",1,3,"",{"$f":"IF(I70=\" \",\" \",(IF(H67=\"1-week follow-up schedule\",IF(J70=\"\",I70+7,IF(ISERROR(J70+7),I70+7,J70+7)),IF(H67=\"1-month follow-up schedule\",IF(J70=\"\",I70+30,IF(ISERROR(J70+30),I70+30,J70+30)),IF(J70=\"\",I70+14,IF(ISERROR(J70+14),I70+14,J70+14))))))","v":"2016-12-30"},"2016-12-29","In person at clinic",22,{"$f":"IF(L71=\".\",\"\",IF(ISERROR((L71/L67)-1),\"\",((L71/L67)-1)))","v":0},18,{"$f":"IF(N71=\".\",\"\",IF(ISERROR((N71/N67)-1),\"\",((N71/N67)-1)))","v":0},null,null,"2016-09-15",null,1,"1pt1678",42733]
[{"$f":"IF(A71<>\"\",A71,\"\")","v":1678},"Susan Test","Active",{"$f":"IF(AND(E72=\" \",F67>F72), \"DESELECT to hide past tx episodes\",IF(OR(E72=\"Past due\",E72=\"contact due today\",E72=\"contact due in 1 day\",E72=\"contact due in 2 days\",E72=\"contact due in 3 days\",E72=\"contact due in 4 days\",E72=\"contact due in 5 days\",AND(J72<>\"\",OR(J73=\"\",A72<>A73))),\"Show only most recent visit & ticklers\",\"\"))","v":""}," ",1,4,"",{"$f":"IF(I71=\" \",\" \",(IF(H67=\"1-week follow-up schedule\",IF(J71=\"\",I71+7,IF(ISERROR(J71+7),I71+7,J71+7)),IF(H67=\"1-month follow-up schedule\",IF(J71=\"\",I71+30,IF(ISERROR(J71+30),I71+30,J71+30)),IF(J71=\"\",I71+14,IF(ISERROR(J71+14),I71+14,J71+14))))))","v":"2017-01-12"},"2017-01-14","In person at clinic",21,{"$f":"IF(L72=\".\",\"\",IF(ISERROR((L72/L67)-1),\"\",((L72/L67)-1)))","v":-4.5454545454545414E-2},18,{"$f":"IF(N72=\".\",\"\",IF(ISERROR((N72/N67)-1),\"\",((N72/N67)-1)))","v":0},null,null,null,null,1,"1pt1678",42749]
[{"$f":"IF(A72<>\"\",A72,\"\")","v":1678},"Susan Test","Active",{"$f":"IF(AND(E73=\" \",F67>F73), \"DESELECT to hide past tx episodes\",IF(OR(E73=\"Past due\",E73=\"contact due today\",E73=\"contact due in 1 day\",E73=\"contact due in 2 days\",E73=\"contact due in 3 days\",E73=\"contact due in 4 days\",E73=\"contact due in 5 days\",AND(J73<>\"\",OR(J74=\"\",A73<>A74))),\"Show only most recent visit & ticklers\",\"\"))","v":""}," ",1,5,"",{"$f":"IF(I72=\" \",\" \",(IF(H67=\"1-week follow-up schedule\",IF(J72=\"\",I72+7,IF(ISERROR(J72+7),I72+7,J72+7)),IF(H67=\"1-month follow-up schedule\",IF(J72=\"\",I72+30,IF(ISERROR(J72+30),I72+30,J72+30)),IF(J72=\"\",I72+14,IF(ISERROR(J72+14),I72+14,J72+14))))))","v":"2017-01-28"},"Missed",null,".",{"$f":"IF(L73=\".\",\"\",IF(ISERROR((L73/L67)-1),\"\",((L73/L67)-1)))","v":""},".",{"$f":"IF(N73=\".\",\"\",IF(ISERROR((N73/N67)-1),\"\",((N73/N67)-1)))","v":""},null,null,null,null,1,"1pt1678","Missed"]
[{"$f":"IF(A73<>\"\",A73,\"\")","v":1678},"Susan Test","Active",{"$f":"IF(AND(E74=\" \",F67>F74), \"DESELECT to hide past tx episodes\",IF(OR(E74=\"Past due\",E74=\"contact due today\",E74=\"contact due in 1 day\",E74=\"contact due in 2 days\",E74=\"contact due in 3 days\",E74=\"contact due in 4 days\",E74=\"contact due in 5 days\",AND(J74<>\"\",OR(J75=\"\",A74<>A75))),\"Show only most recent visit & ticklers\",\"\"))","v":""}," ",1,6,"",{"$f":"IF(I73=\" \",\" \",(IF(H67=\"1-week follow-up schedule\",IF(J73=\"\",I73+7,IF(ISERROR(J73+7),I73+7,J73+7)),IF(H67=\"1-month follow-up schedule\",IF(J73=\"\",I73+30,IF(ISERROR(J73+30),I73+30,J73+30)),IF(J73=\"\",I73+14,IF(ISERROR(J73+14),I73+14,J73+14))))))","v":"2017-02-11"},"2017-02-11","Phone",20,{"$f":"IF(L74=\".\",\"\",IF(ISERROR((L74/L67)-1),\"\",((L74/L67)-1)))","v":-9.0909090909090939E-2},".",{"$f":"IF(N74=\".\",\"\",IF(ISERROR((N74/N67)-1),\"\",((N74/N67)-1)))","v":""},"11/27: Appt reminder call\nDid not have time to complete GAD-7",null,null,null,1,"1pt1678",42777]
[{"$f":"IF(A74<>\"\",A74,\"\")","v":1678},"Susan Test","Active",{"$f":"IF(AND(E75=\" \",F67>F75), \"DESELECT to hide past tx episodes\",IF(OR(E75=\"Past due\",E75=\"contact due today\",E75=\"contact due in 1 day\",E75=\"contact due in 2 days\",E75=\"contact due in 3 days\",E75=\"contact due in 4 days\",E75=\"contact due in 5 days\",AND(J75<>\"\",OR(J76=\"\",A75<>A76))),\"Show only most recent visit & ticklers\",\"\"))","v":""}," ",1,7,"",{"$f":"IF(I74=\" \",\" \",(IF(H67=\"1-week follow-up schedule\",IF(J74=\"\",I74+7,IF(ISERROR(J74+7),I74+7,J74+7)),IF(H67=\"1-month follow-up schedule\",IF(J74=\"\",I74+30,IF(ISERROR(J74+30),I74+30,J74+30)),IF(J74=\"\",I74+14,IF(ISERROR(J74+14),I74+14,J74+14))))))","v":"2017-02-25"},"2017-02-25","In person at clinic",22,{"$f":"IF(L75=\".\",\"\",IF(ISERROR((L75/L67)-1),\"\",((L75/L67)-1)))","v":0},19,{"$f":"IF(N75=\".\",\"\",IF(ISERROR((N75/N67)-1),\"\",((N75/N67)-1)))","v":5.555555555555558E-2},null,null,null,null,1,"1pt1678",42791]
[{"$f":"IF(A75<>\"\",A75,\"\")","v":1678},"Susan Test","Active",{"$f":"IF(AND(E76=\" \",F67>F76), \"DESELECT to hide past tx episodes\",IF(OR(E76=\"Past due\",E76=\"contact due today\",E76=\"contact due in 1 day\",E76=\"contact due in 2 days\",E76=\"contact due in 3 days\",E76=\"contact due in 4 days\",E76=\"contact due in 5 days\",AND(J76<>\"\",OR(J77=\"\",A76<>A77))),\"Show only most recent visit & ticklers\",\"\"))","v":""}," ",1,8,"",{"$f":"IF(I75=\" \",\" \",(IF(H67=\"1-week follow-up schedule\",IF(J75=\"\",I75+7,IF(ISERROR(J75+7),I75+7,J75+7)),IF(H67=\"1-month follow-up schedule\",IF(J75=\"\",I75+30,IF(ISERROR(J75+30),I75+30,J75+30)),IF(J75=\"\",I75+14,IF(ISERROR(J75+14),I75+14,J75+14))))))","v":"2017-03-11"},"Missed","In person at clinic",".",{"$f":"IF(L76=\".\",\"\",IF(ISERROR((L76/L67)-1),\"\",((L76/L67)-1)))","v":""},".",{"$f":"IF(N76=\".\",\"\",IF(ISERROR((N76/N67)-1),\"\",((N76/N67)-1)))","v":""},null,null,null,null,1,"1pt1678","Missed"]
[{"$f":"IF(A76<>\"\",A76,\"\")","v":1678},"Susan Test","Active",{"$f":"IF(AND(E77=\" \",F67>F77), \"DESELECT to hide past tx episodes\",IF(OR(E77=\"Past due\",E77=\"contact due today\",E77=\"contact due in 1 day\",E77=\"contact due in 2 days\",E77=\"contact due in 3 days\",E77=\"contact due in 4 days\",E77=\"contact due in 5 days\",AND(J77<>\"\",OR(J78=\"\",A77<>A78))),\"Show only most recent visit & ticklers\",\"\"))","v":""}," ",1,9,"",{"$f":"IF(I76=\" \",\" \",(IF(H67=\"1-week follow-up schedule\",IF(J76=\"\",I76+7,IF(ISERROR(J76+7),I76+7,J76+7)),IF(H67=\"1-month follow-up schedule\",IF(J76=\"\",I76+30,IF(ISERROR(J76+30),I76+30,J76+30)),IF(J76=\"\",I76+14,IF(ISERROR(J76+14),I76+14,J76+14))))))","v":"2017-03-25"},"2017-03-22","In person at clinic",19,{"$f":"IF(L77=\".\",\"\",IF(ISERROR((L77/L67)-1),\"\",((L77/L67)-1)))","v":-0.13636363636363635},17,{"$f":"IF(N77=\".\",\"\",IF(ISERROR((N77/N67)-1),\"\",((N77/N67)-1)))","v":-5.555555555555558E-2},null,null,null,null,1,"1pt1678",42816]
[{"$f":"IF(A77<>\"\",A77,\"\")","v":1678},"Susan Test","Active",{"$f":"IF(AND(E78=\" \",F67>F78), \"DESELECT to hide past tx episodes\",IF(OR(E78=\"Past due\",E78=\"contact due today\",E78=\"contact due in 1 day\",E78=\"contact due in 2 days\",E78=\"contact due in 3 days\",E78=\"contact due in 4 days\",E78=\"contact due in 5 days\",AND(J78<>\"\",OR(J79=\"\",A78<>A79))),\"Show only most recent visit & ticklers\",\"\"))","v":""}," ",1,10,"",{"$f":"IF(I77=\" \",\" \",(IF(H67=\"1-week follow-up schedule\",IF(J77=\"\",I77+7,IF(ISERROR(J77+7),I77+7,J77+7)),IF(H67=\"1-month follow-up schedule\",IF(J77=\"\",I77+30,IF(ISERROR(J77+30),I77+30,J77+30)),IF(J77=\"\",I77+14,IF(ISERROR(J77+14),I77+14,J77+14))))))","v":"2017-04-05"},"2017-04-05","In person at clinic",16,{"$f":"IF(L78=\".\",\"\",IF(ISERROR((L78/L67)-1),\"\",((L78/L67)-1)))","v":-0.27272727272727271},17,{"$f":"IF(N78=\".\",\"\",IF(ISERROR((N78/N67)-1),\"\",((N78/N67)-1)))","v":-5.555555555555558E-2},null,null,null,null,1,"1pt1678",42830]
[{"$f":"IF(A78<>\"\",A78,\"\")","v":1678},"Susan Test","Active",{"$f":"IF(AND(E79=\" \",F67>F79), \"DESELECT to hide past tx episodes\",IF(OR(E79=\"Past due\",E79=\"contact due today\",E79=\"contact due in 1 day\",E79=\"contact due in 2 days\",E79=\"contact due in 3 days\",E79=\"contact due in 4 days\",E79=\"contact due in 5 days\",AND(J79<>\"\",OR(J80=\"\",A79<>A80))),\"Show only most recent visit & ticklers\",\"\"))","v":""}," ",1,11,"",{"$f":"IF(I78=\" \",\" \",(IF(H67=\"1-week follow-up schedule\",IF(J78=\"\",I78+7,IF(ISERROR(J78+7),I78+7,J78+7)),IF(H67=\"1-month follow-up schedule\",IF(J78=\"\",I78+30,IF(ISERROR(J78+30),I78+30,J78+30)),IF(J78=\"\",I78+14,IF(ISERROR(J78+14),I78+14,J78+14))))))","v":"2017-04-19"},"2017-04-30","Phone",17,{"$f":"IF(L79=\".\",\"\",IF(ISERROR((L79/L67)-1),\"\",((L79/L67)-1)))","v":-0.22727272727272729},".",{"$f":"IF(N79=\".\",\"\",IF(ISERROR((N79/N67)-1),\"\",((N79/N67)-1)))","v":""},"Did not have time to complete GAD-7",null,null,null,1,"1pt1678",42855]
[{"$f":"IF(A79<>\"\",A79,\"\")","v":1678},"Susan Test","Active",{"$f":"IF(AND(E80=\" \",F67>F80), \"DESELECT to hide past tx episodes\",IF(OR(E80=\"Past due\",E80=\"contact due today\",E80=\"contact due in 1 day\",E80=\"contact due in 2 days\",E80=\"contact due in 3 days\",E80=\"contact due in 4 days\",E80=\"contact due in 5 days\",AND(J80<>\"\",OR(J81=\"\",A80<>A81))),\"Show only most recent visit & ticklers\",\"\"))","v":"Show only most recent visit & ticklers"}," ",1,12,"",{"$f":"IF(I79=\" \",\" \",(IF(H67=\"1-week follow-up schedule\",IF(J79=\"\",I79+7,IF(ISERROR(J79+7),I79+7,J79+7)),IF(H67=\"1-month follow-up schedule\",IF(J79=\"\",I79+30,IF(ISERROR(J79+30),I79+30,J79+30)),IF(J79=\"\",I79+14,IF(ISERROR(J79+14),I79+14,J79+14))))))","v":"2017-05-14"},"2017-06-02","In person at clinic",15,{"$f":"IF(L80=\".\",\"\",IF(ISERROR((L80/L67)-1),\"\",((L80/L67)-1)))","v":-0.31818181818181823},14,{"$f":"IF(N80=\".\",\"\",IF(ISERROR((N80/N67)-1),\"\",((N80/N67)-1)))","v":-0.22222222222222221},null,null,null,null,1,"1pt1678",42888]
[{"$f":"IF(A80<>\"\",A80,\"\")","v":1678},"Susan Test","Active",{"$f":"IF(AND(E81=\" \",F67>F81), \"DESELECT to hide past tx episodes\",IF(OR(E81=\"Past due\",E81=\"contact due today\",E81=\"contact due in 1 day\",E81=\"contact due in 2 days\",E81=\"contact due in 3 days\",E81=\"contact due in 4 days\",E81=\"contact due in 5 days\",AND(J81<>\"\",OR(J82=\"\",A81<>A82))),\"Show only most recent visit & ticklers\",\"\"))","v":"Show only most recent visit & ticklers"},"Past Due",null,"","2017-06-16",{"$f":"IF(I80=\" \",\" \",(IF(H67=\"1-week follow-up schedule\",IF(J80=\"\",I80+7,IF(ISERROR(J80+7),I80+7,J80+7)),IF(H67=\"1-month follow-up schedule\",IF(J80=\"\",I80+30,IF(ISERROR(J80+30),I80+30,J80+30)),IF(J80=\"\",I80+14,IF(ISERROR(J80+14),I80+14,J80+14))))))","v":"2017-06-16"},null,null,".",{"$f":"IF(L81=\".\",\"\",IF(ISERROR((L81/L67)-1),\"\",((L81/L67)-1)))","v":""},".",{"$f":"IF(N81=\".\",\"\",IF(ISERROR((N81/N67)-1),\"\",((N81/N67)-1)))","v":""},null,null,null,null,0,"0pt1678",9999999]
[{"$f":"IF(A81<>\"\",A81,\"\")","v":1678},"Susan Test","Active",{"$f":"IF(AND(E82=\" \",F67>F82), \"DESELECT to hide past tx episodes\",IF(OR(E82=\"Past due\",E82=\"contact due today\",E82=\"contact due in 1 day\",E82=\"contact due in 2 days\",E82=\"contact due in 3 days\",E82=\"contact due in 4 days\",E82=\"contact due in 5 days\",AND(J82<>\"\",OR(J83=\"\",A82<>A83))),\"Show only most recent visit & ticklers\",\"\"))","v":"Show only most recent visit & ticklers"},"Past Due",null,"","2017-06-30",{"$f":"IF(I81=\" \",\" \",(IF(H67=\"1-week follow-up schedule\",IF(J81=\"\",I81+7,IF(ISERROR(J81+7),I81+7,J81+7)),IF(H67=\"1-month follow-up schedule\",IF(J81=\"\",I81+30,IF(ISERROR(J81+30),I81+30,J81+30)),IF(J81=\"\",I81+14,IF(ISERROR(J81+14),I81+14,J81+14))))))","v":"2017-06-30"},null,null,".",{"$f":"IF(L82=\".\",\"\",IF(ISERROR((L82/L67)-1),\"\",((L82/L67)-1)))","v":""},".",{"$f":"IF(N82=\".\",\"\",IF(ISERROR((N82/N67)-1),\"\",((N82/N67)-1)))","v":""},null,null,null,null,0,"0pt1678",9999999]
[6789,"Nancy Fake","Active",{"$f":"IF(A83<>\"\",\"Show Initial Assessment row\",\"\")","v":"Show Initial Assessment row"}," ",{"$f":"MAX(IF(A84:A130=A83,F84:F130,\"\"))","v":1},"Current Episode Initial Assessment","2-week follow-up schedule",null,{"$f":"IF(W83<>0,W83,\"\")","v":"2017-05-29"},null,{"$f":"IF(Y83=\"no score\",Y83,X83)","v":"No score"},null,{"$f":"IF(AA83=\"no score\",AA83,Z83)","v":"No score"},null,null,null,{"$f":"IF(S83<>0,S83,\"\")","v":""},{"$f":"MAX(IF(A84:A130=A83,R84:R130,\"\"))","v":"00:00:00"},{"$f":"MAX(IF(A84:A130=A83,F84:F130,\"\"))","v":1},{"$f":"T83&\"pt\"&A83","v":"1pt6789"},null,{"$f":"MIN(IF(U84:U130=U83,V84:V130,\"\"))","v":"2017-05-29"},{"$f":"MAX(IF('Data Prep'!S82:S140=\"initial score\"&'Patient Tracking'!A83,'Data Prep'!Z82:Z140,\"\"))","v":0},{"$f":"IF(ISNA(MATCH(\"initial score\"&'Patient Tracking'!A83,'Data Prep'!S82:S140,0)),\"No score\",\"\")","v":"No score"},{"$f":"MAX(IF('Data Prep'!T82:T140=\"initial score\"&'Patient Tracking'!A83,'Data Prep'!AD82:AD140,\"\"))","v":0},{"$f":"IF(ISNA(MATCH(\"initial score\"&'Patient Tracking'!A83,'Data Prep'!T82:T140,0)),\"No score\",\"\")","v":"No score"}]
[{"$f":"IF(A83<>\"\",A83,\"\")","v":6789},{"$f":"IF(B83<>\"\",B83,\"\")","v":"Nancy Fake"},{"$f":"IF(C83<>\"\",C83,\"\")","v":"Active"},{"$f":"IF(AND(E84=\" \",F83>F84), \"DESELECT to hide past tx episodes\",IF(OR(E84=\"Past due\",E84=\"contact due today\",E84=\"contact due in 1 day\",E84=\"contact due in 2 days\",E84=\"contact due in 3 days\",E84=\"contact due in 4 days\",E84=\"contact due in 5 days\",AND(J84<>\"\",OR(J85=\"\",A84<>A85))),\"Show only most recent visit & ticklers\",\"\"))","v":"Show only most recent visit & ticklers"},{"$f":"IF(C83=\"Active\",IF(J84=\"\",IF(I84<TODAY(), \"Past Due\",(IF(I84=TODAY(),\"Contact due today\",IF(I84=(TODAY()+1), \"Contact due in 1 day\",IF(I84=(TODAY()+2), \"Contact due in 2 days\",IF(I84=(TODAY()+3), \"Contact due in 3 days\",IF(I84=(TODAY()+4), \"Contact due in 4 days\",IF(I84=(TODAY()+5), \"Contact due in 5 days\",\" \")))))))),\" \"),\" \")","v":" "},1,"Initial Assessment",{"$f":"IF(J84<>\"\",\"\",I84)","v":""},{"$f":"IF(H83=\"1-week follow-up schedule\",IF(J83=\"\",\" \",IF(ISERROR(J83+7),\" \",J83+7)),IF(H83=\"1-month follow-up schedule\",IF(J83=\"\",\" \",IF(ISERROR(J83+30),\" \",J83+30)),IF(J83=\"\",\" \",IF(ISERROR(J83+14),\" \",J83+14))))","v":"2017-06-12"},"2017-05-29","In person at clinic",".",{"$f":"IF(L84=\".\",\"\",IF(ISERROR((L84/L83)-1),\"\",((L84/L83)-1)))","v":""},".",{"$f":"IF(N84=\".\",\"\",IF(ISERROR((N84/N83)-1),\"\",((N84/N83)-1)))","v":""},"Did not have time to administer scales",null,null,null,{"$f":"F84","v":1},{"$f":"T84&\"pt\"&A84","v":"1pt6789"},{"$f":"IF(J84<>0,J84,9999999)","v":42884}]
[{"$f":"IF(A84<>\"\",A84,\"\")","v":6789},"Nancy Fake","Active",{"$f":"IF(AND(E85=\" \",F83>F85), \"DESELECT to hide past tx episodes\",IF(OR(E85=\"Past due\",E85=\"contact due today\",E85=\"contact due in 1 day\",E85=\"contact due in 2 days\",E85=\"contact due in 3 days\",E85=\"contact due in 4 days\",E85=\"contact due in 5 days\",AND(J85<>\"\",OR(J86=\"\",A85<>A86))),\"Show only most recent visit & ticklers\",\"\"))","v":"Show only most recent visit & ticklers"},{"$f":"IF(OR(C84=\"Active\",C84=\"Relapse Prevention\"),IF(J85=\"\",IF(I85<TODAY(), \"Past Due\",(IF(I85=TODAY(),\"Contact due today\",IF(I85=(TODAY()+1), \"Contact due in 1 day\",IF(I85=(TODAY()+2), \"Contact due in 2 days\",IF(I85=(TODAY()+3), \"Contact due in 3 days\",IF(I85=(TODAY()+4), \"Contact due in 4 days\",IF(I85=(TODAY()+5), \"Contact due in 5 days\",\" \")))))))),\" \"),\" \")","v":"Past Due"},null,{"$f":"IF(AND(F85=F84,F85<>\"\"),IFERROR(G84+1,1),IF(F85<>\"\",\"Initial Assessment\",\"\"))","v":""},{"$f":"IF(J85<>\"\",\"\",I85)","v":"2017-06-12"},{"$f":"IF(I84=\" \",\" \",(IF(H83=\"1-week follow-up schedule\",IF(J84=\"\",I84+7,IF(ISERROR(J84+7),I84+7,J84+7)),IF(H83=\"1-month follow-up schedule\",IF(J84=\"\",I84+30,IF(ISERROR(J84+30),I84+30,J84+30)),IF(J84=\"\",I84+14,IF(ISERROR(J84+14),I84+14,J84+14))))))","v":"2017-06-12"},null,null,".",{"$f":"IF(L85=\".\",\"\",IF(ISERROR((L85/L83)-1),\"\",((L85/L83)-1)))","v":""},".",{"$f":"IF(N85=\".\",\"\",IF(ISERROR((N85/N83)-1),\"\",((N85/N83)-1)))","v":""},null,null,null,null,{"$f":"F85","v":0},{"$f":"T85&\"pt\"&A85","v":"0pt6789"},{"$f":"IF(J85<>0,J85,9999999)","v":9999999}]
[{"$f":"IF(A85<>\"\",A85,\"\")","v":6789},"Nancy Fake","Active",{"$f":"IF(AND(E86=\" \",F83>F86), \"DESELECT to hide past tx episodes\",IF(OR(E86=\"Past due\",E86=\"contact due today\",E86=\"contact due in 1 day\",E86=\"contact due in 2 days\",E86=\"contact due in 3 days\",E86=\"contact due in 4 days\",E86=\"contact due in 5 days\",AND(J86<>\"\",OR(J87=\"\",A86<>A87))),\"Show only most recent visit & ticklers\",\"\"))","v":"Show only most recent visit & ticklers"},{"$f":"IF(OR(C85=\"Active\",C85=\"Relapse Prevention\"),IF(J86=\"\",IF(I86<TODAY(), \"Past Due\",(IF(I86=TODAY(),\"Contact due today\",IF(I86=(TODAY()+1), \"Contact due in 1 day\",IF(I86=(TODAY()+2), \"Contact due in 2 days\",IF(I86=(TODAY()+3), \"Contact due in 3 days\",IF(I86=(TODAY()+4), \"Contact due in 4 days\",IF(I86=(TODAY()+5), \"Contact due in 5 days\",\" \")))))))),\" \"),\" \")","v":"Past Due"},null,"","2017-06-26",{"$f":"IF(I85=\" \",\" \",(IF(H83=\"1-week follow-up schedule\",IF(J85=\"\",I85+7,IF(ISERROR(J85+7),I85+7,J85+7)),IF(H83=\"1-month follow-up schedule\",IF(J85=\"\",I85+30,IF(ISERROR(J85+30),I85+30,J85+30)),IF(J85=\"\",I85+14,IF(ISERROR(J85+14),I85+14,J85+14))))))","v":"2017-06-26"},null,null,".",{"$f":"IF(L86=\".\",\"\",IF(ISERROR((L86/L83)-1),\"\",((L86/L83)-1)))","v":""},".",{"$f":"IF(N86=\".\",\"\",IF(ISERROR((N86/N83)-1),\"\",((N86/N83)-1)))","v":""},null,null,null,null,0,"0pt6789",9999999]
[{"$f":"IF(A86<>\"\",A86,\"\")","v":6789},"Nancy Fake","Active",{"$f":"IF(AND(E87=\" \",F83>F87), \"DESELECT to hide past tx episodes\",IF(OR(E87=\"Past due\",E87=\"contact due today\",E87=\"contact due in 1 day\",E87=\"contact due in 2 days\",E87=\"contact due in 3 days\",E87=\"contact due in 4 days\",E87=\"contact due in 5 days\",AND(J87<>\"\",OR(J88=\"\",A87<>A88))),\"Show only most recent visit & ticklers\",\"\"))","v":"Show only most recent visit & ticklers"},"Past Due",null,"","2017-07-10",{"$f":"IF(I86=\" \",\" \",(IF(H83=\"1-week follow-up schedule\",IF(J86=\"\",I86+7,IF(ISERROR(J86+7),I86+7,J86+7)),IF(H83=\"1-month follow-up schedule\",IF(J86=\"\",I86+30,IF(ISERROR(J86+30),I86+30,J86+30)),IF(J86=\"\",I86+14,IF(ISERROR(J86+14),I86+14,J86+14))))))","v":"2017-07-10"},null,null,".",{"$f":"IF(L87=\".\",\"\",IF(ISERROR((L87/L83)-1),\"\",((L87/L83)-1)))","v":""},".",{"$f":"IF(N87=\".\",\"\",IF(ISERROR((N87/N83)-1),\"\",((N87/N83)-1)))","v":""},null,null,null,null,0,"0pt6789",9999999]
[{"$f":"IF(A87<>\"\",A87,\"\")","v":6789},"Nancy Fake","Active",{"$f":"IF(AND(E88=\" \",F83>F88), \"DESELECT to hide past tx episodes\",IF(OR(E88=\"Past due\",E88=\"contact due today\",E88=\"contact due in 1 day\",E88=\"contact due in 2 days\",E88=\"contact due in 3 days\",E88=\"contact due in 4 days\",E88=\"contact due in 5 days\",AND(J88<>\"\",OR(J89=\"\",A88<>A89))),\"Show only most recent visit & ticklers\",\"\"))","v":"DESELECT to hide past tx episodes"}," ",null,"","2017-07-24",{"$f":"IF(I87=\" \",\" \",(IF(H83=\"1-week follow-up schedule\",IF(J87=\"\",I87+7,IF(ISERROR(J87+7),I87+7,J87+7)),IF(H83=\"1-month follow-up schedule\",IF(J87=\"\",I87+30,IF(ISERROR(J87+30),I87+30,J87+30)),IF(J87=\"\",I87+14,IF(ISERROR(J87+14),I87+14,J87+14))))))","v":"2017-07-24"},null,null,".",{"$f":"IF(L88=\".\",\"\",IF(ISERROR((L88/L83)-1),\"\",((L88/L83)-1)))","v":""},".",{"$f":"IF(N88=\".\",\"\",IF(ISERROR((N88/N83)-1),\"\",((N88/N83)-1)))","v":""},null,null,null,null,0,"0pt6789",9999999]
[{"$f":"IF(A88<>\"\",A88,\"\")","v":6789},"Nancy Fake","Active",{"$f":"IF(AND(E89=\" \",F83>F89), \"DESELECT to hide past tx episodes\",IF(OR(E89=\"Past due\",E89=\"contact due today\",E89=\"contact due in 1 day\",E89=\"contact due in 2 days\",E89=\"contact due in 3 days\",E89=\"contact due in 4 days\",E89=\"contact due in 5 days\",AND(J89<>\"\",OR(J90=\"\",A89<>A90))),\"Show only most recent visit & ticklers\",\"\"))","v":"DESELECT to hide past tx episodes"}," ",null,"","2017-08-07",{"$f":"IF(I88=\" \",\" \",(IF(H83=\"1-week follow-up schedule\",IF(J88=\"\",I88+7,IF(ISERROR(J88+7),I88+7,J88+7)),IF(H83=\"1-month follow-up schedule\",IF(J88=\"\",I88+30,IF(ISERROR(J88+30),I88+30,J88+30)),IF(J88=\"\",I88+14,IF(ISERROR(J88+14),I88+14,J88+14))))))","v":"2017-08-07"},null,null,".",{"$f":"IF(L89=\".\",\"\",IF(ISERROR((L89/L83)-1),\"\",((L89/L83)-1)))","v":""},".",{"$f":"IF(N89=\".\",\"\",IF(ISERROR((N89/N83)-1),\"\",((N89/N83)-1)))","v":""},null,null,null,null,0,"0pt6789",9999999]
[{"$f":"IF(A89<>\"\",A89,\"\")","v":6789},"Nancy Fake","Active",{"$f":"IF(AND(E90=\" \",F83>F90), \"DESELECT to hide past tx episodes\",IF(OR(E90=\"Past due\",E90=\"contact due today\",E90=\"contact due in 1 day\",E90=\"contact due in 2 days\",E90=\"contact due in 3 days\",E90=\"contact due in 4 days\",E90=\"contact due in 5 days\",AND(J90<>\"\",OR(J91=\"\",A90<>A91))),\"Show only most recent visit & ticklers\",\"\"))","v":"DESELECT to hide past tx episodes"}," ",null,"","2017-08-21",{"$f":"IF(I89=\" \",\" \",(IF(H83=\"1-week follow-up schedule\",IF(J89=\"\",I89+7,IF(ISERROR(J89+7),I89+7,J89+7)),IF(H83=\"1-month follow-up schedule\",IF(J89=\"\",I89+30,IF(ISERROR(J89+30),I89+30,J89+30)),IF(J89=\"\",I89+14,IF(ISERROR(J89+14),I89+14,J89+14))))))","v":"2017-08-21"},null,null,".",{"$f":"IF(L90=\".\",\"\",IF(ISERROR((L90/L83)-1),\"\",((L90/L83)-1)))","v":""},".",{"$f":"IF(N90=\".\",\"\",IF(ISERROR((N90/N83)-1),\"\",((N90/N83)-1)))","v":""},null,null,null,null,0,"0pt6789",9999999]
[{"$f":"IF(A90<>\"\",A90,\"\")","v":6789},"Nancy Fake","Active",{"$f":"IF(AND(E91=\" \",F83>F91), \"DESELECT to hide past tx episodes\",IF(OR(E91=\"Past due\",E91=\"contact due today\",E91=\"contact due in 1 day\",E91=\"contact due in 2 days\",E91=\"contact due in 3 days\",E91=\"contact due in 4 days\",E91=\"contact due in 5 days\",AND(J91<>\"\",OR(J92=\"\",A91<>A92))),\"Show only most recent visit & ticklers\",\"\"))","v":"DESELECT to hide past tx episodes"}," ",null,"","2017-09-04",{"$f":"IF(I90=\" \",\" \",(IF(H83=\"1-week follow-up schedule\",IF(J90=\"\",I90+7,IF(ISERROR(J90+7),I90+7,J90+7)),IF(H83=\"1-month follow-up schedule\",IF(J90=\"\",I90+30,IF(ISERROR(J90+30),I90+30,J90+30)),IF(J90=\"\",I90+14,IF(ISERROR(J90+14),I90+14,J90+14))))))","v":"2017-09-04"},null,null,".",{"$f":"IF(L91=\".\",\"\",IF(ISERROR((L91/L83)-1),\"\",((L91/L83)-1)))","v":""},".",{"$f":"IF(N91=\".\",\"\",IF(ISERROR((N91/N83)-1),\"\",((N91/N83)-1)))","v":""},null,null,null,null,0,"0pt6789",9999999]
[{"$f":"IF(A91<>\"\",A91,\"\")","v":6789},"Nancy Fake","Active",{"$f":"IF(AND(E92=\" \",F83>F92), \"DESELECT to hide past tx episodes\",IF(OR(E92=\"Past due\",E92=\"contact due today\",E92=\"contact due in 1 day\",E92=\"contact due in 2 days\",E92=\"contact due in 3 days\",E92=\"contact due in 4 days\",E92=\"contact due in 5 days\",AND(J92<>\"\",OR(J93=\"\",A92<>A93))),\"Show only most recent visit & ticklers\",\"\"))","v":"DESELECT to hide past tx episodes"}," ",null,"","2017-09-18",{"$f":"IF(I91=\" \",\" \",(IF(H83=\"1-week follow-up schedule\",IF(J91=\"\",I91+7,IF(ISERROR(J91+7),I91+7,J91+7)),IF(H83=\"1-month follow-up schedule\",IF(J91=\"\",I91+30,IF(ISERROR(J91+30),I91+30,J91+30)),IF(J91=\"\",I91+14,IF(ISERROR(J91+14),I91+14,J91+14))))))","v":"2017-09-18"},null,null,".",{"$f":"IF(L92=\".\",\"\",IF(ISERROR((L92/L83)-1),\"\",((L92/L83)-1)))","v":""},".",{"$f":"IF(N92=\".\",\"\",IF(ISERROR((N92/N83)-1),\"\",((N92/N83)-1)))","v":""},null,null,null,null,0,"0pt6789",9999999]
[{"$f":"IF(A92<>\"\",A92,\"\")","v":6789},"Nancy Fake","Active",{"$f":"IF(AND(E93=\" \",F83>F93), \"DESELECT to hide past tx episodes\",IF(OR(E93=\"Past due\",E93=\"contact due today\",E93=\"contact due in 1 day\",E93=\"contact due in 2 days\",E93=\"contact due in 3 days\",E93=\"contact due in 4 days\",E93=\"contact due in 5 days\",AND(J93<>\"\",OR(J94=\"\",A93<>A94))),\"Show only most recent visit & ticklers\",\"\"))","v":"DESELECT to hide past tx episodes"}," ",null,"","2017-10-02",{"$f":"IF(I92=\" \",\" \",(IF(H83=\"1-week follow-up schedule\",IF(J92=\"\",I92+7,IF(ISERROR(J92+7),I92+7,J92+7)),IF(H83=\"1-month follow-up schedule\",IF(J92=\"\",I92+30,IF(ISERROR(J92+30),I92+30,J92+30)),IF(J92=\"\",I92+14,IF(ISERROR(J92+14),I92+14,J92+14))))))","v":"2017-10-02"},null,null,".",{"$f":"IF(L93=\".\",\"\",IF(ISERROR((L93/L83)-1),\"\",((L93/L83)-1)))","v":""},".",{"$f":"IF(N93=\".\",\"\",IF(ISERROR((N93/N83)-1),\"\",((N93/N83)-1)))","v":""},null,null,null,null,0,"0pt6789",9999999]
[{"$f":"IF(A93<>\"\",A93,\"\")","v":6789},"Nancy Fake","Active",{"$f":"IF(AND(E94=\" \",F83>F94), \"DESELECT to hide past tx episodes\",IF(OR(E94=\"Past due\",E94=\"contact due today\",E94=\"contact due in 1 day\",E94=\"contact due in 2 days\",E94=\"contact due in 3 days\",E94=\"contact due in 4 days\",E94=\"contact due in 5 days\",AND(J94<>\"\",OR(J95=\"\",A94<>A95))),\"Show only most recent visit & ticklers\",\"\"))","v":"DESELECT to hide past tx episodes"}," ",null,"","2017-10-16",{"$f":"IF(I93=\" \",\" \",(IF(H83=\"1-week follow-up schedule\",IF(J93=\"\",I93+7,IF(ISERROR(J93+7),I93+7,J93+7)),IF(H83=\"1-month follow-up schedule\",IF(J93=\"\",I93+30,IF(ISERROR(J93+30),I93+30,J93+30)),IF(J93=\"\",I93+14,IF(ISERROR(J93+14),I93+14,J93+14))))))","v":"2017-10-16"},null,null,".",{"$f":"IF(L94=\".\",\"\",IF(ISERROR((L94/L83)-1),\"\",((L94/L83)-1)))","v":""},".",{"$f":"IF(N94=\".\",\"\",IF(ISERROR((N94/N83)-1),\"\",((N94/N83)-1)))","v":""},null,null,null,null,0,"0pt6789",9999999]
[{"$f":"IF(A94<>\"\",A94,\"\")","v":6789},"Nancy Fake","Active",{"$f":"IF(AND(E95=\" \",F83>F95), \"DESELECT to hide past tx episodes\",IF(OR(E95=\"Past due\",E95=\"contact due today\",E95=\"contact due in 1 day\",E95=\"contact due in 2 days\",E95=\"contact due in 3 days\",E95=\"contact due in 4 days\",E95=\"contact due in 5 days\",AND(J95<>\"\",OR(J96=\"\",A95<>A96))),\"Show only most recent visit & ticklers\",\"\"))","v":"DESELECT to hide past tx episodes"}," ",null,"","2017-10-30",{"$f":"IF(I94=\" \",\" \",(IF(H83=\"1-week follow-up schedule\",IF(J94=\"\",I94+7,IF(ISERROR(J94+7),I94+7,J94+7)),IF(H83=\"1-month follow-up schedule\",IF(J94=\"\",I94+30,IF(ISERROR(J94+30),I94+30,J94+30)),IF(J94=\"\",I94+14,IF(ISERROR(J94+14),I94+14,J94+14))))))","v":"2017-10-30"},null,null,".",{"$f":"IF(L95=\".\",\"\",IF(ISERROR((L95/L83)-1),\"\",((L95/L83)-1)))","v":""},".",{"$f":"IF(N95=\".\",\"\",IF(ISERROR((N95/N83)-1),\"\",((N95/N83)-1)))","v":""},null,null,null,null,0,"0pt6789",9999999]
[{"$f":"IF(A95<>\"\",A95,\"\")","v":6789},"Nancy Fake","Active",{"$f":"IF(AND(E96=\" \",F83>F96), \"DESELECT to hide past tx episodes\",IF(OR(E96=\"Past due\",E96=\"contact due today\",E96=\"contact due in 1 day\",E96=\"contact due in 2 days\",E96=\"contact due in 3 days\",E96=\"contact due in 4 days\",E96=\"contact due in 5 days\",AND(J96<>\"\",OR(J97=\"\",A96<>A97))),\"Show only most recent visit & ticklers\",\"\"))","v":"DESELECT to hide past tx episodes"}," ",null,"","2017-11-13",{"$f":"IF(I95=\" \",\" \",(IF(H83=\"1-week follow-up schedule\",IF(J95=\"\",I95+7,IF(ISERROR(J95+7),I95+7,J95+7)),IF(H83=\"1-month follow-up schedule\",IF(J95=\"\",I95+30,IF(ISERROR(J95+30),I95+30,J95+30)),IF(J95=\"\",I95+14,IF(ISERROR(J95+14),I95+14,J95+14))))))","v":"2017-11-13"},null,null,".",{"$f":"IF(L96=\".\",\"\",IF(ISERROR((L96/L83)-1),\"\",((L96/L83)-1)))","v":""},".",{"$f":"IF(N96=\".\",\"\",IF(ISERROR((N96/N83)-1),\"\",((N96/N83)-1)))","v":""},null,null,null,null,0,"0pt6789",9999999]
[{"$f":"IF(A96<>\"\",A96,\"\")","v":6789},"Nancy Fake","Active",{"$f":"IF(AND(E97=\" \",F83>F97), \"DESELECT to hide past tx episodes\",IF(OR(E97=\"Past due\",E97=\"contact due today\",E97=\"contact due in 1 day\",E97=\"contact due in 2 days\",E97=\"contact due in 3 days\",E97=\"contact due in 4 days\",E97=\"contact due in 5 days\",AND(J97<>\"\",OR(J98=\"\",A97<>A98))),\"Show only most recent visit & ticklers\",\"\"))","v":"DESELECT to hide past tx episodes"}," ",null,"","2017-11-27",{"$f":"IF(I96=\" \",\" \",(IF(H83=\"1-week follow-up schedule\",IF(J96=\"\",I96+7,IF(ISERROR(J96+7),I96+7,J96+7)),IF(H83=\"1-month follow-up schedule\",IF(J96=\"\",I96+30,IF(ISERROR(J96+30),I96+30,J96+30)),IF(J96=\"\",I96+14,IF(ISERROR(J96+14),I96+14,J96+14))))))","v":"2017-11-27"},null,null,".",{"$f":"IF(L97=\".\",\"\",IF(ISERROR((L97/L83)-1),\"\",((L97/L83)-1)))","v":""},".",{"$f":"IF(N97=\".\",\"\",IF(ISERROR((N97/N83)-1),\"\",((N97/N83)-1)))","v":""},null,null,null,null,0,"0pt6789",9999999]
[{"$f":"IF(A97<>\"\",A97,\"\")","v":6789},"Nancy Fake","Active",{"$f":"IF(AND(E98=\" \",F83>F98), \"DESELECT to hide past tx episodes\",IF(OR(E98=\"Past due\",E98=\"contact due today\",E98=\"contact due in 1 day\",E98=\"contact due in 2 days\",E98=\"contact due in 3 days\",E98=\"contact due in 4 days\",E98=\"contact due in 5 days\",AND(J98<>\"\",OR(J99=\"\",A98<>A99))),\"Show only most recent visit & ticklers\",\"\"))","v":"DESELECT to hide past tx episodes"}," ",null,"","2017-12-11",{"$f":"IF(I97=\" \",\" \",(IF(H83=\"1-week follow-up schedule\",IF(J97=\"\",I97+7,IF(ISERROR(J97+7),I97+7,J97+7)),IF(H83=\"1-month follow-up schedule\",IF(J97=\"\",I97+30,IF(ISERROR(J97+30),I97+30,J97+30)),IF(J97=\"\",I97+14,IF(ISERROR(J97+14),I97+14,J97+14))))))","v":"2017-12-11"},null,null,".",{"$f":"IF(L98=\".\",\"\",IF(ISERROR((L98/L83)-1),\"\",((L98/L83)-1)))","v":""},".",{"$f":"IF(N98=\".\",\"\",IF(ISERROR((N98/N83)-1),\"\",((N98/N83)-1)))","v":""},null,null,null,null,0,"0pt6789",9999999]
[2500,"Betty Test","Relapse Prevention",{"$f":"IF(A99<>\"\",\"Show Initial Assessment row\",\"\")","v":"Show Initial Assessment row"}," ",{"$f":"MAX(IF(A100:A146=A99,F100:F146,\"\"))","v":1},"Current Episode Initial Assessment","1-month follow-up schedule",null,{"$f":"IF(W99<>0,W99,\"\")","v":"2016-12-15"},null,{"$f":"IF(Y99=\"no score\",Y99,X99)","v":12},null,{"$f":"IF(AA99=\"no score\",AA99,Z99)","v":9},null,null,null,{"$f":"IF(S99<>0,S99,\"\")","v":""},{"$f":"MAX(IF(A100:A146=A99,R100:R146,\"\"))","v":"00:00:00"},{"$f":"MAX(IF(A100:A146=A99,F100:F146,\"\"))","v":1},{"$f":"T99&\"pt\"&A99","v":"1pt2500"},null,{"$f":"MIN(IF(U100:U146=U99,V100:V146,\"\"))","v":"2016-12-15"},{"$f":"MAX(IF('Data Prep'!S98:S156=\"initial score\"&'Patient Tracking'!A99,'Data Prep'!Z98:Z156,\"\"))","v":12},{"$f":"IF(ISNA(MATCH(\"initial score\"&'Patient Tracking'!A99,'Data Prep'!S98:S156,0)),\"No score\",\"\")","v":""},{"$f":"MAX(IF('Data Prep'!T98:T156=\"initial score\"&'Patient Tracking'!A99,'Data Prep'!AD98:AD156,\"\"))","v":9},{"$f":"IF(ISNA(MATCH(\"initial score\"&'Patient Tracking'!A99,'Data Prep'!T98:T156,0)),\"No score\",\"\")","v":""}]
[{"$f":"IF(A99<>\"\",A99,\"\")","v":2500},{"$f":"IF(B99<>\"\",B99,\"\")","v":"Betty Test"},{"$f":"IF(C99<>\"\",C99,\"\")","v":"Relapse Prevention"},{"$f":"IF(AND(E100=\" \",F99>F100), \"DESELECT to hide past tx episodes\",IF(OR(E100=\"Past due\",E100=\"contact due today\",E100=\"contact due in 1 day\",E100=\"contact due in 2 days\",E100=\"contact due in 3 days\",E100=\"contact due in 4 days\",E100=\"contact due in 5 days\",AND(J100<>\"\",OR(J101=\"\",A100<>A101))),\"Show only most recent visit & ticklers\",\"\"))","v":""},{"$f":"IF(C99=\"Active\",IF(J100=\"\",IF(I100<TODAY(), \"Past Due\",(IF(I100=TODAY(),\"Contact due today\",IF(I100=(TODAY()+1), \"Contact due in 1 day\",IF(I100=(TODAY()+2), \"Contact due in 2 days\",IF(I100=(TODAY()+3), \"Contact due in 3 days\",IF(I100=(TODAY()+4), \"Contact due in 4 days\",IF(I100=(TODAY()+5), \"Contact due in 5 days\",\" \")))))))),\" \"),\" \")","v":" "},1,"Initial Assessment",{"$f":"IF(J100<>\"\",\"\",I100)","v":""},{"$f":"IF(H99=\"1-week follow-up schedule\",IF(J99=\"\",\" \",IF(ISERROR(J99+7),\" \",J99+7)),IF(H99=\"1-month follow-up schedule\",IF(J99=\"\",\" \",IF(ISERROR(J99+30),\" \",J99+30)),IF(J99=\"\",\" \",IF(ISERROR(J99+14),\" \",J99+14))))","v":"2017-01-14"},"2016-12-15",null,12,{"$f":"IF(L100=\".\",\"\",IF(ISERROR((L100/L99)-1),\"\",((L100/L99)-1)))","v":0},9,{"$f":"IF(N100=\".\",\"\",IF(ISERROR((N100/N99)-1),\"\",((N100/N99)-1)))","v":0},null,null,null,null,{"$f":"F100","v":1},{"$f":"T100&\"pt\"&A100","v":"1pt2500"},{"$f":"IF(J100<>0,J100,9999999)","v":42719}]
[{"$f":"IF(A100<>\"\",A100,\"\")","v":2500},"Betty Test","Relapse Prevention",{"$f":"IF(AND(E101=\" \",F99>F101), \"DESELECT to hide past tx episodes\",IF(OR(E101=\"Past due\",E101=\"contact due today\",E101=\"contact due in 1 day\",E101=\"contact due in 2 days\",E101=\"contact due in 3 days\",E101=\"contact due in 4 days\",E101=\"contact due in 5 days\",AND(J101<>\"\",OR(J102=\"\",A101<>A102))),\"Show only most recent visit & ticklers\",\"\"))","v":""},{"$f":"IF(OR(C100=\"Active\",C100=\"Relapse Prevention\"),IF(J101=\"\",IF(I101<TODAY(), \"Past Due\",(IF(I101=TODAY(),\"Contact due today\",IF(I101=(TODAY()+1), \"Contact due in 1 day\",IF(I101=(TODAY()+2), \"Contact due in 2 days\",IF(I101=(TODAY()+3), \"Contact due in 3 days\",IF(I101=(TODAY()+4), \"Contact due in 4 days\",IF(I101=(TODAY()+5), \"Contact due in 5 days\",\" \")))))))),\" \"),\" \")","v":" "},1,{"$f":"IF(AND(F101=F100,F101<>\"\"),IFERROR(G100+1,1),IF(F101<>\"\",\"Initial Assessment\",\"\"))","v":1},{"$f":"IF(J101<>\"\",\"\",I101)","v":""},{"$f":"IF(I100=\" \",\" \",(IF(H99=\"1-week follow-up schedule\",IF(J100=\"\",I100+7,IF(ISERROR(J100+7),I100+7,J100+7)),IF(H99=\"1-month follow-up schedule\",IF(J100=\"\",I100+30,IF(ISERROR(J100+30),I100+30,J100+30)),IF(J100=\"\",I100+14,IF(ISERROR(J100+14),I100+14,J100+14))))))","v":"2017-01-14"},"2016-12-29",null,9,{"$f":"IF(L101=\".\",\"\",IF(ISERROR((L101/L99)-1),\"\",((L101/L99)-1)))","v":-0.25},7,{"$f":"IF(N101=\".\",\"\",IF(ISERROR((N101/N99)-1),\"\",((N101/N99)-1)))","v":-0.22222222222222221},null,null,null,null,{"$f":"F101","v":1},{"$f":"T101&\"pt\"&A101","v":"1pt2500"},{"$f":"IF(J101<>0,J101,9999999)","v":42733}]
[{"$f":"IF(A101<>\"\",A101,\"\")","v":2500},"Betty Test","Relapse Prevention",{"$f":"IF(AND(E102=\" \",F99>F102), \"DESELECT to hide past tx episodes\",IF(OR(E102=\"Past due\",E102=\"contact due today\",E102=\"contact due in 1 day\",E102=\"contact due in 2 days\",E102=\"contact due in 3 days\",E102=\"contact due in 4 days\",E102=\"contact due in 5 days\",AND(J102<>\"\",OR(J103=\"\",A102<>A103))),\"Show only most recent visit & ticklers\",\"\"))","v":""},{"$f":"IF(OR(C101=\"Active\",C101=\"Relapse Prevention\"),IF(J102=\"\",IF(I102<TODAY(), \"Past Due\",(IF(I102=TODAY(),\"Contact due today\",IF(I102=(TODAY()+1), \"Contact due in 1 day\",IF(I102=(TODAY()+2), \"Contact due in 2 days\",IF(I102=(TODAY()+3), \"Contact due in 3 days\",IF(I102=(TODAY()+4), \"Contact due in 4 days\",IF(I102=(TODAY()+5), \"Contact due in 5 days\",\" \")))))))),\" \"),\" \")","v":" "},1,2,"",{"$f":"IF(I101=\" \",\" \",(IF(H99=\"1-week follow-up schedule\",IF(J101=\"\",I101+7,IF(ISERROR(J101+7),I101+7,J101+7)),IF(H99=\"1-month follow-up schedule\",IF(J101=\"\",I101+30,IF(ISERROR(J101+30),I101+30,J101+30)),IF(J101=\"\",I101+14,IF(ISERROR(J101+14),I101+14,J101+14))))))","v":"2017-01-28"},"2017-01-12",null,7,{"$f":"IF(L102=\".\",\"\",IF(ISERROR((L102/L99)-1),\"\",((L102/L99)-1)))","v":-0.41666666666666663},8,{"$f":"IF(N102=\".\",\"\",IF(ISERROR((N102/N99)-1),\"\",((N102/N99)-1)))","v":-0.11111111111111116},null,null,null,null,1,"1pt2500",42747]
[{"$f":"IF(A102<>\"\",A102,\"\")","v":2500},"Betty Test","Relapse Prevention",{"$f":"IF(AND(E103=\" \",F99>F103), \"DESELECT to hide past tx episodes\",IF(OR(E103=\"Past due\",E103=\"contact due today\",E103=\"contact due in 1 day\",E103=\"contact due in 2 days\",E103=\"contact due in 3 days\",E103=\"contact due in 4 days\",E103=\"contact due in 5 days\",AND(J103<>\"\",OR(J104=\"\",A103<>A104))),\"Show only most recent visit & ticklers\",\"\"))","v":""}," ",1,3,"",{"$f":"IF(I102=\" \",\" \",(IF(H99=\"1-week follow-up schedule\",IF(J102=\"\",I102+7,IF(ISERROR(J102+7),I102+7,J102+7)),IF(H99=\"1-month follow-up schedule\",IF(J102=\"\",I102+30,IF(ISERROR(J102+30),I102+30,J102+30)),IF(J102=\"\",I102+14,IF(ISERROR(J102+14),I102+14,J102+14))))))","v":"2017-02-11"},"2017-01-25",null,8,{"$f":"IF(L103=\".\",\"\",IF(ISERROR((L103/L99)-1),\"\",((L103/L99)-1)))","v":-0.33333333333333337},5,{"$f":"IF(N103=\".\",\"\",IF(ISERROR((N103/N99)-1),\"\",((N103/N99)-1)))","v":-0.44444444444444442},null,null,null,null,1,"1pt2500",42760]
[{"$f":"IF(A103<>\"\",A103,\"\")","v":2500},"Betty Test","Relapse Prevention",{"$f":"IF(AND(E104=\" \",F99>F104), \"DESELECT to hide past tx episodes\",IF(OR(E104=\"Past due\",E104=\"contact due today\",E104=\"contact due in 1 day\",E104=\"contact due in 2 days\",E104=\"contact due in 3 days\",E104=\"contact due in 4 days\",E104=\"contact due in 5 days\",AND(J104<>\"\",OR(J105=\"\",A104<>A105))),\"Show only most recent visit & ticklers\",\"\"))","v":""}," ",1,4,"",{"$f":"IF(I103=\" \",\" \",(IF(H99=\"1-week follow-up schedule\",IF(J103=\"\",I103+7,IF(ISERROR(J103+7),I103+7,J103+7)),IF(H99=\"1-month follow-up schedule\",IF(J103=\"\",I103+30,IF(ISERROR(J103+30),I103+30,J103+30)),IF(J103=\"\",I103+14,IF(ISERROR(J103+14),I103+14,J103+14))))))","v":"2017-02-24"},"2017-02-09",null,6,{"$f":"IF(L104=\".\",\"\",IF(ISERROR((L104/L99)-1),\"\",((L104/L99)-1)))","v":-0.5},6,{"$f":"IF(N104=\".\",\"\",IF(ISERROR((N104/N99)-1),\"\",((N104/N99)-1)))","v":-0.33333333333333337},null,null,null,null,1,"1pt2500",42775]
[{"$f":"IF(A104<>\"\",A104,\"\")","v":2500},"Betty Test","Relapse Prevention",{"$f":"IF(AND(E105=\" \",F99>F105), \"DESELECT to hide past tx episodes\",IF(OR(E105=\"Past due\",E105=\"contact due today\",E105=\"contact due in 1 day\",E105=\"contact due in 2 days\",E105=\"contact due in 3 days\",E105=\"contact due in 4 days\",E105=\"contact due in 5 days\",AND(J105<>\"\",OR(J106=\"\",A105<>A106))),\"Show only most recent visit & ticklers\",\"\"))","v":""}," ",1,5,"",{"$f":"IF(I104=\" \",\" \",(IF(H99=\"1-week follow-up schedule\",IF(J104=\"\",I104+7,IF(ISERROR(J104+7),I104+7,J104+7)),IF(H99=\"1-month follow-up schedule\",IF(J104=\"\",I104+30,IF(ISERROR(J104+30),I104+30,J104+30)),IF(J104=\"\",I104+14,IF(ISERROR(J104+14),I104+14,J104+14))))))","v":"2017-03-11"},"2017-02-20",null,4,{"$f":"IF(L105=\".\",\"\",IF(ISERROR((L105/L99)-1),\"\",((L105/L99)-1)))","v":-0.66666666666666674},4,{"$f":"IF(N105=\".\",\"\",IF(ISERROR((N105/N99)-1),\"\",((N105/N99)-1)))","v":-0.55555555555555558},null,null,null,null,1,"1pt2500",42786]
[{"$f":"IF(A105<>\"\",A105,\"\")","v":2500},"Betty Test","Relapse Prevention",{"$f":"IF(AND(E106=\" \",F99>F106), \"DESELECT to hide past tx episodes\",IF(OR(E106=\"Past due\",E106=\"contact due today\",E106=\"contact due in 1 day\",E106=\"contact due in 2 days\",E106=\"contact due in 3 days\",E106=\"contact due in 4 days\",E106=\"contact due in 5 days\",AND(J106<>\"\",OR(J107=\"\",A106<>A107))),\"Show only most recent visit & ticklers\",\"\"))","v":""}," ",1,6,"",{"$f":"IF(I105=\" \",\" \",(IF(H99=\"1-week follow-up schedule\",IF(J105=\"\",I105+7,IF(ISERROR(J105+7),I105+7,J105+7)),IF(H99=\"1-month follow-up schedule\",IF(J105=\"\",I105+30,IF(ISERROR(J105+30),I105+30,J105+30)),IF(J105=\"\",I105+14,IF(ISERROR(J105+14),I105+14,J105+14))))))","v":"2017-03-22"},"2017-03-03",null,3,{"$f":"IF(L106=\".\",\"\",IF(ISERROR((L106/L99)-1),\"\",((L106/L99)-1)))","v":-0.75},3,{"$f":"IF(N106=\".\",\"\",IF(ISERROR((N106/N99)-1),\"\",((N106/N99)-1)))","v":-0.66666666666666674},null,null,null,null,1,"1pt2500",42797]
[{"$f":"IF(A106<>\"\",A106,\"\")","v":2500},"Betty Test","Relapse Prevention",{"$f":"IF(AND(E107=\" \",F99>F107), \"DESELECT to hide past tx episodes\",IF(OR(E107=\"Past due\",E107=\"contact due today\",E107=\"contact due in 1 day\",E107=\"contact due in 2 days\",E107=\"contact due in 3 days\",E107=\"contact due in 4 days\",E107=\"contact due in 5 days\",AND(J107<>\"\",OR(J108=\"\",A107<>A108))),\"Show only most recent visit & ticklers\",\"\"))","v":""}," ",1,7,"",{"$f":"IF(I106=\" \",\" \",(IF(H99=\"1-week follow-up schedule\",IF(J106=\"\",I106+7,IF(ISERROR(J106+7),I106+7,J106+7)),IF(H99=\"1-month follow-up schedule\",IF(J106=\"\",I106+30,IF(ISERROR(J106+30),I106+30,J106+30)),IF(J106=\"\",I106+14,IF(ISERROR(J106+14),I106+14,J106+14))))))","v":"2017-04-02"},"2017-03-17",null,4,{"$f":"IF(L107=\".\",\"\",IF(ISERROR((L107/L99)-1),\"\",((L107/L99)-1)))","v":-0.66666666666666674},3,{"$f":"IF(N107=\".\",\"\",IF(ISERROR((N107/N99)-1),\"\",((N107/N99)-1)))","v":-0.66666666666666674},null,null,null,null,1,"1pt2500",42811]
[{"$f":"IF(A107<>\"\",A107,\"\")","v":2500},"Betty Test","Relapse Prevention",{"$f":"IF(AND(E108=\" \",F99>F108), \"DESELECT to hide past tx episodes\",IF(OR(E108=\"Past due\",E108=\"contact due today\",E108=\"contact due in 1 day\",E108=\"contact due in 2 days\",E108=\"contact due in 3 days\",E108=\"contact due in 4 days\",E108=\"contact due in 5 days\",AND(J108<>\"\",OR(J109=\"\",A108<>A109))),\"Show only most recent visit & ticklers\",\"\"))","v":""}," ",1,8,"",{"$f":"IF(I107=\" \",\" \",(IF(H99=\"1-week follow-up schedule\",IF(J107=\"\",I107+7,IF(ISERROR(J107+7),I107+7,J107+7)),IF(H99=\"1-month follow-up schedule\",IF(J107=\"\",I107+30,IF(ISERROR(J107+30),I107+30,J107+30)),IF(J107=\"\",I107+14,IF(ISERROR(J107+14),I107+14,J107+14))))))","v":"2017-04-16"},"2017-04-16",null,4,{"$f":"IF(L108=\".\",\"\",IF(ISERROR((L108/L99)-1),\"\",((L108/L99)-1)))","v":-0.66666666666666674},2,{"$f":"IF(N108=\".\",\"\",IF(ISERROR((N108/N99)-1),\"\",((N108/N99)-1)))","v":-0.77777777777777779},null,null,null,null,1,"1pt2500",42841]
[{"$f":"IF(A108<>\"\",A108,\"\")","v":2500},"Betty Test","Relapse Prevention",{"$f":"IF(AND(E109=\" \",F99>F109), \"DESELECT to hide past tx episodes\",IF(OR(E109=\"Past due\",E109=\"contact due today\",E109=\"contact due in 1 day\",E109=\"contact due in 2 days\",E109=\"contact due in 3 days\",E109=\"contact due in 4 days\",E109=\"contact due in 5 days\",AND(J109<>\"\",OR(J110=\"\",A109<>A110))),\"Show only most recent visit & ticklers\",\"\"))","v":""}," ",1,9,"",{"$f":"IF(I108=\" \",\" \",(IF(H99=\"1-week follow-up schedule\",IF(J108=\"\",I108+7,IF(ISERROR(J108+7),I108+7,J108+7)),IF(H99=\"1-month follow-up schedule\",IF(J108=\"\",I108+30,IF(ISERROR(J108+30),I108+30,J108+30)),IF(J108=\"\",I108+14,IF(ISERROR(J108+14),I108+14,J108+14))))))","v":"2017-05-16"},"2017-04-17",null,2,{"$f":"IF(L109=\".\",\"\",IF(ISERROR((L109/L99)-1),\"\",((L109/L99)-1)))","v":-0.83333333333333337},2,{"$f":"IF(N109=\".\",\"\",IF(ISERROR((N109/N99)-1),\"\",((N109/N99)-1)))","v":-0.77777777777777779},null,null,null,null,1,"1pt2500",42842]
[{"$f":"IF(A109<>\"\",A109,\"\")","v":2500},"Betty Test","Relapse Prevention",{"$f":"IF(AND(E110=\" \",F99>F110), \"DESELECT to hide past tx episodes\",IF(OR(E110=\"Past due\",E110=\"contact due today\",E110=\"contact due in 1 day\",E110=\"contact due in 2 days\",E110=\"contact due in 3 days\",E110=\"contact due in 4 days\",E110=\"contact due in 5 days\",AND(J110<>\"\",OR(J111=\"\",A110<>A111))),\"Show only most recent visit & ticklers\",\"\"))","v":"Show only most recent visit & ticklers"}," ",1,10,"",{"$f":"IF(I109=\" \",\" \",(IF(H99=\"1-week follow-up schedule\",IF(J109=\"\",I109+7,IF(ISERROR(J109+7),I109+7,J109+7)),IF(H99=\"1-month follow-up schedule\",IF(J109=\"\",I109+30,IF(ISERROR(J109+30),I109+30,J109+30)),IF(J109=\"\",I109+14,IF(ISERROR(J109+14),I109+14,J109+14))))))","v":"2017-05-17"},"2017-05-15",null,1,{"$f":"IF(L110=\".\",\"\",IF(ISERROR((L110/L99)-1),\"\",((L110/L99)-1)))","v":-0.91666666666666663},3,{"$f":"IF(N110=\".\",\"\",IF(ISERROR((N110/N99)-1),\"\",((N110/N99)-1)))","v":-0.66666666666666674},null,null,null,null,1,"1pt2500",42870]
[{"$f":"IF(A110<>\"\",A110,\"\")","v":2500},"Betty Test","Relapse Prevention",{"$f":"IF(AND(E111=\" \",F99>F111), \"DESELECT to hide past tx episodes\",IF(OR(E111=\"Past due\",E111=\"contact due today\",E111=\"contact due in 1 day\",E111=\"contact due in 2 days\",E111=\"contact due in 3 days\",E111=\"contact due in 4 days\",E111=\"contact due in 5 days\",AND(J111<>\"\",OR(J112=\"\",A111<>A112))),\"Show only most recent visit & ticklers\",\"\"))","v":"Show only most recent visit & ticklers"},"Past Due",null,"","2017-06-14",{"$f":"IF(I110=\" \",\" \",(IF(H99=\"1-week follow-up schedule\",IF(J110=\"\",I110+7,IF(ISERROR(J110+7),I110+7,J110+7)),IF(H99=\"1-month follow-up schedule\",IF(J110=\"\",I110+30,IF(ISERROR(J110+30),I110+30,J110+30)),IF(J110=\"\",I110+14,IF(ISERROR(J110+14),I110+14,J110+14))))))","v":"2017-06-14"},null,null,".",{"$f":"IF(L111=\".\",\"\",IF(ISERROR((L111/L99)-1),\"\",((L111/L99)-1)))","v":""},".",{"$f":"IF(N111=\".\",\"\",IF(ISERROR((N111/N99)-1),\"\",((N111/N99)-1)))","v":""},null,null,null,null,0,"0pt2500",9999999]
[{"$f":"IF(A111<>\"\",A111,\"\")","v":2500},"Betty Test","Relapse Prevention",{"$f":"IF(AND(E112=\" \",F99>F112), \"DESELECT to hide past tx episodes\",IF(OR(E112=\"Past due\",E112=\"contact due today\",E112=\"contact due in 1 day\",E112=\"contact due in 2 days\",E112=\"contact due in 3 days\",E112=\"contact due in 4 days\",E112=\"contact due in 5 days\",AND(J112<>\"\",OR(J113=\"\",A112<>A113))),\"Show only most recent visit & ticklers\",\"\"))","v":"Show only most recent visit & ticklers"},"Contact due in 3 days",null,"","2017-07-14",{"$f":"IF(I111=\" \",\" \",(IF(H99=\"1-week follow-up schedule\",IF(J111=\"\",I111+7,IF(ISERROR(J111+7),I111+7,J111+7)),IF(H99=\"1-month follow-up schedule\",IF(J111=\"\",I111+30,IF(ISERROR(J111+30),I111+30,J111+30)),IF(J111=\"\",I111+14,IF(ISERROR(J111+14),I111+14,J111+14))))))","v":"2017-07-14"},null,null,".",{"$f":"IF(L112=\".\",\"\",IF(ISERROR((L112/L99)-1),\"\",((L112/L99)-1)))","v":""},".",{"$f":"IF(N112=\".\",\"\",IF(ISERROR((N112/N99)-1),\"\",((N112/N99)-1)))","v":""},null,null,null,null,0,"0pt2500",9999999]
[{"$f":"IF(A112<>\"\",A112,\"\")","v":2500},"Betty Test","Relapse Prevention",{"$f":"IF(AND(E113=\" \",F99>F113), \"DESELECT to hide past tx episodes\",IF(OR(E113=\"Past due\",E113=\"contact due today\",E113=\"contact due in 1 day\",E113=\"contact due in 2 days\",E113=\"contact due in 3 days\",E113=\"contact due in 4 days\",E113=\"contact due in 5 days\",AND(J113<>\"\",OR(J114=\"\",A113<>A114))),\"Show only most recent visit & ticklers\",\"\"))","v":"DESELECT to hide past tx episodes"}," ",null,"","2017-08-13",{"$f":"IF(I112=\" \",\" \",(IF(H99=\"1-week follow-up schedule\",IF(J112=\"\",I112+7,IF(ISERROR(J112+7),I112+7,J112+7)),IF(H99=\"1-month follow-up schedule\",IF(J112=\"\",I112+30,IF(ISERROR(J112+30),I112+30,J112+30)),IF(J112=\"\",I112+14,IF(ISERROR(J112+14),I112+14,J112+14))))))","v":"2017-08-13"},null,null,".",{"$f":"IF(L113=\".\",\"\",IF(ISERROR((L113/L99)-1),\"\",((L113/L99)-1)))","v":""},".",{"$f":"IF(N113=\".\",\"\",IF(ISERROR((N113/N99)-1),\"\",((N113/N99)-1)))","v":""},null,null,null,null,0,"0pt2500",9999999]
[{"$f":"IF(A113<>\"\",A113,\"\")","v":2500},"Betty Test","Relapse Prevention",{"$f":"IF(AND(E114=\" \",F99>F114), \"DESELECT to hide past tx episodes\",IF(OR(E114=\"Past due\",E114=\"contact due today\",E114=\"contact due in 1 day\",E114=\"contact due in 2 days\",E114=\"contact due in 3 days\",E114=\"contact due in 4 days\",E114=\"contact due in 5 days\",AND(J114<>\"\",OR(J115=\"\",A114<>A115))),\"Show only most recent visit & ticklers\",\"\"))","v":"DESELECT to hide past tx episodes"}," ",null,"","2017-09-12",{"$f":"IF(I113=\" \",\" \",(IF(H99=\"1-week follow-up schedule\",IF(J113=\"\",I113+7,IF(ISERROR(J113+7),I113+7,J113+7)),IF(H99=\"1-month follow-up schedule\",IF(J113=\"\",I113+30,IF(ISERROR(J113+30),I113+30,J113+30)),IF(J113=\"\",I113+14,IF(ISERROR(J113+14),I113+14,J113+14))))))","v":"2017-09-12"},null,null,".",{"$f":"IF(L114=\".\",\"\",IF(ISERROR((L114/L99)-1),\"\",((L114/L99)-1)))","v":""},".",{"$f":"IF(N114=\".\",\"\",IF(ISERROR((N114/N99)-1),\"\",((N114/N99)-1)))","v":""},null,null,null,null,0,"0pt2500",9999999]
[null,null,null,{"$f":"IF(A115<>\"\",\"Show Initial Assessment row\",\"\")","v":""}," ",{"$f":"MAX(IF(A116:A162=A115,F116:F162,\"\"))","v":0},"Current Episode Initial Assessment","2-week follow-up schedule",null,{"$f":"IF(W115<>0,W115,\"\")","v":""},null,{"$f":"IF(Y115=\"no score\",Y115,X115)","v":"No score"},null,{"$f":"IF(AA115=\"no score\",AA115,Z115)","v":"No score"},null,null,null,{"$f":"IF(S115<>0,S115,\"\")","v":""},{"$f":"MAX(IF(A116:A162=A115,R116:R162,\"\"))","v":"00:00:00"},{"$f":"MAX(IF(A116:A162=A115,F116:F162,\"\"))","v":0},{"$f":"T115&\"pt\"&A115","v":"0pt"},null,{"$f":"MIN(IF(U116:U162=U115,V116:V162,\"\"))","v":"00:00:00"},{"$f":"MAX(IF('Data Prep'!S114:S172=\"initial score\"&'Patient Tracking'!A115,'Data Prep'!Z114:Z172,\"\"))","v":0},{"$f":"IF(ISNA(MATCH(\"initial score\"&'Patient Tracking'!A115,'Data Prep'!S114:S172,0)),\"No score\",\"\")","v":"No score"},{"$f":"MAX(IF('Data Prep'!T114:T172=\"initial score\"&'Patient Tracking'!A115,'Data Prep'!AD114:AD172,\"\"))","v":0},{"$f":"IF(ISNA(MATCH(\"initial score\"&'Patient Tracking'!A115,'Data Prep'!T114:T172,0)),\"No score\",\"\")","v":"No score"}]
[{"$f":"IF(A115<>\"\",A115,\"\")","v":""},{"$f":"IF(B115<>\"\",B115,\"\")","v":""},{"$f":"IF(C115<>\"\",C115,\"\")","v":""},{"$f":"IF(AND(E116=\" \",F115>F116), \"DESELECT to hide past tx episodes\",IF(OR(E116=\"Past due\",E116=\"contact due today\",E116=\"contact due in 1 day\",E116=\"contact due in 2 days\",E116=\"contact due in 3 days\",E116=\"contact due in 4 days\",E116=\"contact due in 5 days\",AND(J116<>\"\",OR(J117=\"\",A116<>A117))),\"Show only most recent visit & ticklers\",\"\"))","v":""},{"$f":"IF(C115=\"Active\",IF(J116=\"\",IF(I116<TODAY(), \"Past Due\",(IF(I116=TODAY(),\"Contact due today\",IF(I116=(TODAY()+1), \"Contact due in 1 day\",IF(I116=(TODAY()+2), \"Contact due in 2 days\",IF(I116=(TODAY()+3), \"Contact due in 3 days\",IF(I116=(TODAY()+4), \"Contact due in 4 days\",IF(I116=(TODAY()+5), \"Contact due in 5 days\",\" \")))))))),\" \"),\" \")","v":" "},null,"Initial Assessment",{"$f":"IF(J116<>\"\",\"\",I116)","v":" "},{"$f":"IF(H115=\"1-week follow-up schedule\",IF(J115=\"\",\" \",IF(ISERROR(J115+7),\" \",J115+7)),IF(H115=\"1-month follow-up schedule\",IF(J115=\"\",\" \",IF(ISERROR(J115+30),\" \",J115+30)),IF(J115=\"\",\" \",IF(ISERROR(J115+14),\" \",J115+14))))","v":" "},null,null,".",{"$f":"IF(L116=\".\",\"\",IF(ISERROR((L116/L115)-1),\"\",((L116/L115)-1)))","v":""},".",{"$f":"IF(N116=\".\",\"\",IF(ISERROR((N116/N115)-1),\"\",((N116/N115)-1)))","v":""},null,null,null,null,{"$f":"F116","v":0},{"$f":"T116&\"pt\"&A116","v":"0pt"},{"$f":"IF(J116<>0,J116,9999999)","v":9999999}]
[{"$f":"IF(A116<>\"\",A116,\"\")","v":""},"","",{"$f":"IF(AND(E117=\" \",F115>F117), \"DESELECT to hide past tx episodes\",IF(OR(E117=\"Past due\",E117=\"contact due today\",E117=\"contact due in 1 day\",E117=\"contact due in 2 days\",E117=\"contact due in 3 days\",E117=\"contact due in 4 days\",E117=\"contact due in 5 days\",AND(J117<>\"\",OR(J118=\"\",A117<>A118))),\"Show only most recent visit & ticklers\",\"\"))","v":""},{"$f":"IF(OR(C116=\"Active\",C116=\"Relapse Prevention\"),IF(J117=\"\",IF(I117<TODAY(), \"Past Due\",(IF(I117=TODAY(),\"Contact due today\",IF(I117=(TODAY()+1), \"Contact due in 1 day\",IF(I117=(TODAY()+2), \"Contact due in 2 days\",IF(I117=(TODAY()+3), \"Contact due in 3 days\",IF(I117=(TODAY()+4), \"Contact due in 4 days\",IF(I117=(TODAY()+5), \"Contact due in 5 days\",\" \")))))))),\" \"),\" \")","v":" "},null,{"$f":"IF(AND(F117=F116,F117<>\"\"),IFERROR(G116+1,1),IF(F117<>\"\",\"Initial Assessment\",\"\"))","v":""},{"$f":"IF(J117<>\"\",\"\",I117)","v":" "},{"$f":"IF(I116=\" \",\" \",(IF(H115=\"1-week follow-up schedule\",IF(J116=\"\",I116+7,IF(ISERROR(J116+7),I116+7,J116+7)),IF(H115=\"1-month follow-up schedule\",IF(J116=\"\",I116+30,IF(ISERROR(J116+30),I116+30,J116+30)),IF(J116=\"\",I116+14,IF(ISERROR(J116+14),I116+14,J116+14))))))","v":" "},null,null,".",{"$f":"IF(L117=\".\",\"\",IF(ISERROR((L117/L115)-1),\"\",((L117/L115)-1)))","v":""},".",{"$f":"IF(N117=\".\",\"\",IF(ISERROR((N117/N115)-1),\"\",((N117/N115)-1)))","v":""},null,null,null,null,{"$f":"F117","v":0},{"$f":"T117&\"pt\"&A117","v":"0pt"},{"$f":"IF(J117<>0,J117,9999999)","v":9999999}]
[{"$f":"IF(A117<>\"\",A117,\"\")","v":""},"","",{"$f":"IF(AND(E118=\" \",F115>F118), \"DESELECT to hide past tx episodes\",IF(OR(E118=\"Past due\",E118=\"contact due today\",E118=\"contact due in 1 day\",E118=\"contact due in 2 days\",E118=\"contact due in 3 days\",E118=\"contact due in 4 days\",E118=\"contact due in 5 days\",AND(J118<>\"\",OR(J119=\"\",A118<>A119))),\"Show only most recent visit & ticklers\",\"\"))","v":""},{"$f":"IF(OR(C117=\"Active\",C117=\"Relapse Prevention\"),IF(J118=\"\",IF(I118<TODAY(), \"Past Due\",(IF(I118=TODAY(),\"Contact due today\",IF(I118=(TODAY()+1), \"Contact due in 1 day\",IF(I118=(TODAY()+2), \"Contact due in 2 days\",IF(I118=(TODAY()+3), \"Contact due in 3 days\",IF(I118=(TODAY()+4), \"Contact due in 4 days\",IF(I118=(TODAY()+5), \"Contact due in 5 days\",\" \")))))))),\" \"),\" \")","v":" "},null,""," ",{"$f":"IF(I117=\" \",\" \",(IF(H115=\"1-week follow-up schedule\",IF(J117=\"\",I117+7,IF(ISERROR(J117+7),I117+7,J117+7)),IF(H115=\"1-month follow-up schedule\",IF(J117=\"\",I117+30,IF(ISERROR(J117+30),I117+30,J117+30)),IF(J117=\"\",I117+14,IF(ISERROR(J117+14),I117+14,J117+14))))))","v":" "},null,null,".",{"$f":"IF(L118=\".\",\"\",IF(ISERROR((L118/L115)-1),\"\",((L118/L115)-1)))","v":""},".",{"$f":"IF(N118=\".\",\"\",IF(ISERROR((N118/N115)-1),\"\",((N118/N115)-1)))","v":""},null,null,null,null,0,"0pt",9999999]
[{"$f":"IF(A118<>\"\",A118,\"\")","v":""},"","",{"$f":"IF(AND(E119=\" \",F115>F119), \"DESELECT to hide past tx episodes\",IF(OR(E119=\"Past due\",E119=\"contact due today\",E119=\"contact due in 1 day\",E119=\"contact due in 2 days\",E119=\"contact due in 3 days\",E119=\"contact due in 4 days\",E119=\"contact due in 5 days\",AND(J119<>\"\",OR(J120=\"\",A119<>A120))),\"Show only most recent visit & ticklers\",\"\"))","v":""}," ",null,""," ",{"$f":"IF(I118=\" \",\" \",(IF(H115=\"1-week follow-up schedule\",IF(J118=\"\",I118+7,IF(ISERROR(J118+7),I118+7,J118+7)),IF(H115=\"1-month follow-up schedule\",IF(J118=\"\",I118+30,IF(ISERROR(J118+30),I118+30,J118+30)),IF(J118=\"\",I118+14,IF(ISERROR(J118+14),I118+14,J118+14))))))","v":" "},null,null,".",{"$f":"IF(L119=\".\",\"\",IF(ISERROR((L119/L115)-1),\"\",((L119/L115)-1)))","v":""},".",{"$f":"IF(N119=\".\",\"\",IF(ISERROR((N119/N115)-1),\"\",((N119/N115)-1)))","v":""},null,null,null,null,0,"0pt",9999999]
[{"$f":"IF(A119<>\"\",A119,\"\")","v":""},"","",{"$f":"IF(AND(E120=\" \",F115>F120), \"DESELECT to hide past tx episodes\",IF(OR(E120=\"Past due\",E120=\"contact due today\",E120=\"contact due in 1 day\",E120=\"contact due in 2 days\",E120=\"contact due in 3 days\",E120=\"contact due in 4 days\",E120=\"contact due in 5 days\",AND(J120<>\"\",OR(J121=\"\",A120<>A121))),\"Show only most recent visit & ticklers\",\"\"))","v":""}," ",null,""," ",{"$f":"IF(I119=\" \",\" \",(IF(H115=\"1-week follow-up schedule\",IF(J119=\"\",I119+7,IF(ISERROR(J119+7),I119+7,J119+7)),IF(H115=\"1-month follow-up schedule\",IF(J119=\"\",I119+30,IF(ISERROR(J119+30),I119+30,J119+30)),IF(J119=\"\",I119+14,IF(ISERROR(J119+14),I119+14,J119+14))))))","v":" "},null,null,".",{"$f":"IF(L120=\".\",\"\",IF(ISERROR((L120/L115)-1),\"\",((L120/L115)-1)))","v":""},".",{"$f":"IF(N120=\".\",\"\",IF(ISERROR((N120/N115)-1),\"\",((N120/N115)-1)))","v":""},null,null,null,null,0,"0pt",9999999]
[{"$f":"IF(A120<>\"\",A120,\"\")","v":""},"","",{"$f":"IF(AND(E121=\" \",F115>F121), \"DESELECT to hide past tx episodes\",IF(OR(E121=\"Past due\",E121=\"contact due today\",E121=\"contact due in 1 day\",E121=\"contact due in 2 days\",E121=\"contact due in 3 days\",E121=\"contact due in 4 days\",E121=\"contact due in 5 days\",AND(J121<>\"\",OR(J122=\"\",A121<>A122))),\"Show only most recent visit & ticklers\",\"\"))","v":""}," ",null,""," ",{"$f":"IF(I120=\" \",\" \",(IF(H115=\"1-week follow-up schedule\",IF(J120=\"\",I120+7,IF(ISERROR(J120+7),I120+7,J120+7)),IF(H115=\"1-month follow-up schedule\",IF(J120=\"\",I120+30,IF(ISERROR(J120+30),I120+30,J120+30)),IF(J120=\"\",I120+14,IF(ISERROR(J120+14),I120+14,J120+14))))))","v":" "},null,null,".",{"$f":"IF(L121=\".\",\"\",IF(ISERROR((L121/L115)-1),\"\",((L121/L115)-1)))","v":""},".",{"$f":"IF(N121=\".\",\"\",IF(ISERROR((N121/N115)-1),\"\",((N121/N115)-1)))","v":""},null,null,null,null,0,"0pt",9999999]
[{"$f":"IF(A121<>\"\",A121,\"\")","v":""},"","",{"$f":"IF(AND(E122=\" \",F115>F122), \"DESELECT to hide past tx episodes\",IF(OR(E122=\"Past due\",E122=\"contact due today\",E122=\"contact due in 1 day\",E122=\"contact due in 2 days\",E122=\"contact due in 3 days\",E122=\"contact due in 4 days\",E122=\"contact due in 5 days\",AND(J122<>\"\",OR(J123=\"\",A122<>A123))),\"Show only most recent visit & ticklers\",\"\"))","v":""}," ",null,""," ",{"$f":"IF(I121=\" \",\" \",(IF(H115=\"1-week follow-up schedule\",IF(J121=\"\",I121+7,IF(ISERROR(J121+7),I121+7,J121+7)),IF(H115=\"1-month follow-up schedule\",IF(J121=\"\",I121+30,IF(ISERROR(J121+30),I121+30,J121+30)),IF(J121=\"\",I121+14,IF(ISERROR(J121+14),I121+14,J121+14))))))","v":" "},null,null,".",{"$f":"IF(L122=\".\",\"\",IF(ISERROR((L122/L115)-1),\"\",((L122/L115)-1)))","v":""},".",{"$f":"IF(N122=\".\",\"\",IF(ISERROR((N122/N115)-1),\"\",((N122/N115)-1)))","v":""},null,null,null,null,0,"0pt",9999999]
[{"$f":"IF(A122<>\"\",A122,\"\")","v":""},"","",{"$f":"IF(AND(E123=\" \",F115>F123), \"DESELECT to hide past tx episodes\",IF(OR(E123=\"Past due\",E123=\"contact due today\",E123=\"contact due in 1 day\",E123=\"contact due in 2 days\",E123=\"contact due in 3 days\",E123=\"contact due in 4 days\",E123=\"contact due in 5 days\",AND(J123<>\"\",OR(J124=\"\",A123<>A124))),\"Show only most recent visit & ticklers\",\"\"))","v":""}," ",null,""," ",{"$f":"IF(I122=\" \",\" \",(IF(H115=\"1-week follow-up schedule\",IF(J122=\"\",I122+7,IF(ISERROR(J122+7),I122+7,J122+7)),IF(H115=\"1-month follow-up schedule\",IF(J122=\"\",I122+30,IF(ISERROR(J122+30),I122+30,J122+30)),IF(J122=\"\",I122+14,IF(ISERROR(J122+14),I122+14,J122+14))))))","v":" "},null,null,".",{"$f":"IF(L123=\".\",\"\",IF(ISERROR((L123/L115)-1),\"\",((L123/L115)-1)))","v":""},".",{"$f":"IF(N123=\".\",\"\",IF(ISERROR((N123/N115)-1),\"\",((N123/N115)-1)))","v":""},null,null,null,null,0,"0pt",9999999]
[{"$f":"IF(A123<>\"\",A123,\"\")","v":""},"","",{"$f":"IF(AND(E124=\" \",F115>F124), \"DESELECT to hide past tx episodes\",IF(OR(E124=\"Past due\",E124=\"contact due today\",E124=\"contact due in 1 day\",E124=\"contact due in 2 days\",E124=\"contact due in 3 days\",E124=\"contact due in 4 days\",E124=\"contact due in 5 days\",AND(J124<>\"\",OR(J125=\"\",A124<>A125))),\"Show only most recent visit & ticklers\",\"\"))","v":""}," ",null,""," ",{"$f":"IF(I123=\" \",\" \",(IF(H115=\"1-week follow-up schedule\",IF(J123=\"\",I123+7,IF(ISERROR(J123+7),I123+7,J123+7)),IF(H115=\"1-month follow-up schedule\",IF(J123=\"\",I123+30,IF(ISERROR(J123+30),I123+30,J123+30)),IF(J123=\"\",I123+14,IF(ISERROR(J123+14),I123+14,J123+14))))))","v":" "},null,null,".",{"$f":"IF(L124=\".\",\"\",IF(ISERROR((L124/L115)-1),\"\",((L124/L115)-1)))","v":""},".",{"$f":"IF(N124=\".\",\"\",IF(ISERROR((N124/N115)-1),\"\",((N124/N115)-1)))","v":""},null,null,null,null,0,"0pt",9999999]
[{"$f":"IF(A124<>\"\",A124,\"\")","v":""},"","",{"$f":"IF(AND(E125=\" \",F115>F125), \"DESELECT to hide past tx episodes\",IF(OR(E125=\"Past due\",E125=\"contact due today\",E125=\"contact due in 1 day\",E125=\"contact due in 2 days\",E125=\"contact due in 3 days\",E125=\"contact due in 4 days\",E125=\"contact due in 5 days\",AND(J125<>\"\",OR(J126=\"\",A125<>A126))),\"Show only most recent visit & ticklers\",\"\"))","v":""}," ",null,""," ",{"$f":"IF(I124=\" \",\" \",(IF(H115=\"1-week follow-up schedule\",IF(J124=\"\",I124+7,IF(ISERROR(J124+7),I124+7,J124+7)),IF(H115=\"1-month follow-up schedule\",IF(J124=\"\",I124+30,IF(ISERROR(J124+30),I124+30,J124+30)),IF(J124=\"\",I124+14,IF(ISERROR(J124+14),I124+14,J124+14))))))","v":" "},null,null,".",{"$f":"IF(L125=\".\",\"\",IF(ISERROR((L125/L115)-1),\"\",((L125/L115)-1)))","v":""},".",{"$f":"IF(N125=\".\",\"\",IF(ISERROR((N125/N115)-1),\"\",((N125/N115)-1)))","v":""},null,null,null,null,0,"0pt",9999999]
[{"$f":"IF(A125<>\"\",A125,\"\")","v":""},"","",{"$f":"IF(AND(E126=\" \",F115>F126), \"DESELECT to hide past tx episodes\",IF(OR(E126=\"Past due\",E126=\"contact due today\",E126=\"contact due in 1 day\",E126=\"contact due in 2 days\",E126=\"contact due in 3 days\",E126=\"contact due in 4 days\",E126=\"contact due in 5 days\",AND(J126<>\"\",OR(J127=\"\",A126<>A127))),\"Show only most recent visit & ticklers\",\"\"))","v":""}," ",null,""," ",{"$f":"IF(I125=\" \",\" \",(IF(H115=\"1-week follow-up schedule\",IF(J125=\"\",I125+7,IF(ISERROR(J125+7),I125+7,J125+7)),IF(H115=\"1-month follow-up schedule\",IF(J125=\"\",I125+30,IF(ISERROR(J125+30),I125+30,J125+30)),IF(J125=\"\",I125+14,IF(ISERROR(J125+14),I125+14,J125+14))))))","v":" "},null,null,".",{"$f":"IF(L126=\".\",\"\",IF(ISERROR((L126/L115)-1),\"\",((L126/L115)-1)))","v":""},".",{"$f":"IF(N126=\".\",\"\",IF(ISERROR((N126/N115)-1),\"\",((N126/N115)-1)))","v":""},null,null,null,null,0,"0pt",9999999]
[{"$f":"IF(A126<>\"\",A126,\"\")","v":""},"","",{"$f":"IF(AND(E127=\" \",F115>F127), \"DESELECT to hide past tx episodes\",IF(OR(E127=\"Past due\",E127=\"contact due today\",E127=\"contact due in 1 day\",E127=\"contact due in 2 days\",E127=\"contact due in 3 days\",E127=\"contact due in 4 days\",E127=\"contact due in 5 days\",AND(J127<>\"\",OR(J128=\"\",A127<>A128))),\"Show only most recent visit & ticklers\",\"\"))","v":""}," ",null,""," ",{"$f":"IF(I126=\" \",\" \",(IF(H115=\"1-week follow-up schedule\",IF(J126=\"\",I126+7,IF(ISERROR(J126+7),I126+7,J126+7)),IF(H115=\"1-month follow-up schedule\",IF(J126=\"\",I126+30,IF(ISERROR(J126+30),I126+30,J126+30)),IF(J126=\"\",I126+14,IF(ISERROR(J126+14),I126+14,J126+14))))))","v":" "},null,null,".",{"$f":"IF(L127=\".\",\"\",IF(ISERROR((L127/L115)-1),\"\",((L127/L115)-1)))","v":""},".",{"$f":"IF(N127=\".\",\"\",IF(ISERROR((N127/N115)-1),\"\",((N127/N115)-1)))","v":""},null,null,null,null,0,"0pt",9999999]
[{"$f":"IF(A127<>\"\",A127,\"\")","v":""},"","",{"$f":"IF(AND(E128=\" \",F115>F128), \"DESELECT to hide past tx episodes\",IF(OR(E128=\"Past due\",E128=\"contact due today\",E128=\"contact due in 1 day\",E128=\"contact due in 2 days\",E128=\"contact due in 3 days\",E128=\"contact due in 4 days\",E128=\"contact due in 5 days\",AND(J128<>\"\",OR(J129=\"\",A128<>A129))),\"Show only most recent visit & ticklers\",\"\"))","v":""}," ",null,""," ",{"$f":"IF(I127=\" \",\" \",(IF(H115=\"1-week follow-up schedule\",IF(J127=\"\",I127+7,IF(ISERROR(J127+7),I127+7,J127+7)),IF(H115=\"1-month follow-up schedule\",IF(J127=\"\",I127+30,IF(ISERROR(J127+30),I127+30,J127+30)),IF(J127=\"\",I127+14,IF(ISERROR(J127+14),I127+14,J127+14))))))","v":" "},null,null,".",{"$f":"IF(L128=\".\",\"\",IF(ISERROR((L128/L115)-1),\"\",((L128/L115)-1)))","v":""},".",{"$f":"IF(N128=\".\",\"\",IF(ISERROR((N128/N115)-1),\"\",((N128/N115)-1)))","v":""},null,null,null,null,0,"0pt",9999999]
[{"$f":"IF(A128<>\"\",A128,\"\")","v":""},"","",{"$f":"IF(AND(E129=\" \",F115>F129), \"DESELECT to hide past tx episodes\",IF(OR(E129=\"Past due\",E129=\"contact due today\",E129=\"contact due in 1 day\",E129=\"contact due in 2 days\",E129=\"contact due in 3 days\",E129=\"contact due in 4 days\",E129=\"contact due in 5 days\",AND(J129<>\"\",OR(J130=\"\",A129<>A130))),\"Show only most recent visit & ticklers\",\"\"))","v":""}," ",null,""," ",{"$f":"IF(I128=\" \",\" \",(IF(H115=\"1-week follow-up schedule\",IF(J128=\"\",I128+7,IF(ISERROR(J128+7),I128+7,J128+7)),IF(H115=\"1-month follow-up schedule\",IF(J128=\"\",I128+30,IF(ISERROR(J128+30),I128+30,J128+30)),IF(J128=\"\",I128+14,IF(ISERROR(J128+14),I128+14,J128+14))))))","v":" "},null,null,".",{"$f":"IF(L129=\".\",\"\",IF(ISERROR((L129/L115)-1),\"\",((L129/L115)-1)))","v":""},".",{"$f":"IF(N129=\".\",\"\",IF(ISERROR((N129/N115)-1),\"\",((N129/N115)-1)))","v":""},null,null,null,null,0,"0pt",9999999]
[{"$f":"IF(A129<>\"\",A129,\"\")","v":""},"","",{"$f":"IF(AND(E130=\" \",F115>F130), \"DESELECT to hide past tx episodes\",IF(OR(E130=\"Past due\",E130=\"contact due today\",E130=\"contact due in 1 day\",E130=\"contact due in 2 days\",E130=\"contact due in 3 days\",E130=\"contact due in 4 days\",E130=\"contact due in 5 days\",AND(J130<>\"\",OR(J131=\"\",A130<>A131))),\"Show only most recent visit & ticklers\",\"\"))","v":""}," ",null,""," ",{"$f":"IF(I129=\" \",\" \",(IF(H115=\"1-week follow-up schedule\",IF(J129=\"\",I129+7,IF(ISERROR(J129+7),I129+7,J129+7)),IF(H115=\"1-month follow-up schedule\",IF(J129=\"\",I129+30,IF(ISERROR(J129+30),I129+30,J129+30)),IF(J129=\"\",I129+14,IF(ISERROR(J129+14),I129+14,J129+14))))))","v":" "},null,null,".",{"$f":"IF(L130=\".\",\"\",IF(ISERROR((L130/L115)-1),\"\",((L130/L115)-1)))","v":""},".",{"$f":"IF(N130=\".\",\"\",IF(ISERROR((N130/N115)-1),\"\",((N130/N115)-1)))","v":""},null,null,null,null,0,"0pt",9999999]
[null,null,null,{"$f":"IF(A131<>\"\",\"Show Initial Assessment row\",\"\")","v":""}," ",{"$f":"MAX(IF(A132:A162=A131,F132:F162,\"\"))","v":0},"Current Episode Initial Assessment","2-week follow-up schedule",null,{"$f":"IF(W131<>0,W131,\"\")","v":""},null,{"$f":"IF(Y131=\"no score\",Y131,X131)","v":"No score"},null,{"$f":"IF(AA131=\"no score\",AA131,Z131)","v":"No score"},null,null,null,{"$f":"IF(S131<>0,S131,\"\")","v":""},{"$f":"MAX(IF(A132:A162=A131,R132:R162,\"\"))","v":"00:00:00"},{"$f":"MAX(IF(A132:A162=A131,F132:F162,\"\"))","v":0},{"$f":"T131&\"pt\"&A131","v":"0pt"},null,{"$f":"MIN(IF(U132:U162=U131,V132:V162,\"\"))","v":"00:00:00"},{"$f":"MAX(IF('Data Prep'!S130:S188=\"initial score\"&'Patient Tracking'!A131,'Data Prep'!Z130:Z188,\"\"))","v":0},{"$f":"IF(ISNA(MATCH(\"initial score\"&'Patient Tracking'!A131,'Data Prep'!S130:S188,0)),\"No score\",\"\")","v":"No score"},{"$f":"MAX(IF('Data Prep'!T130:T188=\"initial score\"&'Patient Tracking'!A131,'Data Prep'!AD130:AD188,\"\"))","v":0},{"$f":"IF(ISNA(MATCH(\"initial score\"&'Patient Tracking'!A131,'Data Prep'!T130:T188,0)),\"No score\",\"\")","v":"No score"}]
[{"$f":"IF(A131<>\"\",A131,\"\")","v":""},{"$f":"IF(B131<>\"\",B131,\"\")","v":""},{"$f":"IF(C131<>\"\",C131,\"\")","v":""},{"$f":"IF(AND(E132=\" \",F131>F132), \"DESELECT to hide past tx episodes\",IF(OR(E132=\"Past due\",E132=\"contact due today\",E132=\"contact due in 1 day\",E132=\"contact due in 2 days\",E132=\"contact due in 3 days\",E132=\"contact due in 4 days\",E132=\"contact due in 5 days\",AND(J132<>\"\",OR(J133=\"\",A132<>A133))),\"Show only most recent visit & ticklers\",\"\"))","v":""},{"$f":"IF(C131=\"Active\",IF(J132=\"\",IF(I132<TODAY(), \"Past Due\",(IF(I132=TODAY(),\"Contact due today\",IF(I132=(TODAY()+1), \"Contact due in 1 day\",IF(I132=(TODAY()+2), \"Contact due in 2 days\",IF(I132=(TODAY()+3), \"Contact due in 3 days\",IF(I132=(TODAY()+4), \"Contact due in 4 days\",IF(I132=(TODAY()+5), \"Contact due in 5 days\",\" \")))))))),\" \"),\" \")","v":" "},null,"Initial Assessment",{"$f":"IF(J132<>\"\",\"\",I132)","v":" "},{"$f":"IF(H131=\"1-week follow-up schedule\",IF(J131=\"\",\" \",IF(ISERROR(J131+7),\" \",J131+7)),IF(H131=\"1-month follow-up schedule\",IF(J131=\"\",\" \",IF(ISERROR(J131+30),\" \",J131+30)),IF(J131=\"\",\" \",IF(ISERROR(J131+14),\" \",J131+14))))","v":" "},null,null,".",{"$f":"IF(L132=\".\",\"\",IF(ISERROR((L132/L131)-1),\"\",((L132/L131)-1)))","v":""},".",{"$f":"IF(N132=\".\",\"\",IF(ISERROR((N132/N131)-1),\"\",((N132/N131)-1)))","v":""},null,null,null,null,{"$f":"F132","v":0},{"$f":"T132&\"pt\"&A132","v":"0pt"},{"$f":"IF(J132<>0,J132,9999999)","v":9999999}]
[{"$f":"IF(A132<>\"\",A132,\"\")","v":""},"","",{"$f":"IF(AND(E133=\" \",F131>F133), \"DESELECT to hide past tx episodes\",IF(OR(E133=\"Past due\",E133=\"contact due today\",E133=\"contact due in 1 day\",E133=\"contact due in 2 days\",E133=\"contact due in 3 days\",E133=\"contact due in 4 days\",E133=\"contact due in 5 days\",AND(J133<>\"\",OR(J134=\"\",A133<>A134))),\"Show only most recent visit & ticklers\",\"\"))","v":""},{"$f":"IF(OR(C132=\"Active\",C132=\"Relapse Prevention\"),IF(J133=\"\",IF(I133<TODAY(), \"Past Due\",(IF(I133=TODAY(),\"Contact due today\",IF(I133=(TODAY()+1), \"Contact due in 1 day\",IF(I133=(TODAY()+2), \"Contact due in 2 days\",IF(I133=(TODAY()+3), \"Contact due in 3 days\",IF(I133=(TODAY()+4), \"Contact due in 4 days\",IF(I133=(TODAY()+5), \"Contact due in 5 days\",\" \")))))))),\" \"),\" \")","v":" "},null,{"$f":"IF(AND(F133=F132,F133<>\"\"),IFERROR(G132+1,1),IF(F133<>\"\",\"Initial Assessment\",\"\"))","v":""},{"$f":"IF(J133<>\"\",\"\",I133)","v":" "},{"$f":"IF(I132=\" \",\" \",(IF(H131=\"1-week follow-up schedule\",IF(J132=\"\",I132+7,IF(ISERROR(J132+7),I132+7,J132+7)),IF(H131=\"1-month follow-up schedule\",IF(J132=\"\",I132+30,IF(ISERROR(J132+30),I132+30,J132+30)),IF(J132=\"\",I132+14,IF(ISERROR(J132+14),I132+14,J132+14))))))","v":" "},null,null,".",{"$f":"IF(L133=\".\",\"\",IF(ISERROR((L133/L131)-1),\"\",((L133/L131)-1)))","v":""},".",{"$f":"IF(N133=\".\",\"\",IF(ISERROR((N133/N131)-1),\"\",((N133/N131)-1)))","v":""},null,null,null,null,{"$f":"F133","v":0},{"$f":"T133&\"pt\"&A133","v":"0pt"},{"$f":"IF(J133<>0,J133,9999999)","v":9999999}]
[{"$f":"IF(A133<>\"\",A133,\"\")","v":""},"","",{"$f":"IF(AND(E134=\" \",F131>F134), \"DESELECT to hide past tx episodes\",IF(OR(E134=\"Past due\",E134=\"contact due today\",E134=\"contact due in 1 day\",E134=\"contact due in 2 days\",E134=\"contact due in 3 days\",E134=\"contact due in 4 days\",E134=\"contact due in 5 days\",AND(J134<>\"\",OR(J135=\"\",A134<>A135))),\"Show only most recent visit & ticklers\",\"\"))","v":""},{"$f":"IF(OR(C133=\"Active\",C133=\"Relapse Prevention\"),IF(J134=\"\",IF(I134<TODAY(), \"Past Due\",(IF(I134=TODAY(),\"Contact due today\",IF(I134=(TODAY()+1), \"Contact due in 1 day\",IF(I134=(TODAY()+2), \"Contact due in 2 days\",IF(I134=(TODAY()+3), \"Contact due in 3 days\",IF(I134=(TODAY()+4), \"Contact due in 4 days\",IF(I134=(TODAY()+5), \"Contact due in 5 days\",\" \")))))))),\" \"),\" \")","v":" "},null,""," ",{"$f":"IF(I133=\" \",\" \",(IF(H131=\"1-week follow-up schedule\",IF(J133=\"\",I133+7,IF(ISERROR(J133+7),I133+7,J133+7)),IF(H131=\"1-month follow-up schedule\",IF(J133=\"\",I133+30,IF(ISERROR(J133+30),I133+30,J133+30)),IF(J133=\"\",I133+14,IF(ISERROR(J133+14),I133+14,J133+14))))))","v":" "},null,null,".",{"$f":"IF(L134=\".\",\"\",IF(ISERROR((L134/L131)-1),\"\",((L134/L131)-1)))","v":""},".",{"$f":"IF(N134=\".\",\"\",IF(ISERROR((N134/N131)-1),\"\",((N134/N131)-1)))","v":""},null,null,null,null,0,"0pt",9999999]
[{"$f":"IF(A134<>\"\",A134,\"\")","v":""},"","",{"$f":"IF(AND(E135=\" \",F131>F135), \"DESELECT to hide past tx episodes\",IF(OR(E135=\"Past due\",E135=\"contact due today\",E135=\"contact due in 1 day\",E135=\"contact due in 2 days\",E135=\"contact due in 3 days\",E135=\"contact due in 4 days\",E135=\"contact due in 5 days\",AND(J135<>\"\",OR(J136=\"\",A135<>A136))),\"Show only most recent visit & ticklers\",\"\"))","v":""}," ",null,""," ",{"$f":"IF(I134=\" \",\" \",(IF(H131=\"1-week follow-up schedule\",IF(J134=\"\",I134+7,IF(ISERROR(J134+7),I134+7,J134+7)),IF(H131=\"1-month follow-up schedule\",IF(J134=\"\",I134+30,IF(ISERROR(J134+30),I134+30,J134+30)),IF(J134=\"\",I134+14,IF(ISERROR(J134+14),I134+14,J134+14))))))","v":" "},null,null,".",{"$f":"IF(L135=\".\",\"\",IF(ISERROR((L135/L131)-1),\"\",((L135/L131)-1)))","v":""},".",{"$f":"IF(N135=\".\",\"\",IF(ISERROR((N135/N131)-1),\"\",((N135/N131)-1)))","v":""},null,null,null,null,0,"0pt",9999999]
[{"$f":"IF(A135<>\"\",A135,\"\")","v":""},"","",{"$f":"IF(AND(E136=\" \",F131>F136), \"DESELECT to hide past tx episodes\",IF(OR(E136=\"Past due\",E136=\"contact due today\",E136=\"contact due in 1 day\",E136=\"contact due in 2 days\",E136=\"contact due in 3 days\",E136=\"contact due in 4 days\",E136=\"contact due in 5 days\",AND(J136<>\"\",OR(J137=\"\",A136<>A137))),\"Show only most recent visit & ticklers\",\"\"))","v":""}," ",null,""," ",{"$f":"IF(I135=\" \",\" \",(IF(H131=\"1-week follow-up schedule\",IF(J135=\"\",I135+7,IF(ISERROR(J135+7),I135+7,J135+7)),IF(H131=\"1-month follow-up schedule\",IF(J135=\"\",I135+30,IF(ISERROR(J135+30),I135+30,J135+30)),IF(J135=\"\",I135+14,IF(ISERROR(J135+14),I135+14,J135+14))))))","v":" "},null,null,".",{"$f":"IF(L136=\".\",\"\",IF(ISERROR((L136/L131)-1),\"\",((L136/L131)-1)))","v":""},".",{"$f":"IF(N136=\".\",\"\",IF(ISERROR((N136/N131)-1),\"\",((N136/N131)-1)))","v":""},null,null,null,null,0,"0pt",9999999]
[{"$f":"IF(A136<>\"\",A136,\"\")","v":""},"","",{"$f":"IF(AND(E137=\" \",F131>F137), \"DESELECT to hide past tx episodes\",IF(OR(E137=\"Past due\",E137=\"contact due today\",E137=\"contact due in 1 day\",E137=\"contact due in 2 days\",E137=\"contact due in 3 days\",E137=\"contact due in 4 days\",E137=\"contact due in 5 days\",AND(J137<>\"\",OR(J138=\"\",A137<>A138))),\"Show only most recent visit & ticklers\",\"\"))","v":""}," ",null,""," ",{"$f":"IF(I136=\" \",\" \",(IF(H131=\"1-week follow-up schedule\",IF(J136=\"\",I136+7,IF(ISERROR(J136+7),I136+7,J136+7)),IF(H131=\"1-month follow-up schedule\",IF(J136=\"\",I136+30,IF(ISERROR(J136+30),I136+30,J136+30)),IF(J136=\"\",I136+14,IF(ISERROR(J136+14),I136+14,J136+14))))))","v":" "},null,null,".",{"$f":"IF(L137=\".\",\"\",IF(ISERROR((L137/L131)-1),\"\",((L137/L131)-1)))","v":""},".",{"$f":"IF(N137=\".\",\"\",IF(ISERROR((N137/N131)-1),\"\",((N137/N131)-1)))","v":""},null,null,null,null,0,"0pt",9999999]
[{"$f":"IF(A137<>\"\",A137,\"\")","v":""},"","",{"$f":"IF(AND(E138=\" \",F131>F138), \"DESELECT to hide past tx episodes\",IF(OR(E138=\"Past due\",E138=\"contact due today\",E138=\"contact due in 1 day\",E138=\"contact due in 2 days\",E138=\"contact due in 3 days\",E138=\"contact due in 4 days\",E138=\"contact due in 5 days\",AND(J138<>\"\",OR(J139=\"\",A138<>A139))),\"Show only most recent visit & ticklers\",\"\"))","v":""}," ",null,""," ",{"$f":"IF(I137=\" \",\" \",(IF(H131=\"1-week follow-up schedule\",IF(J137=\"\",I137+7,IF(ISERROR(J137+7),I137+7,J137+7)),IF(H131=\"1-month follow-up schedule\",IF(J137=\"\",I137+30,IF(ISERROR(J137+30),I137+30,J137+30)),IF(J137=\"\",I137+14,IF(ISERROR(J137+14),I137+14,J137+14))))))","v":" "},null,null,".",{"$f":"IF(L138=\".\",\"\",IF(ISERROR((L138/L131)-1),\"\",((L138/L131)-1)))","v":""},".",{"$f":"IF(N138=\".\",\"\",IF(ISERROR((N138/N131)-1),\"\",((N138/N131)-1)))","v":""},null,null,null,null,0,"0pt",9999999]
[{"$f":"IF(A138<>\"\",A138,\"\")","v":""},"","",{"$f":"IF(AND(E139=\" \",F131>F139), \"DESELECT to hide past tx episodes\",IF(OR(E139=\"Past due\",E139=\"contact due today\",E139=\"contact due in 1 day\",E139=\"contact due in 2 days\",E139=\"contact due in 3 days\",E139=\"contact due in 4 days\",E139=\"contact due in 5 days\",AND(J139<>\"\",OR(J140=\"\",A139<>A140))),\"Show only most recent visit & ticklers\",\"\"))","v":""}," ",null,""," ",{"$f":"IF(I138=\" \",\" \",(IF(H131=\"1-week follow-up schedule\",IF(J138=\"\",I138+7,IF(ISERROR(J138+7),I138+7,J138+7)),IF(H131=\"1-month follow-up schedule\",IF(J138=\"\",I138+30,IF(ISERROR(J138+30),I138+30,J138+30)),IF(J138=\"\",I138+14,IF(ISERROR(J138+14),I138+14,J138+14))))))","v":" "},null,null,".",{"$f":"IF(L139=\".\",\"\",IF(ISERROR((L139/L131)-1),\"\",((L139/L131)-1)))","v":""},".",{"$f":"IF(N139=\".\",\"\",IF(ISERROR((N139/N131)-1),\"\",((N139/N131)-1)))","v":""},null,null,null,null,0,"0pt",9999999]
[{"$f":"IF(A139<>\"\",A139,\"\")","v":""},"","",{"$f":"IF(AND(E140=\" \",F131>F140), \"DESELECT to hide past tx episodes\",IF(OR(E140=\"Past due\",E140=\"contact due today\",E140=\"contact due in 1 day\",E140=\"contact due in 2 days\",E140=\"contact due in 3 days\",E140=\"contact due in 4 days\",E140=\"contact due in 5 days\",AND(J140<>\"\",OR(J141=\"\",A140<>A141))),\"Show only most recent visit & ticklers\",\"\"))","v":""}," ",null,""," ",{"$f":"IF(I139=\" \",\" \",(IF(H131=\"1-week follow-up schedule\",IF(J139=\"\",I139+7,IF(ISERROR(J139+7),I139+7,J139+7)),IF(H131=\"1-month follow-up schedule\",IF(J139=\"\",I139+30,IF(ISERROR(J139+30),I139+30,J139+30)),IF(J139=\"\",I139+14,IF(ISERROR(J139+14),I139+14,J139+14))))))","v":" "},null,null,".",{"$f":"IF(L140=\".\",\"\",IF(ISERROR((L140/L131)-1),\"\",((L140/L131)-1)))","v":""},".",{"$f":"IF(N140=\".\",\"\",IF(ISERROR((N140/N131)-1),\"\",((N140/N131)-1)))","v":""},null,null,null,null,0,"0pt",9999999]
[{"$f":"IF(A140<>\"\",A140,\"\")","v":""},"","",{"$f":"IF(AND(E141=\" \",F131>F141), \"DESELECT to hide past tx episodes\",IF(OR(E141=\"Past due\",E141=\"contact due today\",E141=\"contact due in 1 day\",E141=\"contact due in 2 days\",E141=\"contact due in 3 days\",E141=\"contact due in 4 days\",E141=\"contact due in 5 days\",AND(J141<>\"\",OR(J142=\"\",A141<>A142))),\"Show only most recent visit & ticklers\",\"\"))","v":""}," ",null,""," ",{"$f":"IF(I140=\" \",\" \",(IF(H131=\"1-week follow-up schedule\",IF(J140=\"\",I140+7,IF(ISERROR(J140+7),I140+7,J140+7)),IF(H131=\"1-month follow-up schedule\",IF(J140=\"\",I140+30,IF(ISERROR(J140+30),I140+30,J140+30)),IF(J140=\"\",I140+14,IF(ISERROR(J140+14),I140+14,J140+14))))))","v":" "},null,null,".",{"$f":"IF(L141=\".\",\"\",IF(ISERROR((L141/L131)-1),\"\",((L141/L131)-1)))","v":""},".",{"$f":"IF(N141=\".\",\"\",IF(ISERROR((N141/N131)-1),\"\",((N141/N131)-1)))","v":""},null,null,null,null,0,"0pt",9999999]
[{"$f":"IF(A141<>\"\",A141,\"\")","v":""},"","",{"$f":"IF(AND(E142=\" \",F131>F142), \"DESELECT to hide past tx episodes\",IF(OR(E142=\"Past due\",E142=\"contact due today\",E142=\"contact due in 1 day\",E142=\"contact due in 2 days\",E142=\"contact due in 3 days\",E142=\"contact due in 4 days\",E142=\"contact due in 5 days\",AND(J142<>\"\",OR(J143=\"\",A142<>A143))),\"Show only most recent visit & ticklers\",\"\"))","v":""}," ",null,""," ",{"$f":"IF(I141=\" \",\" \",(IF(H131=\"1-week follow-up schedule\",IF(J141=\"\",I141+7,IF(ISERROR(J141+7),I141+7,J141+7)),IF(H131=\"1-month follow-up schedule\",IF(J141=\"\",I141+30,IF(ISERROR(J141+30),I141+30,J141+30)),IF(J141=\"\",I141+14,IF(ISERROR(J141+14),I141+14,J141+14))))))","v":" "},null,null,".",{"$f":"IF(L142=\".\",\"\",IF(ISERROR((L142/L131)-1),\"\",((L142/L131)-1)))","v":""},".",{"$f":"IF(N142=\".\",\"\",IF(ISERROR((N142/N131)-1),\"\",((N142/N131)-1)))","v":""},null,null,null,null,0,"0pt",9999999]
[{"$f":"IF(A142<>\"\",A142,\"\")","v":""},"","",{"$f":"IF(AND(E143=\" \",F131>F143), \"DESELECT to hide past tx episodes\",IF(OR(E143=\"Past due\",E143=\"contact due today\",E143=\"contact due in 1 day\",E143=\"contact due in 2 days\",E143=\"contact due in 3 days\",E143=\"contact due in 4 days\",E143=\"contact due in 5 days\",AND(J143<>\"\",OR(J144=\"\",A143<>A144))),\"Show only most recent visit & ticklers\",\"\"))","v":""}," ",null,""," ",{"$f":"IF(I142=\" \",\" \",(IF(H131=\"1-week follow-up schedule\",IF(J142=\"\",I142+7,IF(ISERROR(J142+7),I142+7,J142+7)),IF(H131=\"1-month follow-up schedule\",IF(J142=\"\",I142+30,IF(ISERROR(J142+30),I142+30,J142+30)),IF(J142=\"\",I142+14,IF(ISERROR(J142+14),I142+14,J142+14))))))","v":" "},null,null,".",{"$f":"IF(L143=\".\",\"\",IF(ISERROR((L143/L131)-1),\"\",((L143/L131)-1)))","v":""},".",{"$f":"IF(N143=\".\",\"\",IF(ISERROR((N143/N131)-1),\"\",((N143/N131)-1)))","v":""},null,null,null,null,0,"0pt",9999999]
[{"$f":"IF(A143<>\"\",A143,\"\")","v":""},"","",{"$f":"IF(AND(E144=\" \",F131>F144), \"DESELECT to hide past tx episodes\",IF(OR(E144=\"Past due\",E144=\"contact due today\",E144=\"contact due in 1 day\",E144=\"contact due in 2 days\",E144=\"contact due in 3 days\",E144=\"contact due in 4 days\",E144=\"contact due in 5 days\",AND(J144<>\"\",OR(J145=\"\",A144<>A145))),\"Show only most recent visit & ticklers\",\"\"))","v":""}," ",null,""," ",{"$f":"IF(I143=\" \",\" \",(IF(H131=\"1-week follow-up schedule\",IF(J143=\"\",I143+7,IF(ISERROR(J143+7),I143+7,J143+7)),IF(H131=\"1-month follow-up schedule\",IF(J143=\"\",I143+30,IF(ISERROR(J143+30),I143+30,J143+30)),IF(J143=\"\",I143+14,IF(ISERROR(J143+14),I143+14,J143+14))))))","v":" "},null,null,".",{"$f":"IF(L144=\".\",\"\",IF(ISERROR((L144/L131)-1),\"\",((L144/L131)-1)))","v":""},".",{"$f":"IF(N144=\".\",\"\",IF(ISERROR((N144/N131)-1),\"\",((N144/N131)-1)))","v":""},null,null,null,null,0,"0pt",9999999]
[{"$f":"IF(A144<>\"\",A144,\"\")","v":""},"","",{"$f":"IF(AND(E145=\" \",F131>F145), \"DESELECT to hide past tx episodes\",IF(OR(E145=\"Past due\",E145=\"contact due today\",E145=\"contact due in 1 day\",E145=\"contact due in 2 days\",E145=\"contact due in 3 days\",E145=\"contact due in 4 days\",E145=\"contact due in 5 days\",AND(J145<>\"\",OR(J146=\"\",A145<>A146))),\"Show only most recent visit & ticklers\",\"\"))","v":""}," ",null,""," ",{"$f":"IF(I144=\" \",\" \",(IF(H131=\"1-week follow-up schedule\",IF(J144=\"\",I144+7,IF(ISERROR(J144+7),I144+7,J144+7)),IF(H131=\"1-month follow-up schedule\",IF(J144=\"\",I144+30,IF(ISERROR(J144+30),I144+30,J144+30)),IF(J144=\"\",I144+14,IF(ISERROR(J144+14),I144+14,J144+14))))))","v":" "},null,null,".",{"$f":"IF(L145=\".\",\"\",IF(ISERROR((L145/L131)-1),\"\",((L145/L131)-1)))","v":""},".",{"$f":"IF(N145=\".\",\"\",IF(ISERROR((N145/N131)-1),\"\",((N145/N131)-1)))","v":""},null,null,null,null,0,"0pt",9999999]
[{"$f":"IF(A145<>\"\",A145,\"\")","v":""},"","",{"$f":"IF(AND(E146=\" \",F131>F146), \"DESELECT to hide past tx episodes\",IF(OR(E146=\"Past due\",E146=\"contact due today\",E146=\"contact due in 1 day\",E146=\"contact due in 2 days\",E146=\"contact due in 3 days\",E146=\"contact due in 4 days\",E146=\"contact due in 5 days\",AND(J146<>\"\",OR(J147=\"\",A146<>A147))),\"Show only most recent visit & ticklers\",\"\"))","v":""}," ",null,""," ",{"$f":"IF(I145=\" \",\" \",(IF(H131=\"1-week follow-up schedule\",IF(J145=\"\",I145+7,IF(ISERROR(J145+7),I145+7,J145+7)),IF(H131=\"1-month follow-up schedule\",IF(J145=\"\",I145+30,IF(ISERROR(J145+30),I145+30,J145+30)),IF(J145=\"\",I145+14,IF(ISERROR(J145+14),I145+14,J145+14))))))","v":" "},null,null,".",{"$f":"IF(L146=\".\",\"\",IF(ISERROR((L146/L131)-1),\"\",((L146/L131)-1)))","v":""},".",{"$f":"IF(N146=\".\",\"\",IF(ISERROR((N146/N131)-1),\"\",((N146/N131)-1)))","v":""},null,null,null,null,0,"0pt",9999999]
[null,null,null,{"$f":"IF(A147<>\"\",\"Show Initial Assessment row\",\"\")","v":""}," ",{"$f":"MAX(IF(A148:A162=A147,F148:F162,\"\"))","v":0},"Current Episode Initial Assessment","2-week follow-up schedule",null,{"$f":"IF(W147<>0,W147,\"\")","v":""},null,{"$f":"IF(Y147=\"no score\",Y147,X147)","v":"No score"},null,{"$f":"IF(AA147=\"no score\",AA147,Z147)","v":"No score"},null,null,null,{"$f":"IF(S147<>0,S147,\"\")","v":""},{"$f":"MAX(IF(A148:A162=A147,R148:R162,\"\"))","v":"00:00:00"},{"$f":"MAX(IF(A148:A162=A147,F148:F162,\"\"))","v":0},{"$f":"T147&\"pt\"&A147","v":"0pt"},null,{"$f":"MIN(IF(U148:U163=U147,V148:V163,\"\"))","v":"00:00:00"},{"$f":"MAX(IF('Data Prep'!S146:S204=\"initial score\"&'Patient Tracking'!A147,'Data Prep'!Z146:Z204,\"\"))","v":0},{"$f":"IF(ISNA(MATCH(\"initial score\"&'Patient Tracking'!A147,'Data Prep'!S146:S204,0)),\"No score\",\"\")","v":"No score"},{"$f":"MAX(IF('Data Prep'!T146:T204=\"initial score\"&'Patient Tracking'!A147,'Data Prep'!AD146:AD204,\"\"))","v":0},{"$f":"IF(ISNA(MATCH(\"initial score\"&'Patient Tracking'!A147,'Data Prep'!T146:T204,0)),\"No score\",\"\")","v":"No score"}]
[{"$f":"IF(A147<>\"\",A147,\"\")","v":""},{"$f":"IF(B147<>\"\",B147,\"\")","v":""},{"$f":"IF(C147<>\"\",C147,\"\")","v":""},{"$f":"IF(AND(E148=\" \",F147>F148), \"DESELECT to hide past tx episodes\",IF(OR(E148=\"Past due\",E148=\"contact due today\",E148=\"contact due in 1 day\",E148=\"contact due in 2 days\",E148=\"contact due in 3 days\",E148=\"contact due in 4 days\",E148=\"contact due in 5 days\",AND(J148<>\"\",OR(J149=\"\",A148<>A149))),\"Show only most recent visit & ticklers\",\"\"))","v":""},{"$f":"IF(C147=\"Active\",IF(J148=\"\",IF(I148<TODAY(), \"Past Due\",(IF(I148=TODAY(),\"Contact due today\",IF(I148=(TODAY()+1), \"Contact due in 1 day\",IF(I148=(TODAY()+2), \"Contact due in 2 days\",IF(I148=(TODAY()+3), \"Contact due in 3 days\",IF(I148=(TODAY()+4), \"Contact due in 4 days\",IF(I148=(TODAY()+5), \"Contact due in 5 days\",\" \")))))))),\" \"),\" \")","v":" "},null,"Initial Assessment",{"$f":"IF(J148<>\"\",\"\",I148)","v":" "},{"$f":"IF(H147=\"1-week follow-up schedule\",IF(J147=\"\",\" \",IF(ISERROR(J147+7),\" \",J147+7)),IF(H147=\"1-month follow-up schedule\",IF(J147=\"\",\" \",IF(ISERROR(J147+30),\" \",J147+30)),IF(J147=\"\",\" \",IF(ISERROR(J147+14),\" \",J147+14))))","v":" "},null,null,".",{"$f":"IF(L148=\".\",\"\",IF(ISERROR((L148/L147)-1),\"\",((L148/L147)-1)))","v":""},".",{"$f":"IF(N148=\".\",\"\",IF(ISERROR((N148/N147)-1),\"\",((N148/N147)-1)))","v":""},null,null,null,null,{"$f":"F148","v":0},{"$f":"T148&\"pt\"&A148","v":"0pt"},{"$f":"IF(J148<>0,J148,9999999)","v":9999999}]
[{"$f":"IF(A148<>\"\",A148,\"\")","v":""},"","",{"$f":"IF(AND(E149=\" \",F147>F149), \"DESELECT to hide past tx episodes\",IF(OR(E149=\"Past due\",E149=\"contact due today\",E149=\"contact due in 1 day\",E149=\"contact due in 2 days\",E149=\"contact due in 3 days\",E149=\"contact due in 4 days\",E149=\"contact due in 5 days\",AND(J149<>\"\",OR(J150=\"\",A149<>A150))),\"Show only most recent visit & ticklers\",\"\"))","v":""},{"$f":"IF(OR(C148=\"Active\",C148=\"Relapse Prevention\"),IF(J149=\"\",IF(I149<TODAY(), \"Past Due\",(IF(I149=TODAY(),\"Contact due today\",IF(I149=(TODAY()+1), \"Contact due in 1 day\",IF(I149=(TODAY()+2), \"Contact due in 2 days\",IF(I149=(TODAY()+3), \"Contact due in 3 days\",IF(I149=(TODAY()+4), \"Contact due in 4 days\",IF(I149=(TODAY()+5), \"Contact due in 5 days\",\" \")))))))),\" \"),\" \")","v":" "},null,{"$f":"IF(AND(F149=F148,F149<>\"\"),IFERROR(G148+1,1),IF(F149<>\"\",\"Initial Assessment\",\"\"))","v":""},{"$f":"IF(J149<>\"\",\"\",I149)","v":" "},{"$f":"IF(I148=\" \",\" \",(IF(H147=\"1-week follow-up schedule\",IF(J148=\"\",I148+7,IF(ISERROR(J148+7),I148+7,J148+7)),IF(H147=\"1-month follow-up schedule\",IF(J148=\"\",I148+30,IF(ISERROR(J148+30),I148+30,J148+30)),IF(J148=\"\",I148+14,IF(ISERROR(J148+14),I148+14,J148+14))))))","v":" "},null,null,".",{"$f":"IF(L149=\".\",\"\",IF(ISERROR((L149/L147)-1),\"\",((L149/L147)-1)))","v":""},".",{"$f":"IF(N149=\".\",\"\",IF(ISERROR((N149/N147)-1),\"\",((N149/N147)-1)))","v":""},null,null,null,null,{"$f":"F149","v":0},{"$f":"T149&\"pt\"&A149","v":"0pt"},{"$f":"IF(J149<>0,J149,9999999)","v":9999999}]
[{"$f":"IF(A149<>\"\",A149,\"\")","v":""},"","",{"$f":"IF(AND(E150=\" \",F147>F150), \"DESELECT to hide past tx episodes\",IF(OR(E150=\"Past due\",E150=\"contact due today\",E150=\"contact due in 1 day\",E150=\"contact due in 2 days\",E150=\"contact due in 3 days\",E150=\"contact due in 4 days\",E150=\"contact due in 5 days\",AND(J150<>\"\",OR(J151=\"\",A150<>A151))),\"Show only most recent visit & ticklers\",\"\"))","v":""},{"$f":"IF(OR(C149=\"Active\",C149=\"Relapse Prevention\"),IF(J150=\"\",IF(I150<TODAY(), \"Past Due\",(IF(I150=TODAY(),\"Contact due today\",IF(I150=(TODAY()+1), \"Contact due in 1 day\",IF(I150=(TODAY()+2), \"Contact due in 2 days\",IF(I150=(TODAY()+3), \"Contact due in 3 days\",IF(I150=(TODAY()+4), \"Contact due in 4 days\",IF(I150=(TODAY()+5), \"Contact due in 5 days\",\" \")))))))),\" \"),\" \")","v":" "},null,""," ",{"$f":"IF(I149=\" \",\" \",(IF(H147=\"1-week follow-up schedule\",IF(J149=\"\",I149+7,IF(ISERROR(J149+7),I149+7,J149+7)),IF(H147=\"1-month follow-up schedule\",IF(J149=\"\",I149+30,IF(ISERROR(J149+30),I149+30,J149+30)),IF(J149=\"\",I149+14,IF(ISERROR(J149+14),I149+14,J149+14))))))","v":" "},null,null,".",{"$f":"IF(L150=\".\",\"\",IF(ISERROR((L150/L147)-1),\"\",((L150/L147)-1)))","v":""},".",{"$f":"IF(N150=\".\",\"\",IF(ISERROR((N150/N147)-1),\"\",((N150/N147)-1)))","v":""},null,null,null,null,0,"0pt",9999999]
[{"$f":"IF(A150<>\"\",A150,\"\")","v":""},"","",{"$f":"IF(AND(E151=\" \",F147>F151), \"DESELECT to hide past tx episodes\",IF(OR(E151=\"Past due\",E151=\"contact due today\",E151=\"contact due in 1 day\",E151=\"contact due in 2 days\",E151=\"contact due in 3 days\",E151=\"contact due in 4 days\",E151=\"contact due in 5 days\",AND(J151<>\"\",OR(J152=\"\",A151<>A152))),\"Show only most recent visit & ticklers\",\"\"))","v":""}," ",null,""," ",{"$f":"IF(I150=\" \",\" \",(IF(H147=\"1-week follow-up schedule\",IF(J150=\"\",I150+7,IF(ISERROR(J150+7),I150+7,J150+7)),IF(H147=\"1-month follow-up schedule\",IF(J150=\"\",I150+30,IF(ISERROR(J150+30),I150+30,J150+30)),IF(J150=\"\",I150+14,IF(ISERROR(J150+14),I150+14,J150+14))))))","v":" "},null,null,".",{"$f":"IF(L151=\".\",\"\",IF(ISERROR((L151/L147)-1),\"\",((L151/L147)-1)))","v":""},".",{"$f":"IF(N151=\".\",\"\",IF(ISERROR((N151/N147)-1),\"\",((N151/N147)-1)))","v":""},null,null,null,null,0,"0pt",9999999]
[{"$f":"IF(A151<>\"\",A151,\"\")","v":""},"","",{"$f":"IF(AND(E152=\" \",F147>F152), \"DESELECT to hide past tx episodes\",IF(OR(E152=\"Past due\",E152=\"contact due today\",E152=\"contact due in 1 day\",E152=\"contact due in 2 days\",E152=\"contact due in 3 days\",E152=\"contact due in 4 days\",E152=\"contact due in 5 days\",AND(J152<>\"\",OR(J153=\"\",A152<>A153))),\"Show only most recent visit & ticklers\",\"\"))","v":""}," ",null,""," ",{"$f":"IF(I151=\" \",\" \",(IF(H147=\"1-week follow-up schedule\",IF(J151=\"\",I151+7,IF(ISERROR(J151+7),I151+7,J151+7)),IF(H147=\"1-month follow-up schedule\",IF(J151=\"\",I151+30,IF(ISERROR(J151+30),I151+30,J151+30)),IF(J151=\"\",I151+14,IF(ISERROR(J151+14),I151+14,J151+14))))))","v":" "},null,null,".",{"$f":"IF(L152=\".\",\"\",IF(ISERROR((L152/L147)-1),\"\",((L152/L147)-1)))","v":""},".",{"$f":"IF(N152=\".\",\"\",IF(ISERROR((N152/N147)-1),\"\",((N152/N147)-1)))","v":""},null,null,null,null,0,"0pt",9999999]
[{"$f":"IF(A152<>\"\",A152,\"\")","v":""},"","",{"$f":"IF(AND(E153=\" \",F147>F153), \"DESELECT to hide past tx episodes\",IF(OR(E153=\"Past due\",E153=\"contact due today\",E153=\"contact due in 1 day\",E153=\"contact due in 2 days\",E153=\"contact due in 3 days\",E153=\"contact due in 4 days\",E153=\"contact due in 5 days\",AND(J153<>\"\",OR(J154=\"\",A153<>A154))),\"Show only most recent visit & ticklers\",\"\"))","v":""}," ",null,""," ",{"$f":"IF(I152=\" \",\" \",(IF(H147=\"1-week follow-up schedule\",IF(J152=\"\",I152+7,IF(ISERROR(J152+7),I152+7,J152+7)),IF(H147=\"1-month follow-up schedule\",IF(J152=\"\",I152+30,IF(ISERROR(J152+30),I152+30,J152+30)),IF(J152=\"\",I152+14,IF(ISERROR(J152+14),I152+14,J152+14))))))","v":" "},null,null,".",{"$f":"IF(L153=\".\",\"\",IF(ISERROR((L153/L147)-1),\"\",((L153/L147)-1)))","v":""},".",{"$f":"IF(N153=\".\",\"\",IF(ISERROR((N153/N147)-1),\"\",((N153/N147)-1)))","v":""},null,null,null,null,0,"0pt",9999999]
[{"$f":"IF(A153<>\"\",A153,\"\")","v":""},"","",{"$f":"IF(AND(E154=\" \",F147>F154), \"DESELECT to hide past tx episodes\",IF(OR(E154=\"Past due\",E154=\"contact due today\",E154=\"contact due in 1 day\",E154=\"contact due in 2 days\",E154=\"contact due in 3 days\",E154=\"contact due in 4 days\",E154=\"contact due in 5 days\",AND(J154<>\"\",OR(J155=\"\",A154<>A155))),\"Show only most recent visit & ticklers\",\"\"))","v":""}," ",null,""," ",{"$f":"IF(I153=\" \",\" \",(IF(H147=\"1-week follow-up schedule\",IF(J153=\"\",I153+7,IF(ISERROR(J153+7),I153+7,J153+7)),IF(H147=\"1-month follow-up schedule\",IF(J153=\"\",I153+30,IF(ISERROR(J153+30),I153+30,J153+30)),IF(J153=\"\",I153+14,IF(ISERROR(J153+14),I153+14,J153+14))))))","v":" "},null,null,".",{"$f":"IF(L154=\".\",\"\",IF(ISERROR((L154/L147)-1),\"\",((L154/L147)-1)))","v":""},".",{"$f":"IF(N154=\".\",\"\",IF(ISERROR((N154/N147)-1),\"\",((N154/N147)-1)))","v":""},null,null,null,null,0,"0pt",9999999]
[{"$f":"IF(A154<>\"\",A154,\"\")","v":""},"","",{"$f":"IF(AND(E155=\" \",F147>F155), \"DESELECT to hide past tx episodes\",IF(OR(E155=\"Past due\",E155=\"contact due today\",E155=\"contact due in 1 day\",E155=\"contact due in 2 days\",E155=\"contact due in 3 days\",E155=\"contact due in 4 days\",E155=\"contact due in 5 days\",AND(J155<>\"\",OR(J156=\"\",A155<>A156))),\"Show only most recent visit & ticklers\",\"\"))","v":""}," ",null,""," ",{"$f":"IF(I154=\" \",\" \",(IF(H147=\"1-week follow-up schedule\",IF(J154=\"\",I154+7,IF(ISERROR(J154+7),I154+7,J154+7)),IF(H147=\"1-month follow-up schedule\",IF(J154=\"\",I154+30,IF(ISERROR(J154+30),I154+30,J154+30)),IF(J154=\"\",I154+14,IF(ISERROR(J154+14),I154+14,J154+14))))))","v":" "},null,null,".",{"$f":"IF(L155=\".\",\"\",IF(ISERROR((L155/L147)-1),\"\",((L155/L147)-1)))","v":""},".",{"$f":"IF(N155=\".\",\"\",IF(ISERROR((N155/N147)-1),\"\",((N155/N147)-1)))","v":""},null,null,null,null,0,"0pt",9999999]
[{"$f":"IF(A155<>\"\",A155,\"\")","v":""},"","",{"$f":"IF(AND(E156=\" \",F147>F156), \"DESELECT to hide past tx episodes\",IF(OR(E156=\"Past due\",E156=\"contact due today\",E156=\"contact due in 1 day\",E156=\"contact due in 2 days\",E156=\"contact due in 3 days\",E156=\"contact due in 4 days\",E156=\"contact due in 5 days\",AND(J156<>\"\",OR(J157=\"\",A156<>A157))),\"Show only most recent visit & ticklers\",\"\"))","v":""}," ",null,""," ",{"$f":"IF(I155=\" \",\" \",(IF(H147=\"1-week follow-up schedule\",IF(J155=\"\",I155+7,IF(ISERROR(J155+7),I155+7,J155+7)),IF(H147=\"1-month follow-up schedule\",IF(J155=\"\",I155+30,IF(ISERROR(J155+30),I155+30,J155+30)),IF(J155=\"\",I155+14,IF(ISERROR(J155+14),I155+14,J155+14))))))","v":" "},null,null,".",{"$f":"IF(L156=\".\",\"\",IF(ISERROR((L156/L147)-1),\"\",((L156/L147)-1)))","v":""},".",{"$f":"IF(N156=\".\",\"\",IF(ISERROR((N156/N147)-1),\"\",((N156/N147)-1)))","v":""},null,null,null,null,0,"0pt",9999999]
[{"$f":"IF(A156<>\"\",A156,\"\")","v":""},"","",{"$f":"IF(AND(E157=\" \",F147>F157), \"DESELECT to hide past tx episodes\",IF(OR(E157=\"Past due\",E157=\"contact due today\",E157=\"contact due in 1 day\",E157=\"contact due in 2 days\",E157=\"contact due in 3 days\",E157=\"contact due in 4 days\",E157=\"contact due in 5 days\",AND(J157<>\"\",OR(J158=\"\",A157<>A158))),\"Show only most recent visit & ticklers\",\"\"))","v":""}," ",null,""," ",{"$f":"IF(I156=\" \",\" \",(IF(H147=\"1-week follow-up schedule\",IF(J156=\"\",I156+7,IF(ISERROR(J156+7),I156+7,J156+7)),IF(H147=\"1-month follow-up schedule\",IF(J156=\"\",I156+30,IF(ISERROR(J156+30),I156+30,J156+30)),IF(J156=\"\",I156+14,IF(ISERROR(J156+14),I156+14,J156+14))))))","v":" "},null,null,".",{"$f":"IF(L157=\".\",\"\",IF(ISERROR((L157/L147)-1),\"\",((L157/L147)-1)))","v":""},".",{"$f":"IF(N157=\".\",\"\",IF(ISERROR((N157/N147)-1),\"\",((N157/N147)-1)))","v":""},null,null,null,null,0,"0pt",9999999]
[{"$f":"IF(A157<>\"\",A157,\"\")","v":""},"","",{"$f":"IF(AND(E158=\" \",F147>F158), \"DESELECT to hide past tx episodes\",IF(OR(E158=\"Past due\",E158=\"contact due today\",E158=\"contact due in 1 day\",E158=\"contact due in 2 days\",E158=\"contact due in 3 days\",E158=\"contact due in 4 days\",E158=\"contact due in 5 days\",AND(J158<>\"\",OR(J159=\"\",A158<>A159))),\"Show only most recent visit & ticklers\",\"\"))","v":""}," ",null,""," ",{"$f":"IF(I157=\" \",\" \",(IF(H147=\"1-week follow-up schedule\",IF(J157=\"\",I157+7,IF(ISERROR(J157+7),I157+7,J157+7)),IF(H147=\"1-month follow-up schedule\",IF(J157=\"\",I157+30,IF(ISERROR(J157+30),I157+30,J157+30)),IF(J157=\"\",I157+14,IF(ISERROR(J157+14),I157+14,J157+14))))))","v":" "},null,null,".",{"$f":"IF(L158=\".\",\"\",IF(ISERROR((L158/L147)-1),\"\",((L158/L147)-1)))","v":""},".",{"$f":"IF(N158=\".\",\"\",IF(ISERROR((N158/N147)-1),\"\",((N158/N147)-1)))","v":""},null,null,null,null,0,"0pt",9999999]
[{"$f":"IF(A158<>\"\",A158,\"\")","v":""},"","",{"$f":"IF(AND(E159=\" \",F147>F159), \"DESELECT to hide past tx episodes\",IF(OR(E159=\"Past due\",E159=\"contact due today\",E159=\"contact due in 1 day\",E159=\"contact due in 2 days\",E159=\"contact due in 3 days\",E159=\"contact due in 4 days\",E159=\"contact due in 5 days\",AND(J159<>\"\",OR(J160=\"\",A159<>A160))),\"Show only most recent visit & ticklers\",\"\"))","v":""}," ",null,""," ",{"$f":"IF(I158=\" \",\" \",(IF(H147=\"1-week follow-up schedule\",IF(J158=\"\",I158+7,IF(ISERROR(J158+7),I158+7,J158+7)),IF(H147=\"1-month follow-up schedule\",IF(J158=\"\",I158+30,IF(ISERROR(J158+30),I158+30,J158+30)),IF(J158=\"\",I158+14,IF(ISERROR(J158+14),I158+14,J158+14))))))","v":" "},null,null,".",{"$f":"IF(L159=\".\",\"\",IF(ISERROR((L159/L147)-1),\"\",((L159/L147)-1)))","v":""},".",{"$f":"IF(N159=\".\",\"\",IF(ISERROR((N159/N147)-1),\"\",((N159/N147)-1)))","v":""},null,null,null,null,0,"0pt",9999999]
[{"$f":"IF(A159<>\"\",A159,\"\")","v":""},"","",{"$f":"IF(AND(E160=\" \",F147>F160), \"DESELECT to hide past tx episodes\",IF(OR(E160=\"Past due\",E160=\"contact due today\",E160=\"contact due in 1 day\",E160=\"contact due in 2 days\",E160=\"contact due in 3 days\",E160=\"contact due in 4 days\",E160=\"contact due in 5 days\",AND(J160<>\"\",OR(J161=\"\",A160<>A161))),\"Show only most recent visit & ticklers\",\"\"))","v":""}," ",null,""," ",{"$f":"IF(I159=\" \",\" \",(IF(H147=\"1-week follow-up schedule\",IF(J159=\"\",I159+7,IF(ISERROR(J159+7),I159+7,J159+7)),IF(H147=\"1-month follow-up schedule\",IF(J159=\"\",I159+30,IF(ISERROR(J159+30),I159+30,J159+30)),IF(J159=\"\",I159+14,IF(ISERROR(J159+14),I159+14,J159+14))))))","v":" "},null,null,".",{"$f":"IF(L160=\".\",\"\",IF(ISERROR((L160/L147)-1),\"\",((L160/L147)-1)))","v":""},".",{"$f":"IF(N160=\".\",\"\",IF(ISERROR((N160/N147)-1),\"\",((N160/N147)-1)))","v":""},null,null,null,null,0,"0pt",9999999]
[{"$f":"IF(A160<>\"\",A160,\"\")","v":""},"","",{"$f":"IF(AND(E161=\" \",F147>F161), \"DESELECT to hide past tx episodes\",IF(OR(E161=\"Past due\",E161=\"contact due today\",E161=\"contact due in 1 day\",E161=\"contact due in 2 days\",E161=\"contact due in 3 days\",E161=\"contact due in 4 days\",E161=\"contact due in 5 days\",AND(J161<>\"\",OR(J162=\"\",A161<>A162))),\"Show only most recent visit & ticklers\",\"\"))","v":""}," ",null,""," ",{"$f":"IF(I160=\" \",\" \",(IF(H147=\"1-week follow-up schedule\",IF(J160=\"\",I160+7,IF(ISERROR(J160+7),I160+7,J160+7)),IF(H147=\"1-month follow-up schedule\",IF(J160=\"\",I160+30,IF(ISERROR(J160+30),I160+30,J160+30)),IF(J160=\"\",I160+14,IF(ISERROR(J160+14),I160+14,J160+14))))))","v":" "},null,null,".",{"$f":"IF(L161=\".\",\"\",IF(ISERROR((L161/L147)-1),\"\",((L161/L147)-1)))","v":""},".",{"$f":"IF(N161=\".\",\"\",IF(ISERROR((N161/N147)-1),\"\",((N161/N147)-1)))","v":""},null,null,null,null,0,"0pt",9999999]
[{"$f":"IF(A161<>\"\",A161,\"\")","v":""},"","",{"$f":"IF(AND(E162=\" \",F147>F162), \"DESELECT to hide past tx episodes\",IF(OR(E162=\"Past due\",E162=\"contact due today\",E162=\"contact due in 1 day\",E162=\"contact due in 2 days\",E162=\"contact due in 3 days\",E162=\"contact due in 4 days\",E162=\"contact due in 5 days\",AND(J162<>\"\",OR(#REF!=\"\",A162<>#REF!))),\"Show only most recent visit & ticklers\",\"\"))","v":{"$error":"#REF!"}}," ",null,""," ",{"$f":"IF(I161=\" \",\" \",(IF(H147=\"1-week follow-up schedule\",IF(J161=\"\",I161+7,IF(ISERROR(J161+7),I161+7,J161+7)),IF(H147=\"1-month follow-up schedule\",IF(J161=\"\",I161+30,IF(ISERROR(J161+30),I161+30,J161+30)),IF(J161=\"\",I161+14,IF(ISERROR(J161+14),I161+14,J161+14))))))","v":" "},null,null,".",{"$f":"IF(L162=\".\",\"\",IF(ISERROR((L162/L147)-1),\"\",((L162/L147)-1)))","v":""},".",{"$f":"IF(N162=\".\",\"\",IF(ISERROR((N162/N147)-1),\"\",((N162/N147)-1)))","v":""},null,null,null,null,0,"0pt",9999999]
[null,null,null,null,null,null,null,null,null,null,null,null,null,null,null,null,null,null,null,0,"0pt"]

{"sheet":"Caseload Overview - DO NOT EDIT","index":2,"n_rows":164,"n_cols":18,"rows_kept":164,"cut":false,"hidden":true,"merged":[[0,3,0,17],[1,3,1,7],[1,8,1,11],[1,12,1,15],[1,16,2,17],[2,3,2,7],[2,8,2,11],[2,12,2,15]]}
[null,null,null,"1) Press \"Ctrl+J\" to refresh the page EVERY time this worksheet is used\n2) Make sure all other versions/copies of the template are CLOSED before pressing \"Ctrl+J\"\n3) Do NOT use this worksheet if fewer than 2 ACTIVE patients are entered on the Patient Tracking worksheet\n4) Do NOT make changes to the text on this worksheet. Only use the sort/filter functions in Row 4. If a cell value is changed, press \"Ctrl+Z\" immediately to undo it."]
[null,null,null,"Treatment Status\nIndicates that the the most recent contact was over 2 months ago",null,null,null,null,"PHQ-9",null,null,null,"GAD-7\nA green check mark indicates that a patient's last available GAD-7 score was at target (<8 or 50% decrease from initial score)",null,null,null,"Psychiatric Consultation"]
[]
["Treatment Status","Name","MRN","Date of Initial Assessment","Date of Most Recent Contact","Date Next Follow-up Due","Number of Follow-up Contacts","Weeks in Treatment","Initial PHQ-9 Score","Last Available PHQ-9 Score","% Change in PHQ-9 Score","Date of Last PHQ-9 Score","Initial GAD-7 Score","Last Available GAD-7 Score","% Change in GAD-7 Score","Date of Last GAD-7 Score","Flag","Most Recent Psychiatric Consultant Note"]
[{"$f":"'Data Prep'!B2","v":"Active"},{"$f":"'Data Prep'!D2","v":"Joe Smith"},{"$f":"'Data Prep'!C2","v":1234},{"$f":"'Data Prep'!K2","v":"2017-04-01"},{"$f":"'Data Prep'!M2","v":"2017-04-01"},{"$f":"'Data Prep'!P2","v":"2017-07-25"},{"$f":"'Data Prep'!J2","v":6},{"$f":"'Data Prep'!W2","v":14.428571428571429},{"$f":"'Data Prep'!Z2","v":"No Score"},{"$f":"'Data Prep'!AA2","v":""},{"$f":"'Data Prep'!AB2","v":""},{"$f":"'Data Prep'!AC2","v":""},{"$f":"'Data Prep'!AD2","v":"No Score"},{"$f":"'Data Prep'!AG2","v":"No Score"},{"$f":"'Data Prep'!AH2","v":""},{"$f":"'Data Prep'!AJ2","v":"2017-07-11"},{"$f":"'Data Prep'!AO2","v":""},{"$f":"'Data Prep'!AM2","v":"2016-10-24"}]
[{"$f":"'Data Prep'!B3","v":"Active"},{"$f":"'Data Prep'!D3","v":"Joe Smith"},{"$f":"'Data Prep'!C3","v":1234},{"$f":"'Data Prep'!K3","v":"2017-04-01"},{"$f":"'Data Prep'!M3","v":"2017-07-11"},{"$f":"'Data Prep'!P3","v":"2017-07-25"},{"$f":"'Data Prep'!J3","v":6},{"$f":"'Data Prep'!W3","v":14.428571428571429},{"$f":"'Data Prep'!Z3","v":15},{"$f":"'Data Prep'!AA3","v":""},{"$f":"'Data Prep'!AB3","v":""},{"$f":"'Data Prep'!AC3","v":""},{"$f":"'Data Prep'!AD3","v":11},{"$f":"'Data Prep'!AG3","v":4},{"$f":"'Data Prep'!AH3","v":-0.63636363636363635},{"$f":"'Data Prep'!AJ3","v":"2017-07-11"},{"$f":"'Data Prep'!AO3","v":""},{"$f":"'Data Prep'!AM3","v":"2016-10-24"}]
[{"$f":"'Data Prep'!B4","v":"Active"},{"$f":"'Data Prep'!D4","v":"Joe Smith"},{"$f":"'Data Prep'!C4","v":1234},{"$f":"'Data Prep'!K4","v":"2017-04-01"},{"$f":"'Data Prep'!M4","v":"2017-07-11"},{"$f":"'Data Prep'!P4","v":"2017-07-25"},{"$f":"'Data Prep'!J4","v":6},{"$f":"'Data Prep'!W4","v":14.428571428571429},{"$f":"'Data Prep'!Z4","v":15},{"$f":"'Data Prep'!AA4","v":""},{"$f":"'Data Prep'!AB4","v":""},{"$f":"'Data Prep'!AC4","v":""},{"$f":"'Data Prep'!AD4","v":11},{"$f":"'Data Prep'!AG4","v":4},{"$f":"'Data Prep'!AH4","v":-0.63636363636363635},{"$f":"'Data Prep'!AJ4","v":"2017-07-11"},{"$f":"'Data Prep'!AO4","v":""},{"$f":"'Data Prep'!AM4","v":"2016-10-24"}]
[{"$f":"'Data Prep'!B5","v":"Active"},{"$f":"'Data Prep'!D5","v":"Joe Smith"},{"$f":"'Data Prep'!C5","v":1234},{"$f":"'Data Prep'!K5","v":"2017-04-01"},{"$f":"'Data Prep'!M5","v":"2017-07-11"},{"$f":"'Data Prep'!P5","v":"2017-07-25"},{"$f":"'Data Prep'!J5","v":6},{"$f":"'Data Prep'!W5","v":14.428571428571429},{"$f":"'Data Prep'!Z5","v":15},{"$f":"'Data Prep'!AA5","v":""},{"$f":"'Data Prep'!AB5","v":""},{"$f":"'Data Prep'!AC5","v":""},{"$f":"'Data Prep'!AD5","v":11},{"$f":"'Data Prep'!AG5","v":4},{"$f":"'Data Prep'!AH5","v":-0.63636363636363635},{"$f":"'Data Prep'!AJ5","v":"2017-07-11"},{"$f":"'Data Prep'!AO5","v":""},{"$f":"'Data Prep'!AM5","v":"2016-10-24"}]
[{"$f":"'Data Prep'!B6","v":"Active"},{"$f":"'Data Prep'!D6","v":"Joe Smith"},{"$f":"'Data Prep'!C6","v":1234},{"$f":"'Data Prep'!K6","v":"2017-04-01"},{"$f":"'Data Prep'!M6","v":"2017-07-11"},{"$f":"'Data Prep'!P6","v":"2017-07-25"},{"$f":"'Data Prep'!J6","v":6},{"$f":"'Data Prep'!W6","v":14.428571428571429},{"$f":"'Data Prep'!Z6","v":15},{"$f":"'Data Prep'!AA6","v":""},{"$f":"'Data Prep'!AB6","v":""},{"$f":"'Data Prep'!AC6","v":""},{"$f":"'Data Prep'!AD6","v":11},{"$f":"'Data Prep'!AG6","v":4},{"$f":"'Data Prep'!AH6","v":-0.63636363636363635},{"$f":"'Data Prep'!AJ6","v":"2017-07-11"},{"$f":"'Data Prep'!AO6","v":""},{"$f":"'Data Prep'!AM6","v":"2016-10-24"}]
[{"$f":"'Data Prep'!B7","v":"Active"},{"$f":"'Data Prep'!D7","v":"Joe Smith"},{"$f":"'Data Prep'!C7","v":1234},{"$f":"'Data Prep'!K7","v":"2017-04-01"},{"$f":"'Data Prep'!M7","v":"2017-07-11"},{"$f":"'Data Prep'!P7","v":"2017-07-25"},{"$f":"'Data Prep'!J7","v":6},{"$f":"'Data Prep'!W7","v":14.428571428571429},{"$f":"'Data Prep'!Z7","v":15},{"$f":"'Data Prep'!AA7","v":""},{"$f":"'Data Prep'!AB7","v":""},{"$f":"'Data Prep'!AC7","v":""},{"$f":"'Data Prep'!AD7","v":11},{"$f":"'Data Prep'!AG7","v":4},{"$f":"'Data Prep'!AH7","v":-0.63636363636363635},{"$f":"'Data Prep'!AJ7","v":"2017-07-11"},{"$f":"'Data Prep'!AO7","v":""},{"$f":"'Data Prep'!AM7","v":"2016-10-24"}]
[{"$f":"'Data Prep'!B8","v":"Active"},{"$f":"'Data Prep'!D8","v":"Joe Smith"},{"$f":"'Data Prep'!C8","v":1234},{"$f":"'Data Prep'!K8","v":"2017-04-01"},{"$f":"'Data Prep'!M8","v":"2017-07-11"},{"$f":"'Data Prep'!P8","v":"2017-07-25"},{"$f":"'Data Prep'!J8","v":6},{"$f":"'Data Prep'!W8","v":14.428571428571429},{"$f":"'Data Prep'!Z8","v":15},{"$f":"'Data Prep'!AA8","v":""},{"$f":"'Data Prep'!AB8","v":""},{"$f":"'Data Prep'!AC8","v":""},{"$f":"'Data Prep'!AD8","v":11},{"$f":"'Data Prep'!AG8","v":4},{"$f":"'Data Prep'!AH8","v":-0.63636363636363635},{"$f":"'Data Prep'!AJ8","v":"2017-07-11"},{"$f":"'Data Prep'!AO8","v":""},{"$f":"'Data Prep'!AM8","v":"2016-10-24"}]
[{"$f":"'Data Prep'!B9","v":"Active"},{"$f":"'Data Prep'!D9","v":"Joe Smith"},{"$f":"'Data Prep'!C9","v":1234},{"$f":"'Data Prep'!K9","v":"2017-04-01"},{"$f":"'Data Prep'!M9","v":"2017-07-11"},{"$f":"'Data Prep'!P9","v":"2017-07-25"},{"$f":"'Data Prep'!J9","v":6},{"$f":"'Data Prep'!W9","v":14.428571428571429},{"$f":"'Data Prep'!Z9","v":15},{"$f":"'Data Prep'!AA9","v":8},{"$f":"'Data Prep'!AB9","v":-0.46666666666666667},{"$f":"'Data Prep'!AC9","v":"2017-07-11"},{"$f":"'Data Prep'!AD9","v":11},{"$f":"'Data Prep'!AG9","v":4},{"$f":"'Data Prep'!AH9","v":-0.63636363636363635},{"$f":"'Data Prep'!AJ9","v":"2017-07-11"},{"$f":"'Data Prep'!AO9","v":""},{"$f":"'Data Prep'!AM9","v":"2016-10-24"}]
[{"$f":"'Data Prep'!B10","v":"Active"},{"$f":"'Data Prep'!D10","v":"Joe Smith"},{"$f":"'Data Prep'!C10","v":1234},{"$f":"'Data Prep'!K10","v":"2017-04-01"},{"$f":"'Data Prep'!M10","v":"2017-05-29"},{"$f":"'Data Prep'!P10","v":"2017-07-25"},{"$f":"'Data Prep'!J10","v":0},{"$f":"'Data Prep'!W10","v":14.428571428571429},{"$f":"'Data Prep'!Z10","v":15},{"$f":"'Data Prep'!AA10","v":""},{"$f":"'Data Prep'!AB10","v":""},{"$f":"'Data Prep'!AC10","v":""},{"$f":"'Data Prep'!AD10","v":11},{"$f":"'Data Prep'!AG10","v":4},{"$f":"'Data Prep'!AH10","v":-0.63636363636363635},{"$f":"'Data Prep'!AJ10","v":"2017-07-11"},{"$f":"'Data Prep'!AO10","v":""},{"$f":"'Data Prep'!AM10","v":"2016-10-24"}]
[{"$f":"'Data Prep'!B11","v":"Active"},{"$f":"'Data Prep'!D11","v":"Joe Smith"},{"$f":"'Data Prep'!C11","v":1234},{"$f":"'Data Prep'!K11","v":"2017-04-01"},{"$f":"'Data Prep'!M11","v":"2017-05-29"},{"$f":"'Data Prep'!P11","v":"2017-08-08"},{"$f":"'Data Prep'!J11","v":0},{"$f":"'Data Prep'!W11","v":14.428571428571429},{"$f":"'Data Prep'!Z11","v":15},{"$f":"'Data Prep'!AA11","v":""},{"$f":"'Data Prep'!AB11","v":""},{"$f":"'Data Prep'!AC11","v":""},{"$f":"'Data Prep'!AD11","v":11},{"$f":"'Data Prep'!AG11","v":4},{"$f":"'Data Prep'!AH11","v":-0.63636363636363635},{"$f":"'Data Prep'!AJ11","v":"2017-07-11"},{"$f":"'Data Prep'!AO11","v":""},{"$f":"'Data Prep'!AM11","v":"2016-10-24"}]
[{"$f":"'Data Prep'!B12","v":"Active"},{"$f":"'Data Prep'!D12","v":"Joe Smith"},{"$f":"'Data Prep'!C12","v":1234},{"$f":"'Data Prep'!K12","v":"2017-04-01"},{"$f":"'Data Prep'!M12","v":"2017-05-29"},{"$f":"'Data Prep'!P12","v":"2017-08-22"},{"$f":"'Data Prep'!J12","v":0},{"$f":"'Data Prep'!W12","v":14.428571428571429},{"$f":"'Data Prep'!Z12","v":15},{"$f":"'Data Prep'!AA12","v":""},{"$f":"'Data Prep'!AB12","v":""},{"$f":"'Data Prep'!AC12","v":""},{"$f":"'Data Prep'!AD12","v":11},{"$f":"'Data Prep'!AG12","v":4},{"$f":"'Data Prep'!AH12","v":-0.63636363636363635},{"$f":"'Data Prep'!AJ12","v":"2017-07-11"},{"$f":"'Data Prep'!AO12","v":""},{"$f":"'Data Prep'!AM12","v":"2016-10-24"}]
[{"$f":"'Data Prep'!B13","v":"Active"},{"$f":"'Data Prep'!D13","v":"Joe Smith"},{"$f":"'Data Prep'!C13","v":1234},{"$f":"'Data Prep'!K13","v":"2017-04-01"},{"$f":"'Data Prep'!M13","v":"2017-05-29"},{"$f":"'Data Prep'!P13","v":"2017-09-05"},{"$f":"'Data Prep'!J13","v":0},{"$f":"'Data Prep'!W13","v":14.428571428571429},{"$f":"'Data Prep'!Z13","v":15},{"$f":"'Data Prep'!AA13","v":""},{"$f":"'Data Prep'!AB13","v":""},{"$f":"'Data Prep'!AC13","v":""},{"$f":"'Data Prep'!AD13","v":11},{"$f":"'Data Prep'!AG13","v":4},{"$f":"'Data Prep'!AH13","v":-0.63636363636363635},{"$f":"'Data Prep'!AJ13","v":"2017-07-11"},{"$f":"'Data Prep'!AO13","v":""},{"$f":"'Data Prep'!AM13","v":"2016-10-24"}]
[{"$f":"'Data Prep'!B14","v":"Active"},{"$f":"'Data Prep'!D14","v":"Joe Smith"},{"$f":"'Data Prep'!C14","v":1234},{"$f":"'Data Prep'!K14","v":"2017-04-01"},{"$f":"'Data Prep'!M14","v":"2017-05-29"},{"$f":"'Data Prep'!P14","v":"2017-09-19"},{"$f":"'Data Prep'!J14","v":0},{"$f":"'Data Prep'!W14","v":14.428571428571429},{"$f":"'Data Prep'!Z14","v":15},{"$f":"'Data Prep'!AA14","v":""},{"$f":"'Data Prep'!AB14","v":""},{"$f":"'Data Prep'!AC14","v":""},{"$f":"'Data Prep'!AD14","v":11},{"$f":"'Data Prep'!AG14","v":4},{"$f":"'Data Prep'!AH14","v":-0.63636363636363635},{"$f":"'Data Prep'!AJ14","v":"2017-07-11"},{"$f":"'Data Prep'!AO14","v":""},{"$f":"'Data Prep'!AM14","v":"2016-10-24"}]
[{"$f":"'Data Prep'!B15","v":"Active"},{"$f":"'Data Prep'!D15","v":"Joe Smith"},{"$f":"'Data Prep'!C15","v":1234},{"$f":"'Data Prep'!K15","v":"2017-04-01"},{"$f":"'Data Prep'!M15","v":"2017-05-29"},{"$f":"'Data Prep'!P15","v":"2017-10-03"},{"$f":"'Data Prep'!J15","v":0},{"$f":"'Data Prep'!W15","v":14.428571428571429},{"$f":"'Data Prep'!Z15","v":15},{"$f":"'Data Prep'!AA15","v":""},{"$f":"'Data Prep'!AB15","v":""},{"$f":"'Data Prep'!AC15","v":""},{"$f":"'Data Prep'!AD15","v":11},{"$f":"'Data Prep'!AG15","v":4},{"$f":"'Data Prep'!AH15","v":-0.63636363636363635},{"$f":"'Data Prep'!AJ15","v":"2017-07-11"},{"$f":"'Data Prep'!AO15","v":""},{"$f":"'Data Prep'!AM15","v":"2016-10-24"}]
[{"$f":"'Data Prep'!B16","v":"Active"},{"$f":"'Data Prep'!D16","v":"Joe Smith"},{"$f":"'Data Prep'!C16","v":1234},{"$f":"'Data Prep'!K16","v":"2017-04-01"},{"$f":"'Data Prep'!M16","v":"2017-05-29"},{"$f":"'Data Prep'!P16","v":"2017-10-17"},{"$f":"'Data Prep'!J16","v":0},{"$f":"'Data Prep'!W16","v":14.428571428571429},{"$f":"'Data Prep'!Z16","v":15},{"$f":"'Data Prep'!AA16","v":""},{"$f":"'Data Prep'!AB16","v":""},{"$f":"'Data Prep'!AC16","v":""},{"$f":"'Data Prep'!AD16","v":11},{"$f":"'Data Prep'!AG16","v":4},{"$f":"'Data Prep'!AH16","v":-0.63636363636363635},{"$f":"'Data Prep'!AJ16","v":"2017-07-11"},{"$f":"'Data Prep'!AO16","v":""},{"$f":"'Data Prep'!AM16","v":"2016-10-24"}]
[{"$f":"'Data Prep'!B17","v":"Active"},{"$f":"'Data Prep'!D17","v":"Joe Smith"},{"$f":"'Data Prep'!C17","v":1234},{"$f":"'Data Prep'!K17","v":"2017-04-01"},{"$f":"'Data Prep'!M17","v":"2017-05-29"},{"$f":"'Data Prep'!P17","v":"2017-10-31"},{"$f":"'Data Prep'!J17","v":0},{"$f":"'Data Prep'!W17","v":14.428571428571429},{"$f":"'Data Prep'!Z17","v":15},{"$f":"'Data Prep'!AA17","v":""},{"$f":"'Data Prep'!AB17","v":""},{"$f":"'Data Prep'!AC17","v":""},{"$f":"'Data Prep'!AD17","v":11},{"$f":"'Data Prep'!AG17","v":4},{"$f":"'Data Prep'!AH17","v":-0.63636363636363635},{"$f":"'Data Prep'!AJ17","v":"2017-07-11"},{"$f":"'Data Prep'!AO17","v":""},{"$f":"'Data Prep'!AM17","v":"2016-10-24"}]
[{"$f":"'Data Prep'!B18","v":"Active"},{"$f":"'Data Prep'!D18","v":"Bob Dolittle"},{"$f":"'Data Prep'!C18","v":1222},{"$f":"'Data Prep'!K18","v":"2017-03-02"},{"$f":"'Data Prep'!M18","v":"2017-05-29"},{"$f":"'Data Prep'!P18","v":"2017-07-15"},{"$f":"'Data Prep'!J18","v":3},{"$f":"'Data Prep'!W18","v":18.714285714285715},{"$f":"'Data Prep'!Z18","v":"No Score"},{"$f":"'Data Prep'!AA18","v":""},{"$f":"'Data Prep'!AB18","v":""},{"$f":"'Data Prep'!AC18","v":""},{"$f":"'Data Prep'!AD18","v":"No Score"},{"$f":"'Data Prep'!AG18","v":"No Score"},{"$f":"'Data Prep'!AH18","v":""},{"$f":"'Data Prep'!AJ18","v":"2017-07-01"},{"$f":"'Data Prep'!AO18","v":"Flag as safety risk"},{"$f":"'Data Prep'!AM18","v":"2016-09-17"}]
[{"$f":"'Data Prep'!B19","v":"Active"},{"$f":"'Data Prep'!D19","v":"Bob Dolittle"},{"$f":"'Data Prep'!C19","v":1222},{"$f":"'Data Prep'!K19","v":"2017-03-02"},{"$f":"'Data Prep'!M19","v":"2017-07-01"},{"$f":"'Data Prep'!P19","v":"2017-07-15"},{"$f":"'Data Prep'!J19","v":3},{"$f":"'Data Prep'!W19","v":18.714285714285715},{"$f":"'Data Prep'!Z19","v":""},{"$f":"'Data Prep'!AA19","v":""},{"$f":"'Data Prep'!AB19","v":""},{"$f":"'Data Prep'!AC19","v":""},{"$f":"'Data Prep'!AD19","v":""},{"$f":"'Data Prep'!AG19","v":"No Score"},{"$f":"'Data Prep'!AH19","v":""},{"$f":"'Data Prep'!AJ19","v":"2017-07-01"},{"$f":"'Data Prep'!AO19","v":"Flag as safety risk"},{"$f":"'Data Prep'!AM19","v":"2016-09-17"}]
[{"$f":"'Data Prep'!B20","v":"Active"},{"$f":"'Data Prep'!D20","v":"Bob Dolittle"},{"$f":"'Data Prep'!C20","v":1222},{"$f":"'Data Prep'!K20","v":"2017-03-02"},{"$f":"'Data Prep'!M20","v":"2017-07-01"},{"$f":"'Data Prep'!P20","v":"2017-07-15"},{"$f":"'Data Prep'!J20","v":3},{"$f":"'Data Prep'!W20","v":18.714285714285715},{"$f":"'Data Prep'!Z20","v":""},{"$f":"'Data Prep'!AA20","v":""},{"$f":"'Data Prep'!AB20","v":""},{"$f":"'Data Prep'!AC20","v":""},{"$f":"'Data Prep'!AD20","v":""},{"$f":"'Data Prep'!AG20","v":"No Score"},{"$f":"'Data Prep'!AH20","v":""},{"$f":"'Data Prep'!AJ20","v":"2017-07-01"},{"$f":"'Data Prep'!AO20","v":"Flag as safety risk"},{"$f":"'Data Prep'!AM20","v":"2016-09-17"}]
[{"$f":"'Data Prep'!B21","v":"Active"},{"$f":"'Data Prep'!D21","v":"Bob Dolittle"},{"$f":"'Data Prep'!C21","v":1222},{"$f":"'Data Prep'!K21","v":"2017-03-02"},{"$f":"'Data Prep'!M21","v":"2017-07-01"},{"$f":"'Data Prep'!P21","v":"2017-07-15"},{"$f":"'Data Prep'!J21","v":3},{"$f":"'Data Prep'!W21","v":18.714285714285715},{"$f":"'Data Prep'!Z21","v":""},{"$f":"'Data Prep'!AA21","v":""},{"$f":"'Data Prep'!AB21","v":""},{"$f":"'Data Prep'!AC21","v":""},{"$f":"'Data Prep'!AD21","v":""},{"$f":"'Data Prep'!AG21","v":"No Score"},{"$f":"'Data Prep'!AH21","v":""},{"$f":"'Data Prep'!AJ21","v":"2017-07-01"},{"$f":"'Data Prep'!AO21","v":"Flag as safety risk"},{"$f":"'Data Prep'!AM21","v":"2016-09-17"}]
[{"$f":"'Data Prep'!B22","v":"Active"},{"$f":"'Data Prep'!D22","v":"Bob Dolittle"},{"$f":"'Data Prep'!C22","v":1222},{"$f":"'Data Prep'!K22","v":"2017-03-02"},{"$f":"'Data Prep'!M22","v":"2017-07-01"},{"$f":"'Data Prep'!P22","v":"2017-07-15"},{"$f":"'Data Prep'!J22","v":3},{"$f":"'Data Prep'!W22","v":18.714285714285715},{"$f":"'Data Prep'!Z22","v":""},{"$f":"'Data Prep'!AA22","v":""},{"$f":"'Data Prep'!AB22","v":""},{"$f":"'Data Prep'!AC22","v":""},{"$f":"'Data Prep'!AD22","v":""},{"$f":"'Data Prep'!AG22","v":"No Score"},{"$f":"'Data Prep'!AH22","v":""},{"$f":"'Data Prep'!AJ22","v":"2017-07-01"},{"$f":"'Data Prep'!AO22","v":"Flag as safety risk"},{"$f":"'Data Prep'!AM22","v":"2016-09-17"}]
[{"$f":"'Data Prep'!B23","v":"Active"},{"$f":"'Data Prep'!D23","v":"Bob Dolittle"},{"$f":"'Data Prep'!C23","v":1222},{"$f":"'Data Prep'!K23","v":"2017-03-02"},{"$f":"'Data Prep'!M23","v":"2017-07-01"},{"$f":"'Data Prep'!P23","v":"2017-07-15"},{"$f":"'Data Prep'!J23","v":3},{"$f":"'Data Prep'!W23","v":18.714285714285715},{"$f":"'Data Prep'!Z23","v":""},{"$f":"'Data Prep'!AA23","v":""},{"$f":"'Data Prep'!AB23","v":""},{"$f":"'Data Prep'!AC23","v":""},{"$f":"'Data Prep'!AD23","v":""},{"$f":"'Data Prep'!AG23","v":"No Score"},{"$f":"'Data Prep'!AH23","v":""},{"$f":"'Data Prep'!AJ23","v":"2017-07-01"},{"$f":"'Data Prep'!AO23","v":"Flag as safety risk"},{"$f":"'Data Prep'!AM23","v":"2016-09-17"}]
[{"$f":"'Data Prep'!B24","v":"Active"},{"$f":"'Data Prep'!D24","v":"Bob Dolittle"},{"$f":"'Data Prep'!C24","v":1222},{"$f":"'Data Prep'!K24","v":"2017-03-02"},{"$f":"'Data Prep'!M24","v":"2017-05-29"},{"$f":"'Data Prep'!P24","v":"2017-07-15"},{"$f":"'Data Prep'!J24","v":3},{"$f":"'Data Prep'!W24","v":18.714285714285715},{"$f":"'Data Prep'!Z24","v":"No Score"},{"$f":"'Data Prep'!AA24","v":""},{"$f":"'Data Prep'!AB24","v":""},{"$f":"'Data Prep'!AC24","v":""},{"$f":"'Data Prep'!AD24","v":"No Score"},{"$f":"'Data Prep'!AG24","v":"No Score"},{"$f":"'Data Prep'!AH24","v":""},{"$f":"'Data Prep'!AJ24","v":"2017-07-01"},{"$f":"'Data Prep'!AO24","v":"Flag as safety risk"},{"$f":"'Data Prep'!AM24","v":"2016-09-17"}]
[{"$f":"'Data Prep'!B25","v":"Active"},{"$f":"'Data Prep'!D25","v":"Bob Dolittle"},{"$f":"'Data Prep'!C25","v":1222},{"$f":"'Data Prep'!K25","v":"2017-03-02"},{"$f":"'Data Prep'!M25","v":"2017-05-29"},{"$f":"'Data Prep'!P25","v":"2017-07-15"},{"$f":"'Data Prep'!J25","v":3},{"$f":"'Data Prep'!W25","v":18.714285714285715},{"$f":"'Data Prep'!Z25","v":"No Score"},{"$f":"'Data Prep'!AA25","v":""},{"$f":"'Data Prep'!AB25","v":""},{"$f":"'Data Prep'!AC25","v":""},{"$f":"'Data Prep'!AD25","v":"No Score"},{"$f":"'Data Prep'!AG25","v":"No Score"},{"$f":"'Data Prep'!AH25","v":""},{"$f":"'Data Prep'!AJ25","v":"2017-07-01"},{"$f":"'Data Prep'!AO25","v":"Flag as safety risk"},{"$f":"'Data Prep'!AM25","v":"2016-09-17"}]
[{"$f":"'Data Prep'!B26","v":"Active"},{"$f":"'Data Prep'!D26","v":"Bob Dolittle"},{"$f":"'Data Prep'!C26","v":1222},{"$f":"'Data Prep'!K26","v":"2017-03-02"},{"$f":"'Data Prep'!M26","v":"2017-07-01"},{"$f":"'Data Prep'!P26","v":"2017-07-15"},{"$f":"'Data Prep'!J26","v":3},{"$f":"'Data Prep'!W26","v":18.714285714285715},{"$f":"'Data Prep'!Z26","v":"No Score"},{"$f":"'Data Prep'!AA26","v":""},{"$f":"'Data Prep'!AB26","v":""},{"$f":"'Data Prep'!AC26","v":""},{"$f":"'Data Prep'!AD26","v":"No Score"},{"$f":"'Data Prep'!AG26","v":"No Score"},{"$f":"'Data Prep'!AH26","v":""},{"$f":"'Data Prep'!AJ26","v":"2017-07-01"},{"$f":"'Data Prep'!AO26","v":"Flag as safety risk"},{"$f":"'Data Prep'!AM26","v":"2016-09-17"}]
[{"$f":"'Data Prep'!B27","v":"Active"},{"$f":"'Data Prep'!D27","v":"Bob Dolittle"},{"$f":"'Data Prep'!C27","v":1222},{"$f":"'Data Prep'!K27","v":"2017-03-02"},{"$f":"'Data Prep'!M27","v":"2017-07-01"},{"$f":"'Data Prep'!P27","v":"2017-07-15"},{"$f":"'Data Prep'!J27","v":3},{"$f":"'Data Prep'!W27","v":18.714285714285715},{"$f":"'Data Prep'!Z27","v":22},{"$f":"'Data Prep'!AA27","v":""},{"$f":"'Data Prep'!AB27","v":""},{"$f":"'Data Prep'!AC27","v":""},{"$f":"'Data Prep'!AD27","v":12},{"$f":"'Data Prep'!AG27","v":10},{"$f":"'Data Prep'!AH27","v":-0.16666666666666663},{"$f":"'Data Prep'!AJ27","v":"2017-07-01"},{"$f":"'Data Prep'!AO27","v":"Flag as safety risk"},{"$f":"'Data Prep'!AM27","v":"2016-09-17"}]
[{"$f":"'Data Prep'!B28","v":"Active"},{"$f":"'Data Prep'!D28","v":"Bob Dolittle"},{"$f":"'Data Prep'!C28","v":1222},{"$f":"'Data Prep'!K28","v":"2017-03-02"},{"$f":"'Data Prep'!M28","v":"2017-07-01"},{"$f":"'Data Prep'!P28","v":"2017-07-15"},{"$f":"'Data Prep'!J28","v":3},{"$f":"'Data Prep'!W28","v":18.714285714285715},{"$f":"'Data Prep'!Z28","v":22},{"$f":"'Data Prep'!AA28","v":""},{"$f":"'Data Prep'!AB28","v":""},{"$f":"'Data Prep'!AC28","v":""},{"$f":"'Data Prep'!AD28","v":12},{"$f":"'Data Prep'!AG28","v":10},{"$f":"'Data Prep'!AH28","v":-0.16666666666666663},{"$f":"'Data Prep'!AJ28","v":"2017-07-01"},{"$f":"'Data Prep'!AO28","v":"Flag as safety risk"},{"$f":"'Data Prep'!AM28","v":"2016-09-17"}]
[{"$f":"'Data Prep'!B29","v":"Active"},{"$f":"'Data Prep'!D29","v":"Bob Dolittle"},{"$f":"'Data Prep'!C29","v":1222},{"$f":"'Data Prep'!K29","v":"2017-03-02"},{"$f":"'Data Prep'!M29","v":"2017-07-01"},{"$f":"'Data Prep'!P29","v":"2017-07-15"},{"$f":"'Data Prep'!J29","v":3},{"$f":"'Data Prep'!W29","v":18.714285714285715},{"$f":"'Data Prep'!Z29","v":22},{"$f":"'Data Prep'!AA29","v":""},{"$f":"'Data Prep'!AB29","v":""},{"$f":"'Data Prep'!AC29","v":""},{"$f":"'Data Prep'!AD29","v":12},{"$f":"'Data Prep'!AG29","v":10},{"$f":"'Data Prep'!AH29","v":-0.16666666666666663},{"$f":"'Data Prep'!AJ29","v":"2017-07-01"},{"$f":"'Data Prep'!AO29","v":"Flag as safety risk"},{"$f":"'Data Prep'!AM29","v":"2016-09-17"}]
[{"$f":"'Data Prep'!B30","v":"Active"},{"$f":"'Data Prep'!D30","v":"Bob Dolittle"},{"$f":"'Data Prep'!C30","v":1222},{"$f":"'Data Prep'!K30","v":"2017-03-02"},{"$f":"'Data Prep'!M30","v":"2017-05-29"},{"$f":"'Data Prep'!P30","v":"2017-07-15"},{"$f":"'Data Prep'!J30","v":3},{"$f":"'Data Prep'!W30","v":18.714285714285715},{"$f":"'Data Prep'!Z30","v":22},{"$f":"'Data Prep'!AA30","v":""},{"$f":"'Data Prep'!AB30","v":""},{"$f":"'Data Prep'!AC30","v":""},{"$f":"'Data Prep'!AD30","v":12},{"$f":"'Data Prep'!AG30","v":10},{"$f":"'Data Prep'!AH30","v":-0.16666666666666663},{"$f":"'Data Prep'!AJ30","v":"2017-07-01"},{"$f":"'Data Prep'!AO30","v":"Flag as safety risk"},{"$f":"'Data Prep'!AM30","v":"2016-09-17"}]
[{"$f":"'Data Prep'!B31","v":"Active"},{"$f":"'Data Prep'!D31","v":"Bob Dolittle"},{"$f":"'Data Prep'!C31","v":1222},{"$f":"'Data Prep'!K31","v":"2017-03-02"},{"$f":"'Data Prep'!M31","v":"2017-07-01"},{"$f":"'Data Prep'!P31","v":"2017-07-15"},{"$f":"'Data Prep'!J31","v":3},{"$f":"'Data Prep'!W31","v":18.714285714285715},{"$f":"'Data Prep'!Z31","v":22},{"$f":"'Data Prep'!AA31","v":19},{"$f":"'Data Prep'!AB31","v":-0.13636363636363635},{"$f":"'Data Prep'!AC31","v":"2017-07-01"},{"$f":"'Data Prep'!AD31","v":12},{"$f":"'Data Prep'!AG31","v":10},{"$f":"'Data Prep'!AH31","v":-0.16666666666666663},{"$f":"'Data Prep'!AJ31","v":"2017-07-01"},{"$f":"'Data Prep'!AO31","v":"Flag as safety risk"},{"$f":"'Data Prep'!AM31","v":"2016-09-17"}]
[{"$f":"'Data Prep'!B32","v":"Active"},{"$f":"'Data Prep'!D32","v":"Bob Dolittle"},{"$f":"'Data Prep'!C32","v":1222},{"$f":"'Data Prep'!K32","v":"2017-03-02"},{"$f":"'Data Prep'!M32","v":"2017-05-29"},{"$f":"'Data Prep'!P32","v":"2017-07-15"},{"$f":"'Data Prep'!J32","v":0},{"$f":"'Data Prep'!W32","v":18.714285714285715},{"$f":"'Data Prep'!Z32","v":22},{"$f":"'Data Prep'!AA32","v":""},{"$f":"'Data Prep'!AB32","v":""},{"$f":"'Data Prep'!AC32","v":""},{"$f":"'Data Prep'!AD32","v":12},{"$f":"'Data Prep'!AG32","v":10},{"$f":"'Data Prep'!AH32","v":-0.16666666666666663},{"$f":"'Data Prep'!AJ32","v":"2017-07-01"},{"$f":"'Data Prep'!AO32","v":"Flag as safety risk"},{"$f":"'Data Prep'!AM32","v":"2016-09-17"}]
[{"$f":"'Data Prep'!B33","v":"Active"},{"$f":"'Data Prep'!D33","v":"Bob Dolittle"},{"$f":"'Data Prep'!C33","v":1222},{"$f":"'Data Prep'!K33","v":"2017-03-02"},{"$f":"'Data Prep'!M33","v":"2017-05-29"},{"$f":"'Data Prep'!P33","v":"2017-07-29"},{"$f":"'Data Prep'!J33","v":0},{"$f":"'Data Prep'!W33","v":18.714285714285715},{"$f":"'Data Prep'!Z33","v":22},{"$f":"'Data Prep'!AA33","v":""},{"$f":"'Data Prep'!AB33","v":""},{"$f":"'Data Prep'!AC33","v":""},{"$f":"'Data Prep'!AD33","v":12},{"$f":"'Data Prep'!AG33","v":10},{"$f":"'Data Prep'!AH33","v":-0.16666666666666663},{"$f":"'Data Prep'!AJ33","v":"2017-07-01"},{"$f":"'Data Prep'!AO33","v":"Flag as safety risk"},{"$f":"'Data Prep'!AM33","v":"2016-09-17"}]
[{"$f":"'Data Prep'!B34","v":"Active"},{"$f":"'Data Prep'!D34","v":"Albert Smith"},{"$f":"'Data Prep'!C34","v":5555},{"$f":"'Data Prep'!K34","v":"2017-03-05"},{"$f":"'Data Prep'!M34","v":"2017-05-29"},{"$f":"'Data Prep'!P34","v":"2017-07-28"},{"$f":"'Data Prep'!J34","v":5},{"$f":"'Data Prep'!W34","v":18.285714285714285},{"$f":"'Data Prep'!Z34","v":"No Score"},{"$f":"'Data Prep'!AA34","v":""},{"$f":"'Data Prep'!AB34","v":""},{"$f":"'Data Prep'!AC34","v":""},{"$f":"'Data Prep'!AD34","v":"No Score"},{"$f":"'Data Prep'!AG34","v":"No Score"},{"$f":"'Data Prep'!AH34","v":""},{"$f":"'Data Prep'!AJ34","v":"2017-06-30"},{"$f":"'Data Prep'!AO34","v":"Flag for discussion"},{"$f":"'Data Prep'!AM34","v":""}]
[{"$f":"'Data Prep'!B35","v":"Active"},{"$f":"'Data Prep'!D35","v":"Albert Smith"},{"$f":"'Data Prep'!C35","v":5555},{"$f":"'Data Prep'!K35","v":"2017-03-05"},{"$f":"'Data Prep'!M35","v":"2017-06-30"},{"$f":"'Data Prep'!P35","v":"2017-07-28"},{"$f":"'Data Prep'!J35","v":5},{"$f":"'Data Prep'!W35","v":18.285714285714285},{"$f":"'Data Prep'!Z35","v":""},{"$f":"'Data Prep'!AA35","v":""},{"$f":"'Data Prep'!AB35","v":""},{"$f":"'Data Prep'!AC35","v":""},{"$f":"'Data Prep'!AD35","v":""},{"$f":"'Data Prep'!AG35","v":"No Score"},{"$f":"'Data Prep'!AH35","v":""},{"$f":"'Data Prep'!AJ35","v":"2017-06-30"},{"$f":"'Data Prep'!AO35","v":"Flag for discussion"},{"$f":"'Data Prep'!AM35","v":""}]
[{"$f":"'Data Prep'!B36","v":"Active"},{"$f":"'Data Prep'!D36","v":"Albert Smith"},{"$f":"'Data Prep'!C36","v":5555},{"$f":"'Data Prep'!K36","v":"2017-03-05"},{"$f":"'Data Prep'!M36","v":"2017-06-30"},{"$f":"'Data Prep'!P36","v":"2017-07-28"},{"$f":"'Data Prep'!J36","v":5},{"$f":"'Data Prep'!W36","v":18.285714285714285},{"$f":"'Data Prep'!Z36","v":""},{"$f":"'Data Prep'!AA36","v":""},{"$f":"'Data Prep'!AB36","v":""},{"$f":"'Data Prep'!AC36","v":""},{"$f":"'Data Prep'!AD36","v":""},{"$f":"'Data Prep'!AG36","v":"No Score"},{"$f":"'Data Prep'!AH36","v":""},{"$f":"'Data Prep'!AJ36","v":"2017-06-30"},{"$f":"'Data Prep'!AO36","v":"Flag for discussion"},{"$f":"'Data Prep'!AM36","v":""}]
[{"$f":"'Data Prep'!B37","v":"Active"},{"$f":"'Data Prep'!D37","v":"Albert Smith"},{"$f":"'Data Prep'!C37","v":5555},{"$f":"'Data Prep'!K37","v":"2017-03-05"},{"$f":"'Data Prep'!M37","v":"2017-06-30"},{"$f":"'Data Prep'!P37","v":"2017-07-28"},{"$f":"'Data Prep'!J37","v":5},{"$f":"'Data Prep'!W37","v":18.285714285714285},{"$f":"'Data Prep'!Z37","v":""},{"$f":"'Data Prep'!AA37","v":""},{"$f":"'Data Prep'!AB37","v":""},{"$f":"'Data Prep'!AC37","v":""},{"$f":"'Data Prep'!AD37","v":""},{"$f":"'Data Prep'!AG37","v":"No Score"},{"$f":"'Data Prep'!AH37","v":""},{"$f":"'Data Prep'!AJ37","v":"2017-06-30"},{"$f":"'Data Prep'!AO37","v":"Flag for discussion"},{"$f":"'Data Prep'!AM37","v":""}]
[{"$f":"'Data Prep'!B38","v":"Active"},{"$f":"'Data Prep'!D38","v":"Albert Smith"},{"$f":"'Data Prep'!C38","v":5555},{"$f":"'Data Prep'!K38","v":"2017-03-05"},{"$f":"'Data Prep'!M38","v":"2017-06-30"},{"$f":"'Data Prep'!P38","v":"2017-07-28"},{"$f":"'Data Prep'!J38","v":5},{"$f":"'Data Prep'!W38","v":18.285714285714285},{"$f":"'Data Prep'!Z38","v":""},{"$f":"'Data Prep'!AA38","v":""},{"$f":"'Data Prep'!AB38","v":""},{"$f":"'Data Prep'!AC38","v":""},{"$f":"'Data Prep'!AD38","v":""},{"$f":"'Data Prep'!AG38","v":"No Score"},{"$f":"'Data Prep'!AH38","v":""},{"$f":"'Data Prep'!AJ38","v":"2017-06-30"},{"$f":"'Data Prep'!AO38","v":"Flag for discussion"},{"$f":"'Data Prep'!AM38","v":""}]
[{"$f":"'Data Prep'!B39","v":"Active"},{"$f":"'Data Prep'!D39","v":"Albert Smith"},{"$f":"'Data Prep'!C39","v":5555},{"$f":"'Data Prep'!K39","v":"2017-03-05"},{"$f":"'Data Prep'!M39","v":"2017-05-29"},{"$f":"'Data Prep'!P39","v":"2017-07-28"},{"$f":"'Data Prep'!J39","v":5},{"$f":"'Data Prep'!W39","v":18.285714285714285},{"$f":"'Data Prep'!Z39","v":"No Score"},{"$f":"'Data Prep'!AA39","v":""},{"$f":"'Data Prep'!AB39","v":""},{"$f":"'Data Prep'!AC39","v":""},{"$f":"'Data Prep'!AD39","v":"No Score"},{"$f":"'Data Prep'!AG39","v":"No Score"},{"$f":"'Data Prep'!AH39","v":""},{"$f":"'Data Prep'!AJ39","v":"2017-06-30"},{"$f":"'Data Prep'!AO39","v":"Flag for discussion"},{"$f":"'Data Prep'!AM39","v":""}]
[{"$f":"'Data Prep'!B40","v":"Active"},{"$f":"'Data Prep'!D40","v":"Albert Smith"},{"$f":"'Data Prep'!C40","v":5555},{"$f":"'Data Prep'!K40","v":"2017-03-05"},{"$f":"'Data Prep'!M40","v":"2017-05-29"},{"$f":"'Data Prep'!P40","v":"2017-07-28"},{"$f":"'Data Prep'!J40","v":5},{"$f":"'Data Prep'!W40","v":18.285714285714285},{"$f":"'Data Prep'!Z40","v":"No Score"},{"$f":"'Data Prep'!AA40","v":""},{"$f":"'Data Prep'!AB40","v":""},{"$f":"'Data Prep'!AC40","v":""},{"$f":"'Data Prep'!AD40","v":"No Score"},{"$f":"'Data Prep'!AG40","v":"No Score"},{"$f":"'Data Prep'!AH40","v":""},{"$f":"'Data Prep'!AJ40","v":"2017-06-30"},{"$f":"'Data Prep'!AO40","v":"Flag for discussion"},{"$f":"'Data Prep'!AM40","v":""}]
[{"$f":"'Data Prep'!B41","v":"Active"},{"$f":"'Data Prep'!D41","v":"Albert Smith"},{"$f":"'Data Prep'!C41","v":5555},{"$f":"'Data Prep'!K41","v":"2017-03-05"},{"$f":"'Data Prep'!M41","v":"2017-06-30"},{"$f":"'Data Prep'!P41","v":"2017-07-28"},{"$f":"'Data Prep'!J41","v":5},{"$f":"'Data Prep'!W41","v":18.285714285714285},{"$f":"'Data Prep'!Z41","v":18},{"$f":"'Data Prep'!AA41","v":""},{"$f":"'Data Prep'!AB41","v":""},{"$f":"'Data Prep'!AC41","v":""},{"$f":"'Data Prep'!AD41","v":14},{"$f":"'Data Prep'!AG41","v":10},{"$f":"'Data Prep'!AH41","v":-0.2857142857142857},{"$f":"'Data Prep'!AJ41","v":"2017-06-30"},{"$f":"'Data Prep'!AO41","v":"Flag for discussion"},{"$f":"'Data Prep'!AM41","v":""}]
[{"$f":"'Data Prep'!B42","v":"Active"},{"$f":"'Data Prep'!D42","v":"Albert Smith"},{"$f":"'Data Prep'!C42","v":5555},{"$f":"'Data Prep'!K42","v":"2017-03-05"},{"$f":"'Data Prep'!M42","v":"2017-06-30"},{"$f":"'Data Prep'!P42","v":"2017-07-28"},{"$f":"'Data Prep'!J42","v":5},{"$f":"'Data Prep'!W42","v":18.285714285714285},{"$f":"'Data Prep'!Z42","v":18},{"$f":"'Data Prep'!AA42","v":""},{"$f":"'Data Prep'!AB42","v":""},{"$f":"'Data Prep'!AC42","v":""},{"$f":"'Data Prep'!AD42","v":14},{"$f":"'Data Prep'!AG42","v":10},{"$f":"'Data Prep'!AH42","v":-0.2857142857142857},{"$f":"'Data Prep'!AJ42","v":"2017-06-30"},{"$f":"'Data Prep'!AO42","v":"Flag for discussion"},{"$f":"'Data Prep'!AM42","v":""}]
[{"$f":"'Data Prep'!B43","v":"Active"},{"$f":"'Data Prep'!D43","v":"Albert Smith"},{"$f":"'Data Prep'!C43","v":5555},{"$f":"'Data Prep'!K43","v":"2017-03-05"},{"$f":"'Data Prep'!M43","v":"2017-06-30"},{"$f":"'Data Prep'!P43","v":"2017-07-28"},{"$f":"'Data Prep'!J43","v":5},{"$f":"'Data Prep'!W43","v":18.285714285714285},{"$f":"'Data Prep'!Z43","v":18},{"$f":"'Data Prep'!AA43","v":""},{"$f":"'Data Prep'!AB43","v":""},{"$f":"'Data Prep'!AC43","v":""},{"$f":"'Data Prep'!AD43","v":14},{"$f":"'Data Prep'!AG43","v":10},{"$f":"'Data Prep'!AH43","v":-0.2857142857142857},{"$f":"'Data Prep'!AJ43","v":"2017-06-30"},{"$f":"'Data Prep'!AO43","v":"Flag for discussion"},{"$f":"'Data Prep'!AM43","v":""}]
[{"$f":"'Data Prep'!B44","v":"Active"},{"$f":"'Data Prep'!D44","v":"Albert Smith"},{"$f":"'Data Prep'!C44","v":5555},{"$f":"'Data Prep'!K44","v":"2017-03-05"},{"$f":"'Data Prep'!M44","v":"2017-06-30"},{"$f":"'Data Prep'!P44","v":"2017-07-28"},{"$f":"'Data Prep'!J44","v":5},{"$f":"'Data Prep'!W44","v":18.285714285714285},{"$f":"'Data Prep'!Z44","v":18},{"$f":"'Data Prep'!AA44","v":""},{"$f":"'Data Prep'!AB44","v":""},{"$f":"'Data Prep'!AC44","v":""},{"$f":"'Data Prep'!AD44","v":14},{"$f":"'Data Prep'!AG44","v":10},{"$f":"'Data Prep'!AH44","v":-0.2857142857142857},{"$f":"'Data Prep'!AJ44","v":"2017-06-30"},{"$f":"'Data Prep'!AO44","v":"Flag for discussion"},{"$f":"'Data Prep'!AM44","v":""}]
[{"$f":"'Data Prep'!B45","v":"Active"},{"$f":"'Data Prep'!D45","v":"Albert Smith"},{"$f":"'Data Prep'!C45","v":5555},{"$f":"'Data Prep'!K45","v":"2017-03-05"},{"$f":"'Data Prep'!M45","v":"2017-06-30"},{"$f":"'Data Prep'!P45","v":"2017-07-28"},{"$f":"'Data Prep'!J45","v":5},{"$f":"'Data Prep'!W45","v":18.285714285714285},{"$f":"'Data Prep'!Z45","v":18},{"$f":"'Data Prep'!AA45","v":""},{"$f":"'Data Prep'!AB45","v":""},{"$f":"'Data Prep'!AC45","v":""},{"$f":"'Data Prep'!AD45","v":14},{"$f":"'Data Prep'!AG45","v":10},{"$f":"'Data Prep'!AH45","v":-0.2857142857142857},{"$f":"'Data Prep'!AJ45","v":"2017-06-30"},{"$f":"'Data Prep'!AO45","v":"Flag for discussion"},{"$f":"'Data Prep'!AM45","v":""}]
[{"$f":"'Data Prep'!B46","v":"Active"},{"$f":"'Data Prep'!D46","v":"Albert Smith"},{"$f":"'Data Prep'!C46","v":5555},{"$f":"'Data Prep'!K46","v":"2017-03-05"},{"$f":"'Data Prep'!M46","v":"2017-06-30"},{"$f":"'Data Prep'!P46","v":"2017-07-28"},{"$f":"'Data Prep'!J46","v":5},{"$f":"'Data Prep'!W46","v":18.285714285714285},{"$f":"'Data Prep'!Z46","v":18},{"$f":"'Data Prep'!AA46","v":18},{"$f":"'Data Prep'!AB46","v":0},{"$f":"'Data Prep'!AC46","v":"2017-06-30"},{"$f":"'Data Prep'!AD46","v":14},{"$f":"'Data Prep'!AG46","v":10},{"$f":"'Data Prep'!AH46","v":-0.2857142857142857},{"$f":"'Data Prep'!AJ46","v":"2017-06-30"},{"$f":"'Data Prep'!AO46","v":"Flag for discussion"},{"$f":"'Data Prep'!AM46","v":""}]
[{"$f":"'Data Prep'!B47","v":"Active"},{"$f":"'Data Prep'!D47","v":"Albert Smith"},{"$f":"'Data Prep'!C47","v":5555},{"$f":"'Data Prep'!K47","v":"2017-03-05"},{"$f":"'Data Prep'!M47","v":"2017-05-29"},{"$f":"'Data Prep'!P47","v":"2017-07-28"},{"$f":"'Data Prep'!J47","v":0},{"$f":"'Data Prep'!W47","v":18.285714285714285},{"$f":"'Data Prep'!Z47","v":18},{"$f":"'Data Prep'!AA47","v":""},{"$f":"'Data Prep'!AB47","v":""},{"$f":"'Data Prep'!AC47","v":""},{"$f":"'Data Prep'!AD47","v":14},{"$f":"'Data Prep'!AG47","v":10},{"$f":"'Data Prep'!AH47","v":-0.2857142857142857},{"$f":"'Data Prep'!AJ47","v":"2017-06-30"},{"$f":"'Data Prep'!AO47","v":"Flag for discussion"},{"$f":"'Data Prep'!AM47","v":""}]
[{"$f":"'Data Prep'!B48","v":"Active"},{"$f":"'Data Prep'!D48","v":"Albert Smith"},{"$f":"'Data Prep'!C48","v":5555},{"$f":"'Data Prep'!K48","v":"2017-03-05"},{"$f":"'Data Prep'!M48","v":"2017-05-29"},{"$f":"'Data Prep'!P48","v":"2017-07-28"},{"$f":"'Data Prep'!J48","v":0},{"$f":"'Data Prep'!W48","v":18.285714285714285},{"$f":"'Data Prep'!Z48","v":18},{"$f":"'Data Prep'!AA48","v":""},{"$f":"'Data Prep'!AB48","v":""},{"$f":"'Data Prep'!AC48","v":""},{"$f":"'Data Prep'!AD48","v":14},{"$f":"'Data Prep'!AG48","v":10},{"$f":"'Data Prep'!AH48","v":-0.2857142857142857},{"$f":"'Data Prep'!AJ48","v":"2017-06-30"},{"$f":"'Data Prep'!AO48","v":"Flag for discussion"},{"$f":"'Data Prep'!AM48","v":""}]
[{"$f":"'Data Prep'!B49","v":"Active"},{"$f":"'Data Prep'!D49","v":"Albert Smith"},{"$f":"'Data Prep'!C49","v":5555},{"$f":"'Data Prep'!K49","v":"2017-03-05"},{"$f":"'Data Prep'!M49","v":"2017-05-29"},{"$f":"'Data Prep'!P49","v":"2017-08-11"},{"$f":"'Data Prep'!J49","v":0},{"$f":"'Data Prep'!W49","v":18.285714285714285},{"$f":"'Data Prep'!Z49","v":18},{"$f":"'Data Prep'!AA49","v":""},{"$f":"'Data Prep'!AB49","v":""},{"$f":"'Data Prep'!AC49","v":""},{"$f":"'Data Prep'!AD49","v":14},{"$f":"'Data Prep'!AG49","v":10},{"$f":"'Data Prep'!AH49","v":-0.2857142857142857},{"$f":"'Data Prep'!AJ49","v":"2017-06-30"},{"$f":"'Data Prep'!AO49","v":"Flag for discussion"},{"$f":"'Data Prep'!AM49","v":""}]
[{"$f":"'Data Prep'!B50","v":"Inactive"},{"$f":"'Data Prep'!D50","v":"John Doe"},{"$f":"'Data Prep'!C50","v":4321},{"$f":"'Data Prep'!K50","v":"2016-01-15"},{"$f":"'Data Prep'!M50","v":"2017-05-29"},{"$f":"'Data Prep'!P50","v":"2016-12-16"},{"$f":"'Data Prep'!J50","v":12},{"$f":"'Data Prep'!W50","v":77.571428571428569},{"$f":"'Data Prep'!Z50","v":"No Score"},{"$f":"'Data Prep'!AA50","v":""},{"$f":"'Data Prep'!AB50","v":""},{"$f":"'Data Prep'!AC50","v":""},{"$f":"'Data Prep'!AD50","v":"No Score"},{"$f":"'Data Prep'!AG50","v":"No Score"},{"$f":"'Data Prep'!AH50","v":""},{"$f":"'Data Prep'!AJ50","v":"2016-11-16"},{"$f":"'Data Prep'!AO50","v":""},{"$f":"'Data Prep'!AM50","v":"2016-11-01"}]
[{"$f":"'Data Prep'!B51","v":"Inactive"},{"$f":"'Data Prep'!D51","v":"John Doe"},{"$f":"'Data Prep'!C51","v":4321},{"$f":"'Data Prep'!K51","v":"2016-01-15"},{"$f":"'Data Prep'!M51","v":"2016-11-16"},{"$f":"'Data Prep'!P51","v":"2016-12-16"},{"$f":"'Data Prep'!J51","v":12},{"$f":"'Data Prep'!W51","v":77.571428571428569},{"$f":"'Data Prep'!Z51","v":20},{"$f":"'Data Prep'!AA51","v":""},{"$f":"'Data Prep'!AB51","v":""},{"$f":"'Data Prep'!AC51","v":""},{"$f":"'Data Prep'!AD51","v":14},{"$f":"'Data Prep'!AG51","v":1},{"$f":"'Data Prep'!AH51","v":-0.9285714285714286},{"$f":"'Data Prep'!AJ51","v":"2016-11-16"},{"$f":"'Data Prep'!AO51","v":""},{"$f":"'Data Prep'!AM51","v":"2016-11-01"}]
[{"$f":"'Data Prep'!B52","v":"Inactive"},{"$f":"'Data Prep'!D52","v":"John Doe"},{"$f":"'Data Prep'!C52","v":4321},{"$f":"'Data Prep'!K52","v":"2016-01-15"},{"$f":"'Data Prep'!M52","v":"2016-11-16"},{"$f":"'Data Prep'!P52","v":"2016-12-16"},{"$f":"'Data Prep'!J52","v":12},{"$f":"'Data Prep'!W52","v":77.571428571428569},{"$f":"'Data Prep'!Z52","v":20},{"$f":"'Data Prep'!AA52","v":""},{"$f":"'Data Prep'!AB52","v":""},{"$f":"'Data Prep'!AC52","v":""},{"$f":"'Data Prep'!AD52","v":14},{"$f":"'Data Prep'!AG52","v":1},{"$f":"'Data Prep'!AH52","v":-0.9285714285714286},{"$f":"'Data Prep'!AJ52","v":"2016-11-16"},{"$f":"'Data Prep'!AO52","v":""},{"$f":"'Data Prep'!AM52","v":"2016-11-01"}]
[{"$f":"'Data Prep'!B53","v":"Inactive"},{"$f":"'Data Prep'!D53","v":"John Doe"},{"$f":"'Data Prep'!C53","v":4321},{"$f":"'Data Prep'!K53","v":"2016-01-15"},{"$f":"'Data Prep'!M53","v":"2016-11-16"},{"$f":"'Data Prep'!P53","v":"2016-12-16"},{"$f":"'Data Prep'!J53","v":12},{"$f":"'Data Prep'!W53","v":77.571428571428569},{"$f":"'Data Prep'!Z53","v":20},{"$f":"'Data Prep'!AA53","v":""},{"$f":"'Data Prep'!AB53","v":""},{"$f":"'Data Prep'!AC53","v":""},{"$f":"'Data Prep'!AD53","v":14},{"$f":"'Data Prep'!AG53","v":1},{"$f":"'Data Prep'!AH53","v":-0.9285714285714286},{"$f":"'Data Prep'!AJ53","v":"2016-11-16"},{"$f":"'Data Prep'!AO53","v":""},{"$f":"'Data Prep'!AM53","v":"2016-11-01"}]
[{"$f":"'Data Prep'!B54","v":"Inactive"},{"$f":"'Data Prep'!D54","v":"John Doe"},{"$f":"'Data Prep'!C54","v":4321},{"$f":"'Data Prep'!K54","v":"2016-01-15"},{"$f":"'Data Prep'!M54","v":"2016-11-16"},{"$f":"'Data Prep'!P54","v":"2016-12-16"},{"$f":"'Data Prep'!J54","v":12},{"$f":"'Data Prep'!W54","v":77.571428571428569},{"$f":"'Data Prep'!Z54","v":20},{"$f":"'Data Prep'!AA54","v":""},{"$f":"'Data Prep'!AB54","v":""},{"$f":"'Data Prep'!AC54","v":""},{"$f":"'Data Prep'!AD54","v":14},{"$f":"'Data Prep'!AG54","v":1},{"$f":"'Data Prep'!AH54","v":-0.9285714285714286},{"$f":"'Data Prep'!AJ54","v":"2016-11-16"},{"$f":"'Data Prep'!AO54","v":""},{"$f":"'Data Prep'!AM54","v":"2016-11-01"}]
[{"$f":"'Data Prep'!B55","v":"Inactive"},{"$f":"'Data Prep'!D55","v":"John Doe"},{"$f":"'Data Prep'!C55","v":4321},{"$f":"'Data Prep'!K55","v":"2016-01-15"},{"$f":"'Data Prep'!M55","v":"2016-11-16"},{"$f":"'Data Prep'!P55","v":"2016-12-16"},{"$f":"'Data Prep'!J55","v":12},{"$f":"'Data Prep'!W55","v":77.571428571428569},{"$f":"'Data Prep'!Z55","v":20},{"$f":"'Data Prep'!AA55","v":""},{"$f":"'Data Prep'!AB55","v":""},{"$f":"'Data Prep'!AC55","v":""},{"$f":"'Data Prep'!AD55","v":14},{"$f":"'Data Prep'!AG55","v":1},{"$f":"'Data Prep'!AH55","v":-0.9285714285714286},{"$f":"'Data Prep'!AJ55","v":"2016-11-16"},{"$f":"'Data Prep'!AO55","v":""},{"$f":"'Data Prep'!AM55","v":"2016-11-01"}]
[{"$f":"'Data Prep'!B56","v":"Inactive"},{"$f":"'Data Prep'!D56","v":"John Doe"},{"$f":"'Data Prep'!C56","v":4321},{"$f":"'Data Prep'!K56","v":"2016-01-15"},{"$f":"'Data Prep'!M56","v":"2016-11-16"},{"$f":"'Data Prep'!P56","v":"2016-12-16"},{"$f":"'Data Prep'!J56","v":12},{"$f":"'Data Prep'!W56","v":77.571428571428569},{"$f":"'Data Prep'!Z56","v":20},{"$f":"'Data Prep'!AA56","v":""},{"$f":"'Data Prep'!AB56","v":""},{"$f":"'Data Prep'!AC56","v":""},{"$f":"'Data Prep'!AD56","v":14},{"$f":"'Data Prep'!AG56","v":1},{"$f":"'Data Prep'!AH56","v":-0.9285714285714286},{"$f":"'Data Prep'!AJ56","v":"2016-11-16"},{"$f":"'Data Prep'!AO56","v":""},{"$f":"'Data Prep'!AM56","v":"2016-11-01"}]
[{"$f":"'Data Prep'!B57","v":"Inactive"},{"$f":"'Data Prep'!D57","v":"John Doe"},{"$f":"'Data Prep'!C57","v":4321},{"$f":"'Data Prep'!K57","v":"2016-01-15"},{"$f":"'Data Prep'!M57","v":"2016-11-16"},{"$f":"'Data Prep'!P57","v":"2016-12-16"},{"$f":"'Data Prep'!J57","v":12},{"$f":"'Data Prep'!W57","v":77.571428571428569},{"$f":"'Data Prep'!Z57","v":20},{"$f":"'Data Prep'!AA57","v":""},{"$f":"'Data Prep'!AB57","v":""},{"$f":"'Data Prep'!AC57","v":""},{"$f":"'Data Prep'!AD57","v":14},{"$f":"'Data Prep'!AG57","v":1},{"$f":"'Data Prep'!AH57","v":-0.9285714285714286},{"$f":"'Data Prep'!AJ57","v":"2016-11-16"},{"$f":"'Data Prep'!AO57","v":""},{"$f":"'Data Prep'!AM57","v":"2016-11-01"}]
[{"$f":"'Data Prep'!B58","v":"Inactive"},{"$f":"'Data Prep'!D58","v":"John Doe"},{"$f":"'Data Prep'!C58","v":4321},{"$f":"'Data Prep'!K58","v":"2016-01-15"},{"$f":"'Data Prep'!M58","v":"2017-05-29"},{"$f":"'Data Prep'!P58","v":"2016-12-16"},{"$f":"'Data Prep'!J58","v":12},{"$f":"'Data Prep'!W58","v":77.571428571428569},{"$f":"'Data Prep'!Z58","v":20},{"$f":"'Data Prep'!AA58","v":""},{"$f":"'Data Prep'!AB58","v":""},{"$f":"'Data Prep'!AC58","v":""},{"$f":"'Data Prep'!AD58","v":14},{"$f":"'Data Prep'!AG58","v":1},{"$f":"'Data Prep'!AH58","v":-0.9285714285714286},{"$f":"'Data Prep'!AJ58","v":"2016-11-16"},{"$f":"'Data Prep'!AO58","v":""},{"$f":"'Data Prep'!AM58","v":"2016-11-01"}]
[{"$f":"'Data Prep'!B59","v":"Inactive"},{"$f":"'Data Prep'!D59","v":"John Doe"},{"$f":"'Data Prep'!C59","v":4321},{"$f":"'Data Prep'!K59","v":"2016-01-15"},{"$f":"'Data Prep'!M59","v":"2016-11-16"},{"$f":"'Data Prep'!P59","v":"2016-12-16"},{"$f":"'Data Prep'!J59","v":12},{"$f":"'Data Prep'!W59","v":77.571428571428569},{"$f":"'Data Prep'!Z59","v":20},{"$f":"'Data Prep'!AA59","v":""},{"$f":"'Data Prep'!AB59","v":""},{"$f":"'Data Prep'!AC59","v":""},{"$f":"'Data Prep'!AD59","v":14},{"$f":"'Data Prep'!AG59","v":1},{"$f":"'Data Prep'!AH59","v":-0.9285714285714286},{"$f":"'Data Prep'!AJ59","v":"2016-11-16"},{"$f":"'Data Prep'!AO59","v":""},{"$f":"'Data Prep'!AM59","v":"2016-11-01"}]
[{"$f":"'Data Prep'!B60","v":"Inactive"},{"$f":"'Data Prep'!D60","v":"John Doe"},{"$f":"'Data Prep'!C60","v":4321},{"$f":"'Data Prep'!K60","v":"2016-01-15"},{"$f":"'Data Prep'!M60","v":"2016-11-16"},{"$f":"'Data Prep'!P60","v":"2016-12-16"},{"$f":"'Data Prep'!J60","v":12},{"$f":"'Data Prep'!W60","v":77.571428571428569},{"$f":"'Data Prep'!Z60","v":20},{"$f":"'Data Prep'!AA60","v":""},{"$f":"'Data Prep'!AB60","v":""},{"$f":"'Data Prep'!AC60","v":""},{"$f":"'Data Prep'!AD60","v":14},{"$f":"'Data Prep'!AG60","v":1},{"$f":"'Data Prep'!AH60","v":-0.9285714285714286},{"$f":"'Data Prep'!AJ60","v":"2016-11-16"},{"$f":"'Data Prep'!AO60","v":""},{"$f":"'Data Prep'!AM60","v":"2016-11-01"}]
[{"$f":"'Data Prep'!B61","v":"Inactive"},{"$f":"'Data Prep'!D61","v":"John Doe"},{"$f":"'Data Prep'!C61","v":4321},{"$f":"'Data Prep'!K61","v":"2016-01-15"},{"$f":"'Data Prep'!M61","v":"2016-11-16"},{"$f":"'Data Prep'!P61","v":"2016-12-16"},{"$f":"'Data Prep'!J61","v":12},{"$f":"'Data Prep'!W61","v":77.571428571428569},{"$f":"'Data Prep'!Z61","v":20},{"$f":"'Data Prep'!AA61","v":""},{"$f":"'Data Prep'!AB61","v":""},{"$f":"'Data Prep'!AC61","v":""},{"$f":"'Data Prep'!AD61","v":14},{"$f":"'Data Prep'!AG61","v":1},{"$f":"'Data Prep'!AH61","v":-0.9285714285714286},{"$f":"'Data Prep'!AJ61","v":"2016-11-16"},{"$f":"'Data Prep'!AO61","v":""},{"$f":"'Data Prep'!AM61","v":"2016-11-01"}]
[{"$f":"'Data Prep'!B62","v":"Inactive"},{"$f":"'Data Prep'!D62","v":"John Doe"},{"$f":"'Data Prep'!C62","v":4321},{"$f":"'Data Prep'!K62","v":"2016-01-15"},{"$f":"'Data Prep'!M62","v":"2016-11-16"},{"$f":"'Data Prep'!P62","v":"2016-12-16"},{"$f":"'Data Prep'!J62","v":12},{"$f":"'Data Prep'!W62","v":77.571428571428569},{"$f":"'Data Prep'!Z62","v":20},{"$f":"'Data Prep'!AA62","v":""},{"$f":"'Data Prep'!AB62","v":""},{"$f":"'Data Prep'!AC62","v":""},{"$f":"'Data Prep'!AD62","v":14},{"$f":"'Data Prep'!AG62","v":1},{"$f":"'Data Prep'!AH62","v":-0.9285714285714286},{"$f":"'Data Prep'!AJ62","v":"2016-11-16"},{"$f":"'Data Prep'!AO62","v":""},{"$f":"'Data Prep'!AM62","v":"2016-11-01"}]
[{"$f":"'Data Prep'!B63","v":"Inactive"},{"$f":"'Data Prep'!D63","v":"John Doe"},{"$f":"'Data Prep'!C63","v":4321},{"$f":"'Data Prep'!K63","v":"2016-01-15"},{"$f":"'Data Prep'!M63","v":"2016-11-16"},{"$f":"'Data Prep'!P63","v":"2016-12-16"},{"$f":"'Data Prep'!J63","v":12},{"$f":"'Data Prep'!W63","v":77.571428571428569},{"$f":"'Data Prep'!Z63","v":20},{"$f":"'Data Prep'!AA63","v":""},{"$f":"'Data Prep'!AB63","v":""},{"$f":"'Data Prep'!AC63","v":""},{"$f":"'Data Prep'!AD63","v":14},{"$f":"'Data Prep'!AG63","v":1},{"$f":"'Data Prep'!AH63","v":-0.9285714285714286},{"$f":"'Data Prep'!AJ63","v":"2016-11-16"},{"$f":"'Data Prep'!AO63","v":""},{"$f":"'Data Prep'!AM63","v":"2016-11-01"}]
[{"$f":"'Data Prep'!B64","v":"Inactive"},{"$f":"'Data Prep'!D64","v":"John Doe"},{"$f":"'Data Prep'!C64","v":4321},{"$f":"'Data Prep'!K64","v":"2016-01-15"},{"$f":"'Data Prep'!M64","v":"2016-11-16"},{"$f":"'Data Prep'!P64","v":"2016-12-16"},{"$f":"'Data Prep'!J64","v":12},{"$f":"'Data Prep'!W64","v":77.571428571428569},{"$f":"'Data Prep'!Z64","v":20},{"$f":"'Data Prep'!AA64","v":0},{"$f":"'Data Prep'!AB64","v":-1},{"$f":"'Data Prep'!AC64","v":"2016-11-16"},{"$f":"'Data Prep'!AD64","v":14},{"$f":"'Data Prep'!AG64","v":1},{"$f":"'Data Prep'!AH64","v":-0.9285714285714286},{"$f":"'Data Prep'!AJ64","v":"2016-11-16"},{"$f":"'Data Prep'!AO64","v":""},{"$f":"'Data Prep'!AM64","v":"2016-11-01"}]
[{"$f":"'Data Prep'!B65","v":"Inactive"},{"$f":"'Data Prep'!D65","v":"John Doe"},{"$f":"'Data Prep'!C65","v":4321},{"$f":"'Data Prep'!K65","v":"2016-01-15"},{"$f":"'Data Prep'!M65","v":"2017-05-29"},{"$f":"'Data Prep'!P65","v":"2016-12-16"},{"$f":"'Data Prep'!J65","v":0},{"$f":"'Data Prep'!W65","v":77.571428571428569},{"$f":"'Data Prep'!Z65","v":20},{"$f":"'Data Prep'!AA65","v":""},{"$f":"'Data Prep'!AB65","v":""},{"$f":"'Data Prep'!AC65","v":""},{"$f":"'Data Prep'!AD65","v":14},{"$f":"'Data Prep'!AG65","v":1},{"$f":"'Data Prep'!AH65","v":-0.9285714285714286},{"$f":"'Data Prep'!AJ65","v":"2016-11-16"},{"$f":"'Data Prep'!AO65","v":""},{"$f":"'Data Prep'!AM65","v":"2016-11-01"}]
[{"$f":"'Data Prep'!B66","v":"Active"},{"$f":"'Data Prep'!D66","v":"Susan Test"},{"$f":"'Data Prep'!C66","v":1678},{"$f":"'Data Prep'!K66","v":"2016-11-20"},{"$f":"'Data Prep'!M66","v":"2017-05-29"},{"$f":"'Data Prep'!P66","v":"2017-06-16"},{"$f":"'Data Prep'!J66","v":10},{"$f":"'Data Prep'!W66","v":33.285714285714285},{"$f":"'Data Prep'!Z66","v":"No Score"},{"$f":"'Data Prep'!AA66","v":""},{"$f":"'Data Prep'!AB66","v":""},{"$f":"'Data Prep'!AC66","v":""},{"$f":"'Data Prep'!AD66","v":"No Score"},{"$f":"'Data Prep'!AG66","v":"No Score"},{"$f":"'Data Prep'!AH66","v":""},{"$f":"'Data Prep'!AJ66","v":"2017-06-02"},{"$f":"'Data Prep'!AO66","v":"Flag for discussion & safety risk"},{"$f":"'Data Prep'!AM66","v":"2016-09-15"}]
[{"$f":"'Data Prep'!B67","v":"Active"},{"$f":"'Data Prep'!D67","v":"Susan Test"},{"$f":"'Data Prep'!C67","v":1678},{"$f":"'Data Prep'!K67","v":"2016-11-20"},{"$f":"'Data Prep'!M67","v":"2017-06-02"},{"$f":"'Data Prep'!P67","v":"2017-06-16"},{"$f":"'Data Prep'!J67","v":10},{"$f":"'Data Prep'!W67","v":33.285714285714285},{"$f":"'Data Prep'!Z67","v":"No Score"},{"$f":"'Data Prep'!AA67","v":""},{"$f":"'Data Prep'!AB67","v":""},{"$f":"'Data Prep'!AC67","v":""},{"$f":"'Data Prep'!AD67","v":"No Score"},{"$f":"'Data Prep'!AG67","v":14},{"$f":"'Data Prep'!AH67","v":{"$error":"#VALUE!"}},{"$f":"'Data Prep'!AJ67","v":"2017-06-02"},{"$f":"'Data Prep'!AO67","v":"Flag for discussion & safety risk"},{"$f":"'Data Prep'!AM67","v":"2016-09-15"}]
[{"$f":"'Data Prep'!B68","v":"Active"},{"$f":"'Data Prep'!D68","v":"Susan Test"},{"$f":"'Data Prep'!C68","v":1678},{"$f":"'Data Prep'!K68","v":"2016-11-20"},{"$f":"'Data Prep'!M68","v":"2017-06-02"},{"$f":"'Data Prep'!P68","v":"2017-06-16"},{"$f":"'Data Prep'!J68","v":10},{"$f":"'Data Prep'!W68","v":33.285714285714285},{"$f":"'Data Prep'!Z68","v":"No Score"},{"$f":"'Data Prep'!AA68","v":""},{"$f":"'Data Prep'!AB68","v":""},{"$f":"'Data Prep'!AC68","v":""},{"$f":"'Data Prep'!AD68","v":"No Score"},{"$f":"'Data Prep'!AG68","v":14},{"$f":"'Data Prep'!AH68","v":{"$error":"#VALUE!"}},{"$f":"'Data Prep'!AJ68","v":"2017-06-02"},{"$f":"'Data Prep'!AO68","v":"Flag for discussion & safety risk"},{"$f":"'Data Prep'!AM68","v":"2016-09-15"}]
[{"$f":"'Data Prep'!B69","v":"Active"},{"$f":"'Data Prep'!D69","v":"Susan Test"},{"$f":"'Data Prep'!C69","v":1678},{"$f":"'Data Prep'!K69","v":"2016-11-20"},{"$f":"'Data Prep'!M69","v":"2017-06-02"},{"$f":"'Data Prep'!P69","v":"2017-06-16"},{"$f":"'Data Prep'!J69","v":10},{"$f":"'Data Prep'!W69","v":33.285714285714285},{"$f":"'Data Prep'!Z69","v":"No Score"},{"$f":"'Data Prep'!AA69","v":""},{"$f":"'Data Prep'!AB69","v":""},{"$f":"'Data Prep'!AC69","v":""},{"$f":"'Data Prep'!AD69","v":"No Score"},{"$f":"'Data Prep'!AG69","v":14},{"$f":"'Data Prep'!AH69","v":{"$error":"#VALUE!"}},{"$f":"'Data Prep'!AJ69","v":"2017-06-02"},{"$f":"'Data Prep'!AO69","v":"Flag for discussion & safety risk"},{"$f":"'Data Prep'!AM69","v":"2016-09-15"}]
[{"$f":"'Data Prep'!B70","v":"Active"},{"$f":"'Data Prep'!D70","v":"Susan Test"},{"$f":"'Data Prep'!C70","v":1678},{"$f":"'Data Prep'!K70","v":"2016-11-20"},{"$f":"'Data Prep'!M70","v":"2017-06-02"},{"$f":"'Data Prep'!P70","v":"2017-06-16"},{"$f":"'Data Prep'!J70","v":10},{"$f":"'Data Prep'!W70","v":33.285714285714285},{"$f":"'Data Prep'!Z70","v":22},{"$f":"'Data Prep'!AA70","v":""},{"$f":"'Data Prep'!AB70","v":""},{"$f":"'Data Prep'!AC70","v":""},{"$f":"'Data Prep'!AD70","v":18},{"$f":"'Data Prep'!AG70","v":14},{"$f":"'Data Prep'!AH70","v":-0.22222222222222221},{"$f":"'Data Prep'!AJ70","v":"2017-06-02"},{"$f":"'Data Prep'!AO70","v":"Flag for discussion & safety risk"},{"$f":"'Data Prep'!AM70","v":"2016-09-15"}]
[{"$f":"'Data Prep'!B71","v":"Active"},{"$f":"'Data Prep'!D71","v":"Susan Test"},{"$f":"'Data Prep'!C71","v":1678},{"$f":"'Data Prep'!K71","v":"2016-11-20"},{"$f":"'Data Prep'!M71","v":"2017-06-02"},{"$f":"'Data Prep'!P71","v":"2017-06-16"},{"$f":"'Data Prep'!J71","v":10},{"$f":"'Data Prep'!W71","v":33.285714285714285},{"$f":"'Data Prep'!Z71","v":22},{"$f":"'Data Prep'!AA71","v":""},{"$f":"'Data Prep'!AB71","v":""},{"$f":"'Data Prep'!AC71","v":""},{"$f":"'Data Prep'!AD71","v":18},{"$f":"'Data Prep'!AG71","v":14},{"$f":"'Data Prep'!AH71","v":-0.22222222222222221},{"$f":"'Data Prep'!AJ71","v":"2017-06-02"},{"$f":"'Data Prep'!AO71","v":"Flag for discussion & safety risk"},{"$f":"'Data Prep'!AM71","v":"2016-09-15"}]
[{"$f":"'Data Prep'!B72","v":"Active"},{"$f":"'Data Prep'!D72","v":"Susan Test"},{"$f":"'Data Prep'!C72","v":1678},{"$f":"'Data Prep'!K72","v":"2016-11-20"},{"$f":"'Data Prep'!M72","v":"2017-05-29"},{"$f":"'Data Prep'!P72","v":"2017-06-16"},{"$f":"'Data Prep'!J72","v":10},{"$f":"'Data Prep'!W72","v":33.285714285714285},{"$f":"'Data Prep'!Z72","v":22},{"$f":"'Data Prep'!AA72","v":""},{"$f":"'Data Prep'!AB72","v":""},{"$f":"'Data Prep'!AC72","v":""},{"$f":"'Data Prep'!AD72","v":18},{"$f":"'Data Prep'!AG72","v":14},{"$f":"'Data Prep'!AH72","v":-0.22222222222222221},{"$f":"'Data Prep'!AJ72","v":"2017-06-02"},{"$f":"'Data Prep'!AO72","v":"Flag for discussion & safety risk"},{"$f":"'Data Prep'!AM72","v":"2016-09-15"}]
[{"$f":"'Data Prep'!B73","v":"Active"},{"$f":"'Data Prep'!D73","v":"Susan Test"},{"$f":"'Data Prep'!C73","v":1678},{"$f":"'Data Prep'!K73","v":"2016-11-20"},{"$f":"'Data Prep'!M73","v":"2017-06-02"},{"$f":"'Data Prep'!P73","v":"2017-06-16"},{"$f":"'Data Prep'!J73","v":10},{"$f":"'Data Prep'!W73","v":33.285714285714285},{"$f":"'Data Prep'!Z73","v":22},{"$f":"'Data Prep'!AA73","v":""},{"$f":"'Data Prep'!AB73","v":""},{"$f":"'Data Prep'!AC73","v":""},{"$f":"'Data Prep'!AD73","v":18},{"$f":"'Data Prep'!AG73","v":14},{"$f":"'Data Prep'!AH73","v":-0.22222222222222221},{"$f":"'Data Prep'!AJ73","v":"2017-06-02"},{"$f":"'Data Prep'!AO73","v":"Flag for discussion & safety risk"},{"$f":"'Data Prep'!AM73","v":"2016-09-15"}]
[{"$f":"'Data Prep'!B74","v":"Active"},{"$f":"'Data Prep'!D74","v":"Susan Test"},{"$f":"'Data Prep'!C74","v":1678},{"$f":"'Data Prep'!K74","v":"2016-11-20"},{"$f":"'Data Prep'!M74","v":"2017-06-02"},{"$f":"'Data Prep'!P74","v":"2017-06-16"},{"$f":"'Data Prep'!J74","v":10},{"$f":"'Data Prep'!W74","v":33.285714285714285},{"$f":"'Data Prep'!Z74","v":22},{"$f":"'Data Prep'!AA74","v":""},{"$f":"'Data Prep'!AB74","v":""},{"$f":"'Data Prep'!AC74","v":""},{"$f":"'Data Prep'!AD74","v":18},{"$f":"'Data Prep'!AG74","v":14},{"$f":"'Data Prep'!AH74","v":-0.22222222222222221},{"$f":"'Data Prep'!AJ74","v":"2017-06-02"},{"$f":"'Data Prep'!AO74","v":"Flag for discussion & safety risk"},{"$f":"'Data Prep'!AM74","v":"2016-09-15"}]
[{"$f":"'Data Prep'!B75","v":"Active"},{"$f":"'Data Prep'!D75","v":"Susan Test"},{"$f":"'Data Prep'!C75","v":1678},{"$f":"'Data Prep'!K75","v":"2016-11-20"},{"$f":"'Data Prep'!M75","v":"2017-05-29"},{"$f":"'Data Prep'!P75","v":"2017-06-16"},{"$f":"'Data Prep'!J75","v":10},{"$f":"'Data Prep'!W75","v":33.285714285714285},{"$f":"'Data Prep'!Z75","v":22},{"$f":"'Data Prep'!AA75","v":""},{"$f":"'Data Prep'!AB75","v":""},{"$f":"'Data Prep'!AC75","v":""},{"$f":"'Data Prep'!AD75","v":18},{"$f":"'Data Prep'!AG75","v":14},{"$f":"'Data Prep'!AH75","v":-0.22222222222222221},{"$f":"'Data Prep'!AJ75","v":"2017-06-02"},{"$f":"'Data Prep'!AO75","v":"Flag for discussion & safety risk"},{"$f":"'Data Prep'!AM75","v":"2016-09-15"}]
[{"$f":"'Data Prep'!B76","v":"Active"},{"$f":"'Data Prep'!D76","v":"Susan Test"},{"$f":"'Data Prep'!C76","v":1678},{"$f":"'Data Prep'!K76","v":"2016-11-20"},{"$f":"'Data Prep'!M76","v":"2017-06-02"},{"$f":"'Data Prep'!P76","v":"2017-06-16"},{"$f":"'Data Prep'!J76","v":10},{"$f":"'Data Prep'!W76","v":33.285714285714285},{"$f":"'Data Prep'!Z76","v":22},{"$f":"'Data Prep'!AA76","v":""},{"$f":"'Data Prep'!AB76","v":""},{"$f":"'Data Prep'!AC76","v":""},{"$f":"'Data Prep'!AD76","v":18},{"$f":"'Data Prep'!AG76","v":14},{"$f":"'Data Prep'!AH76","v":-0.22222222222222221},{"$f":"'Data Prep'!AJ76","v":"2017-06-02"},{"$f":"'Data Prep'!AO76","v":"Flag for discussion & safety risk"},{"$f":"'Data Prep'!AM76","v":"2016-09-15"}]
[{"$f":"'Data Prep'!B77","v":"Active"},{"$f":"'Data Prep'!D77","v":"Susan Test"},{"$f":"'Data Prep'!C77","v":1678},{"$f":"'Data Prep'!K77","v":"2016-11-20"},{"$f":"'Data Prep'!M77","v":"2017-06-02"},{"$f":"'Data Prep'!P77","v":"2017-06-16"},{"$f":"'Data Prep'!J77","v":10},{"$f":"'Data Prep'!W77","v":33.285714285714285},{"$f":"'Data Prep'!Z77","v":22},{"$f":"'Data Prep'!AA77","v":""},{"$f":"'Data Prep'!AB77","v":""},{"$f":"'Data Prep'!AC77","v":""},{"$f":"'Data Prep'!AD77","v":18},{"$f":"'Data Prep'!AG77","v":14},{"$f":"'Data Prep'!AH77","v":-0.22222222222222221},{"$f":"'Data Prep'!AJ77","v":"2017-06-02"},{"$f":"'Data Prep'!AO77","v":"Flag for discussion & safety risk"},{"$f":"'Data Prep'!AM77","v":"2016-09-15"}]
[{"$f":"'Data Prep'!B78","v":"Active"},{"$f":"'Data Prep'!D78","v":"Susan Test"},{"$f":"'Data Prep'!C78","v":1678},{"$f":"'Data Prep'!K78","v":"2016-11-20"},{"$f":"'Data Prep'!M78","v":"2017-06-02"},{"$f":"'Data Prep'!P78","v":"2017-06-16"},{"$f":"'Data Prep'!J78","v":10},{"$f":"'Data Prep'!W78","v":33.285714285714285},{"$f":"'Data Prep'!Z78","v":22},{"$f":"'Data Prep'!AA78","v":""},{"$f":"'Data Prep'!AB78","v":""},{"$f":"'Data Prep'!AC78","v":""},{"$f":"'Data Prep'!AD78","v":18},{"$f":"'Data Prep'!AG78","v":14},{"$f":"'Data Prep'!AH78","v":-0.22222222222222221},{"$f":"'Data Prep'!AJ78","v":"2017-06-02"},{"$f":"'Data Prep'!AO78","v":"Flag for discussion & safety risk"},{"$f":"'Data Prep'!AM78","v":"2016-09-15"}]
[{"$f":"'Data Prep'!B79","v":"Active"},{"$f":"'Data Prep'!D79","v":"Susan Test"},{"$f":"'Data Prep'!C79","v":1678},{"$f":"'Data Prep'!K79","v":"2016-11-20"},{"$f":"'Data Prep'!M79","v":"2017-06-02"},{"$f":"'Data Prep'!P79","v":"2017-06-16"},{"$f":"'Data Prep'!J79","v":10},{"$f":"'Data Prep'!W79","v":33.285714285714285},{"$f":"'Data Prep'!Z79","v":22},{"$f":"'Data Prep'!AA79","v":15},{"$f":"'Data Prep'!AB79","v":-0.31818181818181823},{"$f":"'Data Prep'!AC79","v":"2017-06-02"},{"$f":"'Data Prep'!AD79","v":18},{"$f":"'Data Prep'!AG79","v":14},{"$f":"'Data Prep'!AH79","v":-0.22222222222222221},{"$f":"'Data Prep'!AJ79","v":"2017-06-02"},{"$f":"'Data Prep'!AO79","v":"Flag for discussion & safety risk"},{"$f":"'Data Prep'!AM79","v":"2016-09-15"}]
[{"$f":"'Data Prep'!B80","v":"Active"},{"$f":"'Data Prep'!D80","v":"Susan Test"},{"$f":"'Data Prep'!C80","v":1678},{"$f":"'Data Prep'!K80","v":"2016-11-20"},{"$f":"'Data Prep'!M80","v":"2017-05-29"},{"$f":"'Data Prep'!P80","v":"2017-06-16"},{"$f":"'Data Prep'!J80","v":0},{"$f":"'Data Prep'!W80","v":33.285714285714285},{"$f":"'Data Prep'!Z80","v":22},{"$f":"'Data Prep'!AA80","v":""},{"$f":"'Data Prep'!AB80","v":""},{"$f":"'Data Prep'!AC80","v":""},{"$f":"'Data Prep'!AD80","v":18},{"$f":"'Data Prep'!AG80","v":14},{"$f":"'Data Prep'!AH80","v":-0.22222222222222221},{"$f":"'Data Prep'!AJ80","v":"2017-06-02"},{"$f":"'Data Prep'!AO80","v":"Flag for discussion & safety risk"},{"$f":"'Data Prep'!AM80","v":"2016-09-15"}]
[{"$f":"'Data Prep'!B81","v":"Active"},{"$f":"'Data Prep'!D81","v":"Susan Test"},{"$f":"'Data Prep'!C81","v":1678},{"$f":"'Data Prep'!K81","v":"2016-11-20"},{"$f":"'Data Prep'!M81","v":"2017-05-29"},{"$f":"'Data Prep'!P81","v":"2017-06-30"},{"$f":"'Data Prep'!J81","v":0},{"$f":"'Data Prep'!W81","v":33.285714285714285},{"$f":"'Data Prep'!Z81","v":22},{"$f":"'Data Prep'!AA81","v":""},{"$f":"'Data Prep'!AB81","v":""},{"$f":"'Data Prep'!AC81","v":""},{"$f":"'Data Prep'!AD81","v":18},{"$f":"'Data Prep'!AG81","v":14},{"$f":"'Data Prep'!AH81","v":-0.22222222222222221},{"$f":"'Data Prep'!AJ81","v":"2017-06-02"},{"$f":"'Data Prep'!AO81","v":"Flag for discussion & safety risk"},{"$f":"'Data Prep'!AM81","v":"2016-09-15"}]
[{"$f":"'Data Prep'!B82","v":"Active"},{"$f":"'Data Prep'!D82","v":"Nancy Fake"},{"$f":"'Data Prep'!C82","v":6789},{"$f":"'Data Prep'!K82","v":"2017-05-29"},{"$f":"'Data Prep'!M82","v":"2017-05-29"},{"$f":"'Data Prep'!P82","v":"2017-06-12"},{"$f":"'Data Prep'!J82","v":0},{"$f":"'Data Prep'!W82","v":6.1428571428571432},{"$f":"'Data Prep'!Z82","v":"No Score"},{"$f":"'Data Prep'!AA82","v":"No Score"},{"$f":"'Data Prep'!AB82","v":""},{"$f":"'Data Prep'!AC82","v":""},{"$f":"'Data Prep'!AD82","v":"No Score"},{"$f":"'Data Prep'!AG82","v":"No Score"},{"$f":"'Data Prep'!AH82","v":""},{"$f":"'Data Prep'!AJ82","v":""},{"$f":"'Data Prep'!AO82","v":""},{"$f":"'Data Prep'!AM82","v":""}]
[{"$f":"'Data Prep'!B83","v":"Active"},{"$f":"'Data Prep'!D83","v":"Nancy Fake"},{"$f":"'Data Prep'!C83","v":6789},{"$f":"'Data Prep'!K83","v":"2017-05-29"},{"$f":"'Data Prep'!M83","v":"2017-05-29"},{"$f":"'Data Prep'!P83","v":"2017-06-12"},{"$f":"'Data Prep'!J83","v":0},{"$f":"'Data Prep'!W83","v":6.1428571428571432},{"$f":"'Data Prep'!Z83","v":"No Score"},{"$f":"'Data Prep'!AA83","v":""},{"$f":"'Data Prep'!AB83","v":""},{"$f":"'Data Prep'!AC83","v":""},{"$f":"'Data Prep'!AD83","v":"No Score"},{"$f":"'Data Prep'!AG83","v":"No Score"},{"$f":"'Data Prep'!AH83","v":""},{"$f":"'Data Prep'!AJ83","v":""},{"$f":"'Data Prep'!AO83","v":""},{"$f":"'Data Prep'!AM83","v":""}]
[{"$f":"'Data Prep'!B84","v":"Active"},{"$f":"'Data Prep'!D84","v":"Nancy Fake"},{"$f":"'Data Prep'!C84","v":6789},{"$f":"'Data Prep'!K84","v":"2017-05-29"},{"$f":"'Data Prep'!M84","v":"2016-12-15"},{"$f":"'Data Prep'!P84","v":"2017-06-12"},{"$f":"'Data Prep'!J84","v":0},{"$f":"'Data Prep'!W84","v":6.1428571428571432},{"$f":"'Data Prep'!Z84","v":"No Score"},{"$f":"'Data Prep'!AA84","v":""},{"$f":"'Data Prep'!AB84","v":""},{"$f":"'Data Prep'!AC84","v":""},{"$f":"'Data Prep'!AD84","v":"No Score"},{"$f":"'Data Prep'!AG84","v":"No Score"},{"$f":"'Data Prep'!AH84","v":""},{"$f":"'Data Prep'!AJ84","v":""},{"$f":"'Data Prep'!AO84","v":""},{"$f":"'Data Prep'!AM84","v":""}]
[{"$f":"'Data Prep'!B85","v":"Active"},{"$f":"'Data Prep'!D85","v":"Nancy Fake"},{"$f":"'Data Prep'!C85","v":6789},{"$f":"'Data Prep'!K85","v":"2017-05-29"},{"$f":"'Data Prep'!M85","v":"2016-12-15"},{"$f":"'Data Prep'!P85","v":"2017-06-26"},{"$f":"'Data Prep'!J85","v":0},{"$f":"'Data Prep'!W85","v":6.1428571428571432},{"$f":"'Data Prep'!Z85","v":"No Score"},{"$f":"'Data Prep'!AA85","v":""},{"$f":"'Data Prep'!AB85","v":""},{"$f":"'Data Prep'!AC85","v":""},{"$f":"'Data Prep'!AD85","v":"No Score"},{"$f":"'Data Prep'!AG85","v":"No Score"},{"$f":"'Data Prep'!AH85","v":""},{"$f":"'Data Prep'!AJ85","v":""},{"$f":"'Data Prep'!AO85","v":""},{"$f":"'Data Prep'!AM85","v":""}]
[{"$f":"'Data Prep'!B86","v":"Active"},{"$f":"'Data Prep'!D86","v":"Nancy Fake"},{"$f":"'Data Prep'!C86","v":6789},{"$f":"'Data Prep'!K86","v":"2017-05-29"},{"$f":"'Data Prep'!M86","v":"2016-12-15"},{"$f":"'Data Prep'!P86","v":"2017-07-10"},{"$f":"'Data Prep'!J86","v":0},{"$f":"'Data Prep'!W86","v":6.1428571428571432},{"$f":"'Data Prep'!Z86","v":"No Score"},{"$f":"'Data Prep'!AA86","v":""},{"$f":"'Data Prep'!AB86","v":""},{"$f":"'Data Prep'!AC86","v":""},{"$f":"'Data Prep'!AD86","v":"No Score"},{"$f":"'Data Prep'!AG86","v":"No Score"},{"$f":"'Data Prep'!AH86","v":""},{"$f":"'Data Prep'!AJ86","v":""},{"$f":"'Data Prep'!AO86","v":""},{"$f":"'Data Prep'!AM86","v":""}]
[{"$f":"'Data Prep'!B87","v":"Active"},{"$f":"'Data Prep'!D87","v":"Nancy Fake"},{"$f":"'Data Prep'!C87","v":6789},{"$f":"'Data Prep'!K87","v":"2017-05-29"},{"$f":"'Data Prep'!M87","v":"2016-12-15"},{"$f":"'Data Prep'!P87","v":"2017-07-24"},{"$f":"'Data Prep'!J87","v":0},{"$f":"'Data Prep'!W87","v":6.1428571428571432},{"$f":"'Data Prep'!Z87","v":"No Score"},{"$f":"'Data Prep'!AA87","v":""},{"$f":"'Data Prep'!AB87","v":""},{"$f":"'Data Prep'!AC87","v":""},{"$f":"'Data Prep'!AD87","v":"No Score"},{"$f":"'Data Prep'!AG87","v":"No Score"},{"$f":"'Data Prep'!AH87","v":""},{"$f":"'Data Prep'!AJ87","v":""},{"$f":"'Data Prep'!AO87","v":""},{"$f":"'Data Prep'!AM87","v":""}]
[{"$f":"'Data Prep'!B88","v":"Active"},{"$f":"'Data Prep'!D88","v":"Nancy Fake"},{"$f":"'Data Prep'!C88","v":6789},{"$f":"'Data Prep'!K88","v":"2017-05-29"},{"$f":"'Data Prep'!M88","v":"2016-12-15"},{"$f":"'Data Prep'!P88","v":"2017-08-07"},{"$f":"'Data Prep'!J88","v":0},{"$f":"'Data Prep'!W88","v":6.1428571428571432},{"$f":"'Data Prep'!Z88","v":"No Score"},{"$f":"'Data Prep'!AA88","v":""},{"$f":"'Data Prep'!AB88","v":""},{"$f":"'Data Prep'!AC88","v":""},{"$f":"'Data Prep'!AD88","v":"No Score"},{"$f":"'Data Prep'!AG88","v":"No Score"},{"$f":"'Data Prep'!AH88","v":""},{"$f":"'Data Prep'!AJ88","v":""},{"$f":"'Data Prep'!AO88","v":""},{"$f":"'Data Prep'!AM88","v":""}]
[{"$f":"'Data Prep'!B89","v":"Active"},{"$f":"'Data Prep'!D89","v":"Nancy Fake"},{"$f":"'Data Prep'!C89","v":6789},{"$f":"'Data Prep'!K89","v":"2017-05-29"},{"$f":"'Data Prep'!M89","v":"2016-12-15"},{"$f":"'Data Prep'!P89","v":"2017-08-21"},{"$f":"'Data Prep'!J89","v":0},{"$f":"'Data Prep'!W89","v":6.1428571428571432},{"$f":"'Data Prep'!Z89","v":"No Score"},{"$f":"'Data Prep'!AA89","v":""},{"$f":"'Data Prep'!AB89","v":""},{"$f":"'Data Prep'!AC89","v":""},{"$f":"'Data Prep'!AD89","v":"No Score"},{"$f":"'Data Prep'!AG89","v":"No Score"},{"$f":"'Data Prep'!AH89","v":""},{"$f":"'Data Prep'!AJ89","v":""},{"$f":"'Data Prep'!AO89","v":""},{"$f":"'Data Prep'!AM89","v":""}]
[{"$f":"'Data Prep'!B90","v":"Active"},{"$f":"'Data Prep'!D90","v":"Nancy Fake"},{"$f":"'Data Prep'!C90","v":6789},{"$f":"'Data Prep'!K90","v":"2017-05-29"},{"$f":"'Data Prep'!M90","v":"2016-12-15"},{"$f":"'Data Prep'!P90","v":"2017-09-04"},{"$f":"'Data Prep'!J90","v":0},{"$f":"'Data Prep'!W90","v":6.1428571428571432},{"$f":"'Data Prep'!Z90","v":"No Score"},{"$f":"'Data Prep'!AA90","v":""},{"$f":"'Data Prep'!AB90","v":""},{"$f":"'Data Prep'!AC90","v":""},{"$f":"'Data Prep'!AD90","v":"No Score"},{"$f":"'Data Prep'!AG90","v":"No Score"},{"$f":"'Data Prep'!AH90","v":""},{"$f":"'Data Prep'!AJ90","v":""},{"$f":"'Data Prep'!AO90","v":""},{"$f":"'Data Prep'!AM90","v":""}]
[{"$f":"'Data Prep'!B91","v":"Active"},{"$f":"'Data Prep'!D91","v":"Nancy Fake"},{"$f":"'Data Prep'!C91","v":6789},{"$f":"'Data Prep'!K91","v":"2017-05-29"},{"$f":"'Data Prep'!M91","v":"2016-12-15"},{"$f":"'Data Prep'!P91","v":"2017-09-18"},{"$f":"'Data Prep'!J91","v":0},{"$f":"'Data Prep'!W91","v":6.1428571428571432},{"$f":"'Data Prep'!Z91","v":"No Score"},{"$f":"'Data Prep'!AA91","v":""},{"$f":"'Data Prep'!AB91","v":""},{"$f":"'Data Prep'!AC91","v":""},{"$f":"'Data Prep'!AD91","v":"No Score"},{"$f":"'Data Prep'!AG91","v":"No Score"},{"$f":"'Data Prep'!AH91","v":""},{"$f":"'Data Prep'!AJ91","v":""},{"$f":"'Data Prep'!AO91","v":""},{"$f":"'Data Prep'!AM91","v":""}]
[{"$f":"'Data Prep'!B92","v":"Active"},{"$f":"'Data Prep'!D92","v":"Nancy Fake"},{"$f":"'Data Prep'!C92","v":6789},{"$f":"'Data Prep'!K92","v":"2017-05-29"},{"$f":"'Data Prep'!M92","v":"2016-12-15"},{"$f":"'Data Prep'!P92","v":"2017-10-02"},{"$f":"'Data Prep'!J92","v":0},{"$f":"'Data Prep'!W92","v":6.1428571428571432},{"$f":"'Data Prep'!Z92","v":"No Score"},{"$f":"'Data Prep'!AA92","v":""},{"$f":"'Data Prep'!AB92","v":""},{"$f":"'Data Prep'!AC92","v":""},{"$f":"'Data Prep'!AD92","v":"No Score"},{"$f":"'Data Prep'!AG92","v":"No Score"},{"$f":"'Data Prep'!AH92","v":""},{"$f":"'Data Prep'!AJ92","v":""},{"$f":"'Data Prep'!AO92","v":""},{"$f":"'Data Prep'!AM92","v":""}]
[{"$f":"'Data Prep'!B93","v":"Active"},{"$f":"'Data Prep'!D93","v":"Nancy Fake"},{"$f":"'Data Prep'!C93","v":6789},{"$f":"'Data Prep'!K93","v":"2017-05-29"},{"$f":"'Data Prep'!M93","v":"2016-12-15"},{"$f":"'Data Prep'!P93","v":"2017-10-16"},{"$f":"'Data Prep'!J93","v":0},{"$f":"'Data Prep'!W93","v":6.1428571428571432},{"$f":"'Data Prep'!Z93","v":"No Score"},{"$f":"'Data Prep'!AA93","v":""},{"$f":"'Data Prep'!AB93","v":""},{"$f":"'Data Prep'!AC93","v":""},{"$f":"'Data Prep'!AD93","v":"No Score"},{"$f":"'Data Prep'!AG93","v":"No Score"},{"$f":"'Data Prep'!AH93","v":""},{"$f":"'Data Prep'!AJ93","v":""},{"$f":"'Data Prep'!AO93","v":""},{"$f":"'Data Prep'!AM93","v":""}]
[{"$f":"'Data Prep'!B94","v":"Active"},{"$f":"'Data Prep'!D94","v":"Nancy Fake"},{"$f":"'Data Prep'!C94","v":6789},{"$f":"'Data Prep'!K94","v":"2017-05-29"},{"$f":"'Data Prep'!M94","v":"2016-12-15"},{"$f":"'Data Prep'!P94","v":"2017-10-30"},{"$f":"'Data Prep'!J94","v":0},{"$f":"'Data Prep'!W94","v":6.1428571428571432},{"$f":"'Data Prep'!Z94","v":"No Score"},{"$f":"'Data Prep'!AA94","v":""},{"$f":"'Data Prep'!AB94","v":""},{"$f":"'Data Prep'!AC94","v":""},{"$f":"'Data Prep'!AD94","v":"No Score"},{"$f":"'Data Prep'!AG94","v":"No Score"},{"$f":"'Data Prep'!AH94","v":""},{"$f":"'Data Prep'!AJ94","v":""},{"$f":"'Data Prep'!AO94","v":""},{"$f":"'Data Prep'!AM94","v":""}]
[{"$f":"'Data Prep'!B95","v":"Active"},{"$f":"'Data Prep'!D95","v":"Nancy Fake"},{"$f":"'Data Prep'!C95","v":6789},{"$f":"'Data Prep'!K95","v":"2017-05-29"},{"$f":"'Data Prep'!M95","v":"2016-12-15"},{"$f":"'Data Prep'!P95","v":"2017-11-13"},{"$f":"'Data Prep'!J95","v":0},{"$f":"'Data Prep'!W95","v":6.1428571428571432},{"$f":"'Data Prep'!Z95","v":"No Score"},{"$f":"'Data Prep'!AA95","v":""},{"$f":"'Data Prep'!AB95","v":""},{"$f":"'Data Prep'!AC95","v":""},{"$f":"'Data Prep'!AD95","v":"No Score"},{"$f":"'Data Prep'!AG95","v":"No Score"},{"$f":"'Data Prep'!AH95","v":""},{"$f":"'Data Prep'!AJ95","v":""},{"$f":"'Data Prep'!AO95","v":""},{"$f":"'Data Prep'!AM95","v":""}]
[{"$f":"'Data Prep'!B96","v":"Active"},{"$f":"'Data Prep'!D96","v":"Nancy Fake"},{"$f":"'Data Prep'!C96","v":6789},{"$f":"'Data Prep'!K96","v":"2017-05-29"},{"$f":"'Data Prep'!M96","v":"2016-12-15"},{"$f":"'Data Prep'!P96","v":"2017-11-27"},{"$f":"'Data Prep'!J96","v":0},{"$f":"'Data Prep'!W96","v":6.1428571428571432},{"$f":"'Data Prep'!Z96","v":"No Score"},{"$f":"'Data Prep'!AA96","v":""},{"$f":"'Data Prep'!AB96","v":""},{"$f":"'Data Prep'!AC96","v":""},{"$f":"'Data Prep'!AD96","v":"No Score"},{"$f":"'Data Prep'!AG96","v":"No Score"},{"$f":"'Data Prep'!AH96","v":""},{"$f":"'Data Prep'!AJ96","v":""},{"$f":"'Data Prep'!AO96","v":""},{"$f":"'Data Prep'!AM96","v":""}]
[{"$f":"'Data Prep'!B97","v":"Active"},{"$f":"'Data Prep'!D97","v":"Nancy Fake"},{"$f":"'Data Prep'!C97","v":6789},{"$f":"'Data Prep'!K97","v":"2017-05-29"},{"$f":"'Data Prep'!M97","v":"2016-12-15"},{"$f":"'Data Prep'!P97","v":"2017-12-11"},{"$f":"'Data Prep'!J97","v":0},{"$f":"'Data Prep'!W97","v":6.1428571428571432},{"$f":"'Data Prep'!Z97","v":"No Score"},{"$f":"'Data Prep'!AA97","v":""},{"$f":"'Data Prep'!AB97","v":""},{"$f":"'Data Prep'!AC97","v":""},{"$f":"'Data Prep'!AD97","v":"No Score"},{"$f":"'Data Prep'!AG97","v":"No Score"},{"$f":"'Data Prep'!AH97","v":""},{"$f":"'Data Prep'!AJ97","v":""},{"$f":"'Data Prep'!AO97","v":""},{"$f":"'Data Prep'!AM97","v":""}]
[{"$f":"'Data Prep'!B98","v":"RP"},{"$f":"'Data Prep'!D98","v":"Betty Test"},{"$f":"'Data Prep'!C98","v":2500},{"$f":"'Data Prep'!K98","v":"2016-12-15"},{"$f":"'Data Prep'!M98","v":"2016-12-15"},{"$f":"'Data Prep'!P98","v":"2017-06-14"},{"$f":"'Data Prep'!J98","v":10},{"$f":"'Data Prep'!W98","v":29.714285714285715},{"$f":"'Data Prep'!Z98","v":"No Score"},{"$f":"'Data Prep'!AA98","v":""},{"$f":"'Data Prep'!AB98","v":""},{"$f":"'Data Prep'!AC98","v":""},{"$f":"'Data Prep'!AD98","v":"No Score"},{"$f":"'Data Prep'!AG98","v":"No Score"},{"$f":"'Data Prep'!AH98","v":""},{"$f":"'Data Prep'!AJ98","v":"2017-05-15"},{"$f":"'Data Prep'!AO98","v":""},{"$f":"'Data Prep'!AM98","v":""}]
[{"$f":"'Data Prep'!B99","v":"RP"},{"$f":"'Data Prep'!D99","v":"Betty Test"},{"$f":"'Data Prep'!C99","v":2500},{"$f":"'Data Prep'!K99","v":"2016-12-15"},{"$f":"'Data Prep'!M99","v":"2017-05-15"},{"$f":"'Data Prep'!P99","v":"2017-06-14"},{"$f":"'Data Prep'!J99","v":10},{"$f":"'Data Prep'!W99","v":29.714285714285715},{"$f":"'Data Prep'!Z99","v":12},{"$f":"'Data Prep'!AA99","v":""},{"$f":"'Data Prep'!AB99","v":""},{"$f":"'Data Prep'!AC99","v":""},{"$f":"'Data Prep'!AD99","v":9},{"$f":"'Data Prep'!AG99","v":3},{"$f":"'Data Prep'!AH99","v":-0.66666666666666674},{"$f":"'Data Prep'!AJ99","v":"2017-05-15"},{"$f":"'Data Prep'!AO99","v":""},{"$f":"'Data Prep'!AM99","v":""}]
[{"$f":"'Data Prep'!B100","v":"RP"},{"$f":"'Data Prep'!D100","v":"Betty Test"},{"$f":"'Data Prep'!C100","v":2500},{"$f":"'Data Prep'!K100","v":"2016-12-15"},{"$f":"'Data Prep'!M100","v":"2017-05-15"},{"$f":"'Data Prep'!P100","v":"2017-06-14"},{"$f":"'Data Prep'!J100","v":10},{"$f":"'Data Prep'!W100","v":29.714285714285715},{"$f":"'Data Prep'!Z100","v":12},{"$f":"'Data Prep'!AA100","v":""},{"$f":"'Data Prep'!AB100","v":""},{"$f":"'Data Prep'!AC100","v":""},{"$f":"'Data Prep'!AD100","v":9},{"$f":"'Data Prep'!AG100","v":3},{"$f":"'Data Prep'!AH100","v":-0.66666666666666674},{"$f":"'Data Prep'!AJ100","v":"2017-05-15"},{"$f":"'Data Prep'!AO100","v":""},{"$f":"'Data Prep'!AM100","v":""}]
[{"$f":"'Data Prep'!B101","v":"RP"},{"$f":"'Data Prep'!D101","v":"Betty Test"},{"$f":"'Data Prep'!C101","v":2500},{"$f":"'Data Prep'!K101","v":"2016-12-15"},{"$f":"'Data Prep'!M101","v":"2017-05-15"},{"$f":"'Data Prep'!P101","v":"2017-06-14"},{"$f":"'Data Prep'!J101","v":10},{"$f":"'Data Prep'!W101","v":29.714285714285715},{"$f":"'Data Prep'!Z101","v":12},{"$f":"'Data Prep'!AA101","v":""},{"$f":"'Data Prep'!AB101","v":""},{"$f":"'Data Prep'!AC101","v":""},{"$f":"'Data Prep'!AD101","v":9},{"$f":"'Data Prep'!AG101","v":3},{"$f":"'Data Prep'!AH101","v":-0.66666666666666674},{"$f":"'Data Prep'!AJ101","v":"2017-05-15"},{"$f":"'Data Prep'!AO101","v":""},{"$f":"'Data Prep'!AM101","v":""}]
[{"$f":"'Data Prep'!B102","v":"RP"},{"$f":"'Data Prep'!D102","v":"Betty Test"},{"$f":"'Data Prep'!C102","v":2500},{"$f":"'Data Prep'!K102","v":"2016-12-15"},{"$f":"'Data Prep'!M102","v":"2017-05-15"},{"$f":"'Data Prep'!P102","v":"2017-06-14"},{"$f":"'Data Prep'!J102","v":10},{"$f":"'Data Prep'!W102","v":29.714285714285715},{"$f":"'Data Prep'!Z102","v":12},{"$f":"'Data Prep'!AA102","v":""},{"$f":"'Data Prep'!AB102","v":""},{"$f":"'Data Prep'!AC102","v":""},{"$f":"'Data Prep'!AD102","v":9},{"$f":"'Data Prep'!AG102","v":3},{"$f":"'Data Prep'!AH102","v":-0.66666666666666674},{"$f":"'Data Prep'!AJ102","v":"2017-05-15"},{"$f":"'Data Prep'!AO102","v":""},{"$f":"'Data Prep'!AM102","v":""}]
[{"$f":"'Data Prep'!B103","v":"RP"},{"$f":"'Data Prep'!D103","v":"Betty Test"},{"$f":"'Data Prep'!C103","v":2500},{"$f":"'Data Prep'!K103","v":"2016-12-15"},{"$f":"'Data Prep'!M103","v":"2017-05-15"},{"$f":"'Data Prep'!P103","v":"2017-06-14"},{"$f":"'Data Prep'!J103","v":10},{"$f":"'Data Prep'!W103","v":29.714285714285715},{"$f":"'Data Prep'!Z103","v":12},{"$f":"'Data Prep'!AA103","v":""},{"$f":"'Data Prep'!AB103","v":""},{"$f":"'Data Prep'!AC103","v":""},{"$f":"'Data Prep'!AD103","v":9},{"$f":"'Data Prep'!AG103","v":3},{"$f":"'Data Prep'!AH103","v":-0.66666666666666674},{"$f":"'Data Prep'!AJ103","v":"2017-05-15"},{"$f":"'Data Prep'!AO103","v":""},{"$f":"'Data Prep'!AM103","v":""}]
[{"$f":"'Data Prep'!B104","v":"RP"},{"$f":"'Data Prep'!D104","v":"Betty Test"},{"$f":"'Data Prep'!C104","v":2500},{"$f":"'Data Prep'!K104","v":"2016-12-15"},{"$f":"'Data Prep'!M104","v":"2017-05-15"},{"$f":"'Data Prep'!P104","v":"2017-06-14"},{"$f":"'Data Prep'!J104","v":10},{"$f":"'Data Prep'!W104","v":29.714285714285715},{"$f":"'Data Prep'!Z104","v":12},{"$f":"'Data Prep'!AA104","v":""},{"$f":"'Data Prep'!AB104","v":""},{"$f":"'Data Prep'!AC104","v":""},{"$f":"'Data Prep'!AD104","v":9},{"$f":"'Data Prep'!AG104","v":3},{"$f":"'Data Prep'!AH104","v":-0.66666666666666674},{"$f":"'Data Prep'!AJ104","v":"2017-05-15"},{"$f":"'Data Prep'!AO104","v":""},{"$f":"'Data Prep'!AM104","v":""}]
[{"$f":"'Data Prep'!B105","v":"RP"},{"$f":"'Data Prep'!D105","v":"Betty Test"},{"$f":"'Data Prep'!C105","v":2500},{"$f":"'Data Prep'!K105","v":"2016-12-15"},{"$f":"'Data Prep'!M105","v":"2017-05-15"},{"$f":"'Data Prep'!P105","v":"2017-06-14"},{"$f":"'Data Prep'!J105","v":10},{"$f":"'Data Prep'!W105","v":29.714285714285715},{"$f":"'Data Prep'!Z105","v":12},{"$f":"'Data Prep'!AA105","v":""},{"$f":"'Data Prep'!AB105","v":""},{"$f":"'Data Prep'!AC105","v":""},{"$f":"'Data Prep'!AD105","v":9},{"$f":"'Data Prep'!AG105","v":3},{"$f":"'Data Prep'!AH105","v":-0.66666666666666674},{"$f":"'Data Prep'!AJ105","v":"2017-05-15"},{"$f":"'Data Prep'!AO105","v":""},{"$f":"'Data Prep'!AM105","v":""}]
[{"$f":"'Data Prep'!B106","v":"RP"},{"$f":"'Data Prep'!D106","v":"Betty Test"},{"$f":"'Data Prep'!C106","v":2500},{"$f":"'Data Prep'!K106","v":"2016-12-15"},{"$f":"'Data Prep'!M106","v":"2017-05-15"},{"$f":"'Data Prep'!P106","v":"2017-06-14"},{"$f":"'Data Prep'!J106","v":10},{"$f":"'Data Prep'!W106","v":29.714285714285715},{"$f":"'Data Prep'!Z106","v":12},{"$f":"'Data Prep'!AA106","v":""},{"$f":"'Data Prep'!AB106","v":""},{"$f":"'Data Prep'!AC106","v":""},{"$f":"'Data Prep'!AD106","v":9},{"$f":"'Data Prep'!AG106","v":3},{"$f":"'Data Prep'!AH106","v":-0.66666666666666674},{"$f":"'Data Prep'!AJ106","v":"2017-05-15"},{"$f":"'Data Prep'!AO106","v":""},{"$f":"'Data Prep'!AM106","v":""}]
[{"$f":"'Data Prep'!B107","v":"RP"},{"$f":"'Data Prep'!D107","v":"Betty Test"},{"$f":"'Data Prep'!C107","v":2500},{"$f":"'Data Prep'!K107","v":"2016-12-15"},{"$f":"'Data Prep'!M107","v":"2017-05-15"},{"$f":"'Data Prep'!P107","v":"2017-06-14"},{"$f":"'Data Prep'!J107","v":10},{"$f":"'Data Prep'!W107","v":29.714285714285715},{"$f":"'Data Prep'!Z107","v":12},{"$f":"'Data Prep'!AA107","v":""},{"$f":"'Data Prep'!AB107","v":""},{"$f":"'Data Prep'!AC107","v":""},{"$f":"'Data Prep'!AD107","v":9},{"$f":"'Data Prep'!AG107","v":3},{"$f":"'Data Prep'!AH107","v":-0.66666666666666674},{"$f":"'Data Prep'!AJ107","v":"2017-05-15"},{"$f":"'Data Prep'!AO107","v":""},{"$f":"'Data Prep'!AM107","v":""}]
[{"$f":"'Data Prep'!B108","v":"RP"},{"$f":"'Data Prep'!D108","v":"Betty Test"},{"$f":"'Data Prep'!C108","v":2500},{"$f":"'Data Prep'!K108","v":"2016-12-15"},{"$f":"'Data Prep'!M108","v":"2017-05-15"},{"$f":"'Data Prep'!P108","v":"2017-06-14"},{"$f":"'Data Prep'!J108","v":10},{"$f":"'Data Prep'!W108","v":29.714285714285715},{"$f":"'Data Prep'!Z108","v":12},{"$f":"'Data Prep'!AA108","v":""},{"$f":"'Data Prep'!AB108","v":""},{"$f":"'Data Prep'!AC108","v":""},{"$f":"'Data Prep'!AD108","v":9},{"$f":"'Data Prep'!AG108","v":3},{"$f":"'Data Prep'!AH108","v":-0.66666666666666674},{"$f":"'Data Prep'!AJ108","v":"2017-05-15"},{"$f":"'Data Prep'!AO108","v":""},{"$f":"'Data Prep'!AM108","v":""}]
[{"$f":"'Data Prep'!B109","v":"RP"},{"$f":"'Data Prep'!D109","v":"Betty Test"},{"$f":"'Data Prep'!C109","v":2500},{"$f":"'Data Prep'!K109","v":"2016-12-15"},{"$f":"'Data Prep'!M109","v":"2017-05-15"},{"$f":"'Data Prep'!P109","v":"2017-06-14"},{"$f":"'Data Prep'!J109","v":10},{"$f":"'Data Prep'!W109","v":29.714285714285715},{"$f":"'Data Prep'!Z109","v":12},{"$f":"'Data Prep'!AA109","v":1},{"$f":"'Data Prep'!AB109","v":-0.91666666666666663},{"$f":"'Data Prep'!AC109","v":"2017-05-15"},{"$f":"'Data Prep'!AD109","v":9},{"$f":"'Data Prep'!AG109","v":3},{"$f":"'Data Prep'!AH109","v":-0.66666666666666674},{"$f":"'Data Prep'!AJ109","v":"2017-05-15"},{"$f":"'Data Prep'!AO109","v":""},{"$f":"'Data Prep'!AM109","v":""}]
[{"$f":"'Data Prep'!B110","v":"RP"},{"$f":"'Data Prep'!D110","v":"Betty Test"},{"$f":"'Data Prep'!C110","v":2500},{"$f":"'Data Prep'!K110","v":"2016-12-15"},{"$f":"'Data Prep'!M110","v":"00:00:00"},{"$f":"'Data Prep'!P110","v":"2017-06-14"},{"$f":"'Data Prep'!J110","v":0},{"$f":"'Data Prep'!W110","v":29.714285714285715},{"$f":"'Data Prep'!Z110","v":12},{"$f":"'Data Prep'!AA110","v":""},{"$f":"'Data Prep'!AB110","v":""},{"$f":"'Data Prep'!AC110","v":""},{"$f":"'Data Prep'!AD110","v":9},{"$f":"'Data Prep'!AG110","v":3},{"$f":"'Data Prep'!AH110","v":-0.66666666666666674},{"$f":"'Data Prep'!AJ110","v":"2017-05-15"},{"$f":"'Data Prep'!AO110","v":""},{"$f":"'Data Prep'!AM110","v":""}]
[{"$f":"'Data Prep'!B111","v":"RP"},{"$f":"'Data Prep'!D111","v":"Betty Test"},{"$f":"'Data Prep'!C111","v":2500},{"$f":"'Data Prep'!K111","v":"2016-12-15"},{"$f":"'Data Prep'!M111","v":"00:00:00"},{"$f":"'Data Prep'!P111","v":"2017-07-14"},{"$f":"'Data Prep'!J111","v":0},{"$f":"'Data Prep'!W111","v":29.714285714285715},{"$f":"'Data Prep'!Z111","v":12},{"$f":"'Data Prep'!AA111","v":""},{"$f":"'Data Prep'!AB111","v":""},{"$f":"'Data Prep'!AC111","v":""},{"$f":"'Data Prep'!AD111","v":9},{"$f":"'Data Prep'!AG111","v":3},{"$f":"'Data Prep'!AH111","v":-0.66666666666666674},{"$f":"'Data Prep'!AJ111","v":"2017-05-15"},{"$f":"'Data Prep'!AO111","v":""},{"$f":"'Data Prep'!AM111","v":""}]
[{"$f":"'Data Prep'!B112","v":"RP"},{"$f":"'Data Prep'!D112","v":"Betty Test"},{"$f":"'Data Prep'!C112","v":2500},{"$f":"'Data Prep'!K112","v":"2016-12-15"},{"$f":"'Data Prep'!M112","v":"00:00:00"},{"$f":"'Data Prep'!P112","v":"2017-08-13"},{"$f":"'Data Prep'!J112","v":0},{"$f":"'Data Prep'!W112","v":29.714285714285715},{"$f":"'Data Prep'!Z112","v":12},{"$f":"'Data Prep'!AA112","v":""},{"$f":"'Data Prep'!AB112","v":""},{"$f":"'Data Prep'!AC112","v":""},{"$f":"'Data Prep'!AD112","v":9},{"$f":"'Data Prep'!AG112","v":3},{"$f":"'Data Prep'!AH112","v":-0.66666666666666674},{"$f":"'Data Prep'!AJ112","v":"2017-05-15"},{"$f":"'Data Prep'!AO112","v":""},{"$f":"'Data Prep'!AM112","v":""}]
[{"$f":"'Data Prep'!B113","v":"RP"},{"$f":"'Data Prep'!D113","v":"Betty Test"},{"$f":"'Data Prep'!C113","v":2500},{"$f":"'Data Prep'!K113","v":"2016-12-15"},{"$f":"'Data Prep'!M113","v":"00:00:00"},{"$f":"'Data Prep'!P113","v":"2017-09-12"},{"$f":"'Data Prep'!J113","v":0},{"$f":"'Data Prep'!W113","v":29.714285714285715},{"$f":"'Data Prep'!Z113","v":12},{"$f":"'Data Prep'!AA113","v":""},{"$f":"'Data Prep'!AB113","v":""},{"$f":"'Data Prep'!AC113","v":""},{"$f":"'Data Prep'!AD113","v":9},{"$f":"'Data Prep'!AG113","v":3},{"$f":"'Data Prep'!AH113","v":-0.66666666666666674},{"$f":"'Data Prep'!AJ113","v":"2017-05-15"},{"$f":"'Data Prep'!AO113","v":""},{"$f":"'Data Prep'!AM113","v":""}]
[{"$f":"'Data Prep'!B114","v":0},{"$f":"'Data Prep'!D114","v":0},{"$f":"'Data Prep'!C114","v":0},{"$f":"'Data Prep'!K114","v":""},{"$f":"'Data Prep'!M114","v":"00:00:00"},{"$f":"'Data Prep'!P114","v":"00:00:00"},{"$f":"'Data Prep'!J114","v":0},{"$f":"'Data Prep'!W114","v":{"$error":"#VALUE!"}},{"$f":"'Data Prep'!Z114","v":"No Score"},{"$f":"'Data Prep'!AA114","v":"No Score"},{"$f":"'Data Prep'!AB114","v":""},{"$f":"'Data Prep'!AC114","v":""},{"$f":"'Data Prep'!AD114","v":"No Score"},{"$f":"'Data Prep'!AG114","v":"No Score"},{"$f":"'Data Prep'!AH114","v":""},{"$f":"'Data Prep'!AJ114","v":""},{"$f":"'Data Prep'!AO114","v":""},{"$f":"'Data Prep'!AM114","v":""}]
[{"$f":"'Data Prep'!B115","v":""},{"$f":"'Data Prep'!D115","v":""},{"$f":"'Data Prep'!C115","v":""},{"$f":"'Data Prep'!K115","v":""},{"$f":"'Data Prep'!M115","v":"00:00:00"},{"$f":"'Data Prep'!P115","v":"00:00:00"},{"$f":"'Data Prep'!J115","v":0},{"$f":"'Data Prep'!W115","v":{"$error":"#VALUE!"}},{"$f":"'Data Prep'!Z115","v":"No Score"},{"$f":"'Data Prep'!AA115","v":""},{"$f":"'Data Prep'!AB115","v":""},{"$f":"'Data Prep'!AC115","v":""},{"$f":"'Data Prep'!AD115","v":"No Score"},{"$f":"'Data Prep'!AG115","v":"No Score"},{"$f":"'Data Prep'!AH115","v":""},{"$f":"'Data Prep'!AJ115","v":""},{"$f":"'Data Prep'!AO115","v":""},{"$f":"'Data Prep'!AM115","v":""}]
[{"$f":"'Data Prep'!B116","v":""},{"$f":"'Data Prep'!D116","v":""},{"$f":"'Data Prep'!C116","v":""},{"$f":"'Data Prep'!K116","v":""},{"$f":"'Data Prep'!M116","v":"00:00:00"},{"$f":"'Data Prep'!P116","v":"00:00:00"},{"$f":"'Data Prep'!J116","v":0},{"$f":"'Data Prep'!W116","v":{"$error":"#VALUE!"}},{"$f":"'Data Prep'!Z116","v":"No Score"},{"$f":"'Data Prep'!AA116","v":""},{"$f":"'Data Prep'!AB116","v":""},{"$f":"'Data Prep'!AC116","v":""},{"$f":"'Data Prep'!AD116","v":"No Score"},{"$f":"'Data Prep'!AG116","v":"No Score"},{"$f":"'Data Prep'!AH116","v":""},{"$f":"'Data Prep'!AJ116","v":""},{"$f":"'Data Prep'!AO116","v":""},{"$f":"'Data Prep'!AM116","v":""}]
[{"$f":"'Data Prep'!B117","v":""},{"$f":"'Data Prep'!D117","v":""},{"$f":"'Data Prep'!C117","v":""},{"$f":"'Data Prep'!K117","v":""},{"$f":"'Data Prep'!M117","v":"00:00:00"},{"$f":"'Data Prep'!P117","v":"00:00:00"},{"$f":"'Data Prep'!J117","v":0},{"$f":"'Data Prep'!W117","v":{"$error":"#VALUE!"}},{"$f":"'Data Prep'!Z117","v":"No Score"},{"$f":"'Data Prep'!AA117","v":""},{"$f":"'Data Prep'!AB117","v":""},{"$f":"'Data Prep'!AC117","v":""},{"$f":"'Data Prep'!AD117","v":"No Score"},{"$f":"'Data Prep'!AG117","v":"No Score"},{"$f":"'Data Prep'!AH117","v":""},{"$f":"'Data Prep'!AJ117","v":""},{"$f":"'Data Prep'!AO117","v":""},{"$f":"'Data Prep'!AM117","v":""}]
[{"$f":"'Data Prep'!B118","v":""},{"$f":"'Data Prep'!D118","v":""},{"$f":"'Data Prep'!C118","v":""},{"$f":"'Data Prep'!K118","v":""},{"$f":"'Data Prep'!M118","v":"00:00:00"},{"$f":"'Data Prep'!P118","v":"00:00:00"},{"$f":"'Data Prep'!J118","v":0},{"$f":"'Data Prep'!W118","v":{"$error":"#VALUE!"}},{"$f":"'Data Prep'!Z118","v":"No Score"},{"$f":"'Data Prep'!AA118","v":""},{"$f":"'Data Prep'!AB118","v":""},{"$f":"'Data Prep'!AC118","v":""},{"$f":"'Data Prep'!AD118","v":"No Score"},{"$f":"'Data Prep'!AG118","v":"No Score"},{"$f":"'Data Prep'!AH118","v":""},{"$f":"'Data Prep'!AJ118","v":""},{"$f":"'Data Prep'!AO118","v":""},{"$f":"'Data Prep'!AM118","v":""}]
[{"$f":"'Data Prep'!B119","v":""},{"$f":"'Data Prep'!D119","v":""},{"$f":"'Data Prep'!C119","v":""},{"$f":"'Data Prep'!K119","v":""},{"$f":"'Data Prep'!M119","v":"00:00:00"},{"$f":"'Data Prep'!P119","v":"00:00:00"},{"$f":"'Data Prep'!J119","v":0},{"$f":"'Data Prep'!W119","v":{"$error":"#VALUE!"}},{"$f":"'Data Prep'!Z119","v":"No Score"},{"$f":"'Data Prep'!AA119","v":""},{"$f":"'Data Prep'!AB119","v":""},{"$f":"'Data Prep'!AC119","v":""},{"$f":"'Data Prep'!AD119","v":"No Score"},{"$f":"'Data Prep'!AG119","v":"No Score"},{"$f":"'Data Prep'!AH119","v":""},{"$f":"'Data Prep'!AJ119","v":""},{"$f":"'Data Prep'!AO119","v":""},{"$f":"'Data Prep'!AM119","v":""}]
[{"$f":"'Data Prep'!B120","v":""},{"$f":"'Data Prep'!D120","v":""},{"$f":"'Data Prep'!C120","v":""},{"$f":"'Data Prep'!K120","v":""},{"$f":"'Data Prep'!M120","v":"00:00:00"},{"$f":"'Data Prep'!P120","v":"00:00:00"},{"$f":"'Data Prep'!J120","v":0},{"$f":"'Data Prep'!W120","v":{"$error":"#VALUE!"}},{"$f":"'Data Prep'!Z120","v":"No Score"},{"$f":"'Data Prep'!AA120","v":""},{"$f":"'Data Prep'!AB120","v":""},{"$f":"'Data Prep'!AC120","v":""},{"$f":"'Data Prep'!AD120","v":"No Score"},{"$f":"'Data Prep'!AG120","v":"No Score"},{"$f":"'Data Prep'!AH120","v":""},{"$f":"'Data Prep'!AJ120","v":""},{"$f":"'Data Prep'!AO120","v":""},{"$f":"'Data Prep'!AM120","v":""}]
[{"$f":"'Data Prep'!B121","v":""},{"$f":"'Data Prep'!D121","v":""},{"$f":"'Data Prep'!C121","v":""},{"$f":"'Data Prep'!K121","v":""},{"$f":"'Data Prep'!M121","v":"00:00:00"},{"$f":"'Data Prep'!P121","v":"00:00:00"},{"$f":"'Data Prep'!J121","v":0},{"$f":"'Data Prep'!W121","v":{"$error":"#VALUE!"}},{"$f":"'Data Prep'!Z121","v":"No Score"},{"$f":"'Data Prep'!AA121","v":""},{"$f":"'Data Prep'!AB121","v":""},{"$f":"'Data Prep'!AC121","v":""},{"$f":"'Data Prep'!AD121","v":"No Score"},{"$f":"'Data Prep'!AG121","v":"No Score"},{"$f":"'Data Prep'!AH121","v":""},{"$f":"'Data Prep'!AJ121","v":""},{"$f":"'Data Prep'!AO121","v":""},{"$f":"'Data Prep'!AM121","v":""}]
[{"$f":"'Data Prep'!B122","v":""},{"$f":"'Data Prep'!D122","v":""},{"$f":"'Data Prep'!C122","v":""},{"$f":"'Data Prep'!K122","v":""},{"$f":"'Data Prep'!M122","v":"00:00:00"},{"$f":"'Data Prep'!P122","v":"00:00:00"},{"$f":"'Data Prep'!J122","v":0},{"$f":"'Data Prep'!W122","v":{"$error":"#VALUE!"}},{"$f":"'Data Prep'!Z122","v":"No Score"},{"$f":"'Data Prep'!AA122","v":""},{"$f":"'Data Prep'!AB122","v":""},{"$f":"'Data Prep'!AC122","v":""},{"$f":"'Data Prep'!AD122","v":"No Score"},{"$f":"'Data Prep'!AG122","v":"No Score"},{"$f":"'Data Prep'!AH122","v":""},{"$f":"'Data Prep'!AJ122","v":""},{"$f":"'Data Prep'!AO122","v":""},{"$f":"'Data Prep'!AM122","v":""}]
[{"$f":"'Data Prep'!B123","v":""},{"$f":"'Data Prep'!D123","v":""},{"$f":"'Data Prep'!C123","v":""},{"$f":"'Data Prep'!K123","v":""},{"$f":"'Data Prep'!M123","v":"00:00:00"},{"$f":"'Data Prep'!P123","v":"00:00:00"},{"$f":"'Data Prep'!J123","v":0},{"$f":"'Data Prep'!W123","v":{"$error":"#VALUE!"}},{"$f":"'Data Prep'!Z123","v":"No Score"},{"$f":"'Data Prep'!AA123","v":""},{"$f":"'Data Prep'!AB123","v":""},{"$f":"'Data Prep'!AC123","v":""},{"$f":"'Data Prep'!AD123","v":"No Score"},{"$f":"'Data Prep'!AG123","v":"No Score"},{"$f":"'Data Prep'!AH123","v":""},{"$f":"'Data Prep'!AJ123","v":""},{"$f":"'Data Prep'!AO123","v":""},{"$f":"'Data Prep'!AM123","v":""}]
[{"$f":"'Data Prep'!B124","v":""},{"$f":"'Data Prep'!D124","v":""},{"$f":"'Data Prep'!C124","v":""},{"$f":"'Data Prep'!K124","v":""},{"$f":"'Data Prep'!M124","v":"00:00:00"},{"$f":"'Data Prep'!P124","v":"00:00:00"},{"$f":"'Data Prep'!J124","v":0},{"$f":"'Data Prep'!W124","v":{"$error":"#VALUE!"}},{"$f":"'Data Prep'!Z124","v":"No Score"},{"$f":"'Data Prep'!AA124","v":""},{"$f":"'Data Prep'!AB124","v":""},{"$f":"'Data Prep'!AC124","v":""},{"$f":"'Data Prep'!AD124","v":"No Score"},{"$f":"'Data Prep'!AG124","v":"No Score"},{"$f":"'Data Prep'!AH124","v":""},{"$f":"'Data Prep'!AJ124","v":""},{"$f":"'Data Prep'!AO124","v":""},{"$f":"'Data Prep'!AM124","v":""}]
[{"$f":"'Data Prep'!B125","v":""},{"$f":"'Data Prep'!D125","v":""},{"$f":"'Data Prep'!C125","v":""},{"$f":"'Data Prep'!K125","v":""},{"$f":"'Data Prep'!M125","v":"00:00:00"},{"$f":"'Data Prep'!P125","v":"00:00:00"},{"$f":"'Data Prep'!J125","v":0},{"$f":"'Data Prep'!W125","v":{"$error":"#VALUE!"}},{"$f":"'Data Prep'!Z125","v":"No Score"},{"$f":"'Data Prep'!AA125","v":""},{"$f":"'Data Prep'!AB125","v":""},{"$f":"'Data Prep'!AC125","v":""},{"$f":"'Data Prep'!AD125","v":"No Score"},{"$f":"'Data Prep'!AG125","v":"No Score"},{"$f":"'Data Prep'!AH125","v":""},{"$f":"'Data Prep'!AJ125","v":""},{"$f":"'Data Prep'!AO125","v":""},{"$f":"'Data Prep'!AM125","v":""}]
[{"$f":"'Data Prep'!B126","v":""},{"$f":"'Data Prep'!D126","v":""},{"$f":"'Data Prep'!C126","v":""},{"$f":"'Data Prep'!K126","v":""},{"$f":"'Data Prep'!M126","v":"00:00:00"},{"$f":"'Data Prep'!P126","v":"00:00:00"},{"$f":"'Data Prep'!J126","v":0},{"$f":"'Data Prep'!W126","v":{"$error":"#VALUE!"}},{"$f":"'Data Prep'!Z126","v":"No Score"},{"$f":"'Data Prep'!AA126","v":""},{"$f":"'Data Prep'!AB126","v":""},{"$f":"'Data Prep'!AC126","v":""},{"$f":"'Data Prep'!AD126","v":"No Score"},{"$f":"'Data Prep'!AG126","v":"No Score"},{"$f":"'Data Prep'!AH126","v":""},{"$f":"'Data Prep'!AJ126","v":""},{"$f":"'Data Prep'!AO126","v":""},{"$f":"'Data Prep'!AM126","v":""}]
[{"$f":"'Data Prep'!B127","v":""},{"$f":"'Data Prep'!D127","v":""},{"$f":"'Data Prep'!C127","v":""},{"$f":"'Data Prep'!K127","v":""},{"$f":"'Data Prep'!M127","v":"00:00:00"},{"$f":"'Data Prep'!P127","v":"00:00:00"},{"$f":"'Data Prep'!J127","v":0},{"$f":"'Data Prep'!W127","v":{"$error":"#VALUE!"}},{"$f":"'Data Prep'!Z127","v":"No Score"},{"$f":"'Data Prep'!AA127","v":""},{"$f":"'Data Prep'!AB127","v":""},{"$f":"'Data Prep'!AC127","v":""},{"$f":"'Data Prep'!AD127","v":"No Score"},{"$f":"'Data Prep'!AG127","v":"No Score"},{"$f":"'Data Prep'!AH127","v":""},{"$f":"'Data Prep'!AJ127","v":""},{"$f":"'Data Prep'!AO127","v":""},{"$f":"'Data Prep'!AM127","v":""}]
[{"$f":"'Data Prep'!B128","v":""},{"$f":"'Data Prep'!D128","v":""},{"$f":"'Data Prep'!C128","v":""},{"$f":"'Data Prep'!K128","v":""},{"$f":"'Data Prep'!M128","v":"00:00:00"},{"$f":"'Data Prep'!P128","v":"00:00:00"},{"$f":"'Data Prep'!J128","v":0},{"$f":"'Data Prep'!W128","v":{"$error":"#VALUE!"}},{"$f":"'Data Prep'!Z128","v":"No Score"},{"$f":"'Data Prep'!AA128","v":""},{"$f":"'Data Prep'!AB128","v":""},{"$f":"'Data Prep'!AC128","v":""},{"$f":"'Data Prep'!AD128","v":"No Score"},{"$f":"'Data Prep'!AG128","v":"No Score"},{"$f":"'Data Prep'!AH128","v":""},{"$f":"'Data Prep'!AJ128","v":""},{"$f":"'Data Prep'!AO128","v":""},{"$f":"'Data Prep'!AM128","v":""}]
[{"$f":"'Data Prep'!B129","v":""},{"$f":"'Data Prep'!D129","v":""},{"$f":"'Data Prep'!C129","v":""},{"$f":"'Data Prep'!K129","v":""},{"$f":"'Data Prep'!M129","v":"00:00:00"},{"$f":"'Data Prep'!P129","v":"00:00:00"},{"$f":"'Data Prep'!J129","v":0},{"$f":"'Data Prep'!W129","v":{"$error":"#VALUE!"}},{"$f":"'Data Prep'!Z129","v":"No Score"},{"$f":"'Data Prep'!AA129","v":""},{"$f":"'Data Prep'!AB129","v":""},{"$f":"'Data Prep'!AC129","v":""},{"$f":"'Data Prep'!AD129","v":"No Score"},{"$f":"'Data Prep'!AG129","v":"No Score"},{"$f":"'Data Prep'!AH129","v":""},{"$f":"'Data Prep'!AJ129","v":""},{"$f":"'Data Prep'!AO129","v":""},{"$f":"'Data Prep'!AM129","v":""}]
[{"$f":"'Data Prep'!B130","v":0},{"$f":"'Data Prep'!D130","v":0},{"$f":"'Data Prep'!C130","v":0},{"$f":"'Data Prep'!K130","v":""},{"$f":"'Data Prep'!M130","v":"00:00:00"},{"$f":"'Data Prep'!P130","v":"00:00:00"},{"$f":"'Data Prep'!J130","v":0},{"$f":"'Data Prep'!W130","v":{"$error":"#VALUE!"}},{"$f":"'Data Prep'!Z130","v":"No Score"},{"$f":"'Data Prep'!AA130","v":"No Score"},{"$f":"'Data Prep'!AB130","v":""},{"$f":"'Data Prep'!AC130","v":""},{"$f":"'Data Prep'!AD130","v":"No Score"},{"$f":"'Data Prep'!AG130","v":"No Score"},{"$f":"'Data Prep'!AH130","v":""},{"$f":"'Data Prep'!AJ130","v":""},{"$f":"'Data Prep'!AO130","v":""},{"$f":"'Data Prep'!AM130","v":""}]
[{"$f":"'Data Prep'!B131","v":""},{"$f":"'Data Prep'!D131","v":""},{"$f":"'Data Prep'!C131","v":""},{"$f":"'Data Prep'!K131","v":""},{"$f":"'Data Prep'!M131","v":"00:00:00"},{"$f":"'Data Prep'!P131","v":"00:00:00"},{"$f":"'Data Prep'!J131","v":0},{"$f":"'Data Prep'!W131","v":{"$error":"#VALUE!"}},{"$f":"'Data Prep'!Z131","v":"No Score"},{"$f":"'Data Prep'!AA131","v":""},{"$f":"'Data Prep'!AB131","v":""},{"$f":"'Data Prep'!AC131","v":""},{"$f":"'Data Prep'!AD131","v":"No Score"},{"$f":"'Data Prep'!AG131","v":"No Score"},{"$f":"'Data Prep'!AH131","v":""},{"$f":"'Data Prep'!AJ131","v":""},{"$f":"'Data Prep'!AO131","v":""},{"$f":"'Data Prep'!AM131","v":""}]
[{"$f":"'Data Prep'!B132","v":""},{"$f":"'Data Prep'!D132","v":""},{"$f":"'Data Prep'!C132","v":""},{"$f":"'Data Prep'!K132","v":""},{"$f":"'Data Prep'!M132","v":"00:00:00"},{"$f":"'Data Prep'!P132","v":"00:00:00"},{"$f":"'Data Prep'!J132","v":0},{"$f":"'Data Prep'!W132","v":{"$error":"#VALUE!"}},{"$f":"'Data Prep'!Z132","v":"No Score"},{"$f":"'Data Prep'!AA132","v":""},{"$f":"'Data Prep'!AB132","v":""},{"$f":"'Data Prep'!AC132","v":""},{"$f":"'Data Prep'!AD132","v":"No Score"},{"$f":"'Data Prep'!AG132","v":"No Score"},{"$f":"'Data Prep'!AH132","v":""},{"$f":"'Data Prep'!AJ132","v":""},{"$f":"'Data Prep'!AO132","v":""},{"$f":"'Data Prep'!AM132","v":""}]
[{"$f":"'Data Prep'!B133","v":""},{"$f":"'Data Prep'!D133","v":""},{"$f":"'Data Prep'!C133","v":""},{"$f":"'Data Prep'!K133","v":""},{"$f":"'Data Prep'!M133","v":"00:00:00"},{"$f":"'Data Prep'!P133","v":"00:00:00"},{"$f":"'Data Prep'!J133","v":0},{"$f":"'Data Prep'!W133","v":{"$error":"#VALUE!"}},{"$f":"'Data Prep'!Z133","v":"No Score"},{"$f":"'Data Prep'!AA133","v":""},{"$f":"'Data Prep'!AB133","v":""},{"$f":"'Data Prep'!AC133","v":""},{"$f":"'Data Prep'!AD133","v":"No Score"},{"$f":"'Data Prep'!AG133","v":"No Score"},{"$f":"'Data Prep'!AH133","v":""},{"$f":"'Data Prep'!AJ133","v":""},{"$f":"'Data Prep'!AO133","v":""},{"$f":"'Data Prep'!AM133","v":""}]
[{"$f":"'Data Prep'!B134","v":""},{"$f":"'Data Prep'!D134","v":""},{"$f":"'Data Prep'!C134","v":""},{"$f":"'Data Prep'!K134","v":""},{"$f":"'Data Prep'!M134","v":"00:00:00"},{"$f":"'Data Prep'!P134","v":"00:00:00"},{"$f":"'Data Prep'!J134","v":0},{"$f":"'Data Prep'!W134","v":{"$error":"#VALUE!"}},{"$f":"'Data Prep'!Z134","v":"No Score"},{"$f":"'Data Prep'!AA134","v":""},{"$f":"'Data Prep'!AB134","v":""},{"$f":"'Data Prep'!AC134","v":""},{"$f":"'Data Prep'!AD134","v":"No Score"},{"$f":"'Data Prep'!AG134","v":"No Score"},{"$f":"'Data Prep'!AH134","v":""},{"$f":"'Data Prep'!AJ134","v":""},{"$f":"'Data Prep'!AO134","v":""},{"$f":"'Data Prep'!AM134","v":""}]
[{"$f":"'Data Prep'!B135","v":""},{"$f":"'Data Prep'!D135","v":""},{"$f":"'Data Prep'!C135","v":""},{"$f":"'Data Prep'!K135","v":""},{"$f":"'Data Prep'!M135","v":"00:00:00"},{"$f":"'Data Prep'!P135","v":"00:00:00"},{"$f":"'Data Prep'!J135","v":0},{"$f":"'Data Prep'!W135","v":{"$error":"#VALUE!"}},{"$f":"'Data Prep'!Z135","v":"No Score"},{"$f":"'Data Prep'!AA135","v":""},{"$f":"'Data Prep'!AB135","v":""},{"$f":"'Data Prep'!AC135","v":""},{"$f":"'Data Prep'!AD135","v":"No Score"},{"$f":"'Data Prep'!AG135","v":"No Score"},{"$f":"'Data Prep'!AH135","v":""},{"$f":"'Data Prep'!AJ135","v":""},{"$f":"'Data Prep'!AO135","v":""},{"$f":"'Data Prep'!AM135","v":""}]
[{"$f":"'Data Prep'!B136","v":""},{"$f":"'Data Prep'!D136","v":""},{"$f":"'Data Prep'!C136","v":""},{"$f":"'Data Prep'!K136","v":""},{"$f":"'Data Prep'!M136","v":"00:00:00"},{"$f":"'Data Prep'!P136","v":"00:00:00"},{"$f":"'Data Prep'!J136","v":0},{"$f":"'Data Prep'!W136","v":{"$error":"#VALUE!"}},{"$f":"'Data Prep'!Z136","v":"No Score"},{"$f":"'Data Prep'!AA136","v":""},{"$f":"'Data Prep'!AB136","v":""},{"$f":"'Data Prep'!AC136","v":""},{"$f":"'Data Prep'!AD136","v":"No Score"},{"$f":"'Data Prep'!AG136","v":"No Score"},{"$f":"'Data Prep'!AH136","v":""},{"$f":"'Data Prep'!AJ136","v":""},{"$f":"'Data Prep'!AO136","v":""},{"$f":"'Data Prep'!AM136","v":""}]
[{"$f":"'Data Prep'!B137","v":""},{"$f":"'Data Prep'!D137","v":""},{"$f":"'Data Prep'!C137","v":""},{"$f":"'Data Prep'!K137","v":""},{"$f":"'Data Prep'!M137","v":"00:00:00"},{"$f":"'Data Prep'!P137","v":"00:00:00"},{"$f":"'Data Prep'!J137","v":0},{"$f":"'Data Prep'!W137","v":{"$error":"#VALUE!"}},{"$f":"'Data Prep'!Z137","v":"No Score"},{"$f":"'Data Prep'!AA137","v":""},{"$f":"'Data Prep'!AB137","v":""},{"$f":"'Data Prep'!AC137","v":""},{"$f":"'Data Prep'!AD137","v":"No Score"},{"$f":"'Data Prep'!AG137","v":"No Score"},{"$f":"'Data Prep'!AH137","v":""},{"$f":"'Data Prep'!AJ137","v":""},{"$f":"'Data Prep'!AO137","v":""},{"$f":"'Data Prep'!AM137","v":""}]
[{"$f":"'Data Prep'!B138","v":""},{"$f":"'Data Prep'!D138","v":""},{"$f":"'Data Prep'!C138","v":""},{"$f":"'Data Prep'!K138","v":""},{"$f":"'Data Prep'!M138","v":"00:00:00"},{"$f":"'Data Prep'!P138","v":"00:00:00"},{"$f":"'Data Prep'!J138","v":0},{"$f":"'Data Prep'!W138","v":{"$error":"#VALUE!"}},{"$f":"'Data Prep'!Z138","v":"No Score"},{"$f":"'Data Prep'!AA138","v":""},{"$f":"'Data Prep'!AB138","v":""},{"$f":"'Data Prep'!AC138","v":""},{"$f":"'Data Prep'!AD138","v":"No Score"},{"$f":"'Data Prep'!AG138","v":"No Score"},{"$f":"'Data Prep'!AH138","v":""},{"$f":"'Data Prep'!AJ138","v":""},{"$f":"'Data Prep'!AO138","v":""},{"$f":"'Data Prep'!AM138","v":""}]
[{"$f":"'Data Prep'!B139","v":""},{"$f":"'Data Prep'!D139","v":""},{"$f":"'Data Prep'!C139","v":""},{"$f":"'Data Prep'!K139","v":""},{"$f":"'Data Prep'!M139","v":"00:00:00"},{"$f":"'Data Prep'!P139","v":"00:00:00"},{"$f":"'Data Prep'!J139","v":0},{"$f":"'Data Prep'!W139","v":{"$error":"#VALUE!"}},{"$f":"'Data Prep'!Z139","v":"No Score"},{"$f":"'Data Prep'!AA139","v":""},{"$f":"'Data Prep'!AB139","v":""},{"$f":"'Data Prep'!AC139","v":""},{"$f":"'Data Prep'!AD139","v":"No Score"},{"$f":"'Data Prep'!AG139","v":"No Score"},{"$f":"'Data Prep'!AH139","v":""},{"$f":"'Data Prep'!AJ139","v":""},{"$f":"'Data Prep'!AO139","v":""},{"$f":"'Data Prep'!AM139","v":""}]
[{"$f":"'Data Prep'!B140","v":""},{"$f":"'Data Prep'!D140","v":""},{"$f":"'Data Prep'!C140","v":""},{"$f":"'Data Prep'!K140","v":""},{"$f":"'Data Prep'!M140","v":"00:00:00"},{"$f":"'Data Prep'!P140","v":"00:00:00"},{"$f":"'Data Prep'!J140","v":0},{"$f":"'Data Prep'!W140","v":{"$error":"#VALUE!"}},{"$f":"'Data Prep'!Z140","v":"No Score"},{"$f":"'Data Prep'!AA140","v":""},{"$f":"'Data Prep'!AB140","v":""},{"$f":"'Data Prep'!AC140","v":""},{"$f":"'Data Prep'!AD140","v":"No Score"},{"$f":"'Data Prep'!AG140","v":"No Score"},{"$f":"'Data Prep'!AH140","v":""},{"$f":"'Data Prep'!AJ140","v":""},{"$f":"'Data Prep'!AO140","v":""},{"$f":"'Data Prep'!AM140","v":""}]
[{"$f":"'Data Prep'!B141","v":""},{"$f":"'Data Prep'!D141","v":""},{"$f":"'Data Prep'!C141","v":""},{"$f":"'Data Prep'!K141","v":""},{"$f":"'Data Prep'!M141","v":"00:00:00"},{"$f":"'Data Prep'!P141","v":"00:00:00"},{"$f":"'Data Prep'!J141","v":0},{"$f":"'Data Prep'!W141","v":{"$error":"#VALUE!"}},{"$f":"'Data Prep'!Z141","v":"No Score"},{"$f":"'Data Prep'!AA141","v":""},{"$f":"'Data Prep'!AB141","v":""},{"$f":"'Data Prep'!AC141","v":""},{"$f":"'Data Prep'!AD141","v":"No Score"},{"$f":"'Data Prep'!AG141","v":"No Score"},{"$f":"'Data Prep'!AH141","v":""},{"$f":"'Data Prep'!AJ141","v":""},{"$f":"'Data Prep'!AO141","v":""},{"$f":"'Data Prep'!AM141","v":""}]
[{"$f":"'Data Prep'!B142","v":""},{"$f":"'Data Prep'!D142","v":""},{"$f":"'Data Prep'!C142","v":""},{"$f":"'Data Prep'!K142","v":""},{"$f":"'Data Prep'!M142","v":"00:00:00"},{"$f":"'Data Prep'!P142","v":"00:00:00"},{"$f":"'Data Prep'!J142","v":0},{"$f":"'Data Prep'!W142","v":{"$error":"#VALUE!"}},{"$f":"'Data Prep'!Z142","v":"No Score"},{"$f":"'Data Prep'!AA142","v":""},{"$f":"'Data Prep'!AB142","v":""},{"$f":"'Data Prep'!AC142","v":""},{"$f":"'Data Prep'!AD142","v":"No Score"},{"$f":"'Data Prep'!AG142","v":"No Score"},{"$f":"'Data Prep'!AH142","v":""},{"$f":"'Data Prep'!AJ142","v":""},{"$f":"'Data Prep'!AO142","v":""},{"$f":"'Data Prep'!AM142","v":""}]
[{"$f":"'Data Prep'!B143","v":""},{"$f":"'Data Prep'!D143","v":""},{"$f":"'Data Prep'!C143","v":""},{"$f":"'Data Prep'!K143","v":""},{"$f":"'Data Prep'!M143","v":"00:00:00"},{"$f":"'Data Prep'!P143","v":"00:00:00"},{"$f":"'Data Prep'!J143","v":0},{"$f":"'Data Prep'!W143","v":{"$error":"#VALUE!"}},{"$f":"'Data Prep'!Z143","v":"No Score"},{"$f":"'Data Prep'!AA143","v":""},{"$f":"'Data Prep'!AB143","v":""},{"$f":"'Data Prep'!AC143","v":""},{"$f":"'Data Prep'!AD143","v":"No Score"},{"$f":"'Data Prep'!AG143","v":"No Score"},{"$f":"'Data Prep'!AH143","v":""},{"$f":"'Data Prep'!AJ143","v":""},{"$f":"'Data Prep'!AO143","v":""},{"$f":"'Data Prep'!AM143","v":""}]
[{"$f":"'Data Prep'!B144","v":""},{"$f":"'Data Prep'!D144","v":""},{"$f":"'Data Prep'!C144","v":""},{"$f":"'Data Prep'!K144","v":""},{"$f":"'Data Prep'!M144","v":"00:00:00"},{"$f":"'Data Prep'!P144","v":"00:00:00"},{"$f":"'Data Prep'!J144","v":0},{"$f":"'Data Prep'!W144","v":{"$error":"#VALUE!"}},{"$f":"'Data Prep'!Z144","v":"No Score"},{"$f":"'Data Prep'!AA144","v":""},{"$f":"'Data Prep'!AB144","v":""},{"$f":"'Data Prep'!AC144","v":""},{"$f":"'Data Prep'!AD144","v":"No Score"},{"$f":"'Data Prep'!AG144","v":"No Score"},{"$f":"'Data Prep'!AH144","v":""},{"$f":"'Data Prep'!AJ144","v":""},{"$f":"'Data Prep'!AO144","v":""},{"$f":"'Data Prep'!AM144","v":""}]
[{"$f":"'Data Prep'!B145","v":""},{"$f":"'Data Prep'!D145","v":""},{"$f":"'Data Prep'!C145","v":""},{"$f":"'Data Prep'!K145","v":""},{"$f":"'Data Prep'!M145","v":"00:00:00"},{"$f":"'Data Prep'!P145","v":"00:00:00"},{"$f":"'Data Prep'!J145","v":0},{"$f":"'Data Prep'!W145","v":{"$error":"#VALUE!"}},{"$f":"'Data Prep'!Z145","v":"No Score"},{"$f":"'Data Prep'!AA145","v":""},{"$f":"'Data Prep'!AB145","v":""},{"$f":"'Data Prep'!AC145","v":""},{"$f":"'Data Prep'!AD145","v":"No Score"},{"$f":"'Data Prep'!AG145","v":"No Score"},{"$f":"'Data Prep'!AH145","v":""},{"$f":"'Data Prep'!AJ145","v":""},{"$f":"'Data Prep'!AO145","v":""},{"$f":"'Data Prep'!AM145","v":""}]
[{"$f":"'Data Prep'!B146","v":0},{"$f":"'Data Prep'!D146","v":0},{"$f":"'Data Prep'!C146","v":0},{"$f":"'Data Prep'!K146","v":""},{"$f":"'Data Prep'!M146","v":"00:00:00"},{"$f":"'Data Prep'!P146","v":"00:00:00"},{"$f":"'Data Prep'!J146","v":0},{"$f":"'Data Prep'!W146","v":{"$error":"#VALUE!"}},{"$f":"'Data Prep'!Z146","v":"No Score"},{"$f":"'Data Prep'!AA146","v":"No Score"},{"$f":"'Data Prep'!AB146","v":""},{"$f":"'Data Prep'!AC146","v":""},{"$f":"'Data Prep'!AD146","v":"No Score"},{"$f":"'Data Prep'!AG146","v":"No Score"},{"$f":"'Data Prep'!AH146","v":""},{"$f":"'Data Prep'!AJ146","v":""},{"$f":"'Data Prep'!AO146","v":""},{"$f":"'Data Prep'!AM146","v":""}]
[{"$f":"'Data Prep'!B147","v":""},{"$f":"'Data Prep'!D147","v":""},{"$f":"'Data Prep'!C147","v":""},{"$f":"'Data Prep'!K147","v":""},{"$f":"'Data Prep'!M147","v":"00:00:00"},{"$f":"'Data Prep'!P147","v":"00:00:00"},{"$f":"'Data Prep'!J147","v":0},{"$f":"'Data Prep'!W147","v":{"$error":"#VALUE!"}},{"$f":"'Data Prep'!Z147","v":"No Score"},{"$f":"'Data Prep'!AA147","v":""},{"$f":"'Data Prep'!AB147","v":""},{"$f":"'Data Prep'!AC147","v":""},{"$f":"'Data Prep'!AD147","v":"No Score"},{"$f":"'Data Prep'!AG147","v":"No Score"},{"$f":"'Data Prep'!AH147","v":""},{"$f":"'Data Prep'!AJ147","v":""},{"$f":"'Data Prep'!AO147","v":""},{"$f":"'Data Prep'!AM147","v":""}]
[{"$f":"'Data Prep'!B148","v":""},{"$f":"'Data Prep'!D148","v":""},{"$f":"'Data Prep'!C148","v":""},{"$f":"'Data Prep'!K148","v":""},{"$f":"'Data Prep'!M148","v":"00:00:00"},{"$f":"'Data Prep'!P148","v":"00:00:00"},{"$f":"'Data Prep'!J148","v":0},{"$f":"'Data Prep'!W148","v":{"$error":"#VALUE!"}},{"$f":"'Data Prep'!Z148","v":"No Score"},{"$f":"'Data Prep'!AA148","v":""},{"$f":"'Data Prep'!AB148","v":""},{"$f":"'Data Prep'!AC148","v":""},{"$f":"'Data Prep'!AD148","v":"No Score"},{"$f":"'Data Prep'!AG148","v":"No Score"},{"$f":"'Data Prep'!AH148","v":""},{"$f":"'Data Prep'!AJ148","v":""},{"$f":"'Data Prep'!AO148","v":""},{"$f":"'Data Prep'!AM148","v":""}]
[{"$f":"'Data Prep'!B149","v":""},{"$f":"'Data Prep'!D149","v":""},{"$f":"'Data Prep'!C149","v":""},{"$f":"'Data Prep'!K149","v":""},{"$f":"'Data Prep'!M149","v":"00:00:00"},{"$f":"'Data Prep'!P149","v":"00:00:00"},{"$f":"'Data Prep'!J149","v":0},{"$f":"'Data Prep'!W149","v":{"$error":"#VALUE!"}},{"$f":"'Data Prep'!Z149","v":"No Score"},{"$f":"'Data Prep'!AA149","v":""},{"$f":"'Data Prep'!AB149","v":""},{"$f":"'Data Prep'!AC149","v":""},{"$f":"'Data Prep'!AD149","v":"No Score"},{"$f":"'Data Prep'!AG149","v":"No Score"},{"$f":"'Data Prep'!AH149","v":""},{"$f":"'Data Prep'!AJ149","v":""},{"$f":"'Data Prep'!AO149","v":""},{"$f":"'Data Prep'!AM149","v":""}]
[{"$f":"'Data Prep'!B150","v":""},{"$f":"'Data Prep'!D150","v":""},{"$f":"'Data Prep'!C150","v":""},{"$f":"'Data Prep'!K150","v":""},{"$f":"'Data Prep'!M150","v":"00:00:00"},{"$f":"'Data Prep'!P150","v":"00:00:00"},{"$f":"'Data Prep'!J150","v":0},{"$f":"'Data Prep'!W150","v":{"$error":"#VALUE!"}},{"$f":"'Data Prep'!Z150","v":"No Score"},{"$f":"'Data Prep'!AA150","v":""},{"$f":"'Data Prep'!AB150","v":""},{"$f":"'Data Prep'!AC150","v":""},{"$f":"'Data Prep'!AD150","v":"No Score"},{"$f":"'Data Prep'!AG150","v":"No Score"},{"$f":"'Data Prep'!AH150","v":""},{"$f":"'Data Prep'!AJ150","v":""},{"$f":"'Data Prep'!AO150","v":""},{"$f":"'Data Prep'!AM150","v":""}]
[{"$f":"'Data Prep'!B151","v":""},{"$f":"'Data Prep'!D151","v":""},{"$f":"'Data Prep'!C151","v":""},{"$f":"'Data Prep'!K151","v":""},{"$f":"'Data Prep'!M151","v":"00:00:00"},{"$f":"'Data Prep'!P151","v":"00:00:00"},{"$f":"'Data Prep'!J151","v":0},{"$f":"'Data Prep'!W151","v":{"$error":"#VALUE!"}},{"$f":"'Data Prep'!Z151","v":"No Score"},{"$f":"'Data Prep'!AA151","v":""},{"$f":"'Data Prep'!AB151","v":""},{"$f":"'Data Prep'!AC151","v":""},{"$f":"'Data Prep'!AD151","v":"No Score"},{"$f":"'Data Prep'!AG151","v":"No Score"},{"$f":"'Data Prep'!AH151","v":""},{"$f":"'Data Prep'!AJ151","v":""},{"$f":"'Data Prep'!AO151","v":""},{"$f":"'Data Prep'!AM151","v":""}]
[{"$f":"'Data Prep'!B152","v":""},{"$f":"'Data Prep'!D152","v":""},{"$f":"'Data Prep'!C152","v":""},{"$f":"'Data Prep'!K152","v":""},{"$f":"'Data Prep'!M152","v":"00:00:00"},{"$f":"'Data Prep'!P152","v":"00:00:00"},{"$f":"'Data Prep'!J152","v":0},{"$f":"'Data Prep'!W152","v":{"$error":"#VALUE!"}},{"$f":"'Data Prep'!Z152","v":"No Score"},{"$f":"'Data Prep'!AA152","v":""},{"$f":"'Data Prep'!AB152","v":""},{"$f":"'Data Prep'!AC152","v":""},{"$f":"'Data Prep'!AD152","v":"No Score"},{"$f":"'Data Prep'!AG152","v":"No Score"},{"$f":"'Data Prep'!AH152","v":""},{"$f":"'Data Prep'!AJ152","v":""},{"$f":"'Data Prep'!AO152","v":""},{"$f":"'Data Prep'!AM152","v":""}]
[{"$f":"'Data Prep'!B153","v":""},{"$f":"'Data Prep'!D153","v":""},{"$f":"'Data Prep'!C153","v":""},{"$f":"'Data Prep'!K153","v":""},{"$f":"'Data Prep'!M153","v":"00:00:00"},{"$f":"'Data Prep'!P153","v":"00:00:00"},{"$f":"'Data Prep'!J153","v":0},{"$f":"'Data Prep'!W153","v":{"$error":"#VALUE!"}},{"$f":"'Data Prep'!Z153","v":"No Score"},{"$f":"'Data Prep'!AA153","v":""},{"$f":"'Data Prep'!AB153","v":""},{"$f":"'Data Prep'!AC153","v":""},{"$f":"'Data Prep'!AD153","v":"No Score"},{"$f":"'Data Prep'!AG153","v":"No Score"},{"$f":"'Data Prep'!AH153","v":""},{"$f":"'Data Prep'!AJ153","v":""},{"$f":"'Data Prep'!AO153","v":""},{"$f":"'Data Prep'!AM153","v":""}]
[{"$f":"'Data Prep'!B154","v":""},{"$f":"'Data Prep'!D154","v":""},{"$f":"'Data Prep'!C154","v":""},{"$f":"'Data Prep'!K154","v":""},{"$f":"'Data Prep'!M154","v":"00:00:00"},{"$f":"'Data Prep'!P154","v":"00:00:00"},{"$f":"'Data Prep'!J154","v":0},{"$f":"'Data Prep'!W154","v":{"$error":"#VALUE!"}},{"$f":"'Data Prep'!Z154","v":"No Score"},{"$f":"'Data Prep'!AA154","v":""},{"$f":"'Data Prep'!AB154","v":""},{"$f":"'Data Prep'!AC154","v":""},{"$f":"'Data Prep'!AD154","v":"No Score"},{"$f":"'Data Prep'!AG154","v":"No Score"},{"$f":"'Data Prep'!AH154","v":""},{"$f":"'Data Prep'!AJ154","v":""},{"$f":"'Data Prep'!AO154","v":""},{"$f":"'Data Prep'!AM154","v":""}]
[{"$f":"'Data Prep'!B155","v":""},{"$f":"'Data Prep'!D155","v":""},{"$f":"'Data Prep'!C155","v":""},{"$f":"'Data Prep'!K155","v":""},{"$f":"'Data Prep'!M155","v":"00:00:00"},{"$f":"'Data Prep'!P155","v":"00:00:00"},{"$f":"'Data Prep'!J155","v":0},{"$f":"'Data Prep'!W155","v":{"$error":"#VALUE!"}},{"$f":"'Data Prep'!Z155","v":"No Score"},{"$f":"'Data Prep'!AA155","v":""},{"$f":"'Data Prep'!AB155","v":""},{"$f":"'Data Prep'!AC155","v":""},{"$f":"'Data Prep'!AD155","v":"No Score"},{"$f":"'Data Prep'!AG155","v":"No Score"},{"$f":"'Data Prep'!AH155","v":""},{"$f":"'Data Prep'!AJ155","v":""},{"$f":"'Data Prep'!AO155","v":""},{"$f":"'Data Prep'!AM155","v":""}]
[{"$f":"'Data Prep'!B156","v":""},{"$f":"'Data Prep'!D156","v":""},{"$f":"'Data Prep'!C156","v":""},{"$f":"'Data Prep'!K156","v":""},{"$f":"'Data Prep'!M156","v":"00:00:00"},{"$f":"'Data Prep'!P156","v":"00:00:00"},{"$f":"'Data Prep'!J156","v":0},{"$f":"'Data Prep'!W156","v":{"$error":"#VALUE!"}},{"$f":"'Data Prep'!Z156","v":"No Score"},{"$f":"'Data Prep'!AA156","v":""},{"$f":"'Data Prep'!AB156","v":""},{"$f":"'Data Prep'!AC156","v":""},{"$f":"'Data Prep'!AD156","v":"No Score"},{"$f":"'Data Prep'!AG156","v":"No Score"},{"$f":"'Data Prep'!AH156","v":""},{"$f":"'Data Prep'!AJ156","v":""},{"$f":"'Data Prep'!AO156","v":""},{"$f":"'Data Prep'!AM156","v":""}]
[{"$f":"'Data Prep'!B157","v":""},{"$f":"'Data Prep'!D157","v":""},{"$f":"'Data Prep'!C157","v":""},{"$f":"'Data Prep'!K157","v":""},{"$f":"'Data Prep'!M157","v":"00:00:00"},{"$f":"'Data Prep'!P157","v":"00:00:00"},{"$f":"'Data Prep'!J157","v":0},{"$f":"'Data Prep'!W157","v":{"$error":"#VALUE!"}},{"$f":"'Data Prep'!Z157","v":"No Score"},{"$f":"'Data Prep'!AA157","v":""},{"$f":"'Data Prep'!AB157","v":""},{"$f":"'Data Prep'!AC157","v":""},{"$f":"'Data Prep'!AD157","v":"No Score"},{"$f":"'Data Prep'!AG157","v":"No Score"},{"$f":"'Data Prep'!AH157","v":""},{"$f":"'Data Prep'!AJ157","v":""},{"$f":"'Data Prep'!AO157","v":""},{"$f":"'Data Prep'!AM157","v":""}]
[{"$f":"'Data Prep'!B158","v":""},{"$f":"'Data Prep'!D158","v":""},{"$f":"'Data Prep'!C158","v":""},{"$f":"'Data Prep'!K158","v":""},{"$f":"'Data Prep'!M158","v":"00:00:00"},{"$f":"'Data Prep'!P158","v":"00:00:00"},{"$f":"'Data Prep'!J158","v":0},{"$f":"'Data Prep'!W158","v":{"$error":"#VALUE!"}},{"$f":"'Data Prep'!Z158","v":"No Score"},{"$f":"'Data Prep'!AA158","v":""},{"$f":"'Data Prep'!AB158","v":""},{"$f":"'Data Prep'!AC158","v":""},{"$f":"'Data Prep'!AD158","v":"No Score"},{"$f":"'Data Prep'!AG158","v":"No Score"},{"$f":"'Data Prep'!AH158","v":""},{"$f":"'Data Prep'!AJ158","v":""},{"$f":"'Data Prep'!AO158","v":""},{"$f":"'Data Prep'!AM158","v":""}]
[{"$f":"'Data Prep'!B159","v":""},{"$f":"'Data Prep'!D159","v":""},{"$f":"'Data Prep'!C159","v":""},{"$f":"'Data Prep'!K159","v":""},{"$f":"'Data Prep'!M159","v":"00:00:00"},{"$f":"'Data Prep'!P159","v":"00:00:00"},{"$f":"'Data Prep'!J159","v":0},{"$f":"'Data Prep'!W159","v":{"$error":"#VALUE!"}},{"$f":"'Data Prep'!Z159","v":"No Score"},{"$f":"'Data Prep'!AA159","v":""},{"$f":"'Data Prep'!AB159","v":""},{"$f":"'Data Prep'!AC159","v":""},{"$f":"'Data Prep'!AD159","v":"No Score"},{"$f":"'Data Prep'!AG159","v":"No Score"},{"$f":"'Data Prep'!AH159","v":""},{"$f":"'Data Prep'!AJ159","v":""},{"$f":"'Data Prep'!AO159","v":""},{"$f":"'Data Prep'!AM159","v":""}]
[{"$f":"'Data Prep'!B160","v":""},{"$f":"'Data Prep'!D160","v":""},{"$f":"'Data Prep'!C160","v":""},{"$f":"'Data Prep'!K160","v":""},{"$f":"'Data Prep'!M160","v":"00:00:00"},{"$f":"'Data Prep'!P160","v":"00:00:00"},{"$f":"'Data Prep'!J160","v":0},{"$f":"'Data Prep'!W160","v":{"$error":"#VALUE!"}},{"$f":"'Data Prep'!Z160","v":"No Score"},{"$f":"'Data Prep'!AA160","v":""},{"$f":"'Data Prep'!AB160","v":""},{"$f":"'Data Prep'!AC160","v":""},{"$f":"'Data Prep'!AD160","v":"No Score"},{"$f":"'Data Prep'!AG160","v":"No Score"},{"$f":"'Data Prep'!AH160","v":""},{"$f":"'Data Prep'!AJ160","v":""},{"$f":"'Data Prep'!AO160","v":""},{"$f":"'Data Prep'!AM160","v":""}]
[{"$f":"'Data Prep'!B161","v":""},{"$f":"'Data Prep'!D161","v":""},{"$f":"'Data Prep'!C161","v":""},{"$f":"'Data Prep'!K161","v":""},{"$f":"'Data Prep'!M161","v":"00:00:00"},{"$f":"'Data Prep'!P161","v":"00:00:00"},{"$f":"'Data Prep'!J161","v":0},{"$f":"'Data Prep'!W161","v":{"$error":"#VALUE!"}},{"$f":"'Data Prep'!Z161","v":"No Score"},{"$f":"'Data Prep'!AA161","v":""},{"$f":"'Data Prep'!AB161","v":""},{"$f":"'Data Prep'!AC161","v":""},{"$f":"'Data Prep'!AD161","v":"No Score"},{"$f":"'Data Prep'!AG161","v":"No Score"},{"$f":"'Data Prep'!AH161","v":""},{"$f":"'Data Prep'!AJ161","v":""},{"$f":"'Data Prep'!AO161","v":""},{"$f":"'Data Prep'!AM161","v":""}]

{"sheet":"Caseload Overview","index":3,"n_rows":1602,"n_cols":19,"rows_kept":1602,"cut":false,"hidden":false,"merged":[[0,0,0,2],[0,4,0,18],[1,4,1,8],[1,9,1,12],[1,13,1,16],[1,17,2,18],[2,4,2,8],[2,9,2,12],[2,13,2,16]]}
["Click here for Patient Tracking Spreadsheet Template resources",null,null,null,"1) EVERY time this worksheet is used, ensure all other versions of the template are CLOSED, and press \"Ctrl+J\" to refresh the page.\n2) Do NOT use the Caseload Overview if fewer than 2 ACTIVE patients are entered on the Patient Tracking worksheet.\n3) Do NOT change the number of rows or columns. If you need to make any changes to the table whatsoever (other than sort and filter), use the de-identified template provided at the link to the left.\n4) Be aware that at least one PHQ-9 score must be entered for a given record in order for that record's GAD-7 scores to display properly in the Caseload Overview."]
[null,null,null,null,"Treatment Status\nIndicates that the the most recent contact was over 2 months ago",null,null,null,null,"PHQ-9",null,null,null,"GAD-7\nA green check mark indicates that a patient's last available GAD-7 score was at target (<8 or 50% decrease from initial score)",null,null,null,"Psychiatric Case Review"]
[null,null,null,null,"      The most recent contact was over 1 month (30 days) ago\n       The next follow-up contact is past due",null,null,null,null,"      The last available PHQ-9 score is at target (<5 or 50% decrease \n       from initial score)\n       The last available PHQ-9 score is more than 30 days old",null,null,null,"      The last available GAD-7 score is at target (<10 or 50% decrease \n       from initial score)\n       The last available GAD-7 score is more than 30 days old"]
["View Record","Treatment Status","Name","MRN","Date of Initial Assessment","Date of Most Recent Contact","Date Next Follow-up Due","Number of Follow-up Contacts","Weeks in Treatment","Initial PHQ-9 Score","Last Available PHQ-9 Score","% Change in PHQ-9 Score","Date of Last PHQ-9 Score","Initial GAD-7 Score","Last Available GAD-7 Score","% Change in GAD-7 Score","Date of Last GAD-7 Score","Flag","Most Recent Psychiatric Case Review Note"]
[{"$f":"HYPERLINK(\"#'Patient Tracking'!\" & ADDRESS(MATCH($D5, 'Patient Tracking'!$A:$A, 0), 1), \"View\")","v":"View"},"Active","Nancy Fake",6789,"2017-05-29","2017-05-29","2017-06-12",0,6.1428571428571432,"No Score","No Score","","","No Score","No Score","","","",""]
[{"$f":"HYPERLINK(\"#'Patient Tracking'!\" & ADDRESS(MATCH($D6, 'Patient Tracking'!$A:$A, 0), 1), \"View\")","v":"View"},"RP","Betty Test",2500,"2016-12-15","2017-05-15","2017-06-14",10,29.714285714285715,12,1,-0.91666666666666663,"2017-05-15",9,3,-0.66666666666666674,"2017-05-15","",""]
[{"$f":"HYPERLINK(\"#'Patient Tracking'!\" & ADDRESS(MATCH($D7, 'Patient Tracking'!$A:$A, 0), 1), \"View\")","v":"View"},"Active","Susan Test",1678,"2016-11-20","2017-06-02","2017-06-16",10,33.285714285714285,22,15,-0.31818181818181823,"2017-06-02",18,14,-0.22222222222222221,"2017-06-02","Flag for discussion & safety risk","2016-09-15"]
[{"$f":"HYPERLINK(\"#'Patient Tracking'!\" & ADDRESS(MATCH($D8, 'Patient Tracking'!$A:$A, 0), 1), \"View\")","v":"View"},"Inactive","John Doe",4321,"2016-01-15","2016-11-16","2016-12-16",12,77.571428571428569,20,0,-1,"2016-11-16",14,1,-0.9285714285714286,"2016-11-16","","2016-11-01"]
[{"$f":"HYPERLINK(\"#'Patient Tracking'!\" & ADDRESS(MATCH($D9, 'Patient Tracking'!$A:$A, 0), 1), \"View\")","v":"View"},"Active","Bob Dolittle",1222,"2017-03-02","2017-07-01","2017-07-15",3,18.714285714285715,22,19,-0.13636363636363635,"2017-07-01",12,10,-0.16666666666666663,"2017-07-01","Flag as safety risk","2016-09-17"]
[{"$f":"HYPERLINK(\"#'Patient Tracking'!\" & ADDRESS(MATCH($D10, 'Patient Tracking'!$A:$A, 0), 1), \"View\")","v":"View"},"Active","Joe Smith",1234,"2017-04-01","2017-07-11","2017-07-25",6,14.428571428571429,15,8,-0.46666666666666667,"2017-07-11",11,4,-0.63636363636363635,"2017-07-11","","2016-10-24"]
[{"$f":"HYPERLINK(\"#'Patient Tracking'!\" & ADDRESS(MATCH($D11, 'Patient Tracking'!$A:$A, 0), 1), \"View\")","v":"View"},"Active","Albert Smith",5555,"2017-03-05","2017-06-30","2017-07-28",5,18.285714285714285,18,18,0,"2017-06-30",14,10,-0.2857142857142857,"2017-06-30","Flag for discussion",""]
[{"$f":"HYPERLINK(\"#'Patient Tracking'!\" & ADDRESS(MATCH($D12, 'Patient Tracking'!$A:$A, 0), 1), \"View\")","v":{"$error":"#N/A"}}]
[{"$f":"HYPERLINK(\"#'Patient Tracking'!\" & ADDRESS(MATCH($D13, 'Patient Tracking'!$A:$A, 0), 1), \"View\")","v":{"$error":"#N/A"}}]
[{"$f":"HYPERLINK(\"#'Patient Tracking'!\" & ADDRESS(MATCH($D14, 'Patient Tracking'!$A:$A, 0), 1), \"View\")","v":{"$error":"#N/A"}}]
[{"$f":"HYPERLINK(\"#'Patient Tracking'!\" & ADDRESS(MATCH($D15, 'Patient Tracking'!$A:$A, 0), 1), \"View\")","v":{"$error":"#N/A"}}]
[{"$f":"HYPERLINK(\"#'Patient Tracking'!\" & ADDRESS(MATCH($D16, 'Patient Tracking'!$A:$A, 0), 1), \"View\")","v":{"$error":"#N/A"}}]
[{"$f":"HYPERLINK(\"#'Patient Tracking'!\" & ADDRESS(MATCH($D17, 'Patient Tracking'!$A:$A, 0), 1), \"View\")","v":{"$error":"#N/A"}}]
[{"$f":"HYPERLINK(\"#'Patient Tracking'!\" & ADDRESS(MATCH($D18, 'Patient Tracking'!$A:$A, 0), 1), \"View\")","v":{"$error":"#N/A"}}]
[{"$f":"HYPERLINK(\"#'Patient Tracking'!\" & ADDRESS(MATCH($D19, 'Patient Tracking'!$A:$A, 0), 1), \"View\")","v":{"$error":"#N/A"}}]
[{"$f":"HYPERLINK(\"#'Patient Tracking'!\" & ADDRESS(MATCH($D20, 'Patient Tracking'!$A:$A, 0), 1), \"View\")","v":{"$error":"#N/A"}}]
[{"$f":"HYPERLINK(\"#'Patient Tracking'!\" & ADDRESS(MATCH($D21, 'Patient Tracking'!$A:$A, 0), 1), \"View\")","v":{"$error":"#N/A"}}]
[{"$f":"HYPERLINK(\"#'Patient Tracking'!\" & ADDRESS(MATCH($D22, 'Patient Tracking'!$A:$A, 0), 1), \"View\")","v":{"$error":"#N/A"}}]
[{"$f":"HYPERLINK(\"#'Patient Tracking'!\" & ADDRESS(MATCH($D23, 'Patient Tracking'!$A:$A, 0), 1), \"View\")","v":{"$error":"#N/A"}}]
[{"$f":"HYPERLINK(\"#'Patient Tracking'!\" & ADDRESS(MATCH($D24, 'Patient Tracking'!$A:$A, 0), 1), \"View\")","v":{"$error":"#N/A"}}]
[{"$f":"HYPERLINK(\"#'Patient Tracking'!\" & ADDRESS(MATCH($D25, 'Patient Tracking'!$A:$A, 0), 1), \"View\")","v":{"$error":"#N/A"}}]
[{"$f":"HYPERLINK(\"#'Patient Tracking'!\" & ADDRESS(MATCH($D26, 'Patient Tracking'!$A:$A, 0), 1), \"View\")","v":{"$error":"#N/A"}}]
[{"$f":"HYPERLINK(\"#'Patient Tracking'!\" & ADDRESS(MATCH($D27, 'Patient Tracking'!$A:$A, 0), 1), \"View\")","v":{"$error":"#N/A"}}]
[{"$f":"HYPERLINK(\"#'Patient Tracking'!\" & ADDRESS(MATCH($D28, 'Patient Tracking'!$A:$A, 0), 1), \"View\")","v":{"$error":"#N/A"}}]
[{"$f":"HYPERLINK(\"#'Patient Tracking'!\" & ADDRESS(MATCH($D29, 'Patient Tracking'!$A:$A, 0), 1), \"View\")","v":{"$error":"#N/A"}}]
[{"$f":"HYPERLINK(\"#'Patient Tracking'!\" & ADDRESS(MATCH($D30, 'Patient Tracking'!$A:$A, 0), 1), \"View\")","v":{"$error":"#N/A"}}]
[{"$f":"HYPERLINK(\"#'Patient Tracking'!\" & ADDRESS(MATCH($D31, 'Patient Tracking'!$A:$A, 0), 1), \"View\")","v":{"$error":"#N/A"}}]
[{"$f":"HYPERLINK(\"#'Patient Tracking'!\" & ADDRESS(MATCH($D32, 'Patient Tracking'!$A:$A, 0), 1), \"View\")","v":{"$error":"#N/A"}}]
[{"$f":"HYPERLINK(\"#'Patient Tracking'!\" & ADDRESS(MATCH($D33, 'Patient Tracking'!$A:$A, 0), 1), \"View\")","v":{"$error":"#N/A"}}]
[{"$f":"HYPERLINK(\"#'Patient Tracking'!\" & ADDRESS(MATCH($D34, 'Patient Tracking'!$A:$A, 0), 1), \"View\")","v":{"$error":"#N/A"}}]
[{"$f":"HYPERLINK(\"#'Patient Tracking'!\" & ADDRESS(MATCH($D35, 'Patient Tracking'!$A:$A, 0), 1), \"View\")","v":{"$error":"#N/A"}}]
[{"$f":"HYPERLINK(\"#'Patient Tracking'!\" & ADDRESS(MATCH($D36, 'Patient Tracking'!$A:$A, 0), 1), \"View\")","v":{"$error":"#N/A"}}]
[{"$f":"HYPERLINK(\"#'Patient Tracking'!\" & ADDRESS(MATCH($D37, 'Patient Tracking'!$A:$A, 0), 1), \"View\")","v":{"$error":"#N/A"}}]
[{"$f":"HYPERLINK(\"#'Patient Tracking'!\" & ADDRESS(MATCH($D38, 'Patient Tracking'!$A:$A, 0), 1), \"View\")","v":{"$error":"#N/A"}}]
[{"$f":"HYPERLINK(\"#'Patient Tracking'!\" & ADDRESS(MATCH($D39, 'Patient Tracking'!$A:$A, 0), 1), \"View\")","v":{"$error":"#N/A"}}]
[{"$f":"HYPERLINK(\"#'Patient Tracking'!\" & ADDRESS(MATCH($D40, 'Patient Tracking'!$A:$A, 0), 1), \"View\")","v":{"$error":"#N/A"}}]
[{"$f":"HYPERLINK(\"#'Patient Tracking'!\" & ADDRESS(MATCH($D41, 'Patient Tracking'!$A:$A, 0), 1), \"View\")","v":{"$error":"#N/A"}}]
[{"$f":"HYPERLINK(\"#'Patient Tracking'!\" & ADDRESS(MATCH($D42, 'Patient Tracking'!$A:$A, 0), 1), \"View\")","v":{"$error":"#N/A"}}]
[{"$f":"HYPERLINK(\"#'Patient Tracking'!\" & ADDRESS(MATCH($D43, 'Patient Tracking'!$A:$A, 0), 1), \"View\")","v":{"$error":"#N/A"}}]
[{"$f":"HYPERLINK(\"#'Patient Tracking'!\" & ADDRESS(MATCH($D44, 'Patient Tracking'!$A:$A, 0), 1), \"View\")","v":{"$error":"#N/A"}}]
[{"$f":"HYPERLINK(\"#'Patient Tracking'!\" & ADDRESS(MATCH($D45, 'Patient Tracking'!$A:$A, 0), 1), \"View\")","v":{"$error":"#N/A"}}]
[{"$f":"HYPERLINK(\"#'Patient Tracking'!\" & ADDRESS(MATCH($D46, 'Patient Tracking'!$A:$A, 0), 1), \"View\")","v":{"$error":"#N/A"}}]
[{"$f":"HYPERLINK(\"#'Patient Tracking'!\" & ADDRESS(MATCH($D47, 'Patient Tracking'!$A:$A, 0), 1), \"View\")","v":{"$error":"#N/A"}}]
[{"$f":"HYPERLINK(\"#'Patient Tracking'!\" & ADDRESS(MATCH($D48, 'Patient Tracking'!$A:$A, 0), 1), \"View\")","v":{"$error":"#N/A"}}]
[{"$f":"HYPERLINK(\"#'Patient Tracking'!\" & ADDRESS(MATCH($D49, 'Patient Tracking'!$A:$A, 0), 1), \"View\")","v":{"$error":"#N/A"}}]
[{"$f":"HYPERLINK(\"#'Patient Tracking'!\" & ADDRESS(MATCH($D50, 'Patient Tracking'!$A:$A, 0), 1), \"View\")","v":{"$error":"#N/A"}}]
[{"$f":"HYPERLINK(\"#'Patient Tracking'!\" & ADDRESS(MATCH($D51, 'Patient Tracking'!$A:$A, 0), 1), \"View\")","v":{"$error":"#N/A"}}]
[{"$f":"HYPERLINK(\"#'Patient Tracking'!\" & ADDRESS(MATCH($D52, 'Patient Tracking'!$A:$A, 0), 1), \"View\")","v":{"$error":"#N/A"}}]
[{"$f":"HYPERLINK(\"#'Patient Tracking'!\" & ADDRESS(MATCH($D53, 'Patient Tracking'!$A:$A, 0), 1), \"View\")","v":{"$error":"#N/A"}}]
[{"$f":"HYPERLINK(\"#'Patient Tracking'!\" & ADDRESS(MATCH($D54, 'Patient Tracking'!$A:$A, 0), 1), \"View\")","v":{"$error":"#N/A"}}]
[{"$f":"HYPERLINK(\"#'Patient Tracking'!\" & ADDRESS(MATCH($D55, 'Patient Tracking'!$A:$A, 0), 1), \"View\")","v":{"$error":"#N/A"}}]
[{"$f":"HYPERLINK(\"#'Patient Tracking'!\" & ADDRESS(MATCH($D56, 'Patient Tracking'!$A:$A, 0), 1), \"View\")","v":{"$error":"#N/A"}}]
[{"$f":"HYPERLINK(\"#'Patient Tracking'!\" & ADDRESS(MATCH($D57, 'Patient Tracking'!$A:$A, 0), 1), \"View\")","v":{"$error":"#N/A"}}]
[{"$f":"HYPERLINK(\"#'Patient Tracking'!\" & ADDRESS(MATCH($D58, 'Patient Tracking'!$A:$A, 0), 1), \"View\")","v":{"$error":"#N/A"}}]
[{"$f":"HYPERLINK(\"#'Patient Tracking'!\" & ADDRESS(MATCH($D59, 'Patient Tracking'!$A:$A, 0), 1), \"View\")","v":{"$error":"#N/A"}}]
[{"$f":"HYPERLINK(\"#'Patient Tracking'!\" & ADDRESS(MATCH($D60, 'Patient Tracking'!$A:$A, 0), 1), \"View\")","v":{"$error":"#N/A"}}]
[{"$f":"HYPERLINK(\"#'Patient Tracking'!\" & ADDRESS(MATCH($D61, 'Patient Tracking'!$A:$A, 0), 1), \"View\")","v":{"$error":"#N/A"}}]
[{"$f":"HYPERLINK(\"#'Patient Tracking'!\" & ADDRESS(MATCH($D62, 'Patient Tracking'!$A:$A, 0), 1), \"View\")","v":{"$error":"#N/A"}}]
[{"$f":"HYPERLINK(\"#'Patient Tracking'!\" & ADDRESS(MATCH($D63, 'Patient Tracking'!$A:$A, 0), 1), \"View\")","v":{"$error":"#N/A"}}]
[{"$f":"HYPERLINK(\"#'Patient Tracking'!\" & ADDRESS(MATCH($D64, 'Patient Tracking'!$A:$A, 0), 1), \"View\")","v":{"$error":"#N/A"}}]
[{"$f":"HYPERLINK(\"#'Patient Tracking'!\" & ADDRESS(MATCH($D65, 'Patient Tracking'!$A:$A, 0), 1), \"View\")","v":{"$error":"#N/A"}}]
[{"$f":"HYPERLINK(\"#'Patient Tracking'!\" & ADDRESS(MATCH($D66, 'Patient Tracking'!$A:$A, 0), 1), \"View\")","v":{"$error":"#N/A"}}]
[{"$f":"HYPERLINK(\"#'Patient Tracking'!\" & ADDRESS(MATCH($D67, 'Patient Tracking'!$A:$A, 0), 1), \"View\")","v":{"$error":"#N/A"}}]
[{"$f":"HYPERLINK(\"#'Patient Tracking'!\" & ADDRESS(MATCH($D68, 'Patient Tracking'!$A:$A, 0), 1), \"View\")","v":{"$error":"#N/A"}}]
[{"$f":"HYPERLINK(\"#'Patient Tracking'!\" & ADDRESS(MATCH($D69, 'Patient Tracking'!$A:$A, 0), 1), \"View\")","v":{"$error":"#N/A"}}]
[{"$f":"HYPERLINK(\"#'Patient Tracking'!\" & ADDRESS(MATCH($D70, 'Patient Tracking'!$A:$A, 0), 1), \"View\")","v":{"$error":"#N/A"}}]
[{"$f":"HYPERLINK(\"#'Patient Tracking'!\" & ADDRESS(MATCH($D71, 'Patient Tracking'!$A:$A, 0), 1), \"View\")","v":{"$error":"#N/A"}}]
[{"$f":"HYPERLINK(\"#'Patient Tracking'!\" & ADDRESS(MATCH($D72, 'Patient Tracking'!$A:$A, 0), 1), \"View\")","v":{"$error":"#N/A"}}]
[{"$f":"HYPERLINK(\"#'Patient Tracking'!\" & ADDRESS(MATCH($D73, 'Patient Tracking'!$A:$A, 0), 1), \"View\")","v":{"$error":"#N/A"}}]
[{"$f":"HYPERLINK(\"#'Patient Tracking'!\" & ADDRESS(MATCH($D74, 'Patient Tracking'!$A:$A, 0), 1), \"View\")","v":{"$error":"#N/A"}}]
[{"$f":"HYPERLINK(\"#'Patient Tracking'!\" & ADDRESS(MATCH($D75, 'Patient Tracking'!$A:$A, 0), 1), \"View\")","v":{"$error":"#N/A"}}]
[{"$f":"HYPERLINK(\"#'Patient Tracking'!\" & ADDRESS(MATCH($D76, 'Patient Tracking'!$A:$A, 0), 1), \"View\")","v":{"$error":"#N/A"}}]
[{"$f":"HYPERLINK(\"#'Patient Tracking'!\" & ADDRESS(MATCH($D77, 'Patient Tracking'!$A:$A, 0), 1), \"View\")","v":{"$error":"#N/A"}}]
[{"$f":"HYPERLINK(\"#'Patient Tracking'!\" & ADDRESS(MATCH($D78, 'Patient Tracking'!$A:$A, 0), 1), \"View\")","v":{"$error":"#N/A"}}]
[{"$f":"HYPERLINK(\"#'Patient Tracking'!\" & ADDRESS(MATCH($D79, 'Patient Tracking'!$A:$A, 0), 1), \"View\")","v":{"$error":"#N/A"}}]
[{"$f":"HYPERLINK(\"#'Patient Tracking'!\" & ADDRESS(MATCH($D80, 'Patient Tracking'!$A:$A, 0), 1), \"View\")","v":{"$error":"#N/A"}}]
[{"$f":"HYPERLINK(\"#'Patient Tracking'!\" & ADDRESS(MATCH($D81, 'Patient Tracking'!$A:$A, 0), 1), \"View\")","v":{"$error":"#N/A"}}]
[{"$f":"HYPERLINK(\"#'Patient Tracking'!\" & ADDRESS(MATCH($D82, 'Patient Tracking'!$A:$A, 0), 1), \"View\")","v":{"$error":"#N/A"}}]
[{"$f":"HYPERLINK(\"#'Patient Tracking'!\" & ADDRESS(MATCH($D83, 'Patient Tracking'!$A:$A, 0), 1), \"View\")","v":{"$error":"#N/A"}}]
[{"$f":"HYPERLINK(\"#'Patient Tracking'!\" & ADDRESS(MATCH($D84, 'Patient Tracking'!$A:$A, 0), 1), \"View\")","v":{"$error":"#N/A"}}]
[{"$f":"HYPERLINK(\"#'Patient Tracking'!\" & ADDRESS(MATCH($D85, 'Patient Tracking'!$A:$A, 0), 1), \"View\")","v":{"$error":"#N/A"}}]
[{"$f":"HYPERLINK(\"#'Patient Tracking'!\" & ADDRESS(MATCH($D86, 'Patient Tracking'!$A:$A, 0), 1), \"View\")","v":{"$error":"#N/A"}}]
[{"$f":"HYPERLINK(\"#'Patient Tracking'!\" & ADDRESS(MATCH($D87, 'Patient Tracking'!$A:$A, 0), 1), \"View\")","v":{"$error":"#N/A"}}]
[{"$f":"HYPERLINK(\"#'Patient Tracking'!\" & ADDRESS(MATCH($D88, 'Patient Tracking'!$A:$A, 0), 1), \"View\")","v":{"$error":"#N/A"}}]
[{"$f":"HYPERLINK(\"#'Patient Tracking'!\" & ADDRESS(MATCH($D89, 'Patient Tracking'!$A:$A, 0), 1), \"View\")","v":{"$error":"#N/A"}}]
[{"$f":"HYPERLINK(\"#'Patient Tracking'!\" & ADDRESS(MATCH($D90, 'Patient Tracking'!$A:$A, 0), 1), \"View\")","v":{"$error":"#N/A"}}]
[{"$f":"HYPERLINK(\"#'Patient Tracking'!\" & ADDRESS(MATCH($D91, 'Patient Tracking'!$A:$A, 0), 1), \"View\")","v":{"$error":"#N/A"}}]
[{"$f":"HYPERLINK(\"#'Patient Tracking'!\" & ADDRESS(MATCH($D92, 'Patient Tracking'!$A:$A, 0), 1), \"View\")","v":{"$error":"#N/A"}}]
[{"$f":"HYPERLINK(\"#'Patient Tracking'!\" & ADDRESS(MATCH($D93, 'Patient Tracking'!$A:$A, 0), 1), \"View\")","v":{"$error":"#N/A"}}]
[{"$f":"HYPERLINK(\"#'Patient Tracking'!\" & ADDRESS(MATCH($D94, 'Patient Tracking'!$A:$A, 0), 1), \"View\")","v":{"$error":"#N/A"}}]
[{"$f":"HYPERLINK(\"#'Patient Tracking'!\" & ADDRESS(MATCH($D95, 'Patient Tracking'!$A:$A, 0), 1), \"View\")","v":{"$error":"#N/A"}}]
[{"$f":"HYPERLINK(\"#'Patient Tracking'!\" & ADDRESS(MATCH($D96, 'Patient Tracking'!$A:$A, 0), 1), \"View\")","v":{"$error":"#N/A"}}]
[{"$f":"HYPERLINK(\"#'Patient Tracking'!\" & ADDRESS(MATCH($D97, 'Patient Tracking'!$A:$A, 0), 1), \"View\")","v":{"$error":"#N/A"}}]
[{"$f":"HYPERLINK(\"#'Patient Tracking'!\" & ADDRESS(MATCH($D98, 'Patient Tracking'!$A:$A, 0), 1), \"View\")","v":{"$error":"#N/A"}}]
[{"$f":"HYPERLINK(\"#'Patient Tracking'!\" & ADDRESS(MATCH($D99, 'Patient Tracking'!$A:$A, 0), 1), \"View\")","v":{"$error":"#N/A"}}]
[{"$f":"HYPERLINK(\"#'Patient Tracking'!\" & ADDRESS(MATCH($D100, 'Patient Tracking'!$A:$A, 0), 1), \"View\")","v":{"$error":"#N/A"}}]
[{"$f":"HYPERLINK(\"#'Patient Tracking'!\" & ADDRESS(MATCH($D101, 'Patient Tracking'!$A:$A, 0), 1), \"View\")","v":{"$error":"#N/A"}}]
[{"$f":"HYPERLINK(\"#'Patient Tracking'!\" & ADDRESS(MATCH($D102, 'Patient Tracking'!$A:$A, 0), 1), \"View\")","v":{"$error":"#N/A"}}]
[{"$f":"HYPERLINK(\"#'Patient Tracking'!\" & ADDRESS(MATCH($D103, 'Patient Tracking'!$A:$A, 0), 1), \"View\")","v":{"$error":"#N/A"}}]
[{"$f":"HYPERLINK(\"#'Patient Tracking'!\" & ADDRESS(MATCH($D104, 'Patient Tracking'!$A:$A, 0), 1), \"View\")","v":{"$error":"#N/A"}}]
[{"$f":"HYPERLINK(\"#'Patient Tracking'!\" & ADDRESS(MATCH($D105, 'Patient Tracking'!$A:$A, 0), 1), \"View\")","v":{"$error":"#N/A"}}]
[{"$f":"HYPERLINK(\"#'Patient Tracking'!\" & ADDRESS(MATCH($D106, 'Patient Tracking'!$A:$A, 0), 1), \"View\")","v":{"$error":"#N/A"}}]
[{"$f":"HYPERLINK(\"#'Patient Tracking'!\" & ADDRESS(MATCH($D107, 'Patient Tracking'!$A:$A, 0), 1), \"View\")","v":{"$error":"#N/A"}}]
[{"$f":"HYPERLINK(\"#'Patient Tracking'!\" & ADDRESS(MATCH($D108, 'Patient Tracking'!$A:$A, 0), 1), \"View\")","v":{"$error":"#N/A"}}]
[{"$f":"HYPERLINK(\"#'Patient Tracking'!\" & ADDRESS(MATCH($D109, 'Patient Tracking'!$A:$A, 0), 1), \"View\")","v":{"$error":"#N/A"}}]
[{"$f":"HYPERLINK(\"#'Patient Tracking'!\" & ADDRESS(MATCH($D110, 'Patient Tracking'!$A:$A, 0), 1), \"View\")","v":{"$error":"#N/A"}}]
[{"$f":"HYPERLINK(\"#'Patient Tracking'!\" & ADDRESS(MATCH($D111, 'Patient Tracking'!$A:$A, 0), 1), \"View\")","v":{"$error":"#N/A"}}]
[{"$f":"HYPERLINK(\"#'Patient Tracking'!\" & ADDRESS(MATCH($D112, 'Patient Tracking'!$A:$A, 0), 1), \"View\")","v":{"$error":"#N/A"}}]
[{"$f":"HYPERLINK(\"#'Patient Tracking'!\" & ADDRESS(MATCH($D113, 'Patient Tracking'!$A:$A, 0), 1), \"View\")","v":{"$error":"#N/A"}}]
[{"$f":"HYPERLINK(\"#'Patient Tracking'!\" & ADDRESS(MATCH($D114, 'Patient Tracking'!$A:$A, 0), 1), \"View\")","v":{"$error":"#N/A"}}]
[{"$f":"HYPERLINK(\"#'Patient Tracking'!\" & ADDRESS(MATCH($D115, 'Patient Tracking'!$A:$A, 0), 1), \"View\")","v":{"$error":"#N/A"}}]
[{"$f":"HYPERLINK(\"#'Patient Tracking'!\" & ADDRESS(MATCH($D116, 'Patient Tracking'!$A:$A, 0), 1), \"View\")","v":{"$error":"#N/A"}}]
[{"$f":"HYPERLINK(\"#'Patient Tracking'!\" & ADDRESS(MATCH($D117, 'Patient Tracking'!$A:$A, 0), 1), \"View\")","v":{"$error":"#N/A"}}]
[{"$f":"HYPERLINK(\"#'Patient Tracking'!\" & ADDRESS(MATCH($D118, 'Patient Tracking'!$A:$A, 0), 1), \"View\")","v":{"$error":"#N/A"}}]
[{"$f":"HYPERLINK(\"#'Patient Tracking'!\" & ADDRESS(MATCH($D119, 'Patient Tracking'!$A:$A, 0), 1), \"View\")","v":{"$error":"#N/A"}}]
[{"$f":"HYPERLINK(\"#'Patient Tracking'!\" & ADDRESS(MATCH($D120, 'Patient Tracking'!$A:$A, 0), 1), \"View\")","v":{"$error":"#N/A"}}]
[{"$f":"HYPERLINK(\"#'Patient Tracking'!\" & ADDRESS(MATCH($D121, 'Patient Tracking'!$A:$A, 0), 1), \"View\")","v":{"$error":"#N/A"}}]
[{"$f":"HYPERLINK(\"#'Patient Tracking'!\" & ADDRESS(MATCH($D122, 'Patient Tracking'!$A:$A, 0), 1), \"View\")","v":{"$error":"#N/A"}}]
[{"$f":"HYPERLINK(\"#'Patient Tracking'!\" & ADDRESS(MATCH($D123, 'Patient Tracking'!$A:$A, 0), 1), \"View\")","v":{"$error":"#N/A"}}]
[{"$f":"HYPERLINK(\"#'Patient Tracking'!\" & ADDRESS(MATCH($D124, 'Patient Tracking'!$A:$A, 0), 1), \"View\")","v":{"$error":"#N/A"}}]
[{"$f":"HYPERLINK(\"#'Patient Tracking'!\" & ADDRESS(MATCH($D125, 'Patient Tracking'!$A:$A, 0), 1), \"View\")","v":{"$error":"#N/A"}}]
[{"$f":"HYPERLINK(\"#'Patient Tracking'!\" & ADDRESS(MATCH($D126, 'Patient Tracking'!$A:$A, 0), 1), \"View\")","v":{"$error":"#N/A"}}]
[{"$f":"HYPERLINK(\"#'Patient Tracking'!\" & ADDRESS(MATCH($D127, 'Patient Tracking'!$A:$A, 0), 1), \"View\")","v":{"$error":"#N/A"}}]
[{"$f":"HYPERLINK(\"#'Patient Tracking'!\" & ADDRESS(MATCH($D128, 'Patient Tracking'!$A:$A, 0), 1), \"View\")","v":{"$error":"#N/A"}}]
[{"$f":"HYPERLINK(\"#'Patient Tracking'!\" & ADDRESS(MATCH($D129, 'Patient Tracking'!$A:$A, 0), 1), \"View\")","v":{"$error":"#N/A"}}]
[{"$f":"HYPERLINK(\"#'Patient Tracking'!\" & ADDRESS(MATCH($D130, 'Patient Tracking'!$A:$A, 0), 1), \"View\")","v":{"$error":"#N/A"}}]
[{"$f":"HYPERLINK(\"#'Patient Tracking'!\" & ADDRESS(MATCH($D131, 'Patient Tracking'!$A:$A, 0), 1), \"View\")","v":{"$error":"#N/A"}}]
[{"$f":"HYPERLINK(\"#'Patient Tracking'!\" & ADDRESS(MATCH($D132, 'Patient Tracking'!$A:$A, 0), 1), \"View\")","v":{"$error":"#N/A"}}]
[{"$f":"HYPERLINK(\"#'Patient Tracking'!\" & ADDRESS(MATCH($D133, 'Patient Tracking'!$A:$A, 0), 1), \"View\")","v":{"$error":"#N/A"}}]
[{"$f":"HYPERLINK(\"#'Patient Tracking'!\" & ADDRESS(MATCH($D134, 'Patient Tracking'!$A:$A, 0), 1), \"View\")","v":{"$error":"#N/A"}}]
[{"$f":"HYPERLINK(\"#'Patient Tracking'!\" & ADDRESS(MATCH($D135, 'Patient Tracking'!$A:$A, 0), 1), \"View\")","v":{"$error":"#N/A"}}]
[{"$f":"HYPERLINK(\"#'Patient Tracking'!\" & ADDRESS(MATCH($D136, 'Patient Tracking'!$A:$A, 0), 1), \"View\")","v":{"$error":"#N/A"}}]
[{"$f":"HYPERLINK(\"#'Patient Tracking'!\" & ADDRESS(MATCH($D137, 'Patient Tracking'!$A:$A, 0), 1), \"View\")","v":{"$error":"#N/A"}}]
[{"$f":"HYPERLINK(\"#'Patient Tracking'!\" & ADDRESS(MATCH($D138, 'Patient Tracking'!$A:$A, 0), 1), \"View\")","v":{"$error":"#N/A"}}]
[{"$f":"HYPERLINK(\"#'Patient Tracking'!\" & ADDRESS(MATCH($D139, 'Patient Tracking'!$A:$A, 0), 1), \"View\")","v":{"$error":"#N/A"}}]
[{"$f":"HYPERLINK(\"#'Patient Tracking'!\" & ADDRESS(MATCH($D140, 'Patient Tracking'!$A:$A, 0), 1), \"View\")","v":{"$error":"#N/A"}}]
[{"$f":"HYPERLINK(\"#'Patient Tracking'!\" & ADDRESS(MATCH($D141, 'Patient Tracking'!$A:$A, 0), 1), \"View\")","v":{"$error":"#N/A"}}]
[{"$f":"HYPERLINK(\"#'Patient Tracking'!\" & ADDRESS(MATCH($D142, 'Patient Tracking'!$A:$A, 0), 1), \"View\")","v":{"$error":"#N/A"}}]
[{"$f":"HYPERLINK(\"#'Patient Tracking'!\" & ADDRESS(MATCH($D143, 'Patient Tracking'!$A:$A, 0), 1), \"View\")","v":{"$error":"#N/A"}}]
[{"$f":"HYPERLINK(\"#'Patient Tracking'!\" & ADDRESS(MATCH($D144, 'Patient Tracking'!$A:$A, 0), 1), \"View\")","v":{"$error":"#N/A"}}]
[{"$f":"HYPERLINK(\"#'Patient Tracking'!\" & ADDRESS(MATCH($D145, 'Patient Tracking'!$A:$A, 0), 1), \"View\")","v":{"$error":"#N/A"}}]
[{"$f":"HYPERLINK(\"#'Patient Tracking'!\" & ADDRESS(MATCH($D146, 'Patient Tracking'!$A:$A, 0), 1), \"View\")","v":{"$error":"#N/A"}}]
[{"$f":"HYPERLINK(\"#'Patient Tracking'!\" & ADDRESS(MATCH($D147, 'Patient Tracking'!$A:$A, 0), 1), \"View\")","v":{"$error":"#N/A"}}]
[{"$f":"HYPERLINK(\"#'Patient Tracking'!\" & ADDRESS(MATCH($D148, 'Patient Tracking'!$A:$A, 0), 1), \"View\")","v":{"$error":"#N/A"}}]
[{"$f":"HYPERLINK(\"#'Patient Tracking'!\" & ADDRESS(MATCH($D149, 'Patient Tracking'!$A:$A, 0), 1), \"View\")","v":{"$error":"#N/A"}}]
[{"$f":"HYPERLINK(\"#'Patient Tracking'!\" & ADDRESS(MATCH($D150, 'Patient Tracking'!$A:$A, 0), 1), \"View\")","v":{"$error":"#N/A"}}]
[{"$f":"HYPERLINK(\"#'Patient Tracking'!\" & ADDRESS(MATCH($D151, 'Patient Tracking'!$A:$A, 0), 1), \"View\")","v":{"$error":"#N/A"}}]
[{"$f":"HYPERLINK(\"#'Patient Tracking'!\" & ADDRESS(MATCH($D152, 'Patient Tracking'!$A:$A, 0), 1), \"View\")","v":{"$error":"#N/A"}}]
[{"$f":"HYPERLINK(\"#'Patient Tracking'!\" & ADDRESS(MATCH($D153, 'Patient Tracking'!$A:$A, 0), 1), \"View\")","v":{"$error":"#N/A"}}]
[{"$f":"HYPERLINK(\"#'Patient Tracking'!\" & ADDRESS(MATCH($D154, 'Patient Tracking'!$A:$A, 0), 1), \"View\")","v":{"$error":"#N/A"}}]
[{"$f":"HYPERLINK(\"#'Patient Tracking'!\" & ADDRESS(MATCH($D155, 'Patient Tracking'!$A:$A, 0), 1), \"View\")","v":{"$error":"#N/A"}}]
[{"$f":"HYPERLINK(\"#'Patient Tracking'!\" & ADDRESS(MATCH($D156, 'Patient Tracking'!$A:$A, 0), 1), \"View\")","v":{"$error":"#N/A"}}]
[{"$f":"HYPERLINK(\"#'Patient Tracking'!\" & ADDRESS(MATCH($D157, 'Patient Tracking'!$A:$A, 0), 1), \"View\")","v":{"$error":"#N/A"}}]
[{"$f":"HYPERLINK(\"#'Patient Tracking'!\" & ADDRESS(MATCH($D158, 'Patient Tracking'!$A:$A, 0), 1), \"View\")","v":{"$error":"#N/A"}}]
[{"$f":"HYPERLINK(\"#'Patient Tracking'!\" & ADDRESS(MATCH($D159, 'Patient Tracking'!$A:$A, 0), 1), \"View\")","v":{"$error":"#N/A"}}]
[{"$f":"HYPERLINK(\"#'Patient Tracking'!\" & ADDRESS(MATCH($D160, 'Patient Tracking'!$A:$A, 0), 1), \"View\")","v":{"$error":"#N/A"}}]
[{"$f":"HYPERLINK(\"#'Patient Tracking'!\" & ADDRESS(MATCH($D161, 'Patient Tracking'!$A:$A, 0), 1), \"View\")","v":{"$error":"#N/A"}}]
[{"$f":"HYPERLINK(\"#'Patient Tracking'!\" & ADDRESS(MATCH($D162, 'Patient Tracking'!$A:$A, 0), 1), \"View\")","v":{"$error":"#N/A"}}]
[{"$f":"HYPERLINK(\"#'Patient Tracking'!\" & ADDRESS(MATCH($D163, 'Patient Tracking'!$A:$A, 0), 1), \"View\")","v":{"$error":"#N/A"}}]
[{"$f":"HYPERLINK(\"#'Patient Tracking'!\" & ADDRESS(MATCH($D164, 'Patient Tracking'!$A:$A, 0), 1), \"View\")","v":{"$error":"#N/A"}}]
[{"$f":"HYPERLINK(\"#'Patient Tracking'!\" & ADDRESS(MATCH($D165, 'Patient Tracking'!$A:$A, 0), 1), \"View\")","v":{"$error":"#N/A"}}]
[{"$f":"HYPERLINK(\"#'Patient Tracking'!\" & ADDRESS(MATCH($D166, 'Patient Tracking'!$A:$A, 0), 1), \"View\")","v":{"$error":"#N/A"}}]
[{"$f":"HYPERLINK(\"#'Patient Tracking'!\" & ADDRESS(MATCH($D167, 'Patient Tracking'!$A:$A, 0), 1), \"View\")","v":{"$error":"#N/A"}}]
[{"$f":"HYPERLINK(\"#'Patient Tracking'!\" & ADDRESS(MATCH($D168, 'Patient Tracking'!$A:$A, 0), 1), \"View\")","v":{"$error":"#N/A"}}]
[{"$f":"HYPERLINK(\"#'Patient Tracking'!\" & ADDRESS(MATCH($D169, 'Patient Tracking'!$A:$A, 0), 1), \"View\")","v":{"$error":"#N/A"}}]
[{"$f":"HYPERLINK(\"#'Patient Tracking'!\" & ADDRESS(MATCH($D170, 'Patient Tracking'!$A:$A, 0), 1), \"View\")","v":{"$error":"#N/A"}}]
[{"$f":"HYPERLINK(\"#'Patient Tracking'!\" & ADDRESS(MATCH($D171, 'Patient Tracking'!$A:$A, 0), 1), \"View\")","v":{"$error":"#N/A"}}]
[{"$f":"HYPERLINK(\"#'Patient Tracking'!\" & ADDRESS(MATCH($D172, 'Patient Tracking'!$A:$A, 0), 1), \"View\")","v":{"$error":"#N/A"}}]
[{"$f":"HYPERLINK(\"#'Patient Tracking'!\" & ADDRESS(MATCH($D173, 'Patient Tracking'!$A:$A, 0), 1), \"View\")","v":{"$error":"#N/A"}}]
[{"$f":"HYPERLINK(\"#'Patient Tracking'!\" & ADDRESS(MATCH($D174, 'Patient Tracking'!$A:$A, 0), 1), \"View\")","v":{"$error":"#N/A"}}]
[{"$f":"HYPERLINK(\"#'Patient Tracking'!\" & ADDRESS(MATCH($D175, 'Patient Tracking'!$A:$A, 0), 1), \"View\")","v":{"$error":"#N/A"}}]
[{"$f":"HYPERLINK(\"#'Patient Tracking'!\" & ADDRESS(MATCH($D176, 'Patient Tracking'!$A:$A, 0), 1), \"View\")","v":{"$error":"#N/A"}}]
[{"$f":"HYPERLINK(\"#'Patient Tracking'!\" & ADDRESS(MATCH($D177, 'Patient Tracking'!$A:$A, 0), 1), \"View\")","v":{"$error":"#N/A"}}]
[{"$f":"HYPERLINK(\"#'Patient Tracking'!\" & ADDRESS(MATCH($D178, 'Patient Tracking'!$A:$A, 0), 1), \"View\")","v":{"$error":"#N/A"}}]
[{"$f":"HYPERLINK(\"#'Patient Tracking'!\" & ADDRESS(MATCH($D179, 'Patient Tracking'!$A:$A, 0), 1), \"View\")","v":{"$error":"#N/A"}}]
[{"$f":"HYPERLINK(\"#'Patient Tracking'!\" & ADDRESS(MATCH($D180, 'Patient Tracking'!$A:$A, 0), 1), \"View\")","v":{"$error":"#N/A"}}]
[{"$f":"HYPERLINK(\"#'Patient Tracking'!\" & ADDRESS(MATCH($D181, 'Patient Tracking'!$A:$A, 0), 1), \"View\")","v":{"$error":"#N/A"}}]
[{"$f":"HYPERLINK(\"#'Patient Tracking'!\" & ADDRESS(MATCH($D182, 'Patient Tracking'!$A:$A, 0), 1), \"View\")","v":{"$error":"#N/A"}}]
[{"$f":"HYPERLINK(\"#'Patient Tracking'!\" & ADDRESS(MATCH($D183, 'Patient Tracking'!$A:$A, 0), 1), \"View\")","v":{"$error":"#N/A"}}]
[{"$f":"HYPERLINK(\"#'Patient Tracking'!\" & ADDRESS(MATCH($D184, 'Patient Tracking'!$A:$A, 0), 1), \"View\")","v":{"$error":"#N/A"}}]
[{"$f":"HYPERLINK(\"#'Patient Tracking'!\" & ADDRESS(MATCH($D185, 'Patient Tracking'!$A:$A, 0), 1), \"View\")","v":{"$error":"#N/A"}}]
[{"$f":"HYPERLINK(\"#'Patient Tracking'!\" & ADDRESS(MATCH($D186, 'Patient Tracking'!$A:$A, 0), 1), \"View\")","v":{"$error":"#N/A"}}]
[{"$f":"HYPERLINK(\"#'Patient Tracking'!\" & ADDRESS(MATCH($D187, 'Patient Tracking'!$A:$A, 0), 1), \"View\")","v":{"$error":"#N/A"}}]
[{"$f":"HYPERLINK(\"#'Patient Tracking'!\" & ADDRESS(MATCH($D188, 'Patient Tracking'!$A:$A, 0), 1), \"View\")","v":{"$error":"#N/A"}}]
[{"$f":"HYPERLINK(\"#'Patient Tracking'!\" & ADDRESS(MATCH($D189, 'Patient Tracking'!$A:$A, 0), 1), \"View\")","v":{"$error":"#N/A"}}]
[{"$f":"HYPERLINK(\"#'Patient Tracking'!\" & ADDRESS(MATCH($D190, 'Patient Tracking'!$A:$A, 0), 1), \"View\")","v":{"$error":"#N/A"}}]
[{"$f":"HYPERLINK(\"#'Patient Tracking'!\" & ADDRESS(MATCH($D191, 'Patient Tracking'!$A:$A, 0), 1), \"View\")","v":{"$error":"#N/A"}}]
[{"$f":"HYPERLINK(\"#'Patient Tracking'!\" & ADDRESS(MATCH($D192, 'Patient Tracking'!$A:$A, 0), 1), \"View\")","v":{"$error":"#N/A"}}]
[{"$f":"HYPERLINK(\"#'Patient Tracking'!\" & ADDRESS(MATCH($D193, 'Patient Tracking'!$A:$A, 0), 1), \"View\")","v":{"$error":"#N/A"}}]
[{"$f":"HYPERLINK(\"#'Patient Tracking'!\" & ADDRESS(MATCH($D194, 'Patient Tracking'!$A:$A, 0), 1), \"View\")","v":{"$error":"#N/A"}}]
[{"$f":"HYPERLINK(\"#'Patient Tracking'!\" & ADDRESS(MATCH($D195, 'Patient Tracking'!$A:$A, 0), 1), \"View\")","v":{"$error":"#N/A"}}]
[{"$f":"HYPERLINK(\"#'Patient Tracking'!\" & ADDRESS(MATCH($D196, 'Patient Tracking'!$A:$A, 0), 1), \"View\")","v":{"$error":"#N/A"}}]
[{"$f":"HYPERLINK(\"#'Patient Tracking'!\" & ADDRESS(MATCH($D197, 'Patient Tracking'!$A:$A, 0), 1), \"View\")","v":{"$error":"#N/A"}}]
[{"$f":"HYPERLINK(\"#'Patient Tracking'!\" & ADDRESS(MATCH($D198, 'Patient Tracking'!$A:$A, 0), 1), \"View\")","v":{"$error":"#N/A"}}]
[{"$f":"HYPERLINK(\"#'Patient Tracking'!\" & ADDRESS(MATCH($D199, 'Patient Tracking'!$A:$A, 0), 1), \"View\")","v":{"$error":"#N/A"}}]
[{"$f":"HYPERLINK(\"#'Patient Tracking'!\" & ADDRESS(MATCH($D200, 'Patient Tracking'!$A:$A, 0), 1), \"View\")","v":{"$error":"#N/A"}}]
[{"$f":"HYPERLINK(\"#'Patient Tracking'!\" & ADDRESS(MATCH($D201, 'Patient Tracking'!$A:$A, 0), 1), \"View\")","v":{"$error":"#N/A"}}]
[{"$f":"HYPERLINK(\"#'Patient Tracking'!\" & ADDRESS(MATCH($D202, 'Patient Tracking'!$A:$A, 0), 1), \"View\")","v":{"$error":"#N/A"}}]
[{"$f":"HYPERLINK(\"#'Patient Tracking'!\" & ADDRESS(MATCH($D203, 'Patient Tracking'!$A:$A, 0), 1), \"View\")","v":{"$error":"#N/A"}}]
[{"$f":"HYPERLINK(\"#'Patient Tracking'!\" & ADDRESS(MATCH($D204, 'Patient Tracking'!$A:$A, 0), 1), \"View\")","v":{"$error":"#N/A"}}]
[{"$f":"HYPERLINK(\"#'Patient Tracking'!\" & ADDRESS(MATCH($D205, 'Patient Tracking'!$A:$A, 0), 1), \"View\")","v":{"$error":"#N/A"}}]
[{"$f":"HYPERLINK(\"#'Patient Tracking'!\" & ADDRESS(MATCH($D206, 'Patient Tracking'!$A:$A, 0), 1), \"View\")","v":{"$error":"#N/A"}}]
[{"$f":"HYPERLINK(\"#'Patient Tracking'!\" & ADDRESS(MATCH($D207, 'Patient Tracking'!$A:$A, 0), 1), \"View\")","v":{"$error":"#N/A"}}]
[{"$f":"HYPERLINK(\"#'Patient Tracking'!\" & ADDRESS(MATCH($D208, 'Patient Tracking'!$A:$A, 0), 1), \"View\")","v":{"$error":"#N/A"}}]
[{"$f":"HYPERLINK(\"#'Patient Tracking'!\" & ADDRESS(MATCH($D209, 'Patient Tracking'!$A:$A, 0), 1), \"View\")","v":{"$error":"#N/A"}}]
[{"$f":"HYPERLINK(\"#'Patient Tracking'!\" & ADDRESS(MATCH($D210, 'Patient Tracking'!$A:$A, 0), 1), \"View\")","v":{"$error":"#N/A"}}]
[{"$f":"HYPERLINK(\"#'Patient Tracking'!\" & ADDRESS(MATCH($D211, 'Patient Tracking'!$A:$A, 0), 1), \"View\")","v":{"$error":"#N/A"}}]
[{"$f":"HYPERLINK(\"#'Patient Tracking'!\" & ADDRESS(MATCH($D212, 'Patient Tracking'!$A:$A, 0), 1), \"View\")","v":{"$error":"#N/A"}}]
[{"$f":"HYPERLINK(\"#'Patient Tracking'!\" & ADDRESS(MATCH($D213, 'Patient Tracking'!$A:$A, 0), 1), \"View\")","v":{"$error":"#N/A"}}]
[{"$f":"HYPERLINK(\"#'Patient Tracking'!\" & ADDRESS(MATCH($D214, 'Patient Tracking'!$A:$A, 0), 1), \"View\")","v":{"$error":"#N/A"}}]
[{"$f":"HYPERLINK(\"#'Patient Tracking'!\" & ADDRESS(MATCH($D215, 'Patient Tracking'!$A:$A, 0), 1), \"View\")","v":{"$error":"#N/A"}}]
[{"$f":"HYPERLINK(\"#'Patient Tracking'!\" & ADDRESS(MATCH($D216, 'Patient Tracking'!$A:$A, 0), 1), \"View\")","v":{"$error":"#N/A"}}]
[{"$f":"HYPERLINK(\"#'Patient Tracking'!\" & ADDRESS(MATCH($D217, 'Patient Tracking'!$A:$A, 0), 1), \"View\")","v":{"$error":"#N/A"}}]
[{"$f":"HYPERLINK(\"#'Patient Tracking'!\" & ADDRESS(MATCH($D218, 'Patient Tracking'!$A:$A, 0), 1), \"View\")","v":{"$error":"#N/A"}}]
[{"$f":"HYPERLINK(\"#'Patient Tracking'!\" & ADDRESS(MATCH($D219, 'Patient Tracking'!$A:$A, 0), 1), \"View\")","v":{"$error":"#N/A"}}]
[{"$f":"HYPERLINK(\"#'Patient Tracking'!\" & ADDRESS(MATCH($D220, 'Patient Tracking'!$A:$A, 0), 1), \"View\")","v":{"$error":"#N/A"}}]
[{"$f":"HYPERLINK(\"#'Patient Tracking'!\" & ADDRESS(MATCH($D221, 'Patient Tracking'!$A:$A, 0), 1), \"View\")","v":{"$error":"#N/A"}}]
[{"$f":"HYPERLINK(\"#'Patient Tracking'!\" & ADDRESS(MATCH($D222, 'Patient Tracking'!$A:$A, 0), 1), \"View\")","v":{"$error":"#N/A"}}]
[{"$f":"HYPERLINK(\"#'Patient Tracking'!\" & ADDRESS(MATCH($D223, 'Patient Tracking'!$A:$A, 0), 1), \"View\")","v":{"$error":"#N/A"}}]
[{"$f":"HYPERLINK(\"#'Patient Tracking'!\" & ADDRESS(MATCH($D224, 'Patient Tracking'!$A:$A, 0), 1), \"View\")","v":{"$error":"#N/A"}}]
[{"$f":"HYPERLINK(\"#'Patient Tracking'!\" & ADDRESS(MATCH($D225, 'Patient Tracking'!$A:$A, 0), 1), \"View\")","v":{"$error":"#N/A"}}]
[{"$f":"HYPERLINK(\"#'Patient Tracking'!\" & ADDRESS(MATCH($D226, 'Patient Tracking'!$A:$A, 0), 1), \"View\")","v":{"$error":"#N/A"}}]
[{"$f":"HYPERLINK(\"#'Patient Tracking'!\" & ADDRESS(MATCH($D227, 'Patient Tracking'!$A:$A, 0), 1), \"View\")","v":{"$error":"#N/A"}}]
[{"$f":"HYPERLINK(\"#'Patient Tracking'!\" & ADDRESS(MATCH($D228, 'Patient Tracking'!$A:$A, 0), 1), \"View\")","v":{"$error":"#N/A"}}]
[{"$f":"HYPERLINK(\"#'Patient Tracking'!\" & ADDRESS(MATCH($D229, 'Patient Tracking'!$A:$A, 0), 1), \"View\")","v":{"$error":"#N/A"}}]
[{"$f":"HYPERLINK(\"#'Patient Tracking'!\" & ADDRESS(MATCH($D230, 'Patient Tracking'!$A:$A, 0), 1), \"View\")","v":{"$error":"#N/A"}}]
[{"$f":"HYPERLINK(\"#'Patient Tracking'!\" & ADDRESS(MATCH($D231, 'Patient Tracking'!$A:$A, 0), 1), \"View\")","v":{"$error":"#N/A"}}]
[{"$f":"HYPERLINK(\"#'Patient Tracking'!\" & ADDRESS(MATCH($D232, 'Patient Tracking'!$A:$A, 0), 1), \"View\")","v":{"$error":"#N/A"}}]
[{"$f":"HYPERLINK(\"#'Patient Tracking'!\" & ADDRESS(MATCH($D233, 'Patient Tracking'!$A:$A, 0), 1), \"View\")","v":{"$error":"#N/A"}}]
[{"$f":"HYPERLINK(\"#'Patient Tracking'!\" & ADDRESS(MATCH($D234, 'Patient Tracking'!$A:$A, 0), 1), \"View\")","v":{"$error":"#N/A"}}]
[{"$f":"HYPERLINK(\"#'Patient Tracking'!\" & ADDRESS(MATCH($D235, 'Patient Tracking'!$A:$A, 0), 1), \"View\")","v":{"$error":"#N/A"}}]
[{"$f":"HYPERLINK(\"#'Patient Tracking'!\" & ADDRESS(MATCH($D236, 'Patient Tracking'!$A:$A, 0), 1), \"View\")","v":{"$error":"#N/A"}}]
[{"$f":"HYPERLINK(\"#'Patient Tracking'!\" & ADDRESS(MATCH($D237, 'Patient Tracking'!$A:$A, 0), 1), \"View\")","v":{"$error":"#N/A"}}]
[{"$f":"HYPERLINK(\"#'Patient Tracking'!\" & ADDRESS(MATCH($D238, 'Patient Tracking'!$A:$A, 0), 1), \"View\")","v":{"$error":"#N/A"}}]
[{"$f":"HYPERLINK(\"#'Patient Tracking'!\" & ADDRESS(MATCH($D239, 'Patient Tracking'!$A:$A, 0), 1), \"View\")","v":{"$error":"#N/A"}}]
[{"$f":"HYPERLINK(\"#'Patient Tracking'!\" & ADDRESS(MATCH($D240, 'Patient Tracking'!$A:$A, 0), 1), \"View\")","v":{"$error":"#N/A"}}]
[{"$f":"HYPERLINK(\"#'Patient Tracking'!\" & ADDRESS(MATCH($D241, 'Patient Tracking'!$A:$A, 0), 1), \"View\")","v":{"$error":"#N/A"}}]
[{"$f":"HYPERLINK(\"#'Patient Tracking'!\" & ADDRESS(MATCH($D242, 'Patient Tracking'!$A:$A, 0), 1), \"View\")","v":{"$error":"#N/A"}}]
[{"$f":"HYPERLINK(\"#'Patient Tracking'!\" & ADDRESS(MATCH($D243, 'Patient Tracking'!$A:$A, 0), 1), \"View\")","v":{"$error":"#N/A"}}]
[{"$f":"HYPERLINK(\"#'Patient Tracking'!\" & ADDRESS(MATCH($D244, 'Patient Tracking'!$A:$A, 0), 1), \"View\")","v":{"$error":"#N/A"}}]
[{"$f":"HYPERLINK(\"#'Patient Tracking'!\" & ADDRESS(MATCH($D245, 'Patient Tracking'!$A:$A, 0), 1), \"View\")","v":{"$error":"#N/A"}}]
[{"$f":"HYPERLINK(\"#'Patient Tracking'!\" & ADDRESS(MATCH($D246, 'Patient Tracking'!$A:$A, 0), 1), \"View\")","v":{"$error":"#N/A"}}]
[{"$f":"HYPERLINK(\"#'Patient Tracking'!\" & ADDRESS(MATCH($D247, 'Patient Tracking'!$A:$A, 0), 1), \"View\")","v":{"$error":"#N/A"}}]
[{"$f":"HYPERLINK(\"#'Patient Tracking'!\" & ADDRESS(MATCH($D248, 'Patient Tracking'!$A:$A, 0), 1), \"View\")","v":{"$error":"#N/A"}}]
[{"$f":"HYPERLINK(\"#'Patient Tracking'!\" & ADDRESS(MATCH($D249, 'Patient Tracking'!$A:$A, 0), 1), \"View\")","v":{"$error":"#N/A"}}]
[{"$f":"HYPERLINK(\"#'Patient Tracking'!\" & ADDRESS(MATCH($D250, 'Patient Tracking'!$A:$A, 0), 1), \"View\")","v":{"$error":"#N/A"}}]
[{"$f":"HYPERLINK(\"#'Patient Tracking'!\" & ADDRESS(MATCH($D251, 'Patient Tracking'!$A:$A, 0), 1), \"View\")","v":{"$error":"#N/A"}}]
[{"$f":"HYPERLINK(\"#'Patient Tracking'!\" & ADDRESS(MATCH($D252, 'Patient Tracking'!$A:$A, 0), 1), \"View\")","v":{"$error":"#N/A"}}]
[{"$f":"HYPERLINK(\"#'Patient Tracking'!\" & ADDRESS(MATCH($D253, 'Patient Tracking'!$A:$A, 0), 1), \"View\")","v":{"$error":"#N/A"}}]
[{"$f":"HYPERLINK(\"#'Patient Tracking'!\" & ADDRESS(MATCH($D254, 'Patient Tracking'!$A:$A, 0), 1), \"View\")","v":{"$error":"#N/A"}}]
[{"$f":"HYPERLINK(\"#'Patient Tracking'!\" & ADDRESS(MATCH($D255, 'Patient Tracking'!$A:$A, 0), 1), \"View\")","v":{"$error":"#N/A"}}]
[{"$f":"HYPERLINK(\"#'Patient Tracking'!\" & ADDRESS(MATCH($D256, 'Patient Tracking'!$A:$A, 0), 1), \"View\")","v":{"$error":"#N/A"}}]
[{"$f":"HYPERLINK(\"#'Patient Tracking'!\" & ADDRESS(MATCH($D257, 'Patient Tracking'!$A:$A, 0), 1), \"View\")","v":{"$error":"#N/A"}}]
[{"$f":"HYPERLINK(\"#'Patient Tracking'!\" & ADDRESS(MATCH($D258, 'Patient Tracking'!$A:$A, 0), 1), \"View\")","v":{"$error":"#N/A"}}]
[{"$f":"HYPERLINK(\"#'Patient Tracking'!\" & ADDRESS(MATCH($D259, 'Patient Tracking'!$A:$A, 0), 1), \"View\")","v":{"$error":"#N/A"}}]
[{"$f":"HYPERLINK(\"#'Patient Tracking'!\" & ADDRESS(MATCH($D260, 'Patient Tracking'!$A:$A, 0), 1), \"View\")","v":{"$error":"#N/A"}}]
[{"$f":"HYPERLINK(\"#'Patient Tracking'!\" & ADDRESS(MATCH($D261, 'Patient Tracking'!$A:$A, 0), 1), \"View\")","v":{"$error":"#N/A"}}]
[{"$f":"HYPERLINK(\"#'Patient Tracking'!\" & ADDRESS(MATCH($D262, 'Patient Tracking'!$A:$A, 0), 1), \"View\")","v":{"$error":"#N/A"}}]
[{"$f":"HYPERLINK(\"#'Patient Tracking'!\" & ADDRESS(MATCH($D263, 'Patient Tracking'!$A:$A, 0), 1), \"View\")","v":{"$error":"#N/A"}}]
[{"$f":"HYPERLINK(\"#'Patient Tracking'!\" & ADDRESS(MATCH($D264, 'Patient Tracking'!$A:$A, 0), 1), \"View\")","v":{"$error":"#N/A"}}]
[{"$f":"HYPERLINK(\"#'Patient Tracking'!\" & ADDRESS(MATCH($D265, 'Patient Tracking'!$A:$A, 0), 1), \"View\")","v":{"$error":"#N/A"}}]
[{"$f":"HYPERLINK(\"#'Patient Tracking'!\" & ADDRESS(MATCH($D266, 'Patient Tracking'!$A:$A, 0), 1), \"View\")","v":{"$error":"#N/A"}}]
[{"$f":"HYPERLINK(\"#'Patient Tracking'!\" & ADDRESS(MATCH($D267, 'Patient Tracking'!$A:$A, 0), 1), \"View\")","v":{"$error":"#N/A"}}]
[{"$f":"HYPERLINK(\"#'Patient Tracking'!\" & ADDRESS(MATCH($D268, 'Patient Tracking'!$A:$A, 0), 1), \"View\")","v":{"$error":"#N/A"}}]
[{"$f":"HYPERLINK(\"#'Patient Tracking'!\" & ADDRESS(MATCH($D269, 'Patient Tracking'!$A:$A, 0), 1), \"View\")","v":{"$error":"#N/A"}}]
[{"$f":"HYPERLINK(\"#'Patient Tracking'!\" & ADDRESS(MATCH($D270, 'Patient Tracking'!$A:$A, 0), 1), \"View\")","v":{"$error":"#N/A"}}]
[{"$f":"HYPERLINK(\"#'Patient Tracking'!\" & ADDRESS(MATCH($D271, 'Patient Tracking'!$A:$A, 0), 1), \"View\")","v":{"$error":"#N/A"}}]
[{"$f":"HYPERLINK(\"#'Patient Tracking'!\" & ADDRESS(MATCH($D272, 'Patient Tracking'!$A:$A, 0), 1), \"View\")","v":{"$error":"#N/A"}}]
[{"$f":"HYPERLINK(\"#'Patient Tracking'!\" & ADDRESS(MATCH($D273, 'Patient Tracking'!$A:$A, 0), 1), \"View\")","v":{"$error":"#N/A"}}]
[{"$f":"HYPERLINK(\"#'Patient Tracking'!\" & ADDRESS(MATCH($D274, 'Patient Tracking'!$A:$A, 0), 1), \"View\")","v":{"$error":"#N/A"}}]
[{"$f":"HYPERLINK(\"#'Patient Tracking'!\" & ADDRESS(MATCH($D275, 'Patient Tracking'!$A:$A, 0), 1), \"View\")","v":{"$error":"#N/A"}}]
[{"$f":"HYPERLINK(\"#'Patient Tracking'!\" & ADDRESS(MATCH($D276, 'Patient Tracking'!$A:$A, 0), 1), \"View\")","v":{"$error":"#N/A"}}]
[{"$f":"HYPERLINK(\"#'Patient Tracking'!\" & ADDRESS(MATCH($D277, 'Patient Tracking'!$A:$A, 0), 1), \"View\")","v":{"$error":"#N/A"}}]
[{"$f":"HYPERLINK(\"#'Patient Tracking'!\" & ADDRESS(MATCH($D278, 'Patient Tracking'!$A:$A, 0), 1), \"View\")","v":{"$error":"#N/A"}}]
[{"$f":"HYPERLINK(\"#'Patient Tracking'!\" & ADDRESS(MATCH($D279, 'Patient Tracking'!$A:$A, 0), 1), \"View\")","v":{"$error":"#N/A"}}]
[{"$f":"HYPERLINK(\"#'Patient Tracking'!\" & ADDRESS(MATCH($D280, 'Patient Tracking'!$A:$A, 0), 1), \"View\")","v":{"$error":"#N/A"}}]
[{"$f":"HYPERLINK(\"#'Patient Tracking'!\" & ADDRESS(MATCH($D281, 'Patient Tracking'!$A:$A, 0), 1), \"View\")","v":{"$error":"#N/A"}}]
[{"$f":"HYPERLINK(\"#'Patient Tracking'!\" & ADDRESS(MATCH($D282, 'Patient Tracking'!$A:$A, 0), 1), \"View\")","v":{"$error":"#N/A"}}]
[{"$f":"HYPERLINK(\"#'Patient Tracking'!\" & ADDRESS(MATCH($D283, 'Patient Tracking'!$A:$A, 0), 1), \"View\")","v":{"$error":"#N/A"}}]
[{"$f":"HYPERLINK(\"#'Patient Tracking'!\" & ADDRESS(MATCH($D284, 'Patient Tracking'!$A:$A, 0), 1), \"View\")","v":{"$error":"#N/A"}}]
[{"$f":"HYPERLINK(\"#'Patient Tracking'!\" & ADDRESS(MATCH($D285, 'Patient Tracking'!$A:$A, 0), 1), \"View\")","v":{"$error":"#N/A"}}]
[{"$f":"HYPERLINK(\"#'Patient Tracking'!\" & ADDRESS(MATCH($D286, 'Patient Tracking'!$A:$A, 0), 1), \"View\")","v":{"$error":"#N/A"}}]
[{"$f":"HYPERLINK(\"#'Patient Tracking'!\" & ADDRESS(MATCH($D287, 'Patient Tracking'!$A:$A, 0), 1), \"View\")","v":{"$error":"#N/A"}}]
[{"$f":"HYPERLINK(\"#'Patient Tracking'!\" & ADDRESS(MATCH($D288, 'Patient Tracking'!$A:$A, 0), 1), \"View\")","v":{"$error":"#N/A"}}]
[{"$f":"HYPERLINK(\"#'Patient Tracking'!\" & ADDRESS(MATCH($D289, 'Patient Tracking'!$A:$A, 0), 1), \"View\")","v":{"$error":"#N/A"}}]
[{"$f":"HYPERLINK(\"#'Patient Tracking'!\" & ADDRESS(MATCH($D290, 'Patient Tracking'!$A:$A, 0), 1), \"View\")","v":{"$error":"#N/A"}}]
[{"$f":"HYPERLINK(\"#'Patient Tracking'!\" & ADDRESS(MATCH($D291, 'Patient Tracking'!$A:$A, 0), 1), \"View\")","v":{"$error":"#N/A"}}]
[{"$f":"HYPERLINK(\"#'Patient Tracking'!\" & ADDRESS(MATCH($D292, 'Patient Tracking'!$A:$A, 0), 1), \"View\")","v":{"$error":"#N/A"}}]
[{"$f":"HYPERLINK(\"#'Patient Tracking'!\" & ADDRESS(MATCH($D293, 'Patient Tracking'!$A:$A, 0), 1), \"View\")","v":{"$error":"#N/A"}}]
[{"$f":"HYPERLINK(\"#'Patient Tracking'!\" & ADDRESS(MATCH($D294, 'Patient Tracking'!$A:$A, 0), 1), \"View\")","v":{"$error":"#N/A"}}]
[{"$f":"HYPERLINK(\"#'Patient Tracking'!\" & ADDRESS(MATCH($D295, 'Patient Tracking'!$A:$A, 0), 1), \"View\")","v":{"$error":"#N/A"}}]
[{"$f":"HYPERLINK(\"#'Patient Tracking'!\" & ADDRESS(MATCH($D296, 'Patient Tracking'!$A:$A, 0), 1), \"View\")","v":{"$error":"#N/A"}}]
[{"$f":"HYPERLINK(\"#'Patient Tracking'!\" & ADDRESS(MATCH($D297, 'Patient Tracking'!$A:$A, 0), 1), \"View\")","v":{"$error":"#N/A"}}]
[{"$f":"HYPERLINK(\"#'Patient Tracking'!\" & ADDRESS(MATCH($D298, 'Patient Tracking'!$A:$A, 0), 1), \"View\")","v":{"$error":"#N/A"}}]
[{"$f":"HYPERLINK(\"#'Patient Tracking'!\" & ADDRESS(MATCH($D299, 'Patient Tracking'!$A:$A, 0), 1), \"View\")","v":{"$error":"#N/A"}}]
[{"$f":"HYPERLINK(\"#'Patient Tracking'!\" & ADDRESS(MATCH($D300, 'Patient Tracking'!$A:$A, 0), 1), \"View\")","v":{"$error":"#N/A"}}]
[{"$f":"HYPERLINK(\"#'Patient Tracking'!\" & ADDRESS(MATCH($D301, 'Patient Tracking'!$A:$A, 0), 1), \"View\")","v":{"$error":"#N/A"}}]
[{"$f":"HYPERLINK(\"#'Patient Tracking'!\" & ADDRESS(MATCH($D302, 'Patient Tracking'!$A:$A, 0), 1), \"View\")","v":{"$error":"#N/A"}}]
[{"$f":"HYPERLINK(\"#'Patient Tracking'!\" & ADDRESS(MATCH($D303, 'Patient Tracking'!$A:$A, 0), 1), \"View\")","v":{"$error":"#N/A"}}]
[{"$f":"HYPERLINK(\"#'Patient Tracking'!\" & ADDRESS(MATCH($D304, 'Patient Tracking'!$A:$A, 0), 1), \"View\")","v":{"$error":"#N/A"}}]
[{"$f":"HYPERLINK(\"#'Patient Tracking'!\" & ADDRESS(MATCH($D305, 'Patient Tracking'!$A:$A, 0), 1), \"View\")","v":{"$error":"#N/A"}}]
[{"$f":"HYPERLINK(\"#'Patient Tracking'!\" & ADDRESS(MATCH($D306, 'Patient Tracking'!$A:$A, 0), 1), \"View\")","v":{"$error":"#N/A"}}]
[{"$f":"HYPERLINK(\"#'Patient Tracking'!\" & ADDRESS(MATCH($D307, 'Patient Tracking'!$A:$A, 0), 1), \"View\")","v":{"$error":"#N/A"}}]
[{"$f":"HYPERLINK(\"#'Patient Tracking'!\" & ADDRESS(MATCH($D308, 'Patient Tracking'!$A:$A, 0), 1), \"View\")","v":{"$error":"#N/A"}}]
[{"$f":"HYPERLINK(\"#'Patient Tracking'!\" & ADDRESS(MATCH($D309, 'Patient Tracking'!$A:$A, 0), 1), \"View\")","v":{"$error":"#N/A"}}]
[{"$f":"HYPERLINK(\"#'Patient Tracking'!\" & ADDRESS(MATCH($D310, 'Patient Tracking'!$A:$A, 0), 1), \"View\")","v":{"$error":"#N/A"}}]
[{"$f":"HYPERLINK(\"#'Patient Tracking'!\" & ADDRESS(MATCH($D311, 'Patient Tracking'!$A:$A, 0), 1), \"View\")","v":{"$error":"#N/A"}}]
[{"$f":"HYPERLINK(\"#'Patient Tracking'!\" & ADDRESS(MATCH($D312, 'Patient Tracking'!$A:$A, 0), 1), \"View\")","v":{"$error":"#N/A"}}]
[{"$f":"HYPERLINK(\"#'Patient Tracking'!\" & ADDRESS(MATCH($D313, 'Patient Tracking'!$A:$A, 0), 1), \"View\")","v":{"$error":"#N/A"}}]
[{"$f":"HYPERLINK(\"#'Patient Tracking'!\" & ADDRESS(MATCH($D314, 'Patient Tracking'!$A:$A, 0), 1), \"View\")","v":{"$error":"#N/A"}}]
[{"$f":"HYPERLINK(\"#'Patient Tracking'!\" & ADDRESS(MATCH($D315, 'Patient Tracking'!$A:$A, 0), 1), \"View\")","v":{"$error":"#N/A"}}]
[{"$f":"HYPERLINK(\"#'Patient Tracking'!\" & ADDRESS(MATCH($D316, 'Patient Tracking'!$A:$A, 0), 1), \"View\")","v":{"$error":"#N/A"}}]
[{"$f":"HYPERLINK(\"#'Patient Tracking'!\" & ADDRESS(MATCH($D317, 'Patient Tracking'!$A:$A, 0), 1), \"View\")","v":{"$error":"#N/A"}}]
[{"$f":"HYPERLINK(\"#'Patient Tracking'!\" & ADDRESS(MATCH($D318, 'Patient Tracking'!$A:$A, 0), 1), \"View\")","v":{"$error":"#N/A"}}]
[{"$f":"HYPERLINK(\"#'Patient Tracking'!\" & ADDRESS(MATCH($D319, 'Patient Tracking'!$A:$A, 0), 1), \"View\")","v":{"$error":"#N/A"}}]
[{"$f":"HYPERLINK(\"#'Patient Tracking'!\" & ADDRESS(MATCH($D320, 'Patient Tracking'!$A:$A, 0), 1), \"View\")","v":{"$error":"#N/A"}}]
[{"$f":"HYPERLINK(\"#'Patient Tracking'!\" & ADDRESS(MATCH($D321, 'Patient Tracking'!$A:$A, 0), 1), \"View\")","v":{"$error":"#N/A"}}]
[{"$f":"HYPERLINK(\"#'Patient Tracking'!\" & ADDRESS(MATCH($D322, 'Patient Tracking'!$A:$A, 0), 1), \"View\")","v":{"$error":"#N/A"}}]
[{"$f":"HYPERLINK(\"#'Patient Tracking'!\" & ADDRESS(MATCH($D323, 'Patient Tracking'!$A:$A, 0), 1), \"View\")","v":{"$error":"#N/A"}}]
[{"$f":"HYPERLINK(\"#'Patient Tracking'!\" & ADDRESS(MATCH($D324, 'Patient Tracking'!$A:$A, 0), 1), \"View\")","v":{"$error":"#N/A"}}]
[{"$f":"HYPERLINK(\"#'Patient Tracking'!\" & ADDRESS(MATCH($D325, 'Patient Tracking'!$A:$A, 0), 1), \"View\")","v":{"$error":"#N/A"}}]
[{"$f":"HYPERLINK(\"#'Patient Tracking'!\" & ADDRESS(MATCH($D326, 'Patient Tracking'!$A:$A, 0), 1), \"View\")","v":{"$error":"#N/A"}}]
[{"$f":"HYPERLINK(\"#'Patient Tracking'!\" & ADDRESS(MATCH($D327, 'Patient Tracking'!$A:$A, 0), 1), \"View\")","v":{"$error":"#N/A"}}]
[{"$f":"HYPERLINK(\"#'Patient Tracking'!\" & ADDRESS(MATCH($D328, 'Patient Tracking'!$A:$A, 0), 1), \"View\")","v":{"$error":"#N/A"}}]
[{"$f":"HYPERLINK(\"#'Patient Tracking'!\" & ADDRESS(MATCH($D329, 'Patient Tracking'!$A:$A, 0), 1), \"View\")","v":{"$error":"#N/A"}}]
[{"$f":"HYPERLINK(\"#'Patient Tracking'!\" & ADDRESS(MATCH($D330, 'Patient Tracking'!$A:$A, 0), 1), \"View\")","v":{"$error":"#N/A"}}]
[{"$f":"HYPERLINK(\"#'Patient Tracking'!\" & ADDRESS(MATCH($D331, 'Patient Tracking'!$A:$A, 0), 1), \"View\")","v":{"$error":"#N/A"}}]
[{"$f":"HYPERLINK(\"#'Patient Tracking'!\" & ADDRESS(MATCH($D332, 'Patient Tracking'!$A:$A, 0), 1), \"View\")","v":{"$error":"#N/A"}}]
[{"$f":"HYPERLINK(\"#'Patient Tracking'!\" & ADDRESS(MATCH($D333, 'Patient Tracking'!$A:$A, 0), 1), \"View\")","v":{"$error":"#N/A"}}]
[{"$f":"HYPERLINK(\"#'Patient Tracking'!\" & ADDRESS(MATCH($D334, 'Patient Tracking'!$A:$A, 0), 1), \"View\")","v":{"$error":"#N/A"}}]
[{"$f":"HYPERLINK(\"#'Patient Tracking'!\" & ADDRESS(MATCH($D335, 'Patient Tracking'!$A:$A, 0), 1), \"View\")","v":{"$error":"#N/A"}}]
[{"$f":"HYPERLINK(\"#'Patient Tracking'!\" & ADDRESS(MATCH($D336, 'Patient Tracking'!$A:$A, 0), 1), \"View\")","v":{"$error":"#N/A"}}]
[{"$f":"HYPERLINK(\"#'Patient Tracking'!\" & ADDRESS(MATCH($D337, 'Patient Tracking'!$A:$A, 0), 1), \"View\")","v":{"$error":"#N/A"}}]
[{"$f":"HYPERLINK(\"#'Patient Tracking'!\" & ADDRESS(MATCH($D338, 'Patient Tracking'!$A:$A, 0), 1), \"View\")","v":{"$error":"#N/A"}}]
[{"$f":"HYPERLINK(\"#'Patient Tracking'!\" & ADDRESS(MATCH($D339, 'Patient Tracking'!$A:$A, 0), 1), \"View\")","v":{"$error":"#N/A"}}]
[{"$f":"HYPERLINK(\"#'Patient Tracking'!\" & ADDRESS(MATCH($D340, 'Patient Tracking'!$A:$A, 0), 1), \"View\")","v":{"$error":"#N/A"}}]
[{"$f":"HYPERLINK(\"#'Patient Tracking'!\" & ADDRESS(MATCH($D341, 'Patient Tracking'!$A:$A, 0), 1), \"View\")","v":{"$error":"#N/A"}}]
[{"$f":"HYPERLINK(\"#'Patient Tracking'!\" & ADDRESS(MATCH($D342, 'Patient Tracking'!$A:$A, 0), 1), \"View\")","v":{"$error":"#N/A"}}]
[{"$f":"HYPERLINK(\"#'Patient Tracking'!\" & ADDRESS(MATCH($D343, 'Patient Tracking'!$A:$A, 0), 1), \"View\")","v":{"$error":"#N/A"}}]
[{"$f":"HYPERLINK(\"#'Patient Tracking'!\" & ADDRESS(MATCH($D344, 'Patient Tracking'!$A:$A, 0), 1), \"View\")","v":{"$error":"#N/A"}}]
[{"$f":"HYPERLINK(\"#'Patient Tracking'!\" & ADDRESS(MATCH($D345, 'Patient Tracking'!$A:$A, 0), 1), \"View\")","v":{"$error":"#N/A"}}]
[{"$f":"HYPERLINK(\"#'Patient Tracking'!\" & ADDRESS(MATCH($D346, 'Patient Tracking'!$A:$A, 0), 1), \"View\")","v":{"$error":"#N/A"}}]
[{"$f":"HYPERLINK(\"#'Patient Tracking'!\" & ADDRESS(MATCH($D347, 'Patient Tracking'!$A:$A, 0), 1), \"View\")","v":{"$error":"#N/A"}}]
[{"$f":"HYPERLINK(\"#'Patient Tracking'!\" & ADDRESS(MATCH($D348, 'Patient Tracking'!$A:$A, 0), 1), \"View\")","v":{"$error":"#N/A"}}]
[{"$f":"HYPERLINK(\"#'Patient Tracking'!\" & ADDRESS(MATCH($D349, 'Patient Tracking'!$A:$A, 0), 1), \"View\")","v":{"$error":"#N/A"}}]
[{"$f":"HYPERLINK(\"#'Patient Tracking'!\" & ADDRESS(MATCH($D350, 'Patient Tracking'!$A:$A, 0), 1), \"View\")","v":{"$error":"#N/A"}}]
[{"$f":"HYPERLINK(\"#'Patient Tracking'!\" & ADDRESS(MATCH($D351, 'Patient Tracking'!$A:$A, 0), 1), \"View\")","v":{"$error":"#N/A"}}]
[{"$f":"HYPERLINK(\"#'Patient Tracking'!\" & ADDRESS(MATCH($D352, 'Patient Tracking'!$A:$A, 0), 1), \"View\")","v":{"$error":"#N/A"}}]
[{"$f":"HYPERLINK(\"#'Patient Tracking'!\" & ADDRESS(MATCH($D353, 'Patient Tracking'!$A:$A, 0), 1), \"View\")","v":{"$error":"#N/A"}}]
[{"$f":"HYPERLINK(\"#'Patient Tracking'!\" & ADDRESS(MATCH($D354, 'Patient Tracking'!$A:$A, 0), 1), \"View\")","v":{"$error":"#N/A"}}]
[{"$f":"HYPERLINK(\"#'Patient Tracking'!\" & ADDRESS(MATCH($D355, 'Patient Tracking'!$A:$A, 0), 1), \"View\")","v":{"$error":"#N/A"}}]
[{"$f":"HYPERLINK(\"#'Patient Tracking'!\" & ADDRESS(MATCH($D356, 'Patient Tracking'!$A:$A, 0), 1), \"View\")","v":{"$error":"#N/A"}}]
[{"$f":"HYPERLINK(\"#'Patient Tracking'!\" & ADDRESS(MATCH($D357, 'Patient Tracking'!$A:$A, 0), 1), \"View\")","v":{"$error":"#N/A"}}]
[{"$f":"HYPERLINK(\"#'Patient Tracking'!\" & ADDRESS(MATCH($D358, 'Patient Tracking'!$A:$A, 0), 1), \"View\")","v":{"$error":"#N/A"}}]
[{"$f":"HYPERLINK(\"#'Patient Tracking'!\" & ADDRESS(MATCH($D359, 'Patient Tracking'!$A:$A, 0), 1), \"View\")","v":{"$error":"#N/A"}}]
[{"$f":"HYPERLINK(\"#'Patient Tracking'!\" & ADDRESS(MATCH($D360, 'Patient Tracking'!$A:$A, 0), 1), \"View\")","v":{"$error":"#N/A"}}]
[{"$f":"HYPERLINK(\"#'Patient Tracking'!\" & ADDRESS(MATCH($D361, 'Patient Tracking'!$A:$A, 0), 1), \"View\")","v":{"$error":"#N/A"}}]
[{"$f":"HYPERLINK(\"#'Patient Tracking'!\" & ADDRESS(MATCH($D362, 'Patient Tracking'!$A:$A, 0), 1), \"View\")","v":{"$error":"#N/A"}}]
[{"$f":"HYPERLINK(\"#'Patient Tracking'!\" & ADDRESS(MATCH($D363, 'Patient Tracking'!$A:$A, 0), 1), \"View\")","v":{"$error":"#N/A"}}]
[{"$f":"HYPERLINK(\"#'Patient Tracking'!\" & ADDRESS(MATCH($D364, 'Patient Tracking'!$A:$A, 0), 1), \"View\")","v":{"$error":"#N/A"}}]
[{"$f":"HYPERLINK(\"#'Patient Tracking'!\" & ADDRESS(MATCH($D365, 'Patient Tracking'!$A:$A, 0), 1), \"View\")","v":{"$error":"#N/A"}}]
[{"$f":"HYPERLINK(\"#'Patient Tracking'!\" & ADDRESS(MATCH($D366, 'Patient Tracking'!$A:$A, 0), 1), \"View\")","v":{"$error":"#N/A"}}]
[{"$f":"HYPERLINK(\"#'Patient Tracking'!\" & ADDRESS(MATCH($D367, 'Patient Tracking'!$A:$A, 0), 1), \"View\")","v":{"$error":"#N/A"}}]
[{"$f":"HYPERLINK(\"#'Patient Tracking'!\" & ADDRESS(MATCH($D368, 'Patient Tracking'!$A:$A, 0), 1), \"View\")","v":{"$error":"#N/A"}}]
[{"$f":"HYPERLINK(\"#'Patient Tracking'!\" & ADDRESS(MATCH($D369, 'Patient Tracking'!$A:$A, 0), 1), \"View\")","v":{"$error":"#N/A"}}]
[{"$f":"HYPERLINK(\"#'Patient Tracking'!\" & ADDRESS(MATCH($D370, 'Patient Tracking'!$A:$A, 0), 1), \"View\")","v":{"$error":"#N/A"}}]
[{"$f":"HYPERLINK(\"#'Patient Tracking'!\" & ADDRESS(MATCH($D371, 'Patient Tracking'!$A:$A, 0), 1), \"View\")","v":{"$error":"#N/A"}}]
[{"$f":"HYPERLINK(\"#'Patient Tracking'!\" & ADDRESS(MATCH($D372, 'Patient Tracking'!$A:$A, 0), 1), \"View\")","v":{"$error":"#N/A"}}]
[{"$f":"HYPERLINK(\"#'Patient Tracking'!\" & ADDRESS(MATCH($D373, 'Patient Tracking'!$A:$A, 0), 1), \"View\")","v":{"$error":"#N/A"}}]
[{"$f":"HYPERLINK(\"#'Patient Tracking'!\" & ADDRESS(MATCH($D374, 'Patient Tracking'!$A:$A, 0), 1), \"View\")","v":{"$error":"#N/A"}}]
[{"$f":"HYPERLINK(\"#'Patient Tracking'!\" & ADDRESS(MATCH($D375, 'Patient Tracking'!$A:$A, 0), 1), \"View\")","v":{"$error":"#N/A"}}]
[{"$f":"HYPERLINK(\"#'Patient Tracking'!\" & ADDRESS(MATCH($D376, 'Patient Tracking'!$A:$A, 0), 1), \"View\")","v":{"$error":"#N/A"}}]
[{"$f":"HYPERLINK(\"#'Patient Tracking'!\" & ADDRESS(MATCH($D377, 'Patient Tracking'!$A:$A, 0), 1), \"View\")","v":{"$error":"#N/A"}}]
[{"$f":"HYPERLINK(\"#'Patient Tracking'!\" & ADDRESS(MATCH($D378, 'Patient Tracking'!$A:$A, 0), 1), \"View\")","v":{"$error":"#N/A"}}]
[{"$f":"HYPERLINK(\"#'Patient Tracking'!\" & ADDRESS(MATCH($D379, 'Patient Tracking'!$A:$A, 0), 1), \"View\")","v":{"$error":"#N/A"}}]
[{"$f":"HYPERLINK(\"#'Patient Tracking'!\" & ADDRESS(MATCH($D380, 'Patient Tracking'!$A:$A, 0), 1), \"View\")","v":{"$error":"#N/A"}}]
[{"$f":"HYPERLINK(\"#'Patient Tracking'!\" & ADDRESS(MATCH($D381, 'Patient Tracking'!$A:$A, 0), 1), \"View\")","v":{"$error":"#N/A"}}]
[{"$f":"HYPERLINK(\"#'Patient Tracking'!\" & ADDRESS(MATCH($D382, 'Patient Tracking'!$A:$A, 0), 1), \"View\")","v":{"$error":"#N/A"}}]
[{"$f":"HYPERLINK(\"#'Patient Tracking'!\" & ADDRESS(MATCH($D383, 'Patient Tracking'!$A:$A, 0), 1), \"View\")","v":{"$error":"#N/A"}}]
[{"$f":"HYPERLINK(\"#'Patient Tracking'!\" & ADDRESS(MATCH($D384, 'Patient Tracking'!$A:$A, 0), 1), \"View\")","v":{"$error":"#N/A"}}]
[{"$f":"HYPERLINK(\"#'Patient Tracking'!\" & ADDRESS(MATCH($D385, 'Patient Tracking'!$A:$A, 0), 1), \"View\")","v":{"$error":"#N/A"}}]
[{"$f":"HYPERLINK(\"#'Patient Tracking'!\" & ADDRESS(MATCH($D386, 'Patient Tracking'!$A:$A, 0), 1), \"View\")","v":{"$error":"#N/A"}}]
[{"$f":"HYPERLINK(\"#'Patient Tracking'!\" & ADDRESS(MATCH($D387, 'Patient Tracking'!$A:$A, 0), 1), \"View\")","v":{"$error":"#N/A"}}]
[{"$f":"HYPERLINK(\"#'Patient Tracking'!\" & ADDRESS(MATCH($D388, 'Patient Tracking'!$A:$A, 0), 1), \"View\")","v":{"$error":"#N/A"}}]
[{"$f":"HYPERLINK(\"#'Patient Tracking'!\" & ADDRESS(MATCH($D389, 'Patient Tracking'!$A:$A, 0), 1), \"View\")","v":{"$error":"#N/A"}}]
[{"$f":"HYPERLINK(\"#'Patient Tracking'!\" & ADDRESS(MATCH($D390, 'Patient Tracking'!$A:$A, 0), 1), \"View\")","v":{"$error":"#N/A"}}]
[{"$f":"HYPERLINK(\"#'Patient Tracking'!\" & ADDRESS(MATCH($D391, 'Patient Tracking'!$A:$A, 0), 1), \"View\")","v":{"$error":"#N/A"}}]
[{"$f":"HYPERLINK(\"#'Patient Tracking'!\" & ADDRESS(MATCH($D392, 'Patient Tracking'!$A:$A, 0), 1), \"View\")","v":{"$error":"#N/A"}}]
[{"$f":"HYPERLINK(\"#'Patient Tracking'!\" & ADDRESS(MATCH($D393, 'Patient Tracking'!$A:$A, 0), 1), \"View\")","v":{"$error":"#N/A"}}]
[{"$f":"HYPERLINK(\"#'Patient Tracking'!\" & ADDRESS(MATCH($D394, 'Patient Tracking'!$A:$A, 0), 1), \"View\")","v":{"$error":"#N/A"}}]
[{"$f":"HYPERLINK(\"#'Patient Tracking'!\" & ADDRESS(MATCH($D395, 'Patient Tracking'!$A:$A, 0), 1), \"View\")","v":{"$error":"#N/A"}}]
[{"$f":"HYPERLINK(\"#'Patient Tracking'!\" & ADDRESS(MATCH($D396, 'Patient Tracking'!$A:$A, 0), 1), \"View\")","v":{"$error":"#N/A"}}]
[{"$f":"HYPERLINK(\"#'Patient Tracking'!\" & ADDRESS(MATCH($D397, 'Patient Tracking'!$A:$A, 0), 1), \"View\")","v":{"$error":"#N/A"}}]
[{"$f":"HYPERLINK(\"#'Patient Tracking'!\" & ADDRESS(MATCH($D398, 'Patient Tracking'!$A:$A, 0), 1), \"View\")","v":{"$error":"#N/A"}}]
[{"$f":"HYPERLINK(\"#'Patient Tracking'!\" & ADDRESS(MATCH($D399, 'Patient Tracking'!$A:$A, 0), 1), \"View\")","v":{"$error":"#N/A"}}]
[{"$f":"HYPERLINK(\"#'Patient Tracking'!\" & ADDRESS(MATCH($D400, 'Patient Tracking'!$A:$A, 0), 1), \"View\")","v":{"$error":"#N/A"}}]
[{"$f":"HYPERLINK(\"#'Patient Tracking'!\" & ADDRESS(MATCH($D401, 'Patient Tracking'!$A:$A, 0), 1), \"View\")","v":{"$error":"#N/A"}}]
[{"$f":"HYPERLINK(\"#'Patient Tracking'!\" & ADDRESS(MATCH($D402, 'Patient Tracking'!$A:$A, 0), 1), \"View\")","v":{"$error":"#N/A"}}]
[{"$f":"HYPERLINK(\"#'Patient Tracking'!\" & ADDRESS(MATCH($D403, 'Patient Tracking'!$A:$A, 0), 1), \"View\")","v":{"$error":"#N/A"}}]
[{"$f":"HYPERLINK(\"#'Patient Tracking'!\" & ADDRESS(MATCH($D404, 'Patient Tracking'!$A:$A, 0), 1), \"View\")","v":{"$error":"#N/A"}}]
[{"$f":"HYPERLINK(\"#'Patient Tracking'!\" & ADDRESS(MATCH($D405, 'Patient Tracking'!$A:$A, 0), 1), \"View\")","v":{"$error":"#N/A"}}]
[{"$f":"HYPERLINK(\"#'Patient Tracking'!\" & ADDRESS(MATCH($D406, 'Patient Tracking'!$A:$A, 0), 1), \"View\")","v":{"$error":"#N/A"}}]
[{"$f":"HYPERLINK(\"#'Patient Tracking'!\" & ADDRESS(MATCH($D407, 'Patient Tracking'!$A:$A, 0), 1), \"View\")","v":{"$error":"#N/A"}}]
[{"$f":"HYPERLINK(\"#'Patient Tracking'!\" & ADDRESS(MATCH($D408, 'Patient Tracking'!$A:$A, 0), 1), \"View\")","v":{"$error":"#N/A"}}]
[{"$f":"HYPERLINK(\"#'Patient Tracking'!\" & ADDRESS(MATCH($D409, 'Patient Tracking'!$A:$A, 0), 1), \"View\")","v":{"$error":"#N/A"}}]
[{"$f":"HYPERLINK(\"#'Patient Tracking'!\" & ADDRESS(MATCH($D410, 'Patient Tracking'!$A:$A, 0), 1), \"View\")","v":{"$error":"#N/A"}}]
[{"$f":"HYPERLINK(\"#'Patient Tracking'!\" & ADDRESS(MATCH($D411, 'Patient Tracking'!$A:$A, 0), 1), \"View\")","v":{"$error":"#N/A"}}]
[{"$f":"HYPERLINK(\"#'Patient Tracking'!\" & ADDRESS(MATCH($D412, 'Patient Tracking'!$A:$A, 0), 1), \"View\")","v":{"$error":"#N/A"}}]
[{"$f":"HYPERLINK(\"#'Patient Tracking'!\" & ADDRESS(MATCH($D413, 'Patient Tracking'!$A:$A, 0), 1), \"View\")","v":{"$error":"#N/A"}}]
[{"$f":"HYPERLINK(\"#'Patient Tracking'!\" & ADDRESS(MATCH($D414, 'Patient Tracking'!$A:$A, 0), 1), \"View\")","v":{"$error":"#N/A"}}]
[{"$f":"HYPERLINK(\"#'Patient Tracking'!\" & ADDRESS(MATCH($D415, 'Patient Tracking'!$A:$A, 0), 1), \"View\")","v":{"$error":"#N/A"}}]
[{"$f":"HYPERLINK(\"#'Patient Tracking'!\" & ADDRESS(MATCH($D416, 'Patient Tracking'!$A:$A, 0), 1), \"View\")","v":{"$error":"#N/A"}}]
[{"$f":"HYPERLINK(\"#'Patient Tracking'!\" & ADDRESS(MATCH($D417, 'Patient Tracking'!$A:$A, 0), 1), \"View\")","v":{"$error":"#N/A"}}]
[{"$f":"HYPERLINK(\"#'Patient Tracking'!\" & ADDRESS(MATCH($D418, 'Patient Tracking'!$A:$A, 0), 1), \"View\")","v":{"$error":"#N/A"}}]
[{"$f":"HYPERLINK(\"#'Patient Tracking'!\" & ADDRESS(MATCH($D419, 'Patient Tracking'!$A:$A, 0), 1), \"View\")","v":{"$error":"#N/A"}}]
[{"$f":"HYPERLINK(\"#'Patient Tracking'!\" & ADDRESS(MATCH($D420, 'Patient Tracking'!$A:$A, 0), 1), \"View\")","v":{"$error":"#N/A"}}]
[{"$f":"HYPERLINK(\"#'Patient Tracking'!\" & ADDRESS(MATCH($D421, 'Patient Tracking'!$A:$A, 0), 1), \"View\")","v":{"$error":"#N/A"}}]
[{"$f":"HYPERLINK(\"#'Patient Tracking'!\" & ADDRESS(MATCH($D422, 'Patient Tracking'!$A:$A, 0), 1), \"View\")","v":{"$error":"#N/A"}}]
[{"$f":"HYPERLINK(\"#'Patient Tracking'!\" & ADDRESS(MATCH($D423, 'Patient Tracking'!$A:$A, 0), 1), \"View\")","v":{"$error":"#N/A"}}]
[{"$f":"HYPERLINK(\"#'Patient Tracking'!\" & ADDRESS(MATCH($D424, 'Patient Tracking'!$A:$A, 0), 1), \"View\")","v":{"$error":"#N/A"}}]
[{"$f":"HYPERLINK(\"#'Patient Tracking'!\" & ADDRESS(MATCH($D425, 'Patient Tracking'!$A:$A, 0), 1), \"View\")","v":{"$error":"#N/A"}}]
[{"$f":"HYPERLINK(\"#'Patient Tracking'!\" & ADDRESS(MATCH($D426, 'Patient Tracking'!$A:$A, 0), 1), \"View\")","v":{"$error":"#N/A"}}]
[{"$f":"HYPERLINK(\"#'Patient Tracking'!\" & ADDRESS(MATCH($D427, 'Patient Tracking'!$A:$A, 0), 1), \"View\")","v":{"$error":"#N/A"}}]
[{"$f":"HYPERLINK(\"#'Patient Tracking'!\" & ADDRESS(MATCH($D428, 'Patient Tracking'!$A:$A, 0), 1), \"View\")","v":{"$error":"#N/A"}}]
[{"$f":"HYPERLINK(\"#'Patient Tracking'!\" & ADDRESS(MATCH($D429, 'Patient Tracking'!$A:$A, 0), 1), \"View\")","v":{"$error":"#N/A"}}]
[{"$f":"HYPERLINK(\"#'Patient Tracking'!\" & ADDRESS(MATCH($D430, 'Patient Tracking'!$A:$A, 0), 1), \"View\")","v":{"$error":"#N/A"}}]
[{"$f":"HYPERLINK(\"#'Patient Tracking'!\" & ADDRESS(MATCH($D431, 'Patient Tracking'!$A:$A, 0), 1), \"View\")","v":{"$error":"#N/A"}}]
[{"$f":"HYPERLINK(\"#'Patient Tracking'!\" & ADDRESS(MATCH($D432, 'Patient Tracking'!$A:$A, 0), 1), \"View\")","v":{"$error":"#N/A"}}]
[{"$f":"HYPERLINK(\"#'Patient Tracking'!\" & ADDRESS(MATCH($D433, 'Patient Tracking'!$A:$A, 0), 1), \"View\")","v":{"$error":"#N/A"}}]
[{"$f":"HYPERLINK(\"#'Patient Tracking'!\" & ADDRESS(MATCH($D434, 'Patient Tracking'!$A:$A, 0), 1), \"View\")","v":{"$error":"#N/A"}}]
[{"$f":"HYPERLINK(\"#'Patient Tracking'!\" & ADDRESS(MATCH($D435, 'Patient Tracking'!$A:$A, 0), 1), \"View\")","v":{"$error":"#N/A"}}]
[{"$f":"HYPERLINK(\"#'Patient Tracking'!\" & ADDRESS(MATCH($D436, 'Patient Tracking'!$A:$A, 0), 1), \"View\")","v":{"$error":"#N/A"}}]
[{"$f":"HYPERLINK(\"#'Patient Tracking'!\" & ADDRESS(MATCH($D437, 'Patient Tracking'!$A:$A, 0), 1), \"View\")","v":{"$error":"#N/A"}}]
[{"$f":"HYPERLINK(\"#'Patient Tracking'!\" & ADDRESS(MATCH($D438, 'Patient Tracking'!$A:$A, 0), 1), \"View\")","v":{"$error":"#N/A"}}]
[{"$f":"HYPERLINK(\"#'Patient Tracking'!\" & ADDRESS(MATCH($D439, 'Patient Tracking'!$A:$A, 0), 1), \"View\")","v":{"$error":"#N/A"}}]
[{"$f":"HYPERLINK(\"#'Patient Tracking'!\" & ADDRESS(MATCH($D440, 'Patient Tracking'!$A:$A, 0), 1), \"View\")","v":{"$error":"#N/A"}}]
[{"$f":"HYPERLINK(\"#'Patient Tracking'!\" & ADDRESS(MATCH($D441, 'Patient Tracking'!$A:$A, 0), 1), \"View\")","v":{"$error":"#N/A"}}]
[{"$f":"HYPERLINK(\"#'Patient Tracking'!\" & ADDRESS(MATCH($D442, 'Patient Tracking'!$A:$A, 0), 1), \"View\")","v":{"$error":"#N/A"}}]
[{"$f":"HYPERLINK(\"#'Patient Tracking'!\" & ADDRESS(MATCH($D443, 'Patient Tracking'!$A:$A, 0), 1), \"View\")","v":{"$error":"#N/A"}}]
[{"$f":"HYPERLINK(\"#'Patient Tracking'!\" & ADDRESS(MATCH($D444, 'Patient Tracking'!$A:$A, 0), 1), \"View\")","v":{"$error":"#N/A"}}]
[{"$f":"HYPERLINK(\"#'Patient Tracking'!\" & ADDRESS(MATCH($D445, 'Patient Tracking'!$A:$A, 0), 1), \"View\")","v":{"$error":"#N/A"}}]
[{"$f":"HYPERLINK(\"#'Patient Tracking'!\" & ADDRESS(MATCH($D446, 'Patient Tracking'!$A:$A, 0), 1), \"View\")","v":{"$error":"#N/A"}}]
[{"$f":"HYPERLINK(\"#'Patient Tracking'!\" & ADDRESS(MATCH($D447, 'Patient Tracking'!$A:$A, 0), 1), \"View\")","v":{"$error":"#N/A"}}]
[{"$f":"HYPERLINK(\"#'Patient Tracking'!\" & ADDRESS(MATCH($D448, 'Patient Tracking'!$A:$A, 0), 1), \"View\")","v":{"$error":"#N/A"}}]
[{"$f":"HYPERLINK(\"#'Patient Tracking'!\" & ADDRESS(MATCH($D449, 'Patient Tracking'!$A:$A, 0), 1), \"View\")","v":{"$error":"#N/A"}}]
[{"$f":"HYPERLINK(\"#'Patient Tracking'!\" & ADDRESS(MATCH($D450, 'Patient Tracking'!$A:$A, 0), 1), \"View\")","v":{"$error":"#N/A"}}]
[{"$f":"HYPERLINK(\"#'Patient Tracking'!\" & ADDRESS(MATCH($D451, 'Patient Tracking'!$A:$A, 0), 1), \"View\")","v":{"$error":"#N/A"}}]
[{"$f":"HYPERLINK(\"#'Patient Tracking'!\" & ADDRESS(MATCH($D452, 'Patient Tracking'!$A:$A, 0), 1), \"View\")","v":{"$error":"#N/A"}}]
[{"$f":"HYPERLINK(\"#'Patient Tracking'!\" & ADDRESS(MATCH($D453, 'Patient Tracking'!$A:$A, 0), 1), \"View\")","v":{"$error":"#N/A"}}]
[{"$f":"HYPERLINK(\"#'Patient Tracking'!\" & ADDRESS(MATCH($D454, 'Patient Tracking'!$A:$A, 0), 1), \"View\")","v":{"$error":"#N/A"}}]
[{"$f":"HYPERLINK(\"#'Patient Tracking'!\" & ADDRESS(MATCH($D455, 'Patient Tracking'!$A:$A, 0), 1), \"View\")","v":{"$error":"#N/A"}}]
[{"$f":"HYPERLINK(\"#'Patient Tracking'!\" & ADDRESS(MATCH($D456, 'Patient Tracking'!$A:$A, 0), 1), \"View\")","v":{"$error":"#N/A"}}]
[{"$f":"HYPERLINK(\"#'Patient Tracking'!\" & ADDRESS(MATCH($D457, 'Patient Tracking'!$A:$A, 0), 1), \"View\")","v":{"$error":"#N/A"}}]
[{"$f":"HYPERLINK(\"#'Patient Tracking'!\" & ADDRESS(MATCH($D458, 'Patient Tracking'!$A:$A, 0), 1), \"View\")","v":{"$error":"#N/A"}}]
[{"$f":"HYPERLINK(\"#'Patient Tracking'!\" & ADDRESS(MATCH($D459, 'Patient Tracking'!$A:$A, 0), 1), \"View\")","v":{"$error":"#N/A"}}]
[{"$f":"HYPERLINK(\"#'Patient Tracking'!\" & ADDRESS(MATCH($D460, 'Patient Tracking'!$A:$A, 0), 1), \"View\")","v":{"$error":"#N/A"}}]
[{"$f":"HYPERLINK(\"#'Patient Tracking'!\" & ADDRESS(MATCH($D461, 'Patient Tracking'!$A:$A, 0), 1), \"View\")","v":{"$error":"#N/A"}}]
[{"$f":"HYPERLINK(\"#'Patient Tracking'!\" & ADDRESS(MATCH($D462, 'Patient Tracking'!$A:$A, 0), 1), \"View\")","v":{"$error":"#N/A"}}]
[{"$f":"HYPERLINK(\"#'Patient Tracking'!\" & ADDRESS(MATCH($D463, 'Patient Tracking'!$A:$A, 0), 1), \"View\")","v":{"$error":"#N/A"}}]
[{"$f":"HYPERLINK(\"#'Patient Tracking'!\" & ADDRESS(MATCH($D464, 'Patient Tracking'!$A:$A, 0), 1), \"View\")","v":{"$error":"#N/A"}}]
[{"$f":"HYPERLINK(\"#'Patient Tracking'!\" & ADDRESS(MATCH($D465, 'Patient Tracking'!$A:$A, 0), 1), \"View\")","v":{"$error":"#N/A"}}]
[{"$f":"HYPERLINK(\"#'Patient Tracking'!\" & ADDRESS(MATCH($D466, 'Patient Tracking'!$A:$A, 0), 1), \"View\")","v":{"$error":"#N/A"}}]
[{"$f":"HYPERLINK(\"#'Patient Tracking'!\" & ADDRESS(MATCH($D467, 'Patient Tracking'!$A:$A, 0), 1), \"View\")","v":{"$error":"#N/A"}}]
[{"$f":"HYPERLINK(\"#'Patient Tracking'!\" & ADDRESS(MATCH($D468, 'Patient Tracking'!$A:$A, 0), 1), \"View\")","v":{"$error":"#N/A"}}]
[{"$f":"HYPERLINK(\"#'Patient Tracking'!\" & ADDRESS(MATCH($D469, 'Patient Tracking'!$A:$A, 0), 1), \"View\")","v":{"$error":"#N/A"}}]
[{"$f":"HYPERLINK(\"#'Patient Tracking'!\" & ADDRESS(MATCH($D470, 'Patient Tracking'!$A:$A, 0), 1), \"View\")","v":{"$error":"#N/A"}}]
[{"$f":"HYPERLINK(\"#'Patient Tracking'!\" & ADDRESS(MATCH($D471, 'Patient Tracking'!$A:$A, 0), 1), \"View\")","v":{"$error":"#N/A"}}]
[{"$f":"HYPERLINK(\"#'Patient Tracking'!\" & ADDRESS(MATCH($D472, 'Patient Tracking'!$A:$A, 0), 1), \"View\")","v":{"$error":"#N/A"}}]
[{"$f":"HYPERLINK(\"#'Patient Tracking'!\" & ADDRESS(MATCH($D473, 'Patient Tracking'!$A:$A, 0), 1), \"View\")","v":{"$error":"#N/A"}}]
[{"$f":"HYPERLINK(\"#'Patient Tracking'!\" & ADDRESS(MATCH($D474, 'Patient Tracking'!$A:$A, 0), 1), \"View\")","v":{"$error":"#N/A"}}]
[{"$f":"HYPERLINK(\"#'Patient Tracking'!\" & ADDRESS(MATCH($D475, 'Patient Tracking'!$A:$A, 0), 1), \"View\")","v":{"$error":"#N/A"}}]
[{"$f":"HYPERLINK(\"#'Patient Tracking'!\" & ADDRESS(MATCH($D476, 'Patient Tracking'!$A:$A, 0), 1), \"View\")","v":{"$error":"#N/A"}}]
[{"$f":"HYPERLINK(\"#'Patient Tracking'!\" & ADDRESS(MATCH($D477, 'Patient Tracking'!$A:$A, 0), 1), \"View\")","v":{"$error":"#N/A"}}]
[{"$f":"HYPERLINK(\"#'Patient Tracking'!\" & ADDRESS(MATCH($D478, 'Patient Tracking'!$A:$A, 0), 1), \"View\")","v":{"$error":"#N/A"}}]
[{"$f":"HYPERLINK(\"#'Patient Tracking'!\" & ADDRESS(MATCH($D479, 'Patient Tracking'!$A:$A, 0), 1), \"View\")","v":{"$error":"#N/A"}}]
[{"$f":"HYPERLINK(\"#'Patient Tracking'!\" & ADDRESS(MATCH($D480, 'Patient Tracking'!$A:$A, 0), 1), \"View\")","v":{"$error":"#N/A"}}]
[{"$f":"HYPERLINK(\"#'Patient Tracking'!\" & ADDRESS(MATCH($D481, 'Patient Tracking'!$A:$A, 0), 1), \"View\")","v":{"$error":"#N/A"}}]
[{"$f":"HYPERLINK(\"#'Patient Tracking'!\" & ADDRESS(MATCH($D482, 'Patient Tracking'!$A:$A, 0), 1), \"View\")","v":{"$error":"#N/A"}}]
[{"$f":"HYPERLINK(\"#'Patient Tracking'!\" & ADDRESS(MATCH($D483, 'Patient Tracking'!$A:$A, 0), 1), \"View\")","v":{"$error":"#N/A"}}]
[{"$f":"HYPERLINK(\"#'Patient Tracking'!\" & ADDRESS(MATCH($D484, 'Patient Tracking'!$A:$A, 0), 1), \"View\")","v":{"$error":"#N/A"}}]
[{"$f":"HYPERLINK(\"#'Patient Tracking'!\" & ADDRESS(MATCH($D485, 'Patient Tracking'!$A:$A, 0), 1), \"View\")","v":{"$error":"#N/A"}}]
[{"$f":"HYPERLINK(\"#'Patient Tracking'!\" & ADDRESS(MATCH($D486, 'Patient Tracking'!$A:$A, 0), 1), \"View\")","v":{"$error":"#N/A"}}]
[{"$f":"HYPERLINK(\"#'Patient Tracking'!\" & ADDRESS(MATCH($D487, 'Patient Tracking'!$A:$A, 0), 1), \"View\")","v":{"$error":"#N/A"}}]
[{"$f":"HYPERLINK(\"#'Patient Tracking'!\" & ADDRESS(MATCH($D488, 'Patient Tracking'!$A:$A, 0), 1), \"View\")","v":{"$error":"#N/A"}}]
[{"$f":"HYPERLINK(\"#'Patient Tracking'!\" & ADDRESS(MATCH($D489, 'Patient Tracking'!$A:$A, 0), 1), \"View\")","v":{"$error":"#N/A"}}]
[{"$f":"HYPERLINK(\"#'Patient Tracking'!\" & ADDRESS(MATCH($D490, 'Patient Tracking'!$A:$A, 0), 1), \"View\")","v":{"$error":"#N/A"}}]
[{"$f":"HYPERLINK(\"#'Patient Tracking'!\" & ADDRESS(MATCH($D491, 'Patient Tracking'!$A:$A, 0), 1), \"View\")","v":{"$error":"#N/A"}}]
[{"$f":"HYPERLINK(\"#'Patient Tracking'!\" & ADDRESS(MATCH($D492, 'Patient Tracking'!$A:$A, 0), 1), \"View\")","v":{"$error":"#N/A"}}]
[{"$f":"HYPERLINK(\"#'Patient Tracking'!\" & ADDRESS(MATCH($D493, 'Patient Tracking'!$A:$A, 0), 1), \"View\")","v":{"$error":"#N/A"}}]
[{"$f":"HYPERLINK(\"#'Patient Tracking'!\" & ADDRESS(MATCH($D494, 'Patient Tracking'!$A:$A, 0), 1), \"View\")","v":{"$error":"#N/A"}}]
[{"$f":"HYPERLINK(\"#'Patient Tracking'!\" & ADDRESS(MATCH($D495, 'Patient Tracking'!$A:$A, 0), 1), \"View\")","v":{"$error":"#N/A"}}]
[{"$f":"HYPERLINK(\"#'Patient Tracking'!\" & ADDRESS(MATCH($D496, 'Patient Tracking'!$A:$A, 0), 1), \"View\")","v":{"$error":"#N/A"}}]
[{"$f":"HYPERLINK(\"#'Patient Tracking'!\" & ADDRESS(MATCH($D497, 'Patient Tracking'!$A:$A, 0), 1), \"View\")","v":{"$error":"#N/A"}}]
[{"$f":"HYPERLINK(\"#'Patient Tracking'!\" & ADDRESS(MATCH($D498, 'Patient Tracking'!$A:$A, 0), 1), \"View\")","v":{"$error":"#N/A"}}]
[{"$f":"HYPERLINK(\"#'Patient Tracking'!\" & ADDRESS(MATCH($D499, 'Patient Tracking'!$A:$A, 0), 1), \"View\")","v":{"$error":"#N/A"}}]
[{"$f":"HYPERLINK(\"#'Patient Tracking'!\" & ADDRESS(MATCH($D500, 'Patient Tracking'!$A:$A, 0), 1), \"View\")","v":{"$error":"#N/A"}}]
[{"$f":"HYPERLINK(\"#'Patient Tracking'!\" & ADDRESS(MATCH($D501, 'Patient Tracking'!$A:$A, 0), 1), \"View\")","v":{"$error":"#N/A"}}]
[{"$f":"HYPERLINK(\"#'Patient Tracking'!\" & ADDRESS(MATCH($D502, 'Patient Tracking'!$A:$A, 0), 1), \"View\")","v":{"$error":"#N/A"}}]
[{"$f":"HYPERLINK(\"#'Patient Tracking'!\" & ADDRESS(MATCH($D503, 'Patient Tracking'!$A:$A, 0), 1), \"View\")","v":{"$error":"#N/A"}}]
[{"$f":"HYPERLINK(\"#'Patient Tracking'!\" & ADDRESS(MATCH($D504, 'Patient Tracking'!$A:$A, 0), 1), \"View\")","v":{"$error":"#N/A"}}]
[{"$f":"HYPERLINK(\"#'Patient Tracking'!\" & ADDRESS(MATCH($D505, 'Patient Tracking'!$A:$A, 0), 1), \"View\")","v":{"$error":"#N/A"}}]
[{"$f":"HYPERLINK(\"#'Patient Tracking'!\" & ADDRESS(MATCH($D506, 'Patient Tracking'!$A:$A, 0), 1), \"View\")","v":{"$error":"#N/A"}}]
[{"$f":"HYPERLINK(\"#'Patient Tracking'!\" & ADDRESS(MATCH($D507, 'Patient Tracking'!$A:$A, 0), 1), \"View\")","v":{"$error":"#N/A"}}]
[{"$f":"HYPERLINK(\"#'Patient Tracking'!\" & ADDRESS(MATCH($D508, 'Patient Tracking'!$A:$A, 0), 1), \"View\")","v":{"$error":"#N/A"}}]
[{"$f":"HYPERLINK(\"#'Patient Tracking'!\" & ADDRESS(MATCH($D509, 'Patient Tracking'!$A:$A, 0), 1), \"View\")","v":{"$error":"#N/A"}}]
[{"$f":"HYPERLINK(\"#'Patient Tracking'!\" & ADDRESS(MATCH($D510, 'Patient Tracking'!$A:$A, 0), 1), \"View\")","v":{"$error":"#N/A"}}]
[{"$f":"HYPERLINK(\"#'Patient Tracking'!\" & ADDRESS(MATCH($D511, 'Patient Tracking'!$A:$A, 0), 1), \"View\")","v":{"$error":"#N/A"}}]
[{"$f":"HYPERLINK(\"#'Patient Tracking'!\" & ADDRESS(MATCH($D512, 'Patient Tracking'!$A:$A, 0), 1), \"View\")","v":{"$error":"#N/A"}}]
[{"$f":"HYPERLINK(\"#'Patient Tracking'!\" & ADDRESS(MATCH($D513, 'Patient Tracking'!$A:$A, 0), 1), \"View\")","v":{"$error":"#N/A"}}]
[{"$f":"HYPERLINK(\"#'Patient Tracking'!\" & ADDRESS(MATCH($D514, 'Patient Tracking'!$A:$A, 0), 1), \"View\")","v":{"$error":"#N/A"}}]
[{"$f":"HYPERLINK(\"#'Patient Tracking'!\" & ADDRESS(MATCH($D515, 'Patient Tracking'!$A:$A, 0), 1), \"View\")","v":{"$error":"#N/A"}}]
[{"$f":"HYPERLINK(\"#'Patient Tracking'!\" & ADDRESS(MATCH($D516, 'Patient Tracking'!$A:$A, 0), 1), \"View\")","v":{"$error":"#N/A"}}]
[{"$f":"HYPERLINK(\"#'Patient Tracking'!\" & ADDRESS(MATCH($D517, 'Patient Tracking'!$A:$A, 0), 1), \"View\")","v":{"$error":"#N/A"}}]
[{"$f":"HYPERLINK(\"#'Patient Tracking'!\" & ADDRESS(MATCH($D518, 'Patient Tracking'!$A:$A, 0), 1), \"View\")","v":{"$error":"#N/A"}}]
[{"$f":"HYPERLINK(\"#'Patient Tracking'!\" & ADDRESS(MATCH($D519, 'Patient Tracking'!$A:$A, 0), 1), \"View\")","v":{"$error":"#N/A"}}]
[{"$f":"HYPERLINK(\"#'Patient Tracking'!\" & ADDRESS(MATCH($D520, 'Patient Tracking'!$A:$A, 0), 1), \"View\")","v":{"$error":"#N/A"}}]
[{"$f":"HYPERLINK(\"#'Patient Tracking'!\" & ADDRESS(MATCH($D521, 'Patient Tracking'!$A:$A, 0), 1), \"View\")","v":{"$error":"#N/A"}}]
[{"$f":"HYPERLINK(\"#'Patient Tracking'!\" & ADDRESS(MATCH($D522, 'Patient Tracking'!$A:$A, 0), 1), \"View\")","v":{"$error":"#N/A"}}]
[{"$f":"HYPERLINK(\"#'Patient Tracking'!\" & ADDRESS(MATCH($D523, 'Patient Tracking'!$A:$A, 0), 1), \"View\")","v":{"$error":"#N/A"}}]
[{"$f":"HYPERLINK(\"#'Patient Tracking'!\" & ADDRESS(MATCH($D524, 'Patient Tracking'!$A:$A, 0), 1), \"View\")","v":{"$error":"#N/A"}}]
[{"$f":"HYPERLINK(\"#'Patient Tracking'!\" & ADDRESS(MATCH($D525, 'Patient Tracking'!$A:$A, 0), 1), \"View\")","v":{"$error":"#N/A"}}]
[{"$f":"HYPERLINK(\"#'Patient Tracking'!\" & ADDRESS(MATCH($D526, 'Patient Tracking'!$A:$A, 0), 1), \"View\")","v":{"$error":"#N/A"}}]
[{"$f":"HYPERLINK(\"#'Patient Tracking'!\" & ADDRESS(MATCH($D527, 'Patient Tracking'!$A:$A, 0), 1), \"View\")","v":{"$error":"#N/A"}}]
[{"$f":"HYPERLINK(\"#'Patient Tracking'!\" & ADDRESS(MATCH($D528, 'Patient Tracking'!$A:$A, 0), 1), \"View\")","v":{"$error":"#N/A"}}]
[{"$f":"HYPERLINK(\"#'Patient Tracking'!\" & ADDRESS(MATCH($D529, 'Patient Tracking'!$A:$A, 0), 1), \"View\")","v":{"$error":"#N/A"}}]
[{"$f":"HYPERLINK(\"#'Patient Tracking'!\" & ADDRESS(MATCH($D530, 'Patient Tracking'!$A:$A, 0), 1), \"View\")","v":{"$error":"#N/A"}}]
[{"$f":"HYPERLINK(\"#'Patient Tracking'!\" & ADDRESS(MATCH($D531, 'Patient Tracking'!$A:$A, 0), 1), \"View\")","v":{"$error":"#N/A"}}]
[{"$f":"HYPERLINK(\"#'Patient Tracking'!\" & ADDRESS(MATCH($D532, 'Patient Tracking'!$A:$A, 0), 1), \"View\")","v":{"$error":"#N/A"}}]
[{"$f":"HYPERLINK(\"#'Patient Tracking'!\" & ADDRESS(MATCH($D533, 'Patient Tracking'!$A:$A, 0), 1), \"View\")","v":{"$error":"#N/A"}}]
[{"$f":"HYPERLINK(\"#'Patient Tracking'!\" & ADDRESS(MATCH($D534, 'Patient Tracking'!$A:$A, 0), 1), \"View\")","v":{"$error":"#N/A"}}]
[{"$f":"HYPERLINK(\"#'Patient Tracking'!\" & ADDRESS(MATCH($D535, 'Patient Tracking'!$A:$A, 0), 1), \"View\")","v":{"$error":"#N/A"}}]
[{"$f":"HYPERLINK(\"#'Patient Tracking'!\" & ADDRESS(MATCH($D536, 'Patient Tracking'!$A:$A, 0), 1), \"View\")","v":{"$error":"#N/A"}}]
[{"$f":"HYPERLINK(\"#'Patient Tracking'!\" & ADDRESS(MATCH($D537, 'Patient Tracking'!$A:$A, 0), 1), \"View\")","v":{"$error":"#N/A"}}]
[{"$f":"HYPERLINK(\"#'Patient Tracking'!\" & ADDRESS(MATCH($D538, 'Patient Tracking'!$A:$A, 0), 1), \"View\")","v":{"$error":"#N/A"}}]
[{"$f":"HYPERLINK(\"#'Patient Tracking'!\" & ADDRESS(MATCH($D539, 'Patient Tracking'!$A:$A, 0), 1), \"View\")","v":{"$error":"#N/A"}}]
[{"$f":"HYPERLINK(\"#'Patient Tracking'!\" & ADDRESS(MATCH($D540, 'Patient Tracking'!$A:$A, 0), 1), \"View\")","v":{"$error":"#N/A"}}]
[{"$f":"HYPERLINK(\"#'Patient Tracking'!\" & ADDRESS(MATCH($D541, 'Patient Tracking'!$A:$A, 0), 1), \"View\")","v":{"$error":"#N/A"}}]
[{"$f":"HYPERLINK(\"#'Patient Tracking'!\" & ADDRESS(MATCH($D542, 'Patient Tracking'!$A:$A, 0), 1), \"View\")","v":{"$error":"#N/A"}}]
[{"$f":"HYPERLINK(\"#'Patient Tracking'!\" & ADDRESS(MATCH($D543, 'Patient Tracking'!$A:$A, 0), 1), \"View\")","v":{"$error":"#N/A"}}]
[{"$f":"HYPERLINK(\"#'Patient Tracking'!\" & ADDRESS(MATCH($D544, 'Patient Tracking'!$A:$A, 0), 1), \"View\")","v":{"$error":"#N/A"}}]
[{"$f":"HYPERLINK(\"#'Patient Tracking'!\" & ADDRESS(MATCH($D545, 'Patient Tracking'!$A:$A, 0), 1), \"View\")","v":{"$error":"#N/A"}}]
[{"$f":"HYPERLINK(\"#'Patient Tracking'!\" & ADDRESS(MATCH($D546, 'Patient Tracking'!$A:$A, 0), 1), \"View\")","v":{"$error":"#N/A"}}]
[{"$f":"HYPERLINK(\"#'Patient Tracking'!\" & ADDRESS(MATCH($D547, 'Patient Tracking'!$A:$A, 0), 1), \"View\")","v":{"$error":"#N/A"}}]
[{"$f":"HYPERLINK(\"#'Patient Tracking'!\" & ADDRESS(MATCH($D548, 'Patient Tracking'!$A:$A, 0), 1), \"View\")","v":{"$error":"#N/A"}}]
[{"$f":"HYPERLINK(\"#'Patient Tracking'!\" & ADDRESS(MATCH($D549, 'Patient Tracking'!$A:$A, 0), 1), \"View\")","v":{"$error":"#N/A"}}]
[{"$f":"HYPERLINK(\"#'Patient Tracking'!\" & ADDRESS(MATCH($D550, 'Patient Tracking'!$A:$A, 0), 1), \"View\")","v":{"$error":"#N/A"}}]
[{"$f":"HYPERLINK(\"#'Patient Tracking'!\" & ADDRESS(MATCH($D551, 'Patient Tracking'!$A:$A, 0), 1), \"View\")","v":{"$error":"#N/A"}}]
[{"$f":"HYPERLINK(\"#'Patient Tracking'!\" & ADDRESS(MATCH($D552, 'Patient Tracking'!$A:$A, 0), 1), \"View\")","v":{"$error":"#N/A"}}]
[{"$f":"HYPERLINK(\"#'Patient Tracking'!\" & ADDRESS(MATCH($D553, 'Patient Tracking'!$A:$A, 0), 1), \"View\")","v":{"$error":"#N/A"}}]
[{"$f":"HYPERLINK(\"#'Patient Tracking'!\" & ADDRESS(MATCH($D554, 'Patient Tracking'!$A:$A, 0), 1), \"View\")","v":{"$error":"#N/A"}}]
[{"$f":"HYPERLINK(\"#'Patient Tracking'!\" & ADDRESS(MATCH($D555, 'Patient Tracking'!$A:$A, 0), 1), \"View\")","v":{"$error":"#N/A"}}]
[{"$f":"HYPERLINK(\"#'Patient Tracking'!\" & ADDRESS(MATCH($D556, 'Patient Tracking'!$A:$A, 0), 1), \"View\")","v":{"$error":"#N/A"}}]
[{"$f":"HYPERLINK(\"#'Patient Tracking'!\" & ADDRESS(MATCH($D557, 'Patient Tracking'!$A:$A, 0), 1), \"View\")","v":{"$error":"#N/A"}}]
[{"$f":"HYPERLINK(\"#'Patient Tracking'!\" & ADDRESS(MATCH($D558, 'Patient Tracking'!$A:$A, 0), 1), \"View\")","v":{"$error":"#N/A"}}]
[{"$f":"HYPERLINK(\"#'Patient Tracking'!\" & ADDRESS(MATCH($D559, 'Patient Tracking'!$A:$A, 0), 1), \"View\")","v":{"$error":"#N/A"}}]
[{"$f":"HYPERLINK(\"#'Patient Tracking'!\" & ADDRESS(MATCH($D560, 'Patient Tracking'!$A:$A, 0), 1), \"View\")","v":{"$error":"#N/A"}}]
[{"$f":"HYPERLINK(\"#'Patient Tracking'!\" & ADDRESS(MATCH($D561, 'Patient Tracking'!$A:$A, 0), 1), \"View\")","v":{"$error":"#N/A"}}]
[{"$f":"HYPERLINK(\"#'Patient Tracking'!\" & ADDRESS(MATCH($D562, 'Patient Tracking'!$A:$A, 0), 1), \"View\")","v":{"$error":"#N/A"}}]
[{"$f":"HYPERLINK(\"#'Patient Tracking'!\" & ADDRESS(MATCH($D563, 'Patient Tracking'!$A:$A, 0), 1), \"View\")","v":{"$error":"#N/A"}}]
[{"$f":"HYPERLINK(\"#'Patient Tracking'!\" & ADDRESS(MATCH($D564, 'Patient Tracking'!$A:$A, 0), 1), \"View\")","v":{"$error":"#N/A"}}]
[{"$f":"HYPERLINK(\"#'Patient Tracking'!\" & ADDRESS(MATCH($D565, 'Patient Tracking'!$A:$A, 0), 1), \"View\")","v":{"$error":"#N/A"}}]
[{"$f":"HYPERLINK(\"#'Patient Tracking'!\" & ADDRESS(MATCH($D566, 'Patient Tracking'!$A:$A, 0), 1), \"View\")","v":{"$error":"#N/A"}}]
[{"$f":"HYPERLINK(\"#'Patient Tracking'!\" & ADDRESS(MATCH($D567, 'Patient Tracking'!$A:$A, 0), 1), \"View\")","v":{"$error":"#N/A"}}]
[{"$f":"HYPERLINK(\"#'Patient Tracking'!\" & ADDRESS(MATCH($D568, 'Patient Tracking'!$A:$A, 0), 1), \"View\")","v":{"$error":"#N/A"}}]
[{"$f":"HYPERLINK(\"#'Patient Tracking'!\" & ADDRESS(MATCH($D569, 'Patient Tracking'!$A:$A, 0), 1), \"View\")","v":{"$error":"#N/A"}}]
[{"$f":"HYPERLINK(\"#'Patient Tracking'!\" & ADDRESS(MATCH($D570, 'Patient Tracking'!$A:$A, 0), 1), \"View\")","v":{"$error":"#N/A"}}]
[{"$f":"HYPERLINK(\"#'Patient Tracking'!\" & ADDRESS(MATCH($D571, 'Patient Tracking'!$A:$A, 0), 1), \"View\")","v":{"$error":"#N/A"}}]
[{"$f":"HYPERLINK(\"#'Patient Tracking'!\" & ADDRESS(MATCH($D572, 'Patient Tracking'!$A:$A, 0), 1), \"View\")","v":{"$error":"#N/A"}}]
[{"$f":"HYPERLINK(\"#'Patient Tracking'!\" & ADDRESS(MATCH($D573, 'Patient Tracking'!$A:$A, 0), 1), \"View\")","v":{"$error":"#N/A"}}]
[{"$f":"HYPERLINK(\"#'Patient Tracking'!\" & ADDRESS(MATCH($D574, 'Patient Tracking'!$A:$A, 0), 1), \"View\")","v":{"$error":"#N/A"}}]
[{"$f":"HYPERLINK(\"#'Patient Tracking'!\" & ADDRESS(MATCH($D575, 'Patient Tracking'!$A:$A, 0), 1), \"View\")","v":{"$error":"#N/A"}}]
[{"$f":"HYPERLINK(\"#'Patient Tracking'!\" & ADDRESS(MATCH($D576, 'Patient Tracking'!$A:$A, 0), 1), \"View\")","v":{"$error":"#N/A"}}]
[{"$f":"HYPERLINK(\"#'Patient Tracking'!\" & ADDRESS(MATCH($D577, 'Patient Tracking'!$A:$A, 0), 1), \"View\")","v":{"$error":"#N/A"}}]
[{"$f":"HYPERLINK(\"#'Patient Tracking'!\" & ADDRESS(MATCH($D578, 'Patient Tracking'!$A:$A, 0), 1), \"View\")","v":{"$error":"#N/A"}}]
[{"$f":"HYPERLINK(\"#'Patient Tracking'!\" & ADDRESS(MATCH($D579, 'Patient Tracking'!$A:$A, 0), 1), \"View\")","v":{"$error":"#N/A"}}]
[{"$f":"HYPERLINK(\"#'Patient Tracking'!\" & ADDRESS(MATCH($D580, 'Patient Tracking'!$A:$A, 0), 1), \"View\")","v":{"$error":"#N/A"}}]
[{"$f":"HYPERLINK(\"#'Patient Tracking'!\" & ADDRESS(MATCH($D581, 'Patient Tracking'!$A:$A, 0), 1), \"View\")","v":{"$error":"#N/A"}}]
[{"$f":"HYPERLINK(\"#'Patient Tracking'!\" & ADDRESS(MATCH($D582, 'Patient Tracking'!$A:$A, 0), 1), \"View\")","v":{"$error":"#N/A"}}]
[{"$f":"HYPERLINK(\"#'Patient Tracking'!\" & ADDRESS(MATCH($D583, 'Patient Tracking'!$A:$A, 0), 1), \"View\")","v":{"$error":"#N/A"}}]
[{"$f":"HYPERLINK(\"#'Patient Tracking'!\" & ADDRESS(MATCH($D584, 'Patient Tracking'!$A:$A, 0), 1), \"View\")","v":{"$error":"#N/A"}}]
[{"$f":"HYPERLINK(\"#'Patient Tracking'!\" & ADDRESS(MATCH($D585, 'Patient Tracking'!$A:$A, 0), 1), \"View\")","v":{"$error":"#N/A"}}]
[{"$f":"HYPERLINK(\"#'Patient Tracking'!\" & ADDRESS(MATCH($D586, 'Patient Tracking'!$A:$A, 0), 1), \"View\")","v":{"$error":"#N/A"}}]
[{"$f":"HYPERLINK(\"#'Patient Tracking'!\" & ADDRESS(MATCH($D587, 'Patient Tracking'!$A:$A, 0), 1), \"View\")","v":{"$error":"#N/A"}}]
[{"$f":"HYPERLINK(\"#'Patient Tracking'!\" & ADDRESS(MATCH($D588, 'Patient Tracking'!$A:$A, 0), 1), \"View\")","v":{"$error":"#N/A"}}]
[{"$f":"HYPERLINK(\"#'Patient Tracking'!\" & ADDRESS(MATCH($D589, 'Patient Tracking'!$A:$A, 0), 1), \"View\")","v":{"$error":"#N/A"}}]
[{"$f":"HYPERLINK(\"#'Patient Tracking'!\" & ADDRESS(MATCH($D590, 'Patient Tracking'!$A:$A, 0), 1), \"View\")","v":{"$error":"#N/A"}}]
[{"$f":"HYPERLINK(\"#'Patient Tracking'!\" & ADDRESS(MATCH($D591, 'Patient Tracking'!$A:$A, 0), 1), \"View\")","v":{"$error":"#N/A"}}]
[{"$f":"HYPERLINK(\"#'Patient Tracking'!\" & ADDRESS(MATCH($D592, 'Patient Tracking'!$A:$A, 0), 1), \"View\")","v":{"$error":"#N/A"}}]
[{"$f":"HYPERLINK(\"#'Patient Tracking'!\" & ADDRESS(MATCH($D593, 'Patient Tracking'!$A:$A, 0), 1), \"View\")","v":{"$error":"#N/A"}}]
[{"$f":"HYPERLINK(\"#'Patient Tracking'!\" & ADDRESS(MATCH($D594, 'Patient Tracking'!$A:$A, 0), 1), \"View\")","v":{"$error":"#N/A"}}]
[{"$f":"HYPERLINK(\"#'Patient Tracking'!\" & ADDRESS(MATCH($D595, 'Patient Tracking'!$A:$A, 0), 1), \"View\")","v":{"$error":"#N/A"}}]
[{"$f":"HYPERLINK(\"#'Patient Tracking'!\" & ADDRESS(MATCH($D596, 'Patient Tracking'!$A:$A, 0), 1), \"View\")","v":{"$error":"#N/A"}}]
[{"$f":"HYPERLINK(\"#'Patient Tracking'!\" & ADDRESS(MATCH($D597, 'Patient Tracking'!$A:$A, 0), 1), \"View\")","v":{"$error":"#N/A"}}]
[{"$f":"HYPERLINK(\"#'Patient Tracking'!\" & ADDRESS(MATCH($D598, 'Patient Tracking'!$A:$A, 0), 1), \"View\")","v":{"$error":"#N/A"}}]
[{"$f":"HYPERLINK(\"#'Patient Tracking'!\" & ADDRESS(MATCH($D599, 'Patient Tracking'!$A:$A, 0), 1), \"View\")","v":{"$error":"#N/A"}}]
[{"$f":"HYPERLINK(\"#'Patient Tracking'!\" & ADDRESS(MATCH($D600, 'Patient Tracking'!$A:$A, 0), 1), \"View\")","v":{"$error":"#N/A"}}]
[{"$f":"HYPERLINK(\"#'Patient Tracking'!\" & ADDRESS(MATCH($D601, 'Patient Tracking'!$A:$A, 0), 1), \"View\")","v":{"$error":"#N/A"}}]
[{"$f":"HYPERLINK(\"#'Patient Tracking'!\" & ADDRESS(MATCH($D602, 'Patient Tracking'!$A:$A, 0), 1), \"View\")","v":{"$error":"#N/A"}}]
[{"$f":"HYPERLINK(\"#'Patient Tracking'!\" & ADDRESS(MATCH($D603, 'Patient Tracking'!$A:$A, 0), 1), \"View\")","v":{"$error":"#N/A"}}]
[{"$f":"HYPERLINK(\"#'Patient Tracking'!\" & ADDRESS(MATCH($D604, 'Patient Tracking'!$A:$A, 0), 1), \"View\")","v":{"$error":"#N/A"}}]
[{"$f":"HYPERLINK(\"#'Patient Tracking'!\" & ADDRESS(MATCH($D605, 'Patient Tracking'!$A:$A, 0), 1), \"View\")","v":{"$error":"#N/A"}}]
[{"$f":"HYPERLINK(\"#'Patient Tracking'!\" & ADDRESS(MATCH($D606, 'Patient Tracking'!$A:$A, 0), 1), \"View\")","v":{"$error":"#N/A"}}]
[{"$f":"HYPERLINK(\"#'Patient Tracking'!\" & ADDRESS(MATCH($D607, 'Patient Tracking'!$A:$A, 0), 1), \"View\")","v":{"$error":"#N/A"}}]
[{"$f":"HYPERLINK(\"#'Patient Tracking'!\" & ADDRESS(MATCH($D608, 'Patient Tracking'!$A:$A, 0), 1), \"View\")","v":{"$error":"#N/A"}}]
[{"$f":"HYPERLINK(\"#'Patient Tracking'!\" & ADDRESS(MATCH($D609, 'Patient Tracking'!$A:$A, 0), 1), \"View\")","v":{"$error":"#N/A"}}]
[{"$f":"HYPERLINK(\"#'Patient Tracking'!\" & ADDRESS(MATCH($D610, 'Patient Tracking'!$A:$A, 0), 1), \"View\")","v":{"$error":"#N/A"}}]
[{"$f":"HYPERLINK(\"#'Patient Tracking'!\" & ADDRESS(MATCH($D611, 'Patient Tracking'!$A:$A, 0), 1), \"View\")","v":{"$error":"#N/A"}}]
[{"$f":"HYPERLINK(\"#'Patient Tracking'!\" & ADDRESS(MATCH($D612, 'Patient Tracking'!$A:$A, 0), 1), \"View\")","v":{"$error":"#N/A"}}]
[{"$f":"HYPERLINK(\"#'Patient Tracking'!\" & ADDRESS(MATCH($D613, 'Patient Tracking'!$A:$A, 0), 1), \"View\")","v":{"$error":"#N/A"}}]
[{"$f":"HYPERLINK(\"#'Patient Tracking'!\" & ADDRESS(MATCH($D614, 'Patient Tracking'!$A:$A, 0), 1), \"View\")","v":{"$error":"#N/A"}}]
[{"$f":"HYPERLINK(\"#'Patient Tracking'!\" & ADDRESS(MATCH($D615, 'Patient Tracking'!$A:$A, 0), 1), \"View\")","v":{"$error":"#N/A"}}]
[{"$f":"HYPERLINK(\"#'Patient Tracking'!\" & ADDRESS(MATCH($D616, 'Patient Tracking'!$A:$A, 0), 1), \"View\")","v":{"$error":"#N/A"}}]
[{"$f":"HYPERLINK(\"#'Patient Tracking'!\" & ADDRESS(MATCH($D617, 'Patient Tracking'!$A:$A, 0), 1), \"View\")","v":{"$error":"#N/A"}}]
[{"$f":"HYPERLINK(\"#'Patient Tracking'!\" & ADDRESS(MATCH($D618, 'Patient Tracking'!$A:$A, 0), 1), \"View\")","v":{"$error":"#N/A"}}]
[{"$f":"HYPERLINK(\"#'Patient Tracking'!\" & ADDRESS(MATCH($D619, 'Patient Tracking'!$A:$A, 0), 1), \"View\")","v":{"$error":"#N/A"}}]
[{"$f":"HYPERLINK(\"#'Patient Tracking'!\" & ADDRESS(MATCH($D620, 'Patient Tracking'!$A:$A, 0), 1), \"View\")","v":{"$error":"#N/A"}}]
[{"$f":"HYPERLINK(\"#'Patient Tracking'!\" & ADDRESS(MATCH($D621, 'Patient Tracking'!$A:$A, 0), 1), \"View\")","v":{"$error":"#N/A"}}]
[{"$f":"HYPERLINK(\"#'Patient Tracking'!\" & ADDRESS(MATCH($D622, 'Patient Tracking'!$A:$A, 0), 1), \"View\")","v":{"$error":"#N/A"}}]
[{"$f":"HYPERLINK(\"#'Patient Tracking'!\" & ADDRESS(MATCH($D623, 'Patient Tracking'!$A:$A, 0), 1), \"View\")","v":{"$error":"#N/A"}}]
[{"$f":"HYPERLINK(\"#'Patient Tracking'!\" & ADDRESS(MATCH($D624, 'Patient Tracking'!$A:$A, 0), 1), \"View\")","v":{"$error":"#N/A"}}]
[{"$f":"HYPERLINK(\"#'Patient Tracking'!\" & ADDRESS(MATCH($D625, 'Patient Tracking'!$A:$A, 0), 1), \"View\")","v":{"$error":"#N/A"}}]
[{"$f":"HYPERLINK(\"#'Patient Tracking'!\" & ADDRESS(MATCH($D626, 'Patient Tracking'!$A:$A, 0), 1), \"View\")","v":{"$error":"#N/A"}}]
[{"$f":"HYPERLINK(\"#'Patient Tracking'!\" & ADDRESS(MATCH($D627, 'Patient Tracking'!$A:$A, 0), 1), \"View\")","v":{"$error":"#N/A"}}]
[{"$f":"HYPERLINK(\"#'Patient Tracking'!\" & ADDRESS(MATCH($D628, 'Patient Tracking'!$A:$A, 0), 1), \"View\")","v":{"$error":"#N/A"}}]
[{"$f":"HYPERLINK(\"#'Patient Tracking'!\" & ADDRESS(MATCH($D629, 'Patient Tracking'!$A:$A, 0), 1), \"View\")","v":{"$error":"#N/A"}}]
[{"$f":"HYPERLINK(\"#'Patient Tracking'!\" & ADDRESS(MATCH($D630, 'Patient Tracking'!$A:$A, 0), 1), \"View\")","v":{"$error":"#N/A"}}]
[{"$f":"HYPERLINK(\"#'Patient Tracking'!\" & ADDRESS(MATCH($D631, 'Patient Tracking'!$A:$A, 0), 1), \"View\")","v":{"$error":"#N/A"}}]
[{"$f":"HYPERLINK(\"#'Patient Tracking'!\" & ADDRESS(MATCH($D632, 'Patient Tracking'!$A:$A, 0), 1), \"View\")","v":{"$error":"#N/A"}}]
[{"$f":"HYPERLINK(\"#'Patient Tracking'!\" & ADDRESS(MATCH($D633, 'Patient Tracking'!$A:$A, 0), 1), \"View\")","v":{"$error":"#N/A"}}]
[{"$f":"HYPERLINK(\"#'Patient Tracking'!\" & ADDRESS(MATCH($D634, 'Patient Tracking'!$A:$A, 0), 1), \"View\")","v":{"$error":"#N/A"}}]
[{"$f":"HYPERLINK(\"#'Patient Tracking'!\" & ADDRESS(MATCH($D635, 'Patient Tracking'!$A:$A, 0), 1), \"View\")","v":{"$error":"#N/A"}}]
[{"$f":"HYPERLINK(\"#'Patient Tracking'!\" & ADDRESS(MATCH($D636, 'Patient Tracking'!$A:$A, 0), 1), \"View\")","v":{"$error":"#N/A"}}]
[{"$f":"HYPERLINK(\"#'Patient Tracking'!\" & ADDRESS(MATCH($D637, 'Patient Tracking'!$A:$A, 0), 1), \"View\")","v":{"$error":"#N/A"}}]
[{"$f":"HYPERLINK(\"#'Patient Tracking'!\" & ADDRESS(MATCH($D638, 'Patient Tracking'!$A:$A, 0), 1), \"View\")","v":{"$error":"#N/A"}}]
[{"$f":"HYPERLINK(\"#'Patient Tracking'!\" & ADDRESS(MATCH($D639, 'Patient Tracking'!$A:$A, 0), 1), \"View\")","v":{"$error":"#N/A"}}]
[{"$f":"HYPERLINK(\"#'Patient Tracking'!\" & ADDRESS(MATCH($D640, 'Patient Tracking'!$A:$A, 0), 1), \"View\")","v":{"$error":"#N/A"}}]
[{"$f":"HYPERLINK(\"#'Patient Tracking'!\" & ADDRESS(MATCH($D641, 'Patient Tracking'!$A:$A, 0), 1), \"View\")","v":{"$error":"#N/A"}}]
[{"$f":"HYPERLINK(\"#'Patient Tracking'!\" & ADDRESS(MATCH($D642, 'Patient Tracking'!$A:$A, 0), 1), \"View\")","v":{"$error":"#N/A"}}]
[{"$f":"HYPERLINK(\"#'Patient Tracking'!\" & ADDRESS(MATCH($D643, 'Patient Tracking'!$A:$A, 0), 1), \"View\")","v":{"$error":"#N/A"}}]
[{"$f":"HYPERLINK(\"#'Patient Tracking'!\" & ADDRESS(MATCH($D644, 'Patient Tracking'!$A:$A, 0), 1), \"View\")","v":{"$error":"#N/A"}}]
[{"$f":"HYPERLINK(\"#'Patient Tracking'!\" & ADDRESS(MATCH($D645, 'Patient Tracking'!$A:$A, 0), 1), \"View\")","v":{"$error":"#N/A"}}]
[{"$f":"HYPERLINK(\"#'Patient Tracking'!\" & ADDRESS(MATCH($D646, 'Patient Tracking'!$A:$A, 0), 1), \"View\")","v":{"$error":"#N/A"}}]
[{"$f":"HYPERLINK(\"#'Patient Tracking'!\" & ADDRESS(MATCH($D647, 'Patient Tracking'!$A:$A, 0), 1), \"View\")","v":{"$error":"#N/A"}}]
[{"$f":"HYPERLINK(\"#'Patient Tracking'!\" & ADDRESS(MATCH($D648, 'Patient Tracking'!$A:$A, 0), 1), \"View\")","v":{"$error":"#N/A"}}]
[{"$f":"HYPERLINK(\"#'Patient Tracking'!\" & ADDRESS(MATCH($D649, 'Patient Tracking'!$A:$A, 0), 1), \"View\")","v":{"$error":"#N/A"}}]
[{"$f":"HYPERLINK(\"#'Patient Tracking'!\" & ADDRESS(MATCH($D650, 'Patient Tracking'!$A:$A, 0), 1), \"View\")","v":{"$error":"#N/A"}}]
[{"$f":"HYPERLINK(\"#'Patient Tracking'!\" & ADDRESS(MATCH($D651, 'Patient Tracking'!$A:$A, 0), 1), \"View\")","v":{"$error":"#N/A"}}]
[{"$f":"HYPERLINK(\"#'Patient Tracking'!\" & ADDRESS(MATCH($D652, 'Patient Tracking'!$A:$A, 0), 1), \"View\")","v":{"$error":"#N/A"}}]
[{"$f":"HYPERLINK(\"#'Patient Tracking'!\" & ADDRESS(MATCH($D653, 'Patient Tracking'!$A:$A, 0), 1), \"View\")","v":{"$error":"#N/A"}}]
[{"$f":"HYPERLINK(\"#'Patient Tracking'!\" & ADDRESS(MATCH($D654, 'Patient Tracking'!$A:$A, 0), 1), \"View\")","v":{"$error":"#N/A"}}]
[{"$f":"HYPERLINK(\"#'Patient Tracking'!\" & ADDRESS(MATCH($D655, 'Patient Tracking'!$A:$A, 0), 1), \"View\")","v":{"$error":"#N/A"}}]
[{"$f":"HYPERLINK(\"#'Patient Tracking'!\" & ADDRESS(MATCH($D656, 'Patient Tracking'!$A:$A, 0), 1), \"View\")","v":{"$error":"#N/A"}}]
[{"$f":"HYPERLINK(\"#'Patient Tracking'!\" & ADDRESS(MATCH($D657, 'Patient Tracking'!$A:$A, 0), 1), \"View\")","v":{"$error":"#N/A"}}]
[{"$f":"HYPERLINK(\"#'Patient Tracking'!\" & ADDRESS(MATCH($D658, 'Patient Tracking'!$A:$A, 0), 1), \"View\")","v":{"$error":"#N/A"}}]
[{"$f":"HYPERLINK(\"#'Patient Tracking'!\" & ADDRESS(MATCH($D659, 'Patient Tracking'!$A:$A, 0), 1), \"View\")","v":{"$error":"#N/A"}}]
[{"$f":"HYPERLINK(\"#'Patient Tracking'!\" & ADDRESS(MATCH($D660, 'Patient Tracking'!$A:$A, 0), 1), \"View\")","v":{"$error":"#N/A"}}]
[{"$f":"HYPERLINK(\"#'Patient Tracking'!\" & ADDRESS(MATCH($D661, 'Patient Tracking'!$A:$A, 0), 1), \"View\")","v":{"$error":"#N/A"}}]
[{"$f":"HYPERLINK(\"#'Patient Tracking'!\" & ADDRESS(MATCH($D662, 'Patient Tracking'!$A:$A, 0), 1), \"View\")","v":{"$error":"#N/A"}}]
[{"$f":"HYPERLINK(\"#'Patient Tracking'!\" & ADDRESS(MATCH($D663, 'Patient Tracking'!$A:$A, 0), 1), \"View\")","v":{"$error":"#N/A"}}]
[{"$f":"HYPERLINK(\"#'Patient Tracking'!\" & ADDRESS(MATCH($D664, 'Patient Tracking'!$A:$A, 0), 1), \"View\")","v":{"$error":"#N/A"}}]
[{"$f":"HYPERLINK(\"#'Patient Tracking'!\" & ADDRESS(MATCH($D665, 'Patient Tracking'!$A:$A, 0), 1), \"View\")","v":{"$error":"#N/A"}}]
[{"$f":"HYPERLINK(\"#'Patient Tracking'!\" & ADDRESS(MATCH($D666, 'Patient Tracking'!$A:$A, 0), 1), \"View\")","v":{"$error":"#N/A"}}]
[{"$f":"HYPERLINK(\"#'Patient Tracking'!\" & ADDRESS(MATCH($D667, 'Patient Tracking'!$A:$A, 0), 1), \"View\")","v":{"$error":"#N/A"}}]
[{"$f":"HYPERLINK(\"#'Patient Tracking'!\" & ADDRESS(MATCH($D668, 'Patient Tracking'!$A:$A, 0), 1), \"View\")","v":{"$error":"#N/A"}}]
[{"$f":"HYPERLINK(\"#'Patient Tracking'!\" & ADDRESS(MATCH($D669, 'Patient Tracking'!$A:$A, 0), 1), \"View\")","v":{"$error":"#N/A"}}]
[{"$f":"HYPERLINK(\"#'Patient Tracking'!\" & ADDRESS(MATCH($D670, 'Patient Tracking'!$A:$A, 0), 1), \"View\")","v":{"$error":"#N/A"}}]
[{"$f":"HYPERLINK(\"#'Patient Tracking'!\" & ADDRESS(MATCH($D671, 'Patient Tracking'!$A:$A, 0), 1), \"View\")","v":{"$error":"#N/A"}}]
[{"$f":"HYPERLINK(\"#'Patient Tracking'!\" & ADDRESS(MATCH($D672, 'Patient Tracking'!$A:$A, 0), 1), \"View\")","v":{"$error":"#N/A"}}]
[{"$f":"HYPERLINK(\"#'Patient Tracking'!\" & ADDRESS(MATCH($D673, 'Patient Tracking'!$A:$A, 0), 1), \"View\")","v":{"$error":"#N/A"}}]
[{"$f":"HYPERLINK(\"#'Patient Tracking'!\" & ADDRESS(MATCH($D674, 'Patient Tracking'!$A:$A, 0), 1), \"View\")","v":{"$error":"#N/A"}}]
[{"$f":"HYPERLINK(\"#'Patient Tracking'!\" & ADDRESS(MATCH($D675, 'Patient Tracking'!$A:$A, 0), 1), \"View\")","v":{"$error":"#N/A"}}]
[{"$f":"HYPERLINK(\"#'Patient Tracking'!\" & ADDRESS(MATCH($D676, 'Patient Tracking'!$A:$A, 0), 1), \"View\")","v":{"$error":"#N/A"}}]
[{"$f":"HYPERLINK(\"#'Patient Tracking'!\" & ADDRESS(MATCH($D677, 'Patient Tracking'!$A:$A, 0), 1), \"View\")","v":{"$error":"#N/A"}}]
[{"$f":"HYPERLINK(\"#'Patient Tracking'!\" & ADDRESS(MATCH($D678, 'Patient Tracking'!$A:$A, 0), 1), \"View\")","v":{"$error":"#N/A"}}]
[{"$f":"HYPERLINK(\"#'Patient Tracking'!\" & ADDRESS(MATCH($D679, 'Patient Tracking'!$A:$A, 0), 1), \"View\")","v":{"$error":"#N/A"}}]
[{"$f":"HYPERLINK(\"#'Patient Tracking'!\" & ADDRESS(MATCH($D680, 'Patient Tracking'!$A:$A, 0), 1), \"View\")","v":{"$error":"#N/A"}}]
[{"$f":"HYPERLINK(\"#'Patient Tracking'!\" & ADDRESS(MATCH($D681, 'Patient Tracking'!$A:$A, 0), 1), \"View\")","v":{"$error":"#N/A"}}]
[{"$f":"HYPERLINK(\"#'Patient Tracking'!\" & ADDRESS(MATCH($D682, 'Patient Tracking'!$A:$A, 0), 1), \"View\")","v":{"$error":"#N/A"}}]
[{"$f":"HYPERLINK(\"#'Patient Tracking'!\" & ADDRESS(MATCH($D683, 'Patient Tracking'!$A:$A, 0), 1), \"View\")","v":{"$error":"#N/A"}}]
[{"$f":"HYPERLINK(\"#'Patient Tracking'!\" & ADDRESS(MATCH($D684, 'Patient Tracking'!$A:$A, 0), 1), \"View\")","v":{"$error":"#N/A"}}]
[{"$f":"HYPERLINK(\"#'Patient Tracking'!\" & ADDRESS(MATCH($D685, 'Patient Tracking'!$A:$A, 0), 1), \"View\")","v":{"$error":"#N/A"}}]
[{"$f":"HYPERLINK(\"#'Patient Tracking'!\" & ADDRESS(MATCH($D686, 'Patient Tracking'!$A:$A, 0), 1), \"View\")","v":{"$error":"#N/A"}}]
[{"$f":"HYPERLINK(\"#'Patient Tracking'!\" & ADDRESS(MATCH($D687, 'Patient Tracking'!$A:$A, 0), 1), \"View\")","v":{"$error":"#N/A"}}]
[{"$f":"HYPERLINK(\"#'Patient Tracking'!\" & ADDRESS(MATCH($D688, 'Patient Tracking'!$A:$A, 0), 1), \"View\")","v":{"$error":"#N/A"}}]
[{"$f":"HYPERLINK(\"#'Patient Tracking'!\" & ADDRESS(MATCH($D689, 'Patient Tracking'!$A:$A, 0), 1), \"View\")","v":{"$error":"#N/A"}}]
[{"$f":"HYPERLINK(\"#'Patient Tracking'!\" & ADDRESS(MATCH($D690, 'Patient Tracking'!$A:$A, 0), 1), \"View\")","v":{"$error":"#N/A"}}]
[{"$f":"HYPERLINK(\"#'Patient Tracking'!\" & ADDRESS(MATCH($D691, 'Patient Tracking'!$A:$A, 0), 1), \"View\")","v":{"$error":"#N/A"}}]
[{"$f":"HYPERLINK(\"#'Patient Tracking'!\" & ADDRESS(MATCH($D692, 'Patient Tracking'!$A:$A, 0), 1), \"View\")","v":{"$error":"#N/A"}}]
[{"$f":"HYPERLINK(\"#'Patient Tracking'!\" & ADDRESS(MATCH($D693, 'Patient Tracking'!$A:$A, 0), 1), \"View\")","v":{"$error":"#N/A"}}]
[{"$f":"HYPERLINK(\"#'Patient Tracking'!\" & ADDRESS(MATCH($D694, 'Patient Tracking'!$A:$A, 0), 1), \"View\")","v":{"$error":"#N/A"}}]
[{"$f":"HYPERLINK(\"#'Patient Tracking'!\" & ADDRESS(MATCH($D695, 'Patient Tracking'!$A:$A, 0), 1), \"View\")","v":{"$error":"#N/A"}}]
[{"$f":"HYPERLINK(\"#'Patient Tracking'!\" & ADDRESS(MATCH($D696, 'Patient Tracking'!$A:$A, 0), 1), \"View\")","v":{"$error":"#N/A"}}]
[{"$f":"HYPERLINK(\"#'Patient Tracking'!\" & ADDRESS(MATCH($D697, 'Patient Tracking'!$A:$A, 0), 1), \"View\")","v":{"$error":"#N/A"}}]
[{"$f":"HYPERLINK(\"#'Patient Tracking'!\" & ADDRESS(MATCH($D698, 'Patient Tracking'!$A:$A, 0), 1), \"View\")","v":{"$error":"#N/A"}}]
[{"$f":"HYPERLINK(\"#'Patient Tracking'!\" & ADDRESS(MATCH($D699, 'Patient Tracking'!$A:$A, 0), 1), \"View\")","v":{"$error":"#N/A"}}]
[{"$f":"HYPERLINK(\"#'Patient Tracking'!\" & ADDRESS(MATCH($D700, 'Patient Tracking'!$A:$A, 0), 1), \"View\")","v":{"$error":"#N/A"}}]
[{"$f":"HYPERLINK(\"#'Patient Tracking'!\" & ADDRESS(MATCH($D701, 'Patient Tracking'!$A:$A, 0), 1), \"View\")","v":{"$error":"#N/A"}}]
[{"$f":"HYPERLINK(\"#'Patient Tracking'!\" & ADDRESS(MATCH($D702, 'Patient Tracking'!$A:$A, 0), 1), \"View\")","v":{"$error":"#N/A"}}]
[{"$f":"HYPERLINK(\"#'Patient Tracking'!\" & ADDRESS(MATCH($D703, 'Patient Tracking'!$A:$A, 0), 1), \"View\")","v":{"$error":"#N/A"}}]
[{"$f":"HYPERLINK(\"#'Patient Tracking'!\" & ADDRESS(MATCH($D704, 'Patient Tracking'!$A:$A, 0), 1), \"View\")","v":{"$error":"#N/A"}}]
[{"$f":"HYPERLINK(\"#'Patient Tracking'!\" & ADDRESS(MATCH($D705, 'Patient Tracking'!$A:$A, 0), 1), \"View\")","v":{"$error":"#N/A"}}]
[{"$f":"HYPERLINK(\"#'Patient Tracking'!\" & ADDRESS(MATCH($D706, 'Patient Tracking'!$A:$A, 0), 1), \"View\")","v":{"$error":"#N/A"}}]
[{"$f":"HYPERLINK(\"#'Patient Tracking'!\" & ADDRESS(MATCH($D707, 'Patient Tracking'!$A:$A, 0), 1), \"View\")","v":{"$error":"#N/A"}}]
[{"$f":"HYPERLINK(\"#'Patient Tracking'!\" & ADDRESS(MATCH($D708, 'Patient Tracking'!$A:$A, 0), 1), \"View\")","v":{"$error":"#N/A"}}]
[{"$f":"HYPERLINK(\"#'Patient Tracking'!\" & ADDRESS(MATCH($D709, 'Patient Tracking'!$A:$A, 0), 1), \"View\")","v":{"$error":"#N/A"}}]
[{"$f":"HYPERLINK(\"#'Patient Tracking'!\" & ADDRESS(MATCH($D710, 'Patient Tracking'!$A:$A, 0), 1), \"View\")","v":{"$error":"#N/A"}}]
[{"$f":"HYPERLINK(\"#'Patient Tracking'!\" & ADDRESS(MATCH($D711, 'Patient Tracking'!$A:$A, 0), 1), \"View\")","v":{"$error":"#N/A"}}]
[{"$f":"HYPERLINK(\"#'Patient Tracking'!\" & ADDRESS(MATCH($D712, 'Patient Tracking'!$A:$A, 0), 1), \"View\")","v":{"$error":"#N/A"}}]
[{"$f":"HYPERLINK(\"#'Patient Tracking'!\" & ADDRESS(MATCH($D713, 'Patient Tracking'!$A:$A, 0), 1), \"View\")","v":{"$error":"#N/A"}}]
[{"$f":"HYPERLINK(\"#'Patient Tracking'!\" & ADDRESS(MATCH($D714, 'Patient Tracking'!$A:$A, 0), 1), \"View\")","v":{"$error":"#N/A"}}]
[{"$f":"HYPERLINK(\"#'Patient Tracking'!\" & ADDRESS(MATCH($D715, 'Patient Tracking'!$A:$A, 0), 1), \"View\")","v":{"$error":"#N/A"}}]
[{"$f":"HYPERLINK(\"#'Patient Tracking'!\" & ADDRESS(MATCH($D716, 'Patient Tracking'!$A:$A, 0), 1), \"View\")","v":{"$error":"#N/A"}}]
[{"$f":"HYPERLINK(\"#'Patient Tracking'!\" & ADDRESS(MATCH($D717, 'Patient Tracking'!$A:$A, 0), 1), \"View\")","v":{"$error":"#N/A"}}]
[{"$f":"HYPERLINK(\"#'Patient Tracking'!\" & ADDRESS(MATCH($D718, 'Patient Tracking'!$A:$A, 0), 1), \"View\")","v":{"$error":"#N/A"}}]
[{"$f":"HYPERLINK(\"#'Patient Tracking'!\" & ADDRESS(MATCH($D719, 'Patient Tracking'!$A:$A, 0), 1), \"View\")","v":{"$error":"#N/A"}}]
[{"$f":"HYPERLINK(\"#'Patient Tracking'!\" & ADDRESS(MATCH($D720, 'Patient Tracking'!$A:$A, 0), 1), \"View\")","v":{"$error":"#N/A"}}]
[{"$f":"HYPERLINK(\"#'Patient Tracking'!\" & ADDRESS(MATCH($D721, 'Patient Tracking'!$A:$A, 0), 1), \"View\")","v":{"$error":"#N/A"}}]
[{"$f":"HYPERLINK(\"#'Patient Tracking'!\" & ADDRESS(MATCH($D722, 'Patient Tracking'!$A:$A, 0), 1), \"View\")","v":{"$error":"#N/A"}}]
[{"$f":"HYPERLINK(\"#'Patient Tracking'!\" & ADDRESS(MATCH($D723, 'Patient Tracking'!$A:$A, 0), 1), \"View\")","v":{"$error":"#N/A"}}]
[{"$f":"HYPERLINK(\"#'Patient Tracking'!\" & ADDRESS(MATCH($D724, 'Patient Tracking'!$A:$A, 0), 1), \"View\")","v":{"$error":"#N/A"}}]
[{"$f":"HYPERLINK(\"#'Patient Tracking'!\" & ADDRESS(MATCH($D725, 'Patient Tracking'!$A:$A, 0), 1), \"View\")","v":{"$error":"#N/A"}}]
[{"$f":"HYPERLINK(\"#'Patient Tracking'!\" & ADDRESS(MATCH($D726, 'Patient Tracking'!$A:$A, 0), 1), \"View\")","v":{"$error":"#N/A"}}]
[{"$f":"HYPERLINK(\"#'Patient Tracking'!\" & ADDRESS(MATCH($D727, 'Patient Tracking'!$A:$A, 0), 1), \"View\")","v":{"$error":"#N/A"}}]
[{"$f":"HYPERLINK(\"#'Patient Tracking'!\" & ADDRESS(MATCH($D728, 'Patient Tracking'!$A:$A, 0), 1), \"View\")","v":{"$error":"#N/A"}}]
[{"$f":"HYPERLINK(\"#'Patient Tracking'!\" & ADDRESS(MATCH($D729, 'Patient Tracking'!$A:$A, 0), 1), \"View\")","v":{"$error":"#N/A"}}]
[{"$f":"HYPERLINK(\"#'Patient Tracking'!\" & ADDRESS(MATCH($D730, 'Patient Tracking'!$A:$A, 0), 1), \"View\")","v":{"$error":"#N/A"}}]
[{"$f":"HYPERLINK(\"#'Patient Tracking'!\" & ADDRESS(MATCH($D731, 'Patient Tracking'!$A:$A, 0), 1), \"View\")","v":{"$error":"#N/A"}}]
[{"$f":"HYPERLINK(\"#'Patient Tracking'!\" & ADDRESS(MATCH($D732, 'Patient Tracking'!$A:$A, 0), 1), \"View\")","v":{"$error":"#N/A"}}]
[{"$f":"HYPERLINK(\"#'Patient Tracking'!\" & ADDRESS(MATCH($D733, 'Patient Tracking'!$A:$A, 0), 1), \"View\")","v":{"$error":"#N/A"}}]
[{"$f":"HYPERLINK(\"#'Patient Tracking'!\" & ADDRESS(MATCH($D734, 'Patient Tracking'!$A:$A, 0), 1), \"View\")","v":{"$error":"#N/A"}}]
[{"$f":"HYPERLINK(\"#'Patient Tracking'!\" & ADDRESS(MATCH($D735, 'Patient Tracking'!$A:$A, 0), 1), \"View\")","v":{"$error":"#N/A"}}]
[{"$f":"HYPERLINK(\"#'Patient Tracking'!\" & ADDRESS(MATCH($D736, 'Patient Tracking'!$A:$A, 0), 1), \"View\")","v":{"$error":"#N/A"}}]
[{"$f":"HYPERLINK(\"#'Patient Tracking'!\" & ADDRESS(MATCH($D737, 'Patient Tracking'!$A:$A, 0), 1), \"View\")","v":{"$error":"#N/A"}}]
[{"$f":"HYPERLINK(\"#'Patient Tracking'!\" & ADDRESS(MATCH($D738, 'Patient Tracking'!$A:$A, 0), 1), \"View\")","v":{"$error":"#N/A"}}]
[{"$f":"HYPERLINK(\"#'Patient Tracking'!\" & ADDRESS(MATCH($D739, 'Patient Tracking'!$A:$A, 0), 1), \"View\")","v":{"$error":"#N/A"}}]
[{"$f":"HYPERLINK(\"#'Patient Tracking'!\" & ADDRESS(MATCH($D740, 'Patient Tracking'!$A:$A, 0), 1), \"View\")","v":{"$error":"#N/A"}}]
[{"$f":"HYPERLINK(\"#'Patient Tracking'!\" & ADDRESS(MATCH($D741, 'Patient Tracking'!$A:$A, 0), 1), \"View\")","v":{"$error":"#N/A"}}]
[{"$f":"HYPERLINK(\"#'Patient Tracking'!\" & ADDRESS(MATCH($D742, 'Patient Tracking'!$A:$A, 0), 1), \"View\")","v":{"$error":"#N/A"}}]
[{"$f":"HYPERLINK(\"#'Patient Tracking'!\" & ADDRESS(MATCH($D743, 'Patient Tracking'!$A:$A, 0), 1), \"View\")","v":{"$error":"#N/A"}}]
[{"$f":"HYPERLINK(\"#'Patient Tracking'!\" & ADDRESS(MATCH($D744, 'Patient Tracking'!$A:$A, 0), 1), \"View\")","v":{"$error":"#N/A"}}]
[{"$f":"HYPERLINK(\"#'Patient Tracking'!\" & ADDRESS(MATCH($D745, 'Patient Tracking'!$A:$A, 0), 1), \"View\")","v":{"$error":"#N/A"}}]
[{"$f":"HYPERLINK(\"#'Patient Tracking'!\" & ADDRESS(MATCH($D746, 'Patient Tracking'!$A:$A, 0), 1), \"View\")","v":{"$error":"#N/A"}}]
[{"$f":"HYPERLINK(\"#'Patient Tracking'!\" & ADDRESS(MATCH($D747, 'Patient Tracking'!$A:$A, 0), 1), \"View\")","v":{"$error":"#N/A"}}]
[{"$f":"HYPERLINK(\"#'Patient Tracking'!\" & ADDRESS(MATCH($D748, 'Patient Tracking'!$A:$A, 0), 1), \"View\")","v":{"$error":"#N/A"}}]
[{"$f":"HYPERLINK(\"#'Patient Tracking'!\" & ADDRESS(MATCH($D749, 'Patient Tracking'!$A:$A, 0), 1), \"View\")","v":{"$error":"#N/A"}}]
[{"$f":"HYPERLINK(\"#'Patient Tracking'!\" & ADDRESS(MATCH($D750, 'Patient Tracking'!$A:$A, 0), 1), \"View\")","v":{"$error":"#N/A"}}]
[{"$f":"HYPERLINK(\"#'Patient Tracking'!\" & ADDRESS(MATCH($D751, 'Patient Tracking'!$A:$A, 0), 1), \"View\")","v":{"$error":"#N/A"}}]
[{"$f":"HYPERLINK(\"#'Patient Tracking'!\" & ADDRESS(MATCH($D752, 'Patient Tracking'!$A:$A, 0), 1), \"View\")","v":{"$error":"#N/A"}}]
[{"$f":"HYPERLINK(\"#'Patient Tracking'!\" & ADDRESS(MATCH($D753, 'Patient Tracking'!$A:$A, 0), 1), \"View\")","v":{"$error":"#N/A"}}]
[{"$f":"HYPERLINK(\"#'Patient Tracking'!\" & ADDRESS(MATCH($D754, 'Patient Tracking'!$A:$A, 0), 1), \"View\")","v":{"$error":"#N/A"}}]
[{"$f":"HYPERLINK(\"#'Patient Tracking'!\" & ADDRESS(MATCH($D755, 'Patient Tracking'!$A:$A, 0), 1), \"View\")","v":{"$error":"#N/A"}}]
[{"$f":"HYPERLINK(\"#'Patient Tracking'!\" & ADDRESS(MATCH($D756, 'Patient Tracking'!$A:$A, 0), 1), \"View\")","v":{"$error":"#N/A"}}]
[{"$f":"HYPERLINK(\"#'Patient Tracking'!\" & ADDRESS(MATCH($D757, 'Patient Tracking'!$A:$A, 0), 1), \"View\")","v":{"$error":"#N/A"}}]
[{"$f":"HYPERLINK(\"#'Patient Tracking'!\" & ADDRESS(MATCH($D758, 'Patient Tracking'!$A:$A, 0), 1), \"View\")","v":{"$error":"#N/A"}}]
[{"$f":"HYPERLINK(\"#'Patient Tracking'!\" & ADDRESS(MATCH($D759, 'Patient Tracking'!$A:$A, 0), 1), \"View\")","v":{"$error":"#N/A"}}]
[{"$f":"HYPERLINK(\"#'Patient Tracking'!\" & ADDRESS(MATCH($D760, 'Patient Tracking'!$A:$A, 0), 1), \"View\")","v":{"$error":"#N/A"}}]
[{"$f":"HYPERLINK(\"#'Patient Tracking'!\" & ADDRESS(MATCH($D761, 'Patient Tracking'!$A:$A, 0), 1), \"View\")","v":{"$error":"#N/A"}}]
[{"$f":"HYPERLINK(\"#'Patient Tracking'!\" & ADDRESS(MATCH($D762, 'Patient Tracking'!$A:$A, 0), 1), \"View\")","v":{"$error":"#N/A"}}]
[{"$f":"HYPERLINK(\"#'Patient Tracking'!\" & ADDRESS(MATCH($D763, 'Patient Tracking'!$A:$A, 0), 1), \"View\")","v":{"$error":"#N/A"}}]
[{"$f":"HYPERLINK(\"#'Patient Tracking'!\" & ADDRESS(MATCH($D764, 'Patient Tracking'!$A:$A, 0), 1), \"View\")","v":{"$error":"#N/A"}}]
[{"$f":"HYPERLINK(\"#'Patient Tracking'!\" & ADDRESS(MATCH($D765, 'Patient Tracking'!$A:$A, 0), 1), \"View\")","v":{"$error":"#N/A"}}]
[{"$f":"HYPERLINK(\"#'Patient Tracking'!\" & ADDRESS(MATCH($D766, 'Patient Tracking'!$A:$A, 0), 1), \"View\")","v":{"$error":"#N/A"}}]
[{"$f":"HYPERLINK(\"#'Patient Tracking'!\" & ADDRESS(MATCH($D767, 'Patient Tracking'!$A:$A, 0), 1), \"View\")","v":{"$error":"#N/A"}}]
[{"$f":"HYPERLINK(\"#'Patient Tracking'!\" & ADDRESS(MATCH($D768, 'Patient Tracking'!$A:$A, 0), 1), \"View\")","v":{"$error":"#N/A"}}]
[{"$f":"HYPERLINK(\"#'Patient Tracking'!\" & ADDRESS(MATCH($D769, 'Patient Tracking'!$A:$A, 0), 1), \"View\")","v":{"$error":"#N/A"}}]
[{"$f":"HYPERLINK(\"#'Patient Tracking'!\" & ADDRESS(MATCH($D770, 'Patient Tracking'!$A:$A, 0), 1), \"View\")","v":{"$error":"#N/A"}}]
[{"$f":"HYPERLINK(\"#'Patient Tracking'!\" & ADDRESS(MATCH($D771, 'Patient Tracking'!$A:$A, 0), 1), \"View\")","v":{"$error":"#N/A"}}]
[{"$f":"HYPERLINK(\"#'Patient Tracking'!\" & ADDRESS(MATCH($D772, 'Patient Tracking'!$A:$A, 0), 1), \"View\")","v":{"$error":"#N/A"}}]
[{"$f":"HYPERLINK(\"#'Patient Tracking'!\" & ADDRESS(MATCH($D773, 'Patient Tracking'!$A:$A, 0), 1), \"View\")","v":{"$error":"#N/A"}}]
[{"$f":"HYPERLINK(\"#'Patient Tracking'!\" & ADDRESS(MATCH($D774, 'Patient Tracking'!$A:$A, 0), 1), \"View\")","v":{"$error":"#N/A"}}]
[{"$f":"HYPERLINK(\"#'Patient Tracking'!\" & ADDRESS(MATCH($D775, 'Patient Tracking'!$A:$A, 0), 1), \"View\")","v":{"$error":"#N/A"}}]
[{"$f":"HYPERLINK(\"#'Patient Tracking'!\" & ADDRESS(MATCH($D776, 'Patient Tracking'!$A:$A, 0), 1), \"View\")","v":{"$error":"#N/A"}}]
[{"$f":"HYPERLINK(\"#'Patient Tracking'!\" & ADDRESS(MATCH($D777, 'Patient Tracking'!$A:$A, 0), 1), \"View\")","v":{"$error":"#N/A"}}]
[{"$f":"HYPERLINK(\"#'Patient Tracking'!\" & ADDRESS(MATCH($D778, 'Patient Tracking'!$A:$A, 0), 1), \"View\")","v":{"$error":"#N/A"}}]
[{"$f":"HYPERLINK(\"#'Patient Tracking'!\" & ADDRESS(MATCH($D779, 'Patient Tracking'!$A:$A, 0), 1), \"View\")","v":{"$error":"#N/A"}}]
[{"$f":"HYPERLINK(\"#'Patient Tracking'!\" & ADDRESS(MATCH($D780, 'Patient Tracking'!$A:$A, 0), 1), \"View\")","v":{"$error":"#N/A"}}]
[{"$f":"HYPERLINK(\"#'Patient Tracking'!\" & ADDRESS(MATCH($D781, 'Patient Tracking'!$A:$A, 0), 1), \"View\")","v":{"$error":"#N/A"}}]
[{"$f":"HYPERLINK(\"#'Patient Tracking'!\" & ADDRESS(MATCH($D782, 'Patient Tracking'!$A:$A, 0), 1), \"View\")","v":{"$error":"#N/A"}}]
[{"$f":"HYPERLINK(\"#'Patient Tracking'!\" & ADDRESS(MATCH($D783, 'Patient Tracking'!$A:$A, 0), 1), \"View\")","v":{"$error":"#N/A"}}]
[{"$f":"HYPERLINK(\"#'Patient Tracking'!\" & ADDRESS(MATCH($D784, 'Patient Tracking'!$A:$A, 0), 1), \"View\")","v":{"$error":"#N/A"}}]
[{"$f":"HYPERLINK(\"#'Patient Tracking'!\" & ADDRESS(MATCH($D785, 'Patient Tracking'!$A:$A, 0), 1), \"View\")","v":{"$error":"#N/A"}}]
[{"$f":"HYPERLINK(\"#'Patient Tracking'!\" & ADDRESS(MATCH($D786, 'Patient Tracking'!$A:$A, 0), 1), \"View\")","v":{"$error":"#N/A"}}]
[{"$f":"HYPERLINK(\"#'Patient Tracking'!\" & ADDRESS(MATCH($D787, 'Patient Tracking'!$A:$A, 0), 1), \"View\")","v":{"$error":"#N/A"}}]
[{"$f":"HYPERLINK(\"#'Patient Tracking'!\" & ADDRESS(MATCH($D788, 'Patient Tracking'!$A:$A, 0), 1), \"View\")","v":{"$error":"#N/A"}}]
[{"$f":"HYPERLINK(\"#'Patient Tracking'!\" & ADDRESS(MATCH($D789, 'Patient Tracking'!$A:$A, 0), 1), \"View\")","v":{"$error":"#N/A"}}]
[{"$f":"HYPERLINK(\"#'Patient Tracking'!\" & ADDRESS(MATCH($D790, 'Patient Tracking'!$A:$A, 0), 1), \"View\")","v":{"$error":"#N/A"}}]
[{"$f":"HYPERLINK(\"#'Patient Tracking'!\" & ADDRESS(MATCH($D791, 'Patient Tracking'!$A:$A, 0), 1), \"View\")","v":{"$error":"#N/A"}}]
[{"$f":"HYPERLINK(\"#'Patient Tracking'!\" & ADDRESS(MATCH($D792, 'Patient Tracking'!$A:$A, 0), 1), \"View\")","v":{"$error":"#N/A"}}]
[{"$f":"HYPERLINK(\"#'Patient Tracking'!\" & ADDRESS(MATCH($D793, 'Patient Tracking'!$A:$A, 0), 1), \"View\")","v":{"$error":"#N/A"}}]
[{"$f":"HYPERLINK(\"#'Patient Tracking'!\" & ADDRESS(MATCH($D794, 'Patient Tracking'!$A:$A, 0), 1), \"View\")","v":{"$error":"#N/A"}}]
[{"$f":"HYPERLINK(\"#'Patient Tracking'!\" & ADDRESS(MATCH($D795, 'Patient Tracking'!$A:$A, 0), 1), \"View\")","v":{"$error":"#N/A"}}]
[{"$f":"HYPERLINK(\"#'Patient Tracking'!\" & ADDRESS(MATCH($D796, 'Patient Tracking'!$A:$A, 0), 1), \"View\")","v":{"$error":"#N/A"}}]
[{"$f":"HYPERLINK(\"#'Patient Tracking'!\" & ADDRESS(MATCH($D797, 'Patient Tracking'!$A:$A, 0), 1), \"View\")","v":{"$error":"#N/A"}}]
[{"$f":"HYPERLINK(\"#'Patient Tracking'!\" & ADDRESS(MATCH($D798, 'Patient Tracking'!$A:$A, 0), 1), \"View\")","v":{"$error":"#N/A"}}]
[{"$f":"HYPERLINK(\"#'Patient Tracking'!\" & ADDRESS(MATCH($D799, 'Patient Tracking'!$A:$A, 0), 1), \"View\")","v":{"$error":"#N/A"}}]
[{"$f":"HYPERLINK(\"#'Patient Tracking'!\" & ADDRESS(MATCH($D800, 'Patient Tracking'!$A:$A, 0), 1), \"View\")","v":{"$error":"#N/A"}}]
[{"$f":"HYPERLINK(\"#'Patient Tracking'!\" & ADDRESS(MATCH($D801, 'Patient Tracking'!$A:$A, 0), 1), \"View\")","v":{"$error":"#N/A"}}]
[{"$f":"HYPERLINK(\"#'Patient Tracking'!\" & ADDRESS(MATCH($D802, 'Patient Tracking'!$A:$A, 0), 1), \"View\")","v":{"$error":"#N/A"}}]
[{"$f":"HYPERLINK(\"#'Patient Tracking'!\" & ADDRESS(MATCH($D803, 'Patient Tracking'!$A:$A, 0), 1), \"View\")","v":{"$error":"#N/A"}}]
[{"$f":"HYPERLINK(\"#'Patient Tracking'!\" & ADDRESS(MATCH($D804, 'Patient Tracking'!$A:$A, 0), 1), \"View\")","v":{"$error":"#N/A"}}]
[{"$f":"HYPERLINK(\"#'Patient Tracking'!\" & ADDRESS(MATCH($D805, 'Patient Tracking'!$A:$A, 0), 1), \"View\")","v":{"$error":"#N/A"}}]
[{"$f":"HYPERLINK(\"#'Patient Tracking'!\" & ADDRESS(MATCH($D806, 'Patient Tracking'!$A:$A, 0), 1), \"View\")","v":{"$error":"#N/A"}}]
[{"$f":"HYPERLINK(\"#'Patient Tracking'!\" & ADDRESS(MATCH($D807, 'Patient Tracking'!$A:$A, 0), 1), \"View\")","v":{"$error":"#N/A"}}]
[{"$f":"HYPERLINK(\"#'Patient Tracking'!\" & ADDRESS(MATCH($D808, 'Patient Tracking'!$A:$A, 0), 1), \"View\")","v":{"$error":"#N/A"}}]
[{"$f":"HYPERLINK(\"#'Patient Tracking'!\" & ADDRESS(MATCH($D809, 'Patient Tracking'!$A:$A, 0), 1), \"View\")","v":{"$error":"#N/A"}}]
[{"$f":"HYPERLINK(\"#'Patient Tracking'!\" & ADDRESS(MATCH($D810, 'Patient Tracking'!$A:$A, 0), 1), \"View\")","v":{"$error":"#N/A"}}]
[{"$f":"HYPERLINK(\"#'Patient Tracking'!\" & ADDRESS(MATCH($D811, 'Patient Tracking'!$A:$A, 0), 1), \"View\")","v":{"$error":"#N/A"}}]
[{"$f":"HYPERLINK(\"#'Patient Tracking'!\" & ADDRESS(MATCH($D812, 'Patient Tracking'!$A:$A, 0), 1), \"View\")","v":{"$error":"#N/A"}}]
[{"$f":"HYPERLINK(\"#'Patient Tracking'!\" & ADDRESS(MATCH($D813, 'Patient Tracking'!$A:$A, 0), 1), \"View\")","v":{"$error":"#N/A"}}]
[{"$f":"HYPERLINK(\"#'Patient Tracking'!\" & ADDRESS(MATCH($D814, 'Patient Tracking'!$A:$A, 0), 1), \"View\")","v":{"$error":"#N/A"}}]
[{"$f":"HYPERLINK(\"#'Patient Tracking'!\" & ADDRESS(MATCH($D815, 'Patient Tracking'!$A:$A, 0), 1), \"View\")","v":{"$error":"#N/A"}}]
[{"$f":"HYPERLINK(\"#'Patient Tracking'!\" & ADDRESS(MATCH($D816, 'Patient Tracking'!$A:$A, 0), 1), \"View\")","v":{"$error":"#N/A"}}]
[{"$f":"HYPERLINK(\"#'Patient Tracking'!\" & ADDRESS(MATCH($D817, 'Patient Tracking'!$A:$A, 0), 1), \"View\")","v":{"$error":"#N/A"}}]
[{"$f":"HYPERLINK(\"#'Patient Tracking'!\" & ADDRESS(MATCH($D818, 'Patient Tracking'!$A:$A, 0), 1), \"View\")","v":{"$error":"#N/A"}}]
[{"$f":"HYPERLINK(\"#'Patient Tracking'!\" & ADDRESS(MATCH($D819, 'Patient Tracking'!$A:$A, 0), 1), \"View\")","v":{"$error":"#N/A"}}]
[{"$f":"HYPERLINK(\"#'Patient Tracking'!\" & ADDRESS(MATCH($D820, 'Patient Tracking'!$A:$A, 0), 1), \"View\")","v":{"$error":"#N/A"}}]
[{"$f":"HYPERLINK(\"#'Patient Tracking'!\" & ADDRESS(MATCH($D821, 'Patient Tracking'!$A:$A, 0), 1), \"View\")","v":{"$error":"#N/A"}}]
[{"$f":"HYPERLINK(\"#'Patient Tracking'!\" & ADDRESS(MATCH($D822, 'Patient Tracking'!$A:$A, 0), 1), \"View\")","v":{"$error":"#N/A"}}]
[{"$f":"HYPERLINK(\"#'Patient Tracking'!\" & ADDRESS(MATCH($D823, 'Patient Tracking'!$A:$A, 0), 1), \"View\")","v":{"$error":"#N/A"}}]
[{"$f":"HYPERLINK(\"#'Patient Tracking'!\" & ADDRESS(MATCH($D824, 'Patient Tracking'!$A:$A, 0), 1), \"View\")","v":{"$error":"#N/A"}}]
[{"$f":"HYPERLINK(\"#'Patient Tracking'!\" & ADDRESS(MATCH($D825, 'Patient Tracking'!$A:$A, 0), 1), \"View\")","v":{"$error":"#N/A"}}]
[{"$f":"HYPERLINK(\"#'Patient Tracking'!\" & ADDRESS(MATCH($D826, 'Patient Tracking'!$A:$A, 0), 1), \"View\")","v":{"$error":"#N/A"}}]
[{"$f":"HYPERLINK(\"#'Patient Tracking'!\" & ADDRESS(MATCH($D827, 'Patient Tracking'!$A:$A, 0), 1), \"View\")","v":{"$error":"#N/A"}}]
[{"$f":"HYPERLINK(\"#'Patient Tracking'!\" & ADDRESS(MATCH($D828, 'Patient Tracking'!$A:$A, 0), 1), \"View\")","v":{"$error":"#N/A"}}]
[{"$f":"HYPERLINK(\"#'Patient Tracking'!\" & ADDRESS(MATCH($D829, 'Patient Tracking'!$A:$A, 0), 1), \"View\")","v":{"$error":"#N/A"}}]
[{"$f":"HYPERLINK(\"#'Patient Tracking'!\" & ADDRESS(MATCH($D830, 'Patient Tracking'!$A:$A, 0), 1), \"View\")","v":{"$error":"#N/A"}}]
[{"$f":"HYPERLINK(\"#'Patient Tracking'!\" & ADDRESS(MATCH($D831, 'Patient Tracking'!$A:$A, 0), 1), \"View\")","v":{"$error":"#N/A"}}]
[{"$f":"HYPERLINK(\"#'Patient Tracking'!\" & ADDRESS(MATCH($D832, 'Patient Tracking'!$A:$A, 0), 1), \"View\")","v":{"$error":"#N/A"}}]
[{"$f":"HYPERLINK(\"#'Patient Tracking'!\" & ADDRESS(MATCH($D833, 'Patient Tracking'!$A:$A, 0), 1), \"View\")","v":{"$error":"#N/A"}}]
[{"$f":"HYPERLINK(\"#'Patient Tracking'!\" & ADDRESS(MATCH($D834, 'Patient Tracking'!$A:$A, 0), 1), \"View\")","v":{"$error":"#N/A"}}]
[{"$f":"HYPERLINK(\"#'Patient Tracking'!\" & ADDRESS(MATCH($D835, 'Patient Tracking'!$A:$A, 0), 1), \"View\")","v":{"$error":"#N/A"}}]
[{"$f":"HYPERLINK(\"#'Patient Tracking'!\" & ADDRESS(MATCH($D836, 'Patient Tracking'!$A:$A, 0), 1), \"View\")","v":{"$error":"#N/A"}}]
[{"$f":"HYPERLINK(\"#'Patient Tracking'!\" & ADDRESS(MATCH($D837, 'Patient Tracking'!$A:$A, 0), 1), \"View\")","v":{"$error":"#N/A"}}]
[{"$f":"HYPERLINK(\"#'Patient Tracking'!\" & ADDRESS(MATCH($D838, 'Patient Tracking'!$A:$A, 0), 1), \"View\")","v":{"$error":"#N/A"}}]
[{"$f":"HYPERLINK(\"#'Patient Tracking'!\" & ADDRESS(MATCH($D839, 'Patient Tracking'!$A:$A, 0), 1), \"View\")","v":{"$error":"#N/A"}}]
[{"$f":"HYPERLINK(\"#'Patient Tracking'!\" & ADDRESS(MATCH($D840, 'Patient Tracking'!$A:$A, 0), 1), \"View\")","v":{"$error":"#N/A"}}]
[{"$f":"HYPERLINK(\"#'Patient Tracking'!\" & ADDRESS(MATCH($D841, 'Patient Tracking'!$A:$A, 0), 1), \"View\")","v":{"$error":"#N/A"}}]
[{"$f":"HYPERLINK(\"#'Patient Tracking'!\" & ADDRESS(MATCH($D842, 'Patient Tracking'!$A:$A, 0), 1), \"View\")","v":{"$error":"#N/A"}}]
[{"$f":"HYPERLINK(\"#'Patient Tracking'!\" & ADDRESS(MATCH($D843, 'Patient Tracking'!$A:$A, 0), 1), \"View\")","v":{"$error":"#N/A"}}]
[{"$f":"HYPERLINK(\"#'Patient Tracking'!\" & ADDRESS(MATCH($D844, 'Patient Tracking'!$A:$A, 0), 1), \"View\")","v":{"$error":"#N/A"}}]
[{"$f":"HYPERLINK(\"#'Patient Tracking'!\" & ADDRESS(MATCH($D845, 'Patient Tracking'!$A:$A, 0), 1), \"View\")","v":{"$error":"#N/A"}}]
[{"$f":"HYPERLINK(\"#'Patient Tracking'!\" & ADDRESS(MATCH($D846, 'Patient Tracking'!$A:$A, 0), 1), \"View\")","v":{"$error":"#N/A"}}]
[{"$f":"HYPERLINK(\"#'Patient Tracking'!\" & ADDRESS(MATCH($D847, 'Patient Tracking'!$A:$A, 0), 1), \"View\")","v":{"$error":"#N/A"}}]
[{"$f":"HYPERLINK(\"#'Patient Tracking'!\" & ADDRESS(MATCH($D848, 'Patient Tracking'!$A:$A, 0), 1), \"View\")","v":{"$error":"#N/A"}}]
[{"$f":"HYPERLINK(\"#'Patient Tracking'!\" & ADDRESS(MATCH($D849, 'Patient Tracking'!$A:$A, 0), 1), \"View\")","v":{"$error":"#N/A"}}]
[{"$f":"HYPERLINK(\"#'Patient Tracking'!\" & ADDRESS(MATCH($D850, 'Patient Tracking'!$A:$A, 0), 1), \"View\")","v":{"$error":"#N/A"}}]
[{"$f":"HYPERLINK(\"#'Patient Tracking'!\" & ADDRESS(MATCH($D851, 'Patient Tracking'!$A:$A, 0), 1), \"View\")","v":{"$error":"#N/A"}}]
[{"$f":"HYPERLINK(\"#'Patient Tracking'!\" & ADDRESS(MATCH($D852, 'Patient Tracking'!$A:$A, 0), 1), \"View\")","v":{"$error":"#N/A"}}]
[{"$f":"HYPERLINK(\"#'Patient Tracking'!\" & ADDRESS(MATCH($D853, 'Patient Tracking'!$A:$A, 0), 1), \"View\")","v":{"$error":"#N/A"}}]
[{"$f":"HYPERLINK(\"#'Patient Tracking'!\" & ADDRESS(MATCH($D854, 'Patient Tracking'!$A:$A, 0), 1), \"View\")","v":{"$error":"#N/A"}}]
[{"$f":"HYPERLINK(\"#'Patient Tracking'!\" & ADDRESS(MATCH($D855, 'Patient Tracking'!$A:$A, 0), 1), \"View\")","v":{"$error":"#N/A"}}]
[{"$f":"HYPERLINK(\"#'Patient Tracking'!\" & ADDRESS(MATCH($D856, 'Patient Tracking'!$A:$A, 0), 1), \"View\")","v":{"$error":"#N/A"}}]
[{"$f":"HYPERLINK(\"#'Patient Tracking'!\" & ADDRESS(MATCH($D857, 'Patient Tracking'!$A:$A, 0), 1), \"View\")","v":{"$error":"#N/A"}}]
[{"$f":"HYPERLINK(\"#'Patient Tracking'!\" & ADDRESS(MATCH($D858, 'Patient Tracking'!$A:$A, 0), 1), \"View\")","v":{"$error":"#N/A"}}]
[{"$f":"HYPERLINK(\"#'Patient Tracking'!\" & ADDRESS(MATCH($D859, 'Patient Tracking'!$A:$A, 0), 1), \"View\")","v":{"$error":"#N/A"}}]
[{"$f":"HYPERLINK(\"#'Patient Tracking'!\" & ADDRESS(MATCH($D860, 'Patient Tracking'!$A:$A, 0), 1), \"View\")","v":{"$error":"#N/A"}}]
[{"$f":"HYPERLINK(\"#'Patient Tracking'!\" & ADDRESS(MATCH($D861, 'Patient Tracking'!$A:$A, 0), 1), \"View\")","v":{"$error":"#N/A"}}]
[{"$f":"HYPERLINK(\"#'Patient Tracking'!\" & ADDRESS(MATCH($D862, 'Patient Tracking'!$A:$A, 0), 1), \"View\")","v":{"$error":"#N/A"}}]
[{"$f":"HYPERLINK(\"#'Patient Tracking'!\" & ADDRESS(MATCH($D863, 'Patient Tracking'!$A:$A, 0), 1), \"View\")","v":{"$error":"#N/A"}}]
[{"$f":"HYPERLINK(\"#'Patient Tracking'!\" & ADDRESS(MATCH($D864, 'Patient Tracking'!$A:$A, 0), 1), \"View\")","v":{"$error":"#N/A"}}]
[{"$f":"HYPERLINK(\"#'Patient Tracking'!\" & ADDRESS(MATCH($D865, 'Patient Tracking'!$A:$A, 0), 1), \"View\")","v":{"$error":"#N/A"}}]
[{"$f":"HYPERLINK(\"#'Patient Tracking'!\" & ADDRESS(MATCH($D866, 'Patient Tracking'!$A:$A, 0), 1), \"View\")","v":{"$error":"#N/A"}}]
[{"$f":"HYPERLINK(\"#'Patient Tracking'!\" & ADDRESS(MATCH($D867, 'Patient Tracking'!$A:$A, 0), 1), \"View\")","v":{"$error":"#N/A"}}]
[{"$f":"HYPERLINK(\"#'Patient Tracking'!\" & ADDRESS(MATCH($D868, 'Patient Tracking'!$A:$A, 0), 1), \"View\")","v":{"$error":"#N/A"}}]
[{"$f":"HYPERLINK(\"#'Patient Tracking'!\" & ADDRESS(MATCH($D869, 'Patient Tracking'!$A:$A, 0), 1), \"View\")","v":{"$error":"#N/A"}}]
[{"$f":"HYPERLINK(\"#'Patient Tracking'!\" & ADDRESS(MATCH($D870, 'Patient Tracking'!$A:$A, 0), 1), \"View\")","v":{"$error":"#N/A"}}]
[{"$f":"HYPERLINK(\"#'Patient Tracking'!\" & ADDRESS(MATCH($D871, 'Patient Tracking'!$A:$A, 0), 1), \"View\")","v":{"$error":"#N/A"}}]
[{"$f":"HYPERLINK(\"#'Patient Tracking'!\" & ADDRESS(MATCH($D872, 'Patient Tracking'!$A:$A, 0), 1), \"View\")","v":{"$error":"#N/A"}}]
[{"$f":"HYPERLINK(\"#'Patient Tracking'!\" & ADDRESS(MATCH($D873, 'Patient Tracking'!$A:$A, 0), 1), \"View\")","v":{"$error":"#N/A"}}]
[{"$f":"HYPERLINK(\"#'Patient Tracking'!\" & ADDRESS(MATCH($D874, 'Patient Tracking'!$A:$A, 0), 1), \"View\")","v":{"$error":"#N/A"}}]
[{"$f":"HYPERLINK(\"#'Patient Tracking'!\" & ADDRESS(MATCH($D875, 'Patient Tracking'!$A:$A, 0), 1), \"View\")","v":{"$error":"#N/A"}}]
[{"$f":"HYPERLINK(\"#'Patient Tracking'!\" & ADDRESS(MATCH($D876, 'Patient Tracking'!$A:$A, 0), 1), \"View\")","v":{"$error":"#N/A"}}]
[{"$f":"HYPERLINK(\"#'Patient Tracking'!\" & ADDRESS(MATCH($D877, 'Patient Tracking'!$A:$A, 0), 1), \"View\")","v":{"$error":"#N/A"}}]
[{"$f":"HYPERLINK(\"#'Patient Tracking'!\" & ADDRESS(MATCH($D878, 'Patient Tracking'!$A:$A, 0), 1), \"View\")","v":{"$error":"#N/A"}}]
[{"$f":"HYPERLINK(\"#'Patient Tracking'!\" & ADDRESS(MATCH($D879, 'Patient Tracking'!$A:$A, 0), 1), \"View\")","v":{"$error":"#N/A"}}]
[{"$f":"HYPERLINK(\"#'Patient Tracking'!\" & ADDRESS(MATCH($D880, 'Patient Tracking'!$A:$A, 0), 1), \"View\")","v":{"$error":"#N/A"}}]
[{"$f":"HYPERLINK(\"#'Patient Tracking'!\" & ADDRESS(MATCH($D881, 'Patient Tracking'!$A:$A, 0), 1), \"View\")","v":{"$error":"#N/A"}}]
[{"$f":"HYPERLINK(\"#'Patient Tracking'!\" & ADDRESS(MATCH($D882, 'Patient Tracking'!$A:$A, 0), 1), \"View\")","v":{"$error":"#N/A"}}]
[{"$f":"HYPERLINK(\"#'Patient Tracking'!\" & ADDRESS(MATCH($D883, 'Patient Tracking'!$A:$A, 0), 1), \"View\")","v":{"$error":"#N/A"}}]
[{"$f":"HYPERLINK(\"#'Patient Tracking'!\" & ADDRESS(MATCH($D884, 'Patient Tracking'!$A:$A, 0), 1), \"View\")","v":{"$error":"#N/A"}}]
[{"$f":"HYPERLINK(\"#'Patient Tracking'!\" & ADDRESS(MATCH($D885, 'Patient Tracking'!$A:$A, 0), 1), \"View\")","v":{"$error":"#N/A"}}]
[{"$f":"HYPERLINK(\"#'Patient Tracking'!\" & ADDRESS(MATCH($D886, 'Patient Tracking'!$A:$A, 0), 1), \"View\")","v":{"$error":"#N/A"}}]
[{"$f":"HYPERLINK(\"#'Patient Tracking'!\" & ADDRESS(MATCH($D887, 'Patient Tracking'!$A:$A, 0), 1), \"View\")","v":{"$error":"#N/A"}}]
[{"$f":"HYPERLINK(\"#'Patient Tracking'!\" & ADDRESS(MATCH($D888, 'Patient Tracking'!$A:$A, 0), 1), \"View\")","v":{"$error":"#N/A"}}]
[{"$f":"HYPERLINK(\"#'Patient Tracking'!\" & ADDRESS(MATCH($D889, 'Patient Tracking'!$A:$A, 0), 1), \"View\")","v":{"$error":"#N/A"}}]
[{"$f":"HYPERLINK(\"#'Patient Tracking'!\" & ADDRESS(MATCH($D890, 'Patient Tracking'!$A:$A, 0), 1), \"View\")","v":{"$error":"#N/A"}}]
[{"$f":"HYPERLINK(\"#'Patient Tracking'!\" & ADDRESS(MATCH($D891, 'Patient Tracking'!$A:$A, 0), 1), \"View\")","v":{"$error":"#N/A"}}]
[{"$f":"HYPERLINK(\"#'Patient Tracking'!\" & ADDRESS(MATCH($D892, 'Patient Tracking'!$A:$A, 0), 1), \"View\")","v":{"$error":"#N/A"}}]
[{"$f":"HYPERLINK(\"#'Patient Tracking'!\" & ADDRESS(MATCH($D893, 'Patient Tracking'!$A:$A, 0), 1), \"View\")","v":{"$error":"#N/A"}}]
[{"$f":"HYPERLINK(\"#'Patient Tracking'!\" & ADDRESS(MATCH($D894, 'Patient Tracking'!$A:$A, 0), 1), \"View\")","v":{"$error":"#N/A"}}]
[{"$f":"HYPERLINK(\"#'Patient Tracking'!\" & ADDRESS(MATCH($D895, 'Patient Tracking'!$A:$A, 0), 1), \"View\")","v":{"$error":"#N/A"}}]
[{"$f":"HYPERLINK(\"#'Patient Tracking'!\" & ADDRESS(MATCH($D896, 'Patient Tracking'!$A:$A, 0), 1), \"View\")","v":{"$error":"#N/A"}}]
[{"$f":"HYPERLINK(\"#'Patient Tracking'!\" & ADDRESS(MATCH($D897, 'Patient Tracking'!$A:$A, 0), 1), \"View\")","v":{"$error":"#N/A"}}]
[{"$f":"HYPERLINK(\"#'Patient Tracking'!\" & ADDRESS(MATCH($D898, 'Patient Tracking'!$A:$A, 0), 1), \"View\")","v":{"$error":"#N/A"}}]
[{"$f":"HYPERLINK(\"#'Patient Tracking'!\" & ADDRESS(MATCH($D899, 'Patient Tracking'!$A:$A, 0), 1), \"View\")","v":{"$error":"#N/A"}}]
[{"$f":"HYPERLINK(\"#'Patient Tracking'!\" & ADDRESS(MATCH($D900, 'Patient Tracking'!$A:$A, 0), 1), \"View\")","v":{"$error":"#N/A"}}]
[{"$f":"HYPERLINK(\"#'Patient Tracking'!\" & ADDRESS(MATCH($D901, 'Patient Tracking'!$A:$A, 0), 1), \"View\")","v":{"$error":"#N/A"}}]
[{"$f":"HYPERLINK(\"#'Patient Tracking'!\" & ADDRESS(MATCH($D902, 'Patient Tracking'!$A:$A, 0), 1), \"View\")","v":{"$error":"#N/A"}}]
[{"$f":"HYPERLINK(\"#'Patient Tracking'!\" & ADDRESS(MATCH($D903, 'Patient Tracking'!$A:$A, 0), 1), \"View\")","v":{"$error":"#N/A"}}]
[{"$f":"HYPERLINK(\"#'Patient Tracking'!\" & ADDRESS(MATCH($D904, 'Patient Tracking'!$A:$A, 0), 1), \"View\")","v":{"$error":"#N/A"}}]
[{"$f":"HYPERLINK(\"#'Patient Tracking'!\" & ADDRESS(MATCH($D905, 'Patient Tracking'!$A:$A, 0), 1), \"View\")","v":{"$error":"#N/A"}}]
[{"$f":"HYPERLINK(\"#'Patient Tracking'!\" & ADDRESS(MATCH($D906, 'Patient Tracking'!$A:$A, 0), 1), \"View\")","v":{"$error":"#N/A"}}]
[{"$f":"HYPERLINK(\"#'Patient Tracking'!\" & ADDRESS(MATCH($D907, 'Patient Tracking'!$A:$A, 0), 1), \"View\")","v":{"$error":"#N/A"}}]
[{"$f":"HYPERLINK(\"#'Patient Tracking'!\" & ADDRESS(MATCH($D908, 'Patient Tracking'!$A:$A, 0), 1), \"View\")","v":{"$error":"#N/A"}}]
[{"$f":"HYPERLINK(\"#'Patient Tracking'!\" & ADDRESS(MATCH($D909, 'Patient Tracking'!$A:$A, 0), 1), \"View\")","v":{"$error":"#N/A"}}]
[{"$f":"HYPERLINK(\"#'Patient Tracking'!\" & ADDRESS(MATCH($D910, 'Patient Tracking'!$A:$A, 0), 1), \"View\")","v":{"$error":"#N/A"}}]
[{"$f":"HYPERLINK(\"#'Patient Tracking'!\" & ADDRESS(MATCH($D911, 'Patient Tracking'!$A:$A, 0), 1), \"View\")","v":{"$error":"#N/A"}}]
[{"$f":"HYPERLINK(\"#'Patient Tracking'!\" & ADDRESS(MATCH($D912, 'Patient Tracking'!$A:$A, 0), 1), \"View\")","v":{"$error":"#N/A"}}]
[{"$f":"HYPERLINK(\"#'Patient Tracking'!\" & ADDRESS(MATCH($D913, 'Patient Tracking'!$A:$A, 0), 1), \"View\")","v":{"$error":"#N/A"}}]
[{"$f":"HYPERLINK(\"#'Patient Tracking'!\" & ADDRESS(MATCH($D914, 'Patient Tracking'!$A:$A, 0), 1), \"View\")","v":{"$error":"#N/A"}}]
[{"$f":"HYPERLINK(\"#'Patient Tracking'!\" & ADDRESS(MATCH($D915, 'Patient Tracking'!$A:$A, 0), 1), \"View\")","v":{"$error":"#N/A"}}]
[{"$f":"HYPERLINK(\"#'Patient Tracking'!\" & ADDRESS(MATCH($D916, 'Patient Tracking'!$A:$A, 0), 1), \"View\")","v":{"$error":"#N/A"}}]
[{"$f":"HYPERLINK(\"#'Patient Tracking'!\" & ADDRESS(MATCH($D917, 'Patient Tracking'!$A:$A, 0), 1), \"View\")","v":{"$error":"#N/A"}}]
[{"$f":"HYPERLINK(\"#'Patient Tracking'!\" & ADDRESS(MATCH($D918, 'Patient Tracking'!$A:$A, 0), 1), \"View\")","v":{"$error":"#N/A"}}]
[{"$f":"HYPERLINK(\"#'Patient Tracking'!\" & ADDRESS(MATCH($D919, 'Patient Tracking'!$A:$A, 0), 1), \"View\")","v":{"$error":"#N/A"}}]
[{"$f":"HYPERLINK(\"#'Patient Tracking'!\" & ADDRESS(MATCH($D920, 'Patient Tracking'!$A:$A, 0), 1), \"View\")","v":{"$error":"#N/A"}}]
[{"$f":"HYPERLINK(\"#'Patient Tracking'!\" & ADDRESS(MATCH($D921, 'Patient Tracking'!$A:$A, 0), 1), \"View\")","v":{"$error":"#N/A"}}]
[{"$f":"HYPERLINK(\"#'Patient Tracking'!\" & ADDRESS(MATCH($D922, 'Patient Tracking'!$A:$A, 0), 1), \"View\")","v":{"$error":"#N/A"}}]
[{"$f":"HYPERLINK(\"#'Patient Tracking'!\" & ADDRESS(MATCH($D923, 'Patient Tracking'!$A:$A, 0), 1), \"View\")","v":{"$error":"#N/A"}}]
[{"$f":"HYPERLINK(\"#'Patient Tracking'!\" & ADDRESS(MATCH($D924, 'Patient Tracking'!$A:$A, 0), 1), \"View\")","v":{"$error":"#N/A"}}]
[{"$f":"HYPERLINK(\"#'Patient Tracking'!\" & ADDRESS(MATCH($D925, 'Patient Tracking'!$A:$A, 0), 1), \"View\")","v":{"$error":"#N/A"}}]
[{"$f":"HYPERLINK(\"#'Patient Tracking'!\" & ADDRESS(MATCH($D926, 'Patient Tracking'!$A:$A, 0), 1), \"View\")","v":{"$error":"#N/A"}}]
[{"$f":"HYPERLINK(\"#'Patient Tracking'!\" & ADDRESS(MATCH($D927, 'Patient Tracking'!$A:$A, 0), 1), \"View\")","v":{"$error":"#N/A"}}]
[{"$f":"HYPERLINK(\"#'Patient Tracking'!\" & ADDRESS(MATCH($D928, 'Patient Tracking'!$A:$A, 0), 1), \"View\")","v":{"$error":"#N/A"}}]
[{"$f":"HYPERLINK(\"#'Patient Tracking'!\" & ADDRESS(MATCH($D929, 'Patient Tracking'!$A:$A, 0), 1), \"View\")","v":{"$error":"#N/A"}}]
[{"$f":"HYPERLINK(\"#'Patient Tracking'!\" & ADDRESS(MATCH($D930, 'Patient Tracking'!$A:$A, 0), 1), \"View\")","v":{"$error":"#N/A"}}]
[{"$f":"HYPERLINK(\"#'Patient Tracking'!\" & ADDRESS(MATCH($D931, 'Patient Tracking'!$A:$A, 0), 1), \"View\")","v":{"$error":"#N/A"}}]
[{"$f":"HYPERLINK(\"#'Patient Tracking'!\" & ADDRESS(MATCH($D932, 'Patient Tracking'!$A:$A, 0), 1), \"View\")","v":{"$error":"#N/A"}}]
[{"$f":"HYPERLINK(\"#'Patient Tracking'!\" & ADDRESS(MATCH($D933, 'Patient Tracking'!$A:$A, 0), 1), \"View\")","v":{"$error":"#N/A"}}]
[{"$f":"HYPERLINK(\"#'Patient Tracking'!\" & ADDRESS(MATCH($D934, 'Patient Tracking'!$A:$A, 0), 1), \"View\")","v":{"$error":"#N/A"}}]
[{"$f":"HYPERLINK(\"#'Patient Tracking'!\" & ADDRESS(MATCH($D935, 'Patient Tracking'!$A:$A, 0), 1), \"View\")","v":{"$error":"#N/A"}}]
[{"$f":"HYPERLINK(\"#'Patient Tracking'!\" & ADDRESS(MATCH($D936, 'Patient Tracking'!$A:$A, 0), 1), \"View\")","v":{"$error":"#N/A"}}]
[{"$f":"HYPERLINK(\"#'Patient Tracking'!\" & ADDRESS(MATCH($D937, 'Patient Tracking'!$A:$A, 0), 1), \"View\")","v":{"$error":"#N/A"}}]
[{"$f":"HYPERLINK(\"#'Patient Tracking'!\" & ADDRESS(MATCH($D938, 'Patient Tracking'!$A:$A, 0), 1), \"View\")","v":{"$error":"#N/A"}}]
[{"$f":"HYPERLINK(\"#'Patient Tracking'!\" & ADDRESS(MATCH($D939, 'Patient Tracking'!$A:$A, 0), 1), \"View\")","v":{"$error":"#N/A"}}]
[{"$f":"HYPERLINK(\"#'Patient Tracking'!\" & ADDRESS(MATCH($D940, 'Patient Tracking'!$A:$A, 0), 1), \"View\")","v":{"$error":"#N/A"}}]
[{"$f":"HYPERLINK(\"#'Patient Tracking'!\" & ADDRESS(MATCH($D941, 'Patient Tracking'!$A:$A, 0), 1), \"View\")","v":{"$error":"#N/A"}}]
[{"$f":"HYPERLINK(\"#'Patient Tracking'!\" & ADDRESS(MATCH($D942, 'Patient Tracking'!$A:$A, 0), 1), \"View\")","v":{"$error":"#N/A"}}]
[{"$f":"HYPERLINK(\"#'Patient Tracking'!\" & ADDRESS(MATCH($D943, 'Patient Tracking'!$A:$A, 0), 1), \"View\")","v":{"$error":"#N/A"}}]
[{"$f":"HYPERLINK(\"#'Patient Tracking'!\" & ADDRESS(MATCH($D944, 'Patient Tracking'!$A:$A, 0), 1), \"View\")","v":{"$error":"#N/A"}}]
[{"$f":"HYPERLINK(\"#'Patient Tracking'!\" & ADDRESS(MATCH($D945, 'Patient Tracking'!$A:$A, 0), 1), \"View\")","v":{"$error":"#N/A"}}]
[{"$f":"HYPERLINK(\"#'Patient Tracking'!\" & ADDRESS(MATCH($D946, 'Patient Tracking'!$A:$A, 0), 1), \"View\")","v":{"$error":"#N/A"}}]
[{"$f":"HYPERLINK(\"#'Patient Tracking'!\" & ADDRESS(MATCH($D947, 'Patient Tracking'!$A:$A, 0), 1), \"View\")","v":{"$error":"#N/A"}}]
[{"$f":"HYPERLINK(\"#'Patient Tracking'!\" & ADDRESS(MATCH($D948, 'Patient Tracking'!$A:$A, 0), 1), \"View\")","v":{"$error":"#N/A"}}]
[{"$f":"HYPERLINK(\"#'Patient Tracking'!\" & ADDRESS(MATCH($D949, 'Patient Tracking'!$A:$A, 0), 1), \"View\")","v":{"$error":"#N/A"}}]
[{"$f":"HYPERLINK(\"#'Patient Tracking'!\" & ADDRESS(MATCH($D950, 'Patient Tracking'!$A:$A, 0), 1), \"View\")","v":{"$error":"#N/A"}}]
[{"$f":"HYPERLINK(\"#'Patient Tracking'!\" & ADDRESS(MATCH($D951, 'Patient Tracking'!$A:$A, 0), 1), \"View\")","v":{"$error":"#N/A"}}]
[{"$f":"HYPERLINK(\"#'Patient Tracking'!\" & ADDRESS(MATCH($D952, 'Patient Tracking'!$A:$A, 0), 1), \"View\")","v":{"$error":"#N/A"}}]
[{"$f":"HYPERLINK(\"#'Patient Tracking'!\" & ADDRESS(MATCH($D953, 'Patient Tracking'!$A:$A, 0), 1), \"View\")","v":{"$error":"#N/A"}}]
[{"$f":"HYPERLINK(\"#'Patient Tracking'!\" & ADDRESS(MATCH($D954, 'Patient Tracking'!$A:$A, 0), 1), \"View\")","v":{"$error":"#N/A"}}]
[{"$f":"HYPERLINK(\"#'Patient Tracking'!\" & ADDRESS(MATCH($D955, 'Patient Tracking'!$A:$A, 0), 1), \"View\")","v":{"$error":"#N/A"}}]
[{"$f":"HYPERLINK(\"#'Patient Tracking'!\" & ADDRESS(MATCH($D956, 'Patient Tracking'!$A:$A, 0), 1), \"View\")","v":{"$error":"#N/A"}}]
[{"$f":"HYPERLINK(\"#'Patient Tracking'!\" & ADDRESS(MATCH($D957, 'Patient Tracking'!$A:$A, 0), 1), \"View\")","v":{"$error":"#N/A"}}]
[{"$f":"HYPERLINK(\"#'Patient Tracking'!\" & ADDRESS(MATCH($D958, 'Patient Tracking'!$A:$A, 0), 1), \"View\")","v":{"$error":"#N/A"}}]
[{"$f":"HYPERLINK(\"#'Patient Tracking'!\" & ADDRESS(MATCH($D959, 'Patient Tracking'!$A:$A, 0), 1), \"View\")","v":{"$error":"#N/A"}}]
[{"$f":"HYPERLINK(\"#'Patient Tracking'!\" & ADDRESS(MATCH($D960, 'Patient Tracking'!$A:$A, 0), 1), \"View\")","v":{"$error":"#N/A"}}]
[{"$f":"HYPERLINK(\"#'Patient Tracking'!\" & ADDRESS(MATCH($D961, 'Patient Tracking'!$A:$A, 0), 1), \"View\")","v":{"$error":"#N/A"}}]
[{"$f":"HYPERLINK(\"#'Patient Tracking'!\" & ADDRESS(MATCH($D962, 'Patient Tracking'!$A:$A, 0), 1), \"View\")","v":{"$error":"#N/A"}}]
[{"$f":"HYPERLINK(\"#'Patient Tracking'!\" & ADDRESS(MATCH($D963, 'Patient Tracking'!$A:$A, 0), 1), \"View\")","v":{"$error":"#N/A"}}]
[{"$f":"HYPERLINK(\"#'Patient Tracking'!\" & ADDRESS(MATCH($D964, 'Patient Tracking'!$A:$A, 0), 1), \"View\")","v":{"$error":"#N/A"}}]
[{"$f":"HYPERLINK(\"#'Patient Tracking'!\" & ADDRESS(MATCH($D965, 'Patient Tracking'!$A:$A, 0), 1), \"View\")","v":{"$error":"#N/A"}}]
[{"$f":"HYPERLINK(\"#'Patient Tracking'!\" & ADDRESS(MATCH($D966, 'Patient Tracking'!$A:$A, 0), 1), \"View\")","v":{"$error":"#N/A"}}]
[{"$f":"HYPERLINK(\"#'Patient Tracking'!\" & ADDRESS(MATCH($D967, 'Patient Tracking'!$A:$A, 0), 1), \"View\")","v":{"$error":"#N/A"}}]
[{"$f":"HYPERLINK(\"#'Patient Tracking'!\" & ADDRESS(MATCH($D968, 'Patient Tracking'!$A:$A, 0), 1), \"View\")","v":{"$error":"#N/A"}}]
[{"$f":"HYPERLINK(\"#'Patient Tracking'!\" & ADDRESS(MATCH($D969, 'Patient Tracking'!$A:$A, 0), 1), \"View\")","v":{"$error":"#N/A"}}]
[{"$f":"HYPERLINK(\"#'Patient Tracking'!\" & ADDRESS(MATCH($D970, 'Patient Tracking'!$A:$A, 0), 1), \"View\")","v":{"$error":"#N/A"}}]
[{"$f":"HYPERLINK(\"#'Patient Tracking'!\" & ADDRESS(MATCH($D971, 'Patient Tracking'!$A:$A, 0), 1), \"View\")","v":{"$error":"#N/A"}}]
[{"$f":"HYPERLINK(\"#'Patient Tracking'!\" & ADDRESS(MATCH($D972, 'Patient Tracking'!$A:$A, 0), 1), \"View\")","v":{"$error":"#N/A"}}]
[{"$f":"HYPERLINK(\"#'Patient Tracking'!\" & ADDRESS(MATCH($D973, 'Patient Tracking'!$A:$A, 0), 1), \"View\")","v":{"$error":"#N/A"}}]
[{"$f":"HYPERLINK(\"#'Patient Tracking'!\" & ADDRESS(MATCH($D974, 'Patient Tracking'!$A:$A, 0), 1), \"View\")","v":{"$error":"#N/A"}}]
[{"$f":"HYPERLINK(\"#'Patient Tracking'!\" & ADDRESS(MATCH($D975, 'Patient Tracking'!$A:$A, 0), 1), \"View\")","v":{"$error":"#N/A"}}]
[{"$f":"HYPERLINK(\"#'Patient Tracking'!\" & ADDRESS(MATCH($D976, 'Patient Tracking'!$A:$A, 0), 1), \"View\")","v":{"$error":"#N/A"}}]
[{"$f":"HYPERLINK(\"#'Patient Tracking'!\" & ADDRESS(MATCH($D977, 'Patient Tracking'!$A:$A, 0), 1), \"View\")","v":{"$error":"#N/A"}}]
[{"$f":"HYPERLINK(\"#'Patient Tracking'!\" & ADDRESS(MATCH($D978, 'Patient Tracking'!$A:$A, 0), 1), \"View\")","v":{"$error":"#N/A"}}]
[{"$f":"HYPERLINK(\"#'Patient Tracking'!\" & ADDRESS(MATCH($D979, 'Patient Tracking'!$A:$A, 0), 1), \"View\")","v":{"$error":"#N/A"}}]
[{"$f":"HYPERLINK(\"#'Patient Tracking'!\" & ADDRESS(MATCH($D980, 'Patient Tracking'!$A:$A, 0), 1), \"View\")","v":{"$error":"#N/A"}}]
[{"$f":"HYPERLINK(\"#'Patient Tracking'!\" & ADDRESS(MATCH($D981, 'Patient Tracking'!$A:$A, 0), 1), \"View\")","v":{"$error":"#N/A"}}]
[{"$f":"HYPERLINK(\"#'Patient Tracking'!\" & ADDRESS(MATCH($D982, 'Patient Tracking'!$A:$A, 0), 1), \"View\")","v":{"$error":"#N/A"}}]
[{"$f":"HYPERLINK(\"#'Patient Tracking'!\" & ADDRESS(MATCH($D983, 'Patient Tracking'!$A:$A, 0), 1), \"View\")","v":{"$error":"#N/A"}}]
[{"$f":"HYPERLINK(\"#'Patient Tracking'!\" & ADDRESS(MATCH($D984, 'Patient Tracking'!$A:$A, 0), 1), \"View\")","v":{"$error":"#N/A"}}]
[{"$f":"HYPERLINK(\"#'Patient Tracking'!\" & ADDRESS(MATCH($D985, 'Patient Tracking'!$A:$A, 0), 1), \"View\")","v":{"$error":"#N/A"}}]
[{"$f":"HYPERLINK(\"#'Patient Tracking'!\" & ADDRESS(MATCH($D986, 'Patient Tracking'!$A:$A, 0), 1), \"View\")","v":{"$error":"#N/A"}}]
[{"$f":"HYPERLINK(\"#'Patient Tracking'!\" & ADDRESS(MATCH($D987, 'Patient Tracking'!$A:$A, 0), 1), \"View\")","v":{"$error":"#N/A"}}]
[{"$f":"HYPERLINK(\"#'Patient Tracking'!\" & ADDRESS(MATCH($D988, 'Patient Tracking'!$A:$A, 0), 1), \"View\")","v":{"$error":"#N/A"}}]
[{"$f":"HYPERLINK(\"#'Patient Tracking'!\" & ADDRESS(MATCH($D989, 'Patient Tracking'!$A:$A, 0), 1), \"View\")","v":{"$error":"#N/A"}}]
[{"$f":"HYPERLINK(\"#'Patient Tracking'!\" & ADDRESS(MATCH($D990, 'Patient Tracking'!$A:$A, 0), 1), \"View\")","v":{"$error":"#N/A"}}]
[{"$f":"HYPERLINK(\"#'Patient Tracking'!\" & ADDRESS(MATCH($D991, 'Patient Tracking'!$A:$A, 0), 1), \"View\")","v":{"$error":"#N/A"}}]
[{"$f":"HYPERLINK(\"#'Patient Tracking'!\" & ADDRESS(MATCH($D992, 'Patient Tracking'!$A:$A, 0), 1), \"View\")","v":{"$error":"#N/A"}}]
[{"$f":"HYPERLINK(\"#'Patient Tracking'!\" & ADDRESS(MATCH($D993, 'Patient Tracking'!$A:$A, 0), 1), \"View\")","v":{"$error":"#N/A"}}]
[{"$f":"HYPERLINK(\"#'Patient Tracking'!\" & ADDRESS(MATCH($D994, 'Patient Tracking'!$A:$A, 0), 1), \"View\")","v":{"$error":"#N/A"}}]
[{"$f":"HYPERLINK(\"#'Patient Tracking'!\" & ADDRESS(MATCH($D995, 'Patient Tracking'!$A:$A, 0), 1), \"View\")","v":{"$error":"#N/A"}}]
[{"$f":"HYPERLINK(\"#'Patient Tracking'!\" & ADDRESS(MATCH($D996, 'Patient Tracking'!$A:$A, 0), 1), \"View\")","v":{"$error":"#N/A"}}]
[{"$f":"HYPERLINK(\"#'Patient Tracking'!\" & ADDRESS(MATCH($D997, 'Patient Tracking'!$A:$A, 0), 1), \"View\")","v":{"$error":"#N/A"}}]
[{"$f":"HYPERLINK(\"#'Patient Tracking'!\" & ADDRESS(MATCH($D998, 'Patient Tracking'!$A:$A, 0), 1), \"View\")","v":{"$error":"#N/A"}}]
[{"$f":"HYPERLINK(\"#'Patient Tracking'!\" & ADDRESS(MATCH($D999, 'Patient Tracking'!$A:$A, 0), 1), \"View\")","v":{"$error":"#N/A"}}]
[{"$f":"HYPERLINK(\"#'Patient Tracking'!\" & ADDRESS(MATCH($D1000, 'Patient Tracking'!$A:$A, 0), 1), \"View\")","v":{"$error":"#N/A"}}]
[{"$f":"HYPERLINK(\"#'Patient Tracking'!\" & ADDRESS(MATCH($D1001, 'Patient Tracking'!$A:$A, 0), 1), \"View\")","v":{"$error":"#N/A"}}]
[{"$f":"HYPERLINK(\"#'Patient Tracking'!\" & ADDRESS(MATCH($D1002, 'Patient Tracking'!$A:$A, 0), 1), \"View\")","v":{"$error":"#N/A"}}]
[{"$f":"HYPERLINK(\"#'Patient Tracking'!\" & ADDRESS(MATCH($D1003, 'Patient Tracking'!$A:$A, 0), 1), \"View\")","v":{"$error":"#N/A"}}]
[{"$f":"HYPERLINK(\"#'Patient Tracking'!\" & ADDRESS(MATCH($D1004, 'Patient Tracking'!$A:$A, 0), 1), \"View\")","v":{"$error":"#N/A"}}]
[{"$f":"HYPERLINK(\"#'Patient Tracking'!\" & ADDRESS(MATCH($D1005, 'Patient Tracking'!$A:$A, 0), 1), \"View\")","v":{"$error":"#N/A"}}]
[{"$f":"HYPERLINK(\"#'Patient Tracking'!\" & ADDRESS(MATCH($D1006, 'Patient Tracking'!$A:$A, 0), 1), \"View\")","v":{"$error":"#N/A"}}]
[{"$f":"HYPERLINK(\"#'Patient Tracking'!\" & ADDRESS(MATCH($D1007, 'Patient Tracking'!$A:$A, 0), 1), \"View\")","v":{"$error":"#N/A"}}]
[{"$f":"HYPERLINK(\"#'Patient Tracking'!\" & ADDRESS(MATCH($D1008, 'Patient Tracking'!$A:$A, 0), 1), \"View\")","v":{"$error":"#N/A"}}]
[{"$f":"HYPERLINK(\"#'Patient Tracking'!\" & ADDRESS(MATCH($D1009, 'Patient Tracking'!$A:$A, 0), 1), \"View\")","v":{"$error":"#N/A"}}]
[{"$f":"HYPERLINK(\"#'Patient Tracking'!\" & ADDRESS(MATCH($D1010, 'Patient Tracking'!$A:$A, 0), 1), \"View\")","v":{"$error":"#N/A"}}]
[{"$f":"HYPERLINK(\"#'Patient Tracking'!\" & ADDRESS(MATCH($D1011, 'Patient Tracking'!$A:$A, 0), 1), \"View\")","v":{"$error":"#N/A"}}]
[{"$f":"HYPERLINK(\"#'Patient Tracking'!\" & ADDRESS(MATCH($D1012, 'Patient Tracking'!$A:$A, 0), 1), \"View\")","v":{"$error":"#N/A"}}]
[{"$f":"HYPERLINK(\"#'Patient Tracking'!\" & ADDRESS(MATCH($D1013, 'Patient Tracking'!$A:$A, 0), 1), \"View\")","v":{"$error":"#N/A"}}]
[{"$f":"HYPERLINK(\"#'Patient Tracking'!\" & ADDRESS(MATCH($D1014, 'Patient Tracking'!$A:$A, 0), 1), \"View\")","v":{"$error":"#N/A"}}]
[{"$f":"HYPERLINK(\"#'Patient Tracking'!\" & ADDRESS(MATCH($D1015, 'Patient Tracking'!$A:$A, 0), 1), \"View\")","v":{"$error":"#N/A"}}]
[{"$f":"HYPERLINK(\"#'Patient Tracking'!\" & ADDRESS(MATCH($D1016, 'Patient Tracking'!$A:$A, 0), 1), \"View\")","v":{"$error":"#N/A"}}]
[{"$f":"HYPERLINK(\"#'Patient Tracking'!\" & ADDRESS(MATCH($D1017, 'Patient Tracking'!$A:$A, 0), 1), \"View\")","v":{"$error":"#N/A"}}]
[{"$f":"HYPERLINK(\"#'Patient Tracking'!\" & ADDRESS(MATCH($D1018, 'Patient Tracking'!$A:$A, 0), 1), \"View\")","v":{"$error":"#N/A"}}]
[{"$f":"HYPERLINK(\"#'Patient Tracking'!\" & ADDRESS(MATCH($D1019, 'Patient Tracking'!$A:$A, 0), 1), \"View\")","v":{"$error":"#N/A"}}]
[{"$f":"HYPERLINK(\"#'Patient Tracking'!\" & ADDRESS(MATCH($D1020, 'Patient Tracking'!$A:$A, 0), 1), \"View\")","v":{"$error":"#N/A"}}]
[{"$f":"HYPERLINK(\"#'Patient Tracking'!\" & ADDRESS(MATCH($D1021, 'Patient Tracking'!$A:$A, 0), 1), \"View\")","v":{"$error":"#N/A"}}]
[{"$f":"HYPERLINK(\"#'Patient Tracking'!\" & ADDRESS(MATCH($D1022, 'Patient Tracking'!$A:$A, 0), 1), \"View\")","v":{"$error":"#N/A"}}]
[{"$f":"HYPERLINK(\"#'Patient Tracking'!\" & ADDRESS(MATCH($D1023, 'Patient Tracking'!$A:$A, 0), 1), \"View\")","v":{"$error":"#N/A"}}]
[{"$f":"HYPERLINK(\"#'Patient Tracking'!\" & ADDRESS(MATCH($D1024, 'Patient Tracking'!$A:$A, 0), 1), \"View\")","v":{"$error":"#N/A"}}]
[{"$f":"HYPERLINK(\"#'Patient Tracking'!\" & ADDRESS(MATCH($D1025, 'Patient Tracking'!$A:$A, 0), 1), \"View\")","v":{"$error":"#N/A"}}]
[{"$f":"HYPERLINK(\"#'Patient Tracking'!\" & ADDRESS(MATCH($D1026, 'Patient Tracking'!$A:$A, 0), 1), \"View\")","v":{"$error":"#N/A"}}]
[{"$f":"HYPERLINK(\"#'Patient Tracking'!\" & ADDRESS(MATCH($D1027, 'Patient Tracking'!$A:$A, 0), 1), \"View\")","v":{"$error":"#N/A"}}]
[{"$f":"HYPERLINK(\"#'Patient Tracking'!\" & ADDRESS(MATCH($D1028, 'Patient Tracking'!$A:$A, 0), 1), \"View\")","v":{"$error":"#N/A"}}]
[{"$f":"HYPERLINK(\"#'Patient Tracking'!\" & ADDRESS(MATCH($D1029, 'Patient Tracking'!$A:$A, 0), 1), \"View\")","v":{"$error":"#N/A"}}]
[{"$f":"HYPERLINK(\"#'Patient Tracking'!\" & ADDRESS(MATCH($D1030, 'Patient Tracking'!$A:$A, 0), 1), \"View\")","v":{"$error":"#N/A"}}]
[{"$f":"HYPERLINK(\"#'Patient Tracking'!\" & ADDRESS(MATCH($D1031, 'Patient Tracking'!$A:$A, 0), 1), \"View\")","v":{"$error":"#N/A"}}]
[{"$f":"HYPERLINK(\"#'Patient Tracking'!\" & ADDRESS(MATCH($D1032, 'Patient Tracking'!$A:$A, 0), 1), \"View\")","v":{"$error":"#N/A"}}]
[{"$f":"HYPERLINK(\"#'Patient Tracking'!\" & ADDRESS(MATCH($D1033, 'Patient Tracking'!$A:$A, 0), 1), \"View\")","v":{"$error":"#N/A"}}]
[{"$f":"HYPERLINK(\"#'Patient Tracking'!\" & ADDRESS(MATCH($D1034, 'Patient Tracking'!$A:$A, 0), 1), \"View\")","v":{"$error":"#N/A"}}]
[{"$f":"HYPERLINK(\"#'Patient Tracking'!\" & ADDRESS(MATCH($D1035, 'Patient Tracking'!$A:$A, 0), 1), \"View\")","v":{"$error":"#N/A"}}]
[{"$f":"HYPERLINK(\"#'Patient Tracking'!\" & ADDRESS(MATCH($D1036, 'Patient Tracking'!$A:$A, 0), 1), \"View\")","v":{"$error":"#N/A"}}]
[{"$f":"HYPERLINK(\"#'Patient Tracking'!\" & ADDRESS(MATCH($D1037, 'Patient Tracking'!$A:$A, 0), 1), \"View\")","v":{"$error":"#N/A"}}]
[{"$f":"HYPERLINK(\"#'Patient Tracking'!\" & ADDRESS(MATCH($D1038, 'Patient Tracking'!$A:$A, 0), 1), \"View\")","v":{"$error":"#N/A"}}]
[{"$f":"HYPERLINK(\"#'Patient Tracking'!\" & ADDRESS(MATCH($D1039, 'Patient Tracking'!$A:$A, 0), 1), \"View\")","v":{"$error":"#N/A"}}]
[{"$f":"HYPERLINK(\"#'Patient Tracking'!\" & ADDRESS(MATCH($D1040, 'Patient Tracking'!$A:$A, 0), 1), \"View\")","v":{"$error":"#N/A"}}]
[{"$f":"HYPERLINK(\"#'Patient Tracking'!\" & ADDRESS(MATCH($D1041, 'Patient Tracking'!$A:$A, 0), 1), \"View\")","v":{"$error":"#N/A"}}]
[{"$f":"HYPERLINK(\"#'Patient Tracking'!\" & ADDRESS(MATCH($D1042, 'Patient Tracking'!$A:$A, 0), 1), \"View\")","v":{"$error":"#N/A"}}]
[{"$f":"HYPERLINK(\"#'Patient Tracking'!\" & ADDRESS(MATCH($D1043, 'Patient Tracking'!$A:$A, 0), 1), \"View\")","v":{"$error":"#N/A"}}]
[{"$f":"HYPERLINK(\"#'Patient Tracking'!\" & ADDRESS(MATCH($D1044, 'Patient Tracking'!$A:$A, 0), 1), \"View\")","v":{"$error":"#N/A"}}]
[{"$f":"HYPERLINK(\"#'Patient Tracking'!\" & ADDRESS(MATCH($D1045, 'Patient Tracking'!$A:$A, 0), 1), \"View\")","v":{"$error":"#N/A"}}]
[{"$f":"HYPERLINK(\"#'Patient Tracking'!\" & ADDRESS(MATCH($D1046, 'Patient Tracking'!$A:$A, 0), 1), \"View\")","v":{"$error":"#N/A"}}]
[{"$f":"HYPERLINK(\"#'Patient Tracking'!\" & ADDRESS(MATCH($D1047, 'Patient Tracking'!$A:$A, 0), 1), \"View\")","v":{"$error":"#N/A"}}]
[{"$f":"HYPERLINK(\"#'Patient Tracking'!\" & ADDRESS(MATCH($D1048, 'Patient Tracking'!$A:$A, 0), 1), \"View\")","v":{"$error":"#N/A"}}]
[{"$f":"HYPERLINK(\"#'Patient Tracking'!\" & ADDRESS(MATCH($D1049, 'Patient Tracking'!$A:$A, 0), 1), \"View\")","v":{"$error":"#N/A"}}]
[{"$f":"HYPERLINK(\"#'Patient Tracking'!\" & ADDRESS(MATCH($D1050, 'Patient Tracking'!$A:$A, 0), 1), \"View\")","v":{"$error":"#N/A"}}]
[{"$f":"HYPERLINK(\"#'Patient Tracking'!\" & ADDRESS(MATCH($D1051, 'Patient Tracking'!$A:$A, 0), 1), \"View\")","v":{"$error":"#N/A"}}]
[{"$f":"HYPERLINK(\"#'Patient Tracking'!\" & ADDRESS(MATCH($D1052, 'Patient Tracking'!$A:$A, 0), 1), \"View\")","v":{"$error":"#N/A"}}]
[{"$f":"HYPERLINK(\"#'Patient Tracking'!\" & ADDRESS(MATCH($D1053, 'Patient Tracking'!$A:$A, 0), 1), \"View\")","v":{"$error":"#N/A"}}]
[{"$f":"HYPERLINK(\"#'Patient Tracking'!\" & ADDRESS(MATCH($D1054, 'Patient Tracking'!$A:$A, 0), 1), \"View\")","v":{"$error":"#N/A"}}]
[{"$f":"HYPERLINK(\"#'Patient Tracking'!\" & ADDRESS(MATCH($D1055, 'Patient Tracking'!$A:$A, 0), 1), \"View\")","v":{"$error":"#N/A"}}]
[{"$f":"HYPERLINK(\"#'Patient Tracking'!\" & ADDRESS(MATCH($D1056, 'Patient Tracking'!$A:$A, 0), 1), \"View\")","v":{"$error":"#N/A"}}]
[{"$f":"HYPERLINK(\"#'Patient Tracking'!\" & ADDRESS(MATCH($D1057, 'Patient Tracking'!$A:$A, 0), 1), \"View\")","v":{"$error":"#N/A"}}]
[{"$f":"HYPERLINK(\"#'Patient Tracking'!\" & ADDRESS(MATCH($D1058, 'Patient Tracking'!$A:$A, 0), 1), \"View\")","v":{"$error":"#N/A"}}]
[{"$f":"HYPERLINK(\"#'Patient Tracking'!\" & ADDRESS(MATCH($D1059, 'Patient Tracking'!$A:$A, 0), 1), \"View\")","v":{"$error":"#N/A"}}]
[{"$f":"HYPERLINK(\"#'Patient Tracking'!\" & ADDRESS(MATCH($D1060, 'Patient Tracking'!$A:$A, 0), 1), \"View\")","v":{"$error":"#N/A"}}]
[{"$f":"HYPERLINK(\"#'Patient Tracking'!\" & ADDRESS(MATCH($D1061, 'Patient Tracking'!$A:$A, 0), 1), \"View\")","v":{"$error":"#N/A"}}]
[{"$f":"HYPERLINK(\"#'Patient Tracking'!\" & ADDRESS(MATCH($D1062, 'Patient Tracking'!$A:$A, 0), 1), \"View\")","v":{"$error":"#N/A"}}]
[{"$f":"HYPERLINK(\"#'Patient Tracking'!\" & ADDRESS(MATCH($D1063, 'Patient Tracking'!$A:$A, 0), 1), \"View\")","v":{"$error":"#N/A"}}]
[{"$f":"HYPERLINK(\"#'Patient Tracking'!\" & ADDRESS(MATCH($D1064, 'Patient Tracking'!$A:$A, 0), 1), \"View\")","v":{"$error":"#N/A"}}]
[{"$f":"HYPERLINK(\"#'Patient Tracking'!\" & ADDRESS(MATCH($D1065, 'Patient Tracking'!$A:$A, 0), 1), \"View\")","v":{"$error":"#N/A"}}]
[{"$f":"HYPERLINK(\"#'Patient Tracking'!\" & ADDRESS(MATCH($D1066, 'Patient Tracking'!$A:$A, 0), 1), \"View\")","v":{"$error":"#N/A"}}]
[{"$f":"HYPERLINK(\"#'Patient Tracking'!\" & ADDRESS(MATCH($D1067, 'Patient Tracking'!$A:$A, 0), 1), \"View\")","v":{"$error":"#N/A"}}]
[{"$f":"HYPERLINK(\"#'Patient Tracking'!\" & ADDRESS(MATCH($D1068, 'Patient Tracking'!$A:$A, 0), 1), \"View\")","v":{"$error":"#N/A"}}]
[{"$f":"HYPERLINK(\"#'Patient Tracking'!\" & ADDRESS(MATCH($D1069, 'Patient Tracking'!$A:$A, 0), 1), \"View\")","v":{"$error":"#N/A"}}]
[{"$f":"HYPERLINK(\"#'Patient Tracking'!\" & ADDRESS(MATCH($D1070, 'Patient Tracking'!$A:$A, 0), 1), \"View\")","v":{"$error":"#N/A"}}]
[{"$f":"HYPERLINK(\"#'Patient Tracking'!\" & ADDRESS(MATCH($D1071, 'Patient Tracking'!$A:$A, 0), 1), \"View\")","v":{"$error":"#N/A"}}]
[{"$f":"HYPERLINK(\"#'Patient Tracking'!\" & ADDRESS(MATCH($D1072, 'Patient Tracking'!$A:$A, 0), 1), \"View\")","v":{"$error":"#N/A"}}]
[{"$f":"HYPERLINK(\"#'Patient Tracking'!\" & ADDRESS(MATCH($D1073, 'Patient Tracking'!$A:$A, 0), 1), \"View\")","v":{"$error":"#N/A"}}]
[{"$f":"HYPERLINK(\"#'Patient Tracking'!\" & ADDRESS(MATCH($D1074, 'Patient Tracking'!$A:$A, 0), 1), \"View\")","v":{"$error":"#N/A"}}]
[{"$f":"HYPERLINK(\"#'Patient Tracking'!\" & ADDRESS(MATCH($D1075, 'Patient Tracking'!$A:$A, 0), 1), \"View\")","v":{"$error":"#N/A"}}]
[{"$f":"HYPERLINK(\"#'Patient Tracking'!\" & ADDRESS(MATCH($D1076, 'Patient Tracking'!$A:$A, 0), 1), \"View\")","v":{"$error":"#N/A"}}]
[{"$f":"HYPERLINK(\"#'Patient Tracking'!\" & ADDRESS(MATCH($D1077, 'Patient Tracking'!$A:$A, 0), 1), \"View\")","v":{"$error":"#N/A"}}]
[{"$f":"HYPERLINK(\"#'Patient Tracking'!\" & ADDRESS(MATCH($D1078, 'Patient Tracking'!$A:$A, 0), 1), \"View\")","v":{"$error":"#N/A"}}]
[{"$f":"HYPERLINK(\"#'Patient Tracking'!\" & ADDRESS(MATCH($D1079, 'Patient Tracking'!$A:$A, 0), 1), \"View\")","v":{"$error":"#N/A"}}]
[{"$f":"HYPERLINK(\"#'Patient Tracking'!\" & ADDRESS(MATCH($D1080, 'Patient Tracking'!$A:$A, 0), 1), \"View\")","v":{"$error":"#N/A"}}]
[{"$f":"HYPERLINK(\"#'Patient Tracking'!\" & ADDRESS(MATCH($D1081, 'Patient Tracking'!$A:$A, 0), 1), \"View\")","v":{"$error":"#N/A"}}]
[{"$f":"HYPERLINK(\"#'Patient Tracking'!\" & ADDRESS(MATCH($D1082, 'Patient Tracking'!$A:$A, 0), 1), \"View\")","v":{"$error":"#N/A"}}]
[{"$f":"HYPERLINK(\"#'Patient Tracking'!\" & ADDRESS(MATCH($D1083, 'Patient Tracking'!$A:$A, 0), 1), \"View\")","v":{"$error":"#N/A"}}]
[{"$f":"HYPERLINK(\"#'Patient Tracking'!\" & ADDRESS(MATCH($D1084, 'Patient Tracking'!$A:$A, 0), 1), \"View\")","v":{"$error":"#N/A"}}]
[{"$f":"HYPERLINK(\"#'Patient Tracking'!\" & ADDRESS(MATCH($D1085, 'Patient Tracking'!$A:$A, 0), 1), \"View\")","v":{"$error":"#N/A"}}]
[{"$f":"HYPERLINK(\"#'Patient Tracking'!\" & ADDRESS(MATCH($D1086, 'Patient Tracking'!$A:$A, 0), 1), \"View\")","v":{"$error":"#N/A"}}]
[{"$f":"HYPERLINK(\"#'Patient Tracking'!\" & ADDRESS(MATCH($D1087, 'Patient Tracking'!$A:$A, 0), 1), \"View\")","v":{"$error":"#N/A"}}]
[{"$f":"HYPERLINK(\"#'Patient Tracking'!\" & ADDRESS(MATCH($D1088, 'Patient Tracking'!$A:$A, 0), 1), \"View\")","v":{"$error":"#N/A"}}]
[{"$f":"HYPERLINK(\"#'Patient Tracking'!\" & ADDRESS(MATCH($D1089, 'Patient Tracking'!$A:$A, 0), 1), \"View\")","v":{"$error":"#N/A"}}]
[{"$f":"HYPERLINK(\"#'Patient Tracking'!\" & ADDRESS(MATCH($D1090, 'Patient Tracking'!$A:$A, 0), 1), \"View\")","v":{"$error":"#N/A"}}]
[{"$f":"HYPERLINK(\"#'Patient Tracking'!\" & ADDRESS(MATCH($D1091, 'Patient Tracking'!$A:$A, 0), 1), \"View\")","v":{"$error":"#N/A"}}]
[{"$f":"HYPERLINK(\"#'Patient Tracking'!\" & ADDRESS(MATCH($D1092, 'Patient Tracking'!$A:$A, 0), 1), \"View\")","v":{"$error":"#N/A"}}]
[{"$f":"HYPERLINK(\"#'Patient Tracking'!\" & ADDRESS(MATCH($D1093, 'Patient Tracking'!$A:$A, 0), 1), \"View\")","v":{"$error":"#N/A"}}]
[{"$f":"HYPERLINK(\"#'Patient Tracking'!\" & ADDRESS(MATCH($D1094, 'Patient Tracking'!$A:$A, 0), 1), \"View\")","v":{"$error":"#N/A"}}]
[{"$f":"HYPERLINK(\"#'Patient Tracking'!\" & ADDRESS(MATCH($D1095, 'Patient Tracking'!$A:$A, 0), 1), \"View\")","v":{"$error":"#N/A"}}]
[{"$f":"HYPERLINK(\"#'Patient Tracking'!\" & ADDRESS(MATCH($D1096, 'Patient Tracking'!$A:$A, 0), 1), \"View\")","v":{"$error":"#N/A"}}]
[{"$f":"HYPERLINK(\"#'Patient Tracking'!\" & ADDRESS(MATCH($D1097, 'Patient Tracking'!$A:$A, 0), 1), \"View\")","v":{"$error":"#N/A"}}]
[{"$f":"HYPERLINK(\"#'Patient Tracking'!\" & ADDRESS(MATCH($D1098, 'Patient Tracking'!$A:$A, 0), 1), \"View\")","v":{"$error":"#N/A"}}]
[{"$f":"HYPERLINK(\"#'Patient Tracking'!\" & ADDRESS(MATCH($D1099, 'Patient Tracking'!$A:$A, 0), 1), \"View\")","v":{"$error":"#N/A"}}]
[{"$f":"HYPERLINK(\"#'Patient Tracking'!\" & ADDRESS(MATCH($D1100, 'Patient Tracking'!$A:$A, 0), 1), \"View\")","v":{"$error":"#N/A"}}]
[{"$f":"HYPERLINK(\"#'Patient Tracking'!\" & ADDRESS(MATCH($D1101, 'Patient Tracking'!$A:$A, 0), 1), \"View\")","v":{"$error":"#N/A"}}]
[{"$f":"HYPERLINK(\"#'Patient Tracking'!\" & ADDRESS(MATCH($D1102, 'Patient Tracking'!$A:$A, 0), 1), \"View\")","v":{"$error":"#N/A"}}]
[{"$f":"HYPERLINK(\"#'Patient Tracking'!\" & ADDRESS(MATCH($D1103, 'Patient Tracking'!$A:$A, 0), 1), \"View\")","v":{"$error":"#N/A"}}]
[{"$f":"HYPERLINK(\"#'Patient Tracking'!\" & ADDRESS(MATCH($D1104, 'Patient Tracking'!$A:$A, 0), 1), \"View\")","v":{"$error":"#N/A"}}]
[{"$f":"HYPERLINK(\"#'Patient Tracking'!\" & ADDRESS(MATCH($D1105, 'Patient Tracking'!$A:$A, 0), 1), \"View\")","v":{"$error":"#N/A"}}]
[{"$f":"HYPERLINK(\"#'Patient Tracking'!\" & ADDRESS(MATCH($D1106, 'Patient Tracking'!$A:$A, 0), 1), \"View\")","v":{"$error":"#N/A"}}]
[{"$f":"HYPERLINK(\"#'Patient Tracking'!\" & ADDRESS(MATCH($D1107, 'Patient Tracking'!$A:$A, 0), 1), \"View\")","v":{"$error":"#N/A"}}]
[{"$f":"HYPERLINK(\"#'Patient Tracking'!\" & ADDRESS(MATCH($D1108, 'Patient Tracking'!$A:$A, 0), 1), \"View\")","v":{"$error":"#N/A"}}]
[{"$f":"HYPERLINK(\"#'Patient Tracking'!\" & ADDRESS(MATCH($D1109, 'Patient Tracking'!$A:$A, 0), 1), \"View\")","v":{"$error":"#N/A"}}]
[{"$f":"HYPERLINK(\"#'Patient Tracking'!\" & ADDRESS(MATCH($D1110, 'Patient Tracking'!$A:$A, 0), 1), \"View\")","v":{"$error":"#N/A"}}]
[{"$f":"HYPERLINK(\"#'Patient Tracking'!\" & ADDRESS(MATCH($D1111, 'Patient Tracking'!$A:$A, 0), 1), \"View\")","v":{"$error":"#N/A"}}]
[{"$f":"HYPERLINK(\"#'Patient Tracking'!\" & ADDRESS(MATCH($D1112, 'Patient Tracking'!$A:$A, 0), 1), \"View\")","v":{"$error":"#N/A"}}]
[{"$f":"HYPERLINK(\"#'Patient Tracking'!\" & ADDRESS(MATCH($D1113, 'Patient Tracking'!$A:$A, 0), 1), \"View\")","v":{"$error":"#N/A"}}]
[{"$f":"HYPERLINK(\"#'Patient Tracking'!\" & ADDRESS(MATCH($D1114, 'Patient Tracking'!$A:$A, 0), 1), \"View\")","v":{"$error":"#N/A"}}]
[{"$f":"HYPERLINK(\"#'Patient Tracking'!\" & ADDRESS(MATCH($D1115, 'Patient Tracking'!$A:$A, 0), 1), \"View\")","v":{"$error":"#N/A"}}]
[{"$f":"HYPERLINK(\"#'Patient Tracking'!\" & ADDRESS(MATCH($D1116, 'Patient Tracking'!$A:$A, 0), 1), \"View\")","v":{"$error":"#N/A"}}]
[{"$f":"HYPERLINK(\"#'Patient Tracking'!\" & ADDRESS(MATCH($D1117, 'Patient Tracking'!$A:$A, 0), 1), \"View\")","v":{"$error":"#N/A"}}]
[{"$f":"HYPERLINK(\"#'Patient Tracking'!\" & ADDRESS(MATCH($D1118, 'Patient Tracking'!$A:$A, 0), 1), \"View\")","v":{"$error":"#N/A"}}]
[{"$f":"HYPERLINK(\"#'Patient Tracking'!\" & ADDRESS(MATCH($D1119, 'Patient Tracking'!$A:$A, 0), 1), \"View\")","v":{"$error":"#N/A"}}]
[{"$f":"HYPERLINK(\"#'Patient Tracking'!\" & ADDRESS(MATCH($D1120, 'Patient Tracking'!$A:$A, 0), 1), \"View\")","v":{"$error":"#N/A"}}]
[{"$f":"HYPERLINK(\"#'Patient Tracking'!\" & ADDRESS(MATCH($D1121, 'Patient Tracking'!$A:$A, 0), 1), \"View\")","v":{"$error":"#N/A"}}]
[{"$f":"HYPERLINK(\"#'Patient Tracking'!\" & ADDRESS(MATCH($D1122, 'Patient Tracking'!$A:$A, 0), 1), \"View\")","v":{"$error":"#N/A"}}]
[{"$f":"HYPERLINK(\"#'Patient Tracking'!\" & ADDRESS(MATCH($D1123, 'Patient Tracking'!$A:$A, 0), 1), \"View\")","v":{"$error":"#N/A"}}]
[{"$f":"HYPERLINK(\"#'Patient Tracking'!\" & ADDRESS(MATCH($D1124, 'Patient Tracking'!$A:$A, 0), 1), \"View\")","v":{"$error":"#N/A"}}]
[{"$f":"HYPERLINK(\"#'Patient Tracking'!\" & ADDRESS(MATCH($D1125, 'Patient Tracking'!$A:$A, 0), 1), \"View\")","v":{"$error":"#N/A"}}]
[{"$f":"HYPERLINK(\"#'Patient Tracking'!\" & ADDRESS(MATCH($D1126, 'Patient Tracking'!$A:$A, 0), 1), \"View\")","v":{"$error":"#N/A"}}]
[{"$f":"HYPERLINK(\"#'Patient Tracking'!\" & ADDRESS(MATCH($D1127, 'Patient Tracking'!$A:$A, 0), 1), \"View\")","v":{"$error":"#N/A"}}]
[{"$f":"HYPERLINK(\"#'Patient Tracking'!\" & ADDRESS(MATCH($D1128, 'Patient Tracking'!$A:$A, 0), 1), \"View\")","v":{"$error":"#N/A"}}]
[{"$f":"HYPERLINK(\"#'Patient Tracking'!\" & ADDRESS(MATCH($D1129, 'Patient Tracking'!$A:$A, 0), 1), \"View\")","v":{"$error":"#N/A"}}]
[{"$f":"HYPERLINK(\"#'Patient Tracking'!\" & ADDRESS(MATCH($D1130, 'Patient Tracking'!$A:$A, 0), 1), \"View\")","v":{"$error":"#N/A"}}]
[{"$f":"HYPERLINK(\"#'Patient Tracking'!\" & ADDRESS(MATCH($D1131, 'Patient Tracking'!$A:$A, 0), 1), \"View\")","v":{"$error":"#N/A"}}]
[{"$f":"HYPERLINK(\"#'Patient Tracking'!\" & ADDRESS(MATCH($D1132, 'Patient Tracking'!$A:$A, 0), 1), \"View\")","v":{"$error":"#N/A"}}]
[{"$f":"HYPERLINK(\"#'Patient Tracking'!\" & ADDRESS(MATCH($D1133, 'Patient Tracking'!$A:$A, 0), 1), \"View\")","v":{"$error":"#N/A"}}]
[{"$f":"HYPERLINK(\"#'Patient Tracking'!\" & ADDRESS(MATCH($D1134, 'Patient Tracking'!$A:$A, 0), 1), \"View\")","v":{"$error":"#N/A"}}]
[{"$f":"HYPERLINK(\"#'Patient Tracking'!\" & ADDRESS(MATCH($D1135, 'Patient Tracking'!$A:$A, 0), 1), \"View\")","v":{"$error":"#N/A"}}]
[{"$f":"HYPERLINK(\"#'Patient Tracking'!\" & ADDRESS(MATCH($D1136, 'Patient Tracking'!$A:$A, 0), 1), \"View\")","v":{"$error":"#N/A"}}]
[{"$f":"HYPERLINK(\"#'Patient Tracking'!\" & ADDRESS(MATCH($D1137, 'Patient Tracking'!$A:$A, 0), 1), \"View\")","v":{"$error":"#N/A"}}]
[{"$f":"HYPERLINK(\"#'Patient Tracking'!\" & ADDRESS(MATCH($D1138, 'Patient Tracking'!$A:$A, 0), 1), \"View\")","v":{"$error":"#N/A"}}]
[{"$f":"HYPERLINK(\"#'Patient Tracking'!\" & ADDRESS(MATCH($D1139, 'Patient Tracking'!$A:$A, 0), 1), \"View\")","v":{"$error":"#N/A"}}]
[{"$f":"HYPERLINK(\"#'Patient Tracking'!\" & ADDRESS(MATCH($D1140, 'Patient Tracking'!$A:$A, 0), 1), \"View\")","v":{"$error":"#N/A"}}]
[{"$f":"HYPERLINK(\"#'Patient Tracking'!\" & ADDRESS(MATCH($D1141, 'Patient Tracking'!$A:$A, 0), 1), \"View\")","v":{"$error":"#N/A"}}]
[{"$f":"HYPERLINK(\"#'Patient Tracking'!\" & ADDRESS(MATCH($D1142, 'Patient Tracking'!$A:$A, 0), 1), \"View\")","v":{"$error":"#N/A"}}]
[{"$f":"HYPERLINK(\"#'Patient Tracking'!\" & ADDRESS(MATCH($D1143, 'Patient Tracking'!$A:$A, 0), 1), \"View\")","v":{"$error":"#N/A"}}]
[{"$f":"HYPERLINK(\"#'Patient Tracking'!\" & ADDRESS(MATCH($D1144, 'Patient Tracking'!$A:$A, 0), 1), \"View\")","v":{"$error":"#N/A"}}]
[{"$f":"HYPERLINK(\"#'Patient Tracking'!\" & ADDRESS(MATCH($D1145, 'Patient Tracking'!$A:$A, 0), 1), \"View\")","v":{"$error":"#N/A"}}]
[{"$f":"HYPERLINK(\"#'Patient Tracking'!\" & ADDRESS(MATCH($D1146, 'Patient Tracking'!$A:$A, 0), 1), \"View\")","v":{"$error":"#N/A"}}]
[{"$f":"HYPERLINK(\"#'Patient Tracking'!\" & ADDRESS(MATCH($D1147, 'Patient Tracking'!$A:$A, 0), 1), \"View\")","v":{"$error":"#N/A"}}]
[{"$f":"HYPERLINK(\"#'Patient Tracking'!\" & ADDRESS(MATCH($D1148, 'Patient Tracking'!$A:$A, 0), 1), \"View\")","v":{"$error":"#N/A"}}]
[{"$f":"HYPERLINK(\"#'Patient Tracking'!\" & ADDRESS(MATCH($D1149, 'Patient Tracking'!$A:$A, 0), 1), \"View\")","v":{"$error":"#N/A"}}]
[{"$f":"HYPERLINK(\"#'Patient Tracking'!\" & ADDRESS(MATCH($D1150, 'Patient Tracking'!$A:$A, 0), 1), \"View\")","v":{"$error":"#N/A"}}]
[{"$f":"HYPERLINK(\"#'Patient Tracking'!\" & ADDRESS(MATCH($D1151, 'Patient Tracking'!$A:$A, 0), 1), \"View\")","v":{"$error":"#N/A"}}]
[{"$f":"HYPERLINK(\"#'Patient Tracking'!\" & ADDRESS(MATCH($D1152, 'Patient Tracking'!$A:$A, 0), 1), \"View\")","v":{"$error":"#N/A"}}]
[{"$f":"HYPERLINK(\"#'Patient Tracking'!\" & ADDRESS(MATCH($D1153, 'Patient Tracking'!$A:$A, 0), 1), \"View\")","v":{"$error":"#N/A"}}]
[{"$f":"HYPERLINK(\"#'Patient Tracking'!\" & ADDRESS(MATCH($D1154, 'Patient Tracking'!$A:$A, 0), 1), \"View\")","v":{"$error":"#N/A"}}]
[{"$f":"HYPERLINK(\"#'Patient Tracking'!\" & ADDRESS(MATCH($D1155, 'Patient Tracking'!$A:$A, 0), 1), \"View\")","v":{"$error":"#N/A"}}]
[{"$f":"HYPERLINK(\"#'Patient Tracking'!\" & ADDRESS(MATCH($D1156, 'Patient Tracking'!$A:$A, 0), 1), \"View\")","v":{"$error":"#N/A"}}]
[{"$f":"HYPERLINK(\"#'Patient Tracking'!\" & ADDRESS(MATCH($D1157, 'Patient Tracking'!$A:$A, 0), 1), \"View\")","v":{"$error":"#N/A"}}]
[{"$f":"HYPERLINK(\"#'Patient Tracking'!\" & ADDRESS(MATCH($D1158, 'Patient Tracking'!$A:$A, 0), 1), \"View\")","v":{"$error":"#N/A"}}]
[{"$f":"HYPERLINK(\"#'Patient Tracking'!\" & ADDRESS(MATCH($D1159, 'Patient Tracking'!$A:$A, 0), 1), \"View\")","v":{"$error":"#N/A"}}]
[{"$f":"HYPERLINK(\"#'Patient Tracking'!\" & ADDRESS(MATCH($D1160, 'Patient Tracking'!$A:$A, 0), 1), \"View\")","v":{"$error":"#N/A"}}]
[{"$f":"HYPERLINK(\"#'Patient Tracking'!\" & ADDRESS(MATCH($D1161, 'Patient Tracking'!$A:$A, 0), 1), \"View\")","v":{"$error":"#N/A"}}]
[{"$f":"HYPERLINK(\"#'Patient Tracking'!\" & ADDRESS(MATCH($D1162, 'Patient Tracking'!$A:$A, 0), 1), \"View\")","v":{"$error":"#N/A"}}]
[{"$f":"HYPERLINK(\"#'Patient Tracking'!\" & ADDRESS(MATCH($D1163, 'Patient Tracking'!$A:$A, 0), 1), \"View\")","v":{"$error":"#N/A"}}]
[{"$f":"HYPERLINK(\"#'Patient Tracking'!\" & ADDRESS(MATCH($D1164, 'Patient Tracking'!$A:$A, 0), 1), \"View\")","v":{"$error":"#N/A"}}]
[{"$f":"HYPERLINK(\"#'Patient Tracking'!\" & ADDRESS(MATCH($D1165, 'Patient Tracking'!$A:$A, 0), 1), \"View\")","v":{"$error":"#N/A"}}]
[{"$f":"HYPERLINK(\"#'Patient Tracking'!\" & ADDRESS(MATCH($D1166, 'Patient Tracking'!$A:$A, 0), 1), \"View\")","v":{"$error":"#N/A"}}]
[{"$f":"HYPERLINK(\"#'Patient Tracking'!\" & ADDRESS(MATCH($D1167, 'Patient Tracking'!$A:$A, 0), 1), \"View\")","v":{"$error":"#N/A"}}]
[{"$f":"HYPERLINK(\"#'Patient Tracking'!\" & ADDRESS(MATCH($D1168, 'Patient Tracking'!$A:$A, 0), 1), \"View\")","v":{"$error":"#N/A"}}]
[{"$f":"HYPERLINK(\"#'Patient Tracking'!\" & ADDRESS(MATCH($D1169, 'Patient Tracking'!$A:$A, 0), 1), \"View\")","v":{"$error":"#N/A"}}]
[{"$f":"HYPERLINK(\"#'Patient Tracking'!\" & ADDRESS(MATCH($D1170, 'Patient Tracking'!$A:$A, 0), 1), \"View\")","v":{"$error":"#N/A"}}]
[{"$f":"HYPERLINK(\"#'Patient Tracking'!\" & ADDRESS(MATCH($D1171, 'Patient Tracking'!$A:$A, 0), 1), \"View\")","v":{"$error":"#N/A"}}]
[{"$f":"HYPERLINK(\"#'Patient Tracking'!\" & ADDRESS(MATCH($D1172, 'Patient Tracking'!$A:$A, 0), 1), \"View\")","v":{"$error":"#N/A"}}]
[{"$f":"HYPERLINK(\"#'Patient Tracking'!\" & ADDRESS(MATCH($D1173, 'Patient Tracking'!$A:$A, 0), 1), \"View\")","v":{"$error":"#N/A"}}]
[{"$f":"HYPERLINK(\"#'Patient Tracking'!\" & ADDRESS(MATCH($D1174, 'Patient Tracking'!$A:$A, 0), 1), \"View\")","v":{"$error":"#N/A"}}]
[{"$f":"HYPERLINK(\"#'Patient Tracking'!\" & ADDRESS(MATCH($D1175, 'Patient Tracking'!$A:$A, 0), 1), \"View\")","v":{"$error":"#N/A"}}]
[{"$f":"HYPERLINK(\"#'Patient Tracking'!\" & ADDRESS(MATCH($D1176, 'Patient Tracking'!$A:$A, 0), 1), \"View\")","v":{"$error":"#N/A"}}]
[{"$f":"HYPERLINK(\"#'Patient Tracking'!\" & ADDRESS(MATCH($D1177, 'Patient Tracking'!$A:$A, 0), 1), \"View\")","v":{"$error":"#N/A"}}]
[{"$f":"HYPERLINK(\"#'Patient Tracking'!\" & ADDRESS(MATCH($D1178, 'Patient Tracking'!$A:$A, 0), 1), \"View\")","v":{"$error":"#N/A"}}]
[{"$f":"HYPERLINK(\"#'Patient Tracking'!\" & ADDRESS(MATCH($D1179, 'Patient Tracking'!$A:$A, 0), 1), \"View\")","v":{"$error":"#N/A"}}]
[{"$f":"HYPERLINK(\"#'Patient Tracking'!\" & ADDRESS(MATCH($D1180, 'Patient Tracking'!$A:$A, 0), 1), \"View\")","v":{"$error":"#N/A"}}]
[{"$f":"HYPERLINK(\"#'Patient Tracking'!\" & ADDRESS(MATCH($D1181, 'Patient Tracking'!$A:$A, 0), 1), \"View\")","v":{"$error":"#N/A"}}]
[{"$f":"HYPERLINK(\"#'Patient Tracking'!\" & ADDRESS(MATCH($D1182, 'Patient Tracking'!$A:$A, 0), 1), \"View\")","v":{"$error":"#N/A"}}]
[{"$f":"HYPERLINK(\"#'Patient Tracking'!\" & ADDRESS(MATCH($D1183, 'Patient Tracking'!$A:$A, 0), 1), \"View\")","v":{"$error":"#N/A"}}]
[{"$f":"HYPERLINK(\"#'Patient Tracking'!\" & ADDRESS(MATCH($D1184, 'Patient Tracking'!$A:$A, 0), 1), \"View\")","v":{"$error":"#N/A"}}]
[{"$f":"HYPERLINK(\"#'Patient Tracking'!\" & ADDRESS(MATCH($D1185, 'Patient Tracking'!$A:$A, 0), 1), \"View\")","v":{"$error":"#N/A"}}]
[{"$f":"HYPERLINK(\"#'Patient Tracking'!\" & ADDRESS(MATCH($D1186, 'Patient Tracking'!$A:$A, 0), 1), \"View\")","v":{"$error":"#N/A"}}]
[{"$f":"HYPERLINK(\"#'Patient Tracking'!\" & ADDRESS(MATCH($D1187, 'Patient Tracking'!$A:$A, 0), 1), \"View\")","v":{"$error":"#N/A"}}]
[{"$f":"HYPERLINK(\"#'Patient Tracking'!\" & ADDRESS(MATCH($D1188, 'Patient Tracking'!$A:$A, 0), 1), \"View\")","v":{"$error":"#N/A"}}]
[{"$f":"HYPERLINK(\"#'Patient Tracking'!\" & ADDRESS(MATCH($D1189, 'Patient Tracking'!$A:$A, 0), 1), \"View\")","v":{"$error":"#N/A"}}]
[{"$f":"HYPERLINK(\"#'Patient Tracking'!\" & ADDRESS(MATCH($D1190, 'Patient Tracking'!$A:$A, 0), 1), \"View\")","v":{"$error":"#N/A"}}]
[{"$f":"HYPERLINK(\"#'Patient Tracking'!\" & ADDRESS(MATCH($D1191, 'Patient Tracking'!$A:$A, 0), 1), \"View\")","v":{"$error":"#N/A"}}]
[{"$f":"HYPERLINK(\"#'Patient Tracking'!\" & ADDRESS(MATCH($D1192, 'Patient Tracking'!$A:$A, 0), 1), \"View\")","v":{"$error":"#N/A"}}]
[{"$f":"HYPERLINK(\"#'Patient Tracking'!\" & ADDRESS(MATCH($D1193, 'Patient Tracking'!$A:$A, 0), 1), \"View\")","v":{"$error":"#N/A"}}]
[{"$f":"HYPERLINK(\"#'Patient Tracking'!\" & ADDRESS(MATCH($D1194, 'Patient Tracking'!$A:$A, 0), 1), \"View\")","v":{"$error":"#N/A"}}]
[{"$f":"HYPERLINK(\"#'Patient Tracking'!\" & ADDRESS(MATCH($D1195, 'Patient Tracking'!$A:$A, 0), 1), \"View\")","v":{"$error":"#N/A"}}]
[{"$f":"HYPERLINK(\"#'Patient Tracking'!\" & ADDRESS(MATCH($D1196, 'Patient Tracking'!$A:$A, 0), 1), \"View\")","v":{"$error":"#N/A"}}]
[{"$f":"HYPERLINK(\"#'Patient Tracking'!\" & ADDRESS(MATCH($D1197, 'Patient Tracking'!$A:$A, 0), 1), \"View\")","v":{"$error":"#N/A"}}]
[{"$f":"HYPERLINK(\"#'Patient Tracking'!\" & ADDRESS(MATCH($D1198, 'Patient Tracking'!$A:$A, 0), 1), \"View\")","v":{"$error":"#N/A"}}]
[{"$f":"HYPERLINK(\"#'Patient Tracking'!\" & ADDRESS(MATCH($D1199, 'Patient Tracking'!$A:$A, 0), 1), \"View\")","v":{"$error":"#N/A"}}]
[{"$f":"HYPERLINK(\"#'Patient Tracking'!\" & ADDRESS(MATCH($D1200, 'Patient Tracking'!$A:$A, 0), 1), \"View\")","v":{"$error":"#N/A"}}]
[{"$f":"HYPERLINK(\"#'Patient Tracking'!\" & ADDRESS(MATCH($D1201, 'Patient Tracking'!$A:$A, 0), 1), \"View\")","v":{"$error":"#N/A"}}]
[{"$f":"HYPERLINK(\"#'Patient Tracking'!\" & ADDRESS(MATCH($D1202, 'Patient Tracking'!$A:$A, 0), 1), \"View\")","v":{"$error":"#N/A"}}]
[{"$f":"HYPERLINK(\"#'Patient Tracking'!\" & ADDRESS(MATCH($D1203, 'Patient Tracking'!$A:$A, 0), 1), \"View\")","v":{"$error":"#N/A"}}]
[{"$f":"HYPERLINK(\"#'Patient Tracking'!\" & ADDRESS(MATCH($D1204, 'Patient Tracking'!$A:$A, 0), 1), \"View\")","v":{"$error":"#N/A"}}]
[{"$f":"HYPERLINK(\"#'Patient Tracking'!\" & ADDRESS(MATCH($D1205, 'Patient Tracking'!$A:$A, 0), 1), \"View\")","v":{"$error":"#N/A"}}]
[{"$f":"HYPERLINK(\"#'Patient Tracking'!\" & ADDRESS(MATCH($D1206, 'Patient Tracking'!$A:$A, 0), 1), \"View\")","v":{"$error":"#N/A"}}]
[{"$f":"HYPERLINK(\"#'Patient Tracking'!\" & ADDRESS(MATCH($D1207, 'Patient Tracking'!$A:$A, 0), 1), \"View\")","v":{"$error":"#N/A"}}]
[{"$f":"HYPERLINK(\"#'Patient Tracking'!\" & ADDRESS(MATCH($D1208, 'Patient Tracking'!$A:$A, 0), 1), \"View\")","v":{"$error":"#N/A"}}]
[{"$f":"HYPERLINK(\"#'Patient Tracking'!\" & ADDRESS(MATCH($D1209, 'Patient Tracking'!$A:$A, 0), 1), \"View\")","v":{"$error":"#N/A"}}]
[{"$f":"HYPERLINK(\"#'Patient Tracking'!\" & ADDRESS(MATCH($D1210, 'Patient Tracking'!$A:$A, 0), 1), \"View\")","v":{"$error":"#N/A"}}]
[{"$f":"HYPERLINK(\"#'Patient Tracking'!\" & ADDRESS(MATCH($D1211, 'Patient Tracking'!$A:$A, 0), 1), \"View\")","v":{"$error":"#N/A"}}]
[{"$f":"HYPERLINK(\"#'Patient Tracking'!\" & ADDRESS(MATCH($D1212, 'Patient Tracking'!$A:$A, 0), 1), \"View\")","v":{"$error":"#N/A"}}]
[{"$f":"HYPERLINK(\"#'Patient Tracking'!\" & ADDRESS(MATCH($D1213, 'Patient Tracking'!$A:$A, 0), 1), \"View\")","v":{"$error":"#N/A"}}]
[{"$f":"HYPERLINK(\"#'Patient Tracking'!\" & ADDRESS(MATCH($D1214, 'Patient Tracking'!$A:$A, 0), 1), \"View\")","v":{"$error":"#N/A"}}]
[{"$f":"HYPERLINK(\"#'Patient Tracking'!\" & ADDRESS(MATCH($D1215, 'Patient Tracking'!$A:$A, 0), 1), \"View\")","v":{"$error":"#N/A"}}]
[{"$f":"HYPERLINK(\"#'Patient Tracking'!\" & ADDRESS(MATCH($D1216, 'Patient Tracking'!$A:$A, 0), 1), \"View\")","v":{"$error":"#N/A"}}]
[{"$f":"HYPERLINK(\"#'Patient Tracking'!\" & ADDRESS(MATCH($D1217, 'Patient Tracking'!$A:$A, 0), 1), \"View\")","v":{"$error":"#N/A"}}]
[{"$f":"HYPERLINK(\"#'Patient Tracking'!\" & ADDRESS(MATCH($D1218, 'Patient Tracking'!$A:$A, 0), 1), \"View\")","v":{"$error":"#N/A"}}]
[{"$f":"HYPERLINK(\"#'Patient Tracking'!\" & ADDRESS(MATCH($D1219, 'Patient Tracking'!$A:$A, 0), 1), \"View\")","v":{"$error":"#N/A"}}]
[{"$f":"HYPERLINK(\"#'Patient Tracking'!\" & ADDRESS(MATCH($D1220, 'Patient Tracking'!$A:$A, 0), 1), \"View\")","v":{"$error":"#N/A"}}]
[{"$f":"HYPERLINK(\"#'Patient Tracking'!\" & ADDRESS(MATCH($D1221, 'Patient Tracking'!$A:$A, 0), 1), \"View\")","v":{"$error":"#N/A"}}]
[{"$f":"HYPERLINK(\"#'Patient Tracking'!\" & ADDRESS(MATCH($D1222, 'Patient Tracking'!$A:$A, 0), 1), \"View\")","v":{"$error":"#N/A"}}]
[{"$f":"HYPERLINK(\"#'Patient Tracking'!\" & ADDRESS(MATCH($D1223, 'Patient Tracking'!$A:$A, 0), 1), \"View\")","v":{"$error":"#N/A"}}]
[{"$f":"HYPERLINK(\"#'Patient Tracking'!\" & ADDRESS(MATCH($D1224, 'Patient Tracking'!$A:$A, 0), 1), \"View\")","v":{"$error":"#N/A"}}]
[{"$f":"HYPERLINK(\"#'Patient Tracking'!\" & ADDRESS(MATCH($D1225, 'Patient Tracking'!$A:$A, 0), 1), \"View\")","v":{"$error":"#N/A"}}]
[{"$f":"HYPERLINK(\"#'Patient Tracking'!\" & ADDRESS(MATCH($D1226, 'Patient Tracking'!$A:$A, 0), 1), \"View\")","v":{"$error":"#N/A"}}]
[{"$f":"HYPERLINK(\"#'Patient Tracking'!\" & ADDRESS(MATCH($D1227, 'Patient Tracking'!$A:$A, 0), 1), \"View\")","v":{"$error":"#N/A"}}]
[{"$f":"HYPERLINK(\"#'Patient Tracking'!\" & ADDRESS(MATCH($D1228, 'Patient Tracking'!$A:$A, 0), 1), \"View\")","v":{"$error":"#N/A"}}]
[{"$f":"HYPERLINK(\"#'Patient Tracking'!\" & ADDRESS(MATCH($D1229, 'Patient Tracking'!$A:$A, 0), 1), \"View\")","v":{"$error":"#N/A"}}]
[{"$f":"HYPERLINK(\"#'Patient Tracking'!\" & ADDRESS(MATCH($D1230, 'Patient Tracking'!$A:$A, 0), 1), \"View\")","v":{"$error":"#N/A"}}]
[{"$f":"HYPERLINK(\"#'Patient Tracking'!\" & ADDRESS(MATCH($D1231, 'Patient Tracking'!$A:$A, 0), 1), \"View\")","v":{"$error":"#N/A"}}]
[{"$f":"HYPERLINK(\"#'Patient Tracking'!\" & ADDRESS(MATCH($D1232, 'Patient Tracking'!$A:$A, 0), 1), \"View\")","v":{"$error":"#N/A"}}]
[{"$f":"HYPERLINK(\"#'Patient Tracking'!\" & ADDRESS(MATCH($D1233, 'Patient Tracking'!$A:$A, 0), 1), \"View\")","v":{"$error":"#N/A"}}]
[{"$f":"HYPERLINK(\"#'Patient Tracking'!\" & ADDRESS(MATCH($D1234, 'Patient Tracking'!$A:$A, 0), 1), \"View\")","v":{"$error":"#N/A"}}]
[{"$f":"HYPERLINK(\"#'Patient Tracking'!\" & ADDRESS(MATCH($D1235, 'Patient Tracking'!$A:$A, 0), 1), \"View\")","v":{"$error":"#N/A"}}]
[{"$f":"HYPERLINK(\"#'Patient Tracking'!\" & ADDRESS(MATCH($D1236, 'Patient Tracking'!$A:$A, 0), 1), \"View\")","v":{"$error":"#N/A"}}]
[{"$f":"HYPERLINK(\"#'Patient Tracking'!\" & ADDRESS(MATCH($D1237, 'Patient Tracking'!$A:$A, 0), 1), \"View\")","v":{"$error":"#N/A"}}]
[{"$f":"HYPERLINK(\"#'Patient Tracking'!\" & ADDRESS(MATCH($D1238, 'Patient Tracking'!$A:$A, 0), 1), \"View\")","v":{"$error":"#N/A"}}]
[{"$f":"HYPERLINK(\"#'Patient Tracking'!\" & ADDRESS(MATCH($D1239, 'Patient Tracking'!$A:$A, 0), 1), \"View\")","v":{"$error":"#N/A"}}]
[{"$f":"HYPERLINK(\"#'Patient Tracking'!\" & ADDRESS(MATCH($D1240, 'Patient Tracking'!$A:$A, 0), 1), \"View\")","v":{"$error":"#N/A"}}]
[{"$f":"HYPERLINK(\"#'Patient Tracking'!\" & ADDRESS(MATCH($D1241, 'Patient Tracking'!$A:$A, 0), 1), \"View\")","v":{"$error":"#N/A"}}]
[{"$f":"HYPERLINK(\"#'Patient Tracking'!\" & ADDRESS(MATCH($D1242, 'Patient Tracking'!$A:$A, 0), 1), \"View\")","v":{"$error":"#N/A"}}]
[{"$f":"HYPERLINK(\"#'Patient Tracking'!\" & ADDRESS(MATCH($D1243, 'Patient Tracking'!$A:$A, 0), 1), \"View\")","v":{"$error":"#N/A"}}]
[{"$f":"HYPERLINK(\"#'Patient Tracking'!\" & ADDRESS(MATCH($D1244, 'Patient Tracking'!$A:$A, 0), 1), \"View\")","v":{"$error":"#N/A"}}]
[{"$f":"HYPERLINK(\"#'Patient Tracking'!\" & ADDRESS(MATCH($D1245, 'Patient Tracking'!$A:$A, 0), 1), \"View\")","v":{"$error":"#N/A"}}]
[{"$f":"HYPERLINK(\"#'Patient Tracking'!\" & ADDRESS(MATCH($D1246, 'Patient Tracking'!$A:$A, 0), 1), \"View\")","v":{"$error":"#N/A"}}]
[{"$f":"HYPERLINK(\"#'Patient Tracking'!\" & ADDRESS(MATCH($D1247, 'Patient Tracking'!$A:$A, 0), 1), \"View\")","v":{"$error":"#N/A"}}]
[{"$f":"HYPERLINK(\"#'Patient Tracking'!\" & ADDRESS(MATCH($D1248, 'Patient Tracking'!$A:$A, 0), 1), \"View\")","v":{"$error":"#N/A"}}]
[{"$f":"HYPERLINK(\"#'Patient Tracking'!\" & ADDRESS(MATCH($D1249, 'Patient Tracking'!$A:$A, 0), 1), \"View\")","v":{"$error":"#N/A"}}]
[{"$f":"HYPERLINK(\"#'Patient Tracking'!\" & ADDRESS(MATCH($D1250, 'Patient Tracking'!$A:$A, 0), 1), \"View\")","v":{"$error":"#N/A"}}]
[{"$f":"HYPERLINK(\"#'Patient Tracking'!\" & ADDRESS(MATCH($D1251, 'Patient Tracking'!$A:$A, 0), 1), \"View\")","v":{"$error":"#N/A"}}]
[{"$f":"HYPERLINK(\"#'Patient Tracking'!\" & ADDRESS(MATCH($D1252, 'Patient Tracking'!$A:$A, 0), 1), \"View\")","v":{"$error":"#N/A"}}]
[{"$f":"HYPERLINK(\"#'Patient Tracking'!\" & ADDRESS(MATCH($D1253, 'Patient Tracking'!$A:$A, 0), 1), \"View\")","v":{"$error":"#N/A"}}]
[{"$f":"HYPERLINK(\"#'Patient Tracking'!\" & ADDRESS(MATCH($D1254, 'Patient Tracking'!$A:$A, 0), 1), \"View\")","v":{"$error":"#N/A"}}]
[{"$f":"HYPERLINK(\"#'Patient Tracking'!\" & ADDRESS(MATCH($D1255, 'Patient Tracking'!$A:$A, 0), 1), \"View\")","v":{"$error":"#N/A"}}]
[{"$f":"HYPERLINK(\"#'Patient Tracking'!\" & ADDRESS(MATCH($D1256, 'Patient Tracking'!$A:$A, 0), 1), \"View\")","v":{"$error":"#N/A"}}]
[{"$f":"HYPERLINK(\"#'Patient Tracking'!\" & ADDRESS(MATCH($D1257, 'Patient Tracking'!$A:$A, 0), 1), \"View\")","v":{"$error":"#N/A"}}]
[{"$f":"HYPERLINK(\"#'Patient Tracking'!\" & ADDRESS(MATCH($D1258, 'Patient Tracking'!$A:$A, 0), 1), \"View\")","v":{"$error":"#N/A"}}]
[{"$f":"HYPERLINK(\"#'Patient Tracking'!\" & ADDRESS(MATCH($D1259, 'Patient Tracking'!$A:$A, 0), 1), \"View\")","v":{"$error":"#N/A"}}]
[{"$f":"HYPERLINK(\"#'Patient Tracking'!\" & ADDRESS(MATCH($D1260, 'Patient Tracking'!$A:$A, 0), 1), \"View\")","v":{"$error":"#N/A"}}]
[{"$f":"HYPERLINK(\"#'Patient Tracking'!\" & ADDRESS(MATCH($D1261, 'Patient Tracking'!$A:$A, 0), 1), \"View\")","v":{"$error":"#N/A"}}]
[{"$f":"HYPERLINK(\"#'Patient Tracking'!\" & ADDRESS(MATCH($D1262, 'Patient Tracking'!$A:$A, 0), 1), \"View\")","v":{"$error":"#N/A"}}]
[{"$f":"HYPERLINK(\"#'Patient Tracking'!\" & ADDRESS(MATCH($D1263, 'Patient Tracking'!$A:$A, 0), 1), \"View\")","v":{"$error":"#N/A"}}]
[{"$f":"HYPERLINK(\"#'Patient Tracking'!\" & ADDRESS(MATCH($D1264, 'Patient Tracking'!$A:$A, 0), 1), \"View\")","v":{"$error":"#N/A"}}]
[{"$f":"HYPERLINK(\"#'Patient Tracking'!\" & ADDRESS(MATCH($D1265, 'Patient Tracking'!$A:$A, 0), 1), \"View\")","v":{"$error":"#N/A"}}]
[{"$f":"HYPERLINK(\"#'Patient Tracking'!\" & ADDRESS(MATCH($D1266, 'Patient Tracking'!$A:$A, 0), 1), \"View\")","v":{"$error":"#N/A"}}]
[{"$f":"HYPERLINK(\"#'Patient Tracking'!\" & ADDRESS(MATCH($D1267, 'Patient Tracking'!$A:$A, 0), 1), \"View\")","v":{"$error":"#N/A"}}]
[{"$f":"HYPERLINK(\"#'Patient Tracking'!\" & ADDRESS(MATCH($D1268, 'Patient Tracking'!$A:$A, 0), 1), \"View\")","v":{"$error":"#N/A"}}]
[{"$f":"HYPERLINK(\"#'Patient Tracking'!\" & ADDRESS(MATCH($D1269, 'Patient Tracking'!$A:$A, 0), 1), \"View\")","v":{"$error":"#N/A"}}]
[{"$f":"HYPERLINK(\"#'Patient Tracking'!\" & ADDRESS(MATCH($D1270, 'Patient Tracking'!$A:$A, 0), 1), \"View\")","v":{"$error":"#N/A"}}]
[{"$f":"HYPERLINK(\"#'Patient Tracking'!\" & ADDRESS(MATCH($D1271, 'Patient Tracking'!$A:$A, 0), 1), \"View\")","v":{"$error":"#N/A"}}]
[{"$f":"HYPERLINK(\"#'Patient Tracking'!\" & ADDRESS(MATCH($D1272, 'Patient Tracking'!$A:$A, 0), 1), \"View\")","v":{"$error":"#N/A"}}]
[{"$f":"HYPERLINK(\"#'Patient Tracking'!\" & ADDRESS(MATCH($D1273, 'Patient Tracking'!$A:$A, 0), 1), \"View\")","v":{"$error":"#N/A"}}]
[{"$f":"HYPERLINK(\"#'Patient Tracking'!\" & ADDRESS(MATCH($D1274, 'Patient Tracking'!$A:$A, 0), 1), \"View\")","v":{"$error":"#N/A"}}]
[{"$f":"HYPERLINK(\"#'Patient Tracking'!\" & ADDRESS(MATCH($D1275, 'Patient Tracking'!$A:$A, 0), 1), \"View\")","v":{"$error":"#N/A"}}]
[{"$f":"HYPERLINK(\"#'Patient Tracking'!\" & ADDRESS(MATCH($D1276, 'Patient Tracking'!$A:$A, 0), 1), \"View\")","v":{"$error":"#N/A"}}]
[{"$f":"HYPERLINK(\"#'Patient Tracking'!\" & ADDRESS(MATCH($D1277, 'Patient Tracking'!$A:$A, 0), 1), \"View\")","v":{"$error":"#N/A"}}]
[{"$f":"HYPERLINK(\"#'Patient Tracking'!\" & ADDRESS(MATCH($D1278, 'Patient Tracking'!$A:$A, 0), 1), \"View\")","v":{"$error":"#N/A"}}]
[{"$f":"HYPERLINK(\"#'Patient Tracking'!\" & ADDRESS(MATCH($D1279, 'Patient Tracking'!$A:$A, 0), 1), \"View\")","v":{"$error":"#N/A"}}]
[{"$f":"HYPERLINK(\"#'Patient Tracking'!\" & ADDRESS(MATCH($D1280, 'Patient Tracking'!$A:$A, 0), 1), \"View\")","v":{"$error":"#N/A"}}]
[{"$f":"HYPERLINK(\"#'Patient Tracking'!\" & ADDRESS(MATCH($D1281, 'Patient Tracking'!$A:$A, 0), 1), \"View\")","v":{"$error":"#N/A"}}]
[{"$f":"HYPERLINK(\"#'Patient Tracking'!\" & ADDRESS(MATCH($D1282, 'Patient Tracking'!$A:$A, 0), 1), \"View\")","v":{"$error":"#N/A"}}]
[{"$f":"HYPERLINK(\"#'Patient Tracking'!\" & ADDRESS(MATCH($D1283, 'Patient Tracking'!$A:$A, 0), 1), \"View\")","v":{"$error":"#N/A"}}]
[{"$f":"HYPERLINK(\"#'Patient Tracking'!\" & ADDRESS(MATCH($D1284, 'Patient Tracking'!$A:$A, 0), 1), \"View\")","v":{"$error":"#N/A"}}]
[{"$f":"HYPERLINK(\"#'Patient Tracking'!\" & ADDRESS(MATCH($D1285, 'Patient Tracking'!$A:$A, 0), 1), \"View\")","v":{"$error":"#N/A"}}]
[{"$f":"HYPERLINK(\"#'Patient Tracking'!\" & ADDRESS(MATCH($D1286, 'Patient Tracking'!$A:$A, 0), 1), \"View\")","v":{"$error":"#N/A"}}]
[{"$f":"HYPERLINK(\"#'Patient Tracking'!\" & ADDRESS(MATCH($D1287, 'Patient Tracking'!$A:$A, 0), 1), \"View\")","v":{"$error":"#N/A"}}]
[{"$f":"HYPERLINK(\"#'Patient Tracking'!\" & ADDRESS(MATCH($D1288, 'Patient Tracking'!$A:$A, 0), 1), \"View\")","v":{"$error":"#N/A"}}]
[{"$f":"HYPERLINK(\"#'Patient Tracking'!\" & ADDRESS(MATCH($D1289, 'Patient Tracking'!$A:$A, 0), 1), \"View\")","v":{"$error":"#N/A"}}]
[{"$f":"HYPERLINK(\"#'Patient Tracking'!\" & ADDRESS(MATCH($D1290, 'Patient Tracking'!$A:$A, 0), 1), \"View\")","v":{"$error":"#N/A"}}]
[{"$f":"HYPERLINK(\"#'Patient Tracking'!\" & ADDRESS(MATCH($D1291, 'Patient Tracking'!$A:$A, 0), 1), \"View\")","v":{"$error":"#N/A"}}]
[{"$f":"HYPERLINK(\"#'Patient Tracking'!\" & ADDRESS(MATCH($D1292, 'Patient Tracking'!$A:$A, 0), 1), \"View\")","v":{"$error":"#N/A"}}]
[{"$f":"HYPERLINK(\"#'Patient Tracking'!\" & ADDRESS(MATCH($D1293, 'Patient Tracking'!$A:$A, 0), 1), \"View\")","v":{"$error":"#N/A"}}]
[{"$f":"HYPERLINK(\"#'Patient Tracking'!\" & ADDRESS(MATCH($D1294, 'Patient Tracking'!$A:$A, 0), 1), \"View\")","v":{"$error":"#N/A"}}]
[{"$f":"HYPERLINK(\"#'Patient Tracking'!\" & ADDRESS(MATCH($D1295, 'Patient Tracking'!$A:$A, 0), 1), \"View\")","v":{"$error":"#N/A"}}]
[{"$f":"HYPERLINK(\"#'Patient Tracking'!\" & ADDRESS(MATCH($D1296, 'Patient Tracking'!$A:$A, 0), 1), \"View\")","v":{"$error":"#N/A"}}]
[{"$f":"HYPERLINK(\"#'Patient Tracking'!\" & ADDRESS(MATCH($D1297, 'Patient Tracking'!$A:$A, 0), 1), \"View\")","v":{"$error":"#N/A"}}]
[{"$f":"HYPERLINK(\"#'Patient Tracking'!\" & ADDRESS(MATCH($D1298, 'Patient Tracking'!$A:$A, 0), 1), \"View\")","v":{"$error":"#N/A"}}]
[{"$f":"HYPERLINK(\"#'Patient Tracking'!\" & ADDRESS(MATCH($D1299, 'Patient Tracking'!$A:$A, 0), 1), \"View\")","v":{"$error":"#N/A"}}]
[{"$f":"HYPERLINK(\"#'Patient Tracking'!\" & ADDRESS(MATCH($D1300, 'Patient Tracking'!$A:$A, 0), 1), \"View\")","v":{"$error":"#N/A"}}]
[{"$f":"HYPERLINK(\"#'Patient Tracking'!\" & ADDRESS(MATCH($D1301, 'Patient Tracking'!$A:$A, 0), 1), \"View\")","v":{"$error":"#N/A"}}]
[{"$f":"HYPERLINK(\"#'Patient Tracking'!\" & ADDRESS(MATCH($D1302, 'Patient Tracking'!$A:$A, 0), 1), \"View\")","v":{"$error":"#N/A"}}]
[{"$f":"HYPERLINK(\"#'Patient Tracking'!\" & ADDRESS(MATCH($D1303, 'Patient Tracking'!$A:$A, 0), 1), \"View\")","v":{"$error":"#N/A"}}]
[{"$f":"HYPERLINK(\"#'Patient Tracking'!\" & ADDRESS(MATCH($D1304, 'Patient Tracking'!$A:$A, 0), 1), \"View\")","v":{"$error":"#N/A"}}]
[{"$f":"HYPERLINK(\"#'Patient Tracking'!\" & ADDRESS(MATCH($D1305, 'Patient Tracking'!$A:$A, 0), 1), \"View\")","v":{"$error":"#N/A"}}]
[{"$f":"HYPERLINK(\"#'Patient Tracking'!\" & ADDRESS(MATCH($D1306, 'Patient Tracking'!$A:$A, 0), 1), \"View\")","v":{"$error":"#N/A"}}]
[{"$f":"HYPERLINK(\"#'Patient Tracking'!\" & ADDRESS(MATCH($D1307, 'Patient Tracking'!$A:$A, 0), 1), \"View\")","v":{"$error":"#N/A"}}]
[{"$f":"HYPERLINK(\"#'Patient Tracking'!\" & ADDRESS(MATCH($D1308, 'Patient Tracking'!$A:$A, 0), 1), \"View\")","v":{"$error":"#N/A"}}]
[{"$f":"HYPERLINK(\"#'Patient Tracking'!\" & ADDRESS(MATCH($D1309, 'Patient Tracking'!$A:$A, 0), 1), \"View\")","v":{"$error":"#N/A"}}]
[{"$f":"HYPERLINK(\"#'Patient Tracking'!\" & ADDRESS(MATCH($D1310, 'Patient Tracking'!$A:$A, 0), 1), \"View\")","v":{"$error":"#N/A"}}]
[{"$f":"HYPERLINK(\"#'Patient Tracking'!\" & ADDRESS(MATCH($D1311, 'Patient Tracking'!$A:$A, 0), 1), \"View\")","v":{"$error":"#N/A"}}]
[{"$f":"HYPERLINK(\"#'Patient Tracking'!\" & ADDRESS(MATCH($D1312, 'Patient Tracking'!$A:$A, 0), 1), \"View\")","v":{"$error":"#N/A"}}]
[{"$f":"HYPERLINK(\"#'Patient Tracking'!\" & ADDRESS(MATCH($D1313, 'Patient Tracking'!$A:$A, 0), 1), \"View\")","v":{"$error":"#N/A"}}]
[{"$f":"HYPERLINK(\"#'Patient Tracking'!\" & ADDRESS(MATCH($D1314, 'Patient Tracking'!$A:$A, 0), 1), \"View\")","v":{"$error":"#N/A"}}]
[{"$f":"HYPERLINK(\"#'Patient Tracking'!\" & ADDRESS(MATCH($D1315, 'Patient Tracking'!$A:$A, 0), 1), \"View\")","v":{"$error":"#N/A"}}]
[{"$f":"HYPERLINK(\"#'Patient Tracking'!\" & ADDRESS(MATCH($D1316, 'Patient Tracking'!$A:$A, 0), 1), \"View\")","v":{"$error":"#N/A"}}]
[{"$f":"HYPERLINK(\"#'Patient Tracking'!\" & ADDRESS(MATCH($D1317, 'Patient Tracking'!$A:$A, 0), 1), \"View\")","v":{"$error":"#N/A"}}]
[{"$f":"HYPERLINK(\"#'Patient Tracking'!\" & ADDRESS(MATCH($D1318, 'Patient Tracking'!$A:$A, 0), 1), \"View\")","v":{"$error":"#N/A"}}]
[{"$f":"HYPERLINK(\"#'Patient Tracking'!\" & ADDRESS(MATCH($D1319, 'Patient Tracking'!$A:$A, 0), 1), \"View\")","v":{"$error":"#N/A"}}]
[{"$f":"HYPERLINK(\"#'Patient Tracking'!\" & ADDRESS(MATCH($D1320, 'Patient Tracking'!$A:$A, 0), 1), \"View\")","v":{"$error":"#N/A"}}]
[{"$f":"HYPERLINK(\"#'Patient Tracking'!\" & ADDRESS(MATCH($D1321, 'Patient Tracking'!$A:$A, 0), 1), \"View\")","v":{"$error":"#N/A"}}]
[{"$f":"HYPERLINK(\"#'Patient Tracking'!\" & ADDRESS(MATCH($D1322, 'Patient Tracking'!$A:$A, 0), 1), \"View\")","v":{"$error":"#N/A"}}]
[{"$f":"HYPERLINK(\"#'Patient Tracking'!\" & ADDRESS(MATCH($D1323, 'Patient Tracking'!$A:$A, 0), 1), \"View\")","v":{"$error":"#N/A"}}]
[{"$f":"HYPERLINK(\"#'Patient Tracking'!\" & ADDRESS(MATCH($D1324, 'Patient Tracking'!$A:$A, 0), 1), \"View\")","v":{"$error":"#N/A"}}]
[{"$f":"HYPERLINK(\"#'Patient Tracking'!\" & ADDRESS(MATCH($D1325, 'Patient Tracking'!$A:$A, 0), 1), \"View\")","v":{"$error":"#N/A"}}]
[{"$f":"HYPERLINK(\"#'Patient Tracking'!\" & ADDRESS(MATCH($D1326, 'Patient Tracking'!$A:$A, 0), 1), \"View\")","v":{"$error":"#N/A"}}]
[{"$f":"HYPERLINK(\"#'Patient Tracking'!\" & ADDRESS(MATCH($D1327, 'Patient Tracking'!$A:$A, 0), 1), \"View\")","v":{"$error":"#N/A"}}]
[{"$f":"HYPERLINK(\"#'Patient Tracking'!\" & ADDRESS(MATCH($D1328, 'Patient Tracking'!$A:$A, 0), 1), \"View\")","v":{"$error":"#N/A"}}]
[{"$f":"HYPERLINK(\"#'Patient Tracking'!\" & ADDRESS(MATCH($D1329, 'Patient Tracking'!$A:$A, 0), 1), \"View\")","v":{"$error":"#N/A"}}]
[{"$f":"HYPERLINK(\"#'Patient Tracking'!\" & ADDRESS(MATCH($D1330, 'Patient Tracking'!$A:$A, 0), 1), \"View\")","v":{"$error":"#N/A"}}]
[{"$f":"HYPERLINK(\"#'Patient Tracking'!\" & ADDRESS(MATCH($D1331, 'Patient Tracking'!$A:$A, 0), 1), \"View\")","v":{"$error":"#N/A"}}]
[{"$f":"HYPERLINK(\"#'Patient Tracking'!\" & ADDRESS(MATCH($D1332, 'Patient Tracking'!$A:$A, 0), 1), \"View\")","v":{"$error":"#N/A"}}]
[{"$f":"HYPERLINK(\"#'Patient Tracking'!\" & ADDRESS(MATCH($D1333, 'Patient Tracking'!$A:$A, 0), 1), \"View\")","v":{"$error":"#N/A"}}]
[{"$f":"HYPERLINK(\"#'Patient Tracking'!\" & ADDRESS(MATCH($D1334, 'Patient Tracking'!$A:$A, 0), 1), \"View\")","v":{"$error":"#N/A"}}]
[{"$f":"HYPERLINK(\"#'Patient Tracking'!\" & ADDRESS(MATCH($D1335, 'Patient Tracking'!$A:$A, 0), 1), \"View\")","v":{"$error":"#N/A"}}]
[{"$f":"HYPERLINK(\"#'Patient Tracking'!\" & ADDRESS(MATCH($D1336, 'Patient Tracking'!$A:$A, 0), 1), \"View\")","v":{"$error":"#N/A"}}]
[{"$f":"HYPERLINK(\"#'Patient Tracking'!\" & ADDRESS(MATCH($D1337, 'Patient Tracking'!$A:$A, 0), 1), \"View\")","v":{"$error":"#N/A"}}]
[{"$f":"HYPERLINK(\"#'Patient Tracking'!\" & ADDRESS(MATCH($D1338, 'Patient Tracking'!$A:$A, 0), 1), \"View\")","v":{"$error":"#N/A"}}]
[{"$f":"HYPERLINK(\"#'Patient Tracking'!\" & ADDRESS(MATCH($D1339, 'Patient Tracking'!$A:$A, 0), 1), \"View\")","v":{"$error":"#N/A"}}]
[{"$f":"HYPERLINK(\"#'Patient Tracking'!\" & ADDRESS(MATCH($D1340, 'Patient Tracking'!$A:$A, 0), 1), \"View\")","v":{"$error":"#N/A"}}]
[{"$f":"HYPERLINK(\"#'Patient Tracking'!\" & ADDRESS(MATCH($D1341, 'Patient Tracking'!$A:$A, 0), 1), \"View\")","v":{"$error":"#N/A"}}]
[{"$f":"HYPERLINK(\"#'Patient Tracking'!\" & ADDRESS(MATCH($D1342, 'Patient Tracking'!$A:$A, 0), 1), \"View\")","v":{"$error":"#N/A"}}]
[{"$f":"HYPERLINK(\"#'Patient Tracking'!\" & ADDRESS(MATCH($D1343, 'Patient Tracking'!$A:$A, 0), 1), \"View\")","v":{"$error":"#N/A"}}]
[{"$f":"HYPERLINK(\"#'Patient Tracking'!\" & ADDRESS(MATCH($D1344, 'Patient Tracking'!$A:$A, 0), 1), \"View\")","v":{"$error":"#N/A"}}]
[{"$f":"HYPERLINK(\"#'Patient Tracking'!\" & ADDRESS(MATCH($D1345, 'Patient Tracking'!$A:$A, 0), 1), \"View\")","v":{"$error":"#N/A"}}]
[{"$f":"HYPERLINK(\"#'Patient Tracking'!\" & ADDRESS(MATCH($D1346, 'Patient Tracking'!$A:$A, 0), 1), \"View\")","v":{"$error":"#N/A"}}]
[{"$f":"HYPERLINK(\"#'Patient Tracking'!\" & ADDRESS(MATCH($D1347, 'Patient Tracking'!$A:$A, 0), 1), \"View\")","v":{"$error":"#N/A"}}]
[{"$f":"HYPERLINK(\"#'Patient Tracking'!\" & ADDRESS(MATCH($D1348, 'Patient Tracking'!$A:$A, 0), 1), \"View\")","v":{"$error":"#N/A"}}]
[{"$f":"HYPERLINK(\"#'Patient Tracking'!\" & ADDRESS(MATCH($D1349, 'Patient Tracking'!$A:$A, 0), 1), \"View\")","v":{"$error":"#N/A"}}]
[{"$f":"HYPERLINK(\"#'Patient Tracking'!\" & ADDRESS(MATCH($D1350, 'Patient Tracking'!$A:$A, 0), 1), \"View\")","v":{"$error":"#N/A"}}]
[{"$f":"HYPERLINK(\"#'Patient Tracking'!\" & ADDRESS(MATCH($D1351, 'Patient Tracking'!$A:$A, 0), 1), \"View\")","v":{"$error":"#N/A"}}]
[{"$f":"HYPERLINK(\"#'Patient Tracking'!\" & ADDRESS(MATCH($D1352, 'Patient Tracking'!$A:$A, 0), 1), \"View\")","v":{"$error":"#N/A"}}]
[{"$f":"HYPERLINK(\"#'Patient Tracking'!\" & ADDRESS(MATCH($D1353, 'Patient Tracking'!$A:$A, 0), 1), \"View\")","v":{"$error":"#N/A"}}]
[{"$f":"HYPERLINK(\"#'Patient Tracking'!\" & ADDRESS(MATCH($D1354, 'Patient Tracking'!$A:$A, 0), 1), \"View\")","v":{"$error":"#N/A"}}]
[{"$f":"HYPERLINK(\"#'Patient Tracking'!\" & ADDRESS(MATCH($D1355, 'Patient Tracking'!$A:$A, 0), 1), \"View\")","v":{"$error":"#N/A"}}]
[{"$f":"HYPERLINK(\"#'Patient Tracking'!\" & ADDRESS(MATCH($D1356, 'Patient Tracking'!$A:$A, 0), 1), \"View\")","v":{"$error":"#N/A"}}]
[{"$f":"HYPERLINK(\"#'Patient Tracking'!\" & ADDRESS(MATCH($D1357, 'Patient Tracking'!$A:$A, 0), 1), \"View\")","v":{"$error":"#N/A"}}]
[{"$f":"HYPERLINK(\"#'Patient Tracking'!\" & ADDRESS(MATCH($D1358, 'Patient Tracking'!$A:$A, 0), 1), \"View\")","v":{"$error":"#N/A"}}]
[{"$f":"HYPERLINK(\"#'Patient Tracking'!\" & ADDRESS(MATCH($D1359, 'Patient Tracking'!$A:$A, 0), 1), \"View\")","v":{"$error":"#N/A"}}]
[{"$f":"HYPERLINK(\"#'Patient Tracking'!\" & ADDRESS(MATCH($D1360, 'Patient Tracking'!$A:$A, 0), 1), \"View\")","v":{"$error":"#N/A"}}]
[{"$f":"HYPERLINK(\"#'Patient Tracking'!\" & ADDRESS(MATCH($D1361, 'Patient Tracking'!$A:$A, 0), 1), \"View\")","v":{"$error":"#N/A"}}]
[{"$f":"HYPERLINK(\"#'Patient Tracking'!\" & ADDRESS(MATCH($D1362, 'Patient Tracking'!$A:$A, 0), 1), \"View\")","v":{"$error":"#N/A"}}]
[{"$f":"HYPERLINK(\"#'Patient Tracking'!\" & ADDRESS(MATCH($D1363, 'Patient Tracking'!$A:$A, 0), 1), \"View\")","v":{"$error":"#N/A"}}]
[{"$f":"HYPERLINK(\"#'Patient Tracking'!\" & ADDRESS(MATCH($D1364, 'Patient Tracking'!$A:$A, 0), 1), \"View\")","v":{"$error":"#N/A"}}]
[{"$f":"HYPERLINK(\"#'Patient Tracking'!\" & ADDRESS(MATCH($D1365, 'Patient Tracking'!$A:$A, 0), 1), \"View\")","v":{"$error":"#N/A"}}]
[{"$f":"HYPERLINK(\"#'Patient Tracking'!\" & ADDRESS(MATCH($D1366, 'Patient Tracking'!$A:$A, 0), 1), \"View\")","v":{"$error":"#N/A"}}]
[{"$f":"HYPERLINK(\"#'Patient Tracking'!\" & ADDRESS(MATCH($D1367, 'Patient Tracking'!$A:$A, 0), 1), \"View\")","v":{"$error":"#N/A"}}]
[{"$f":"HYPERLINK(\"#'Patient Tracking'!\" & ADDRESS(MATCH($D1368, 'Patient Tracking'!$A:$A, 0), 1), \"View\")","v":{"$error":"#N/A"}}]
[{"$f":"HYPERLINK(\"#'Patient Tracking'!\" & ADDRESS(MATCH($D1369, 'Patient Tracking'!$A:$A, 0), 1), \"View\")","v":{"$error":"#N/A"}}]
[{"$f":"HYPERLINK(\"#'Patient Tracking'!\" & ADDRESS(MATCH($D1370, 'Patient Tracking'!$A:$A, 0), 1), \"View\")","v":{"$error":"#N/A"}}]
[{"$f":"HYPERLINK(\"#'Patient Tracking'!\" & ADDRESS(MATCH($D1371, 'Patient Tracking'!$A:$A, 0), 1), \"View\")","v":{"$error":"#N/A"}}]
[{"$f":"HYPERLINK(\"#'Patient Tracking'!\" & ADDRESS(MATCH($D1372, 'Patient Tracking'!$A:$A, 0), 1), \"View\")","v":{"$error":"#N/A"}}]
[{"$f":"HYPERLINK(\"#'Patient Tracking'!\" & ADDRESS(MATCH($D1373, 'Patient Tracking'!$A:$A, 0), 1), \"View\")","v":{"$error":"#N/A"}}]
[{"$f":"HYPERLINK(\"#'Patient Tracking'!\" & ADDRESS(MATCH($D1374, 'Patient Tracking'!$A:$A, 0), 1), \"View\")","v":{"$error":"#N/A"}}]
[{"$f":"HYPERLINK(\"#'Patient Tracking'!\" & ADDRESS(MATCH($D1375, 'Patient Tracking'!$A:$A, 0), 1), \"View\")","v":{"$error":"#N/A"}}]
[{"$f":"HYPERLINK(\"#'Patient Tracking'!\" & ADDRESS(MATCH($D1376, 'Patient Tracking'!$A:$A, 0), 1), \"View\")","v":{"$error":"#N/A"}}]
[{"$f":"HYPERLINK(\"#'Patient Tracking'!\" & ADDRESS(MATCH($D1377, 'Patient Tracking'!$A:$A, 0), 1), \"View\")","v":{"$error":"#N/A"}}]
[{"$f":"HYPERLINK(\"#'Patient Tracking'!\" & ADDRESS(MATCH($D1378, 'Patient Tracking'!$A:$A, 0), 1), \"View\")","v":{"$error":"#N/A"}}]
[{"$f":"HYPERLINK(\"#'Patient Tracking'!\" & ADDRESS(MATCH($D1379, 'Patient Tracking'!$A:$A, 0), 1), \"View\")","v":{"$error":"#N/A"}}]
[{"$f":"HYPERLINK(\"#'Patient Tracking'!\" & ADDRESS(MATCH($D1380, 'Patient Tracking'!$A:$A, 0), 1), \"View\")","v":{"$error":"#N/A"}}]
[{"$f":"HYPERLINK(\"#'Patient Tracking'!\" & ADDRESS(MATCH($D1381, 'Patient Tracking'!$A:$A, 0), 1), \"View\")","v":{"$error":"#N/A"}}]
[{"$f":"HYPERLINK(\"#'Patient Tracking'!\" & ADDRESS(MATCH($D1382, 'Patient Tracking'!$A:$A, 0), 1), \"View\")","v":{"$error":"#N/A"}}]
[{"$f":"HYPERLINK(\"#'Patient Tracking'!\" & ADDRESS(MATCH($D1383, 'Patient Tracking'!$A:$A, 0), 1), \"View\")","v":{"$error":"#N/A"}}]
[{"$f":"HYPERLINK(\"#'Patient Tracking'!\" & ADDRESS(MATCH($D1384, 'Patient Tracking'!$A:$A, 0), 1), \"View\")","v":{"$error":"#N/A"}}]
[{"$f":"HYPERLINK(\"#'Patient Tracking'!\" & ADDRESS(MATCH($D1385, 'Patient Tracking'!$A:$A, 0), 1), \"View\")","v":{"$error":"#N/A"}}]
[{"$f":"HYPERLINK(\"#'Patient Tracking'!\" & ADDRESS(MATCH($D1386, 'Patient Tracking'!$A:$A, 0), 1), \"View\")","v":{"$error":"#N/A"}}]
[{"$f":"HYPERLINK(\"#'Patient Tracking'!\" & ADDRESS(MATCH($D1387, 'Patient Tracking'!$A:$A, 0), 1), \"View\")","v":{"$error":"#N/A"}}]
[{"$f":"HYPERLINK(\"#'Patient Tracking'!\" & ADDRESS(MATCH($D1388, 'Patient Tracking'!$A:$A, 0), 1), \"View\")","v":{"$error":"#N/A"}}]
[{"$f":"HYPERLINK(\"#'Patient Tracking'!\" & ADDRESS(MATCH($D1389, 'Patient Tracking'!$A:$A, 0), 1), \"View\")","v":{"$error":"#N/A"}}]
[{"$f":"HYPERLINK(\"#'Patient Tracking'!\" & ADDRESS(MATCH($D1390, 'Patient Tracking'!$A:$A, 0), 1), \"View\")","v":{"$error":"#N/A"}}]
[{"$f":"HYPERLINK(\"#'Patient Tracking'!\" & ADDRESS(MATCH($D1391, 'Patient Tracking'!$A:$A, 0), 1), \"View\")","v":{"$error":"#N/A"}}]
[{"$f":"HYPERLINK(\"#'Patient Tracking'!\" & ADDRESS(MATCH($D1392, 'Patient Tracking'!$A:$A, 0), 1), \"View\")","v":{"$error":"#N/A"}}]
[{"$f":"HYPERLINK(\"#'Patient Tracking'!\" & ADDRESS(MATCH($D1393, 'Patient Tracking'!$A:$A, 0), 1), \"View\")","v":{"$error":"#N/A"}}]
[{"$f":"HYPERLINK(\"#'Patient Tracking'!\" & ADDRESS(MATCH($D1394, 'Patient Tracking'!$A:$A, 0), 1), \"View\")","v":{"$error":"#N/A"}}]
[{"$f":"HYPERLINK(\"#'Patient Tracking'!\" & ADDRESS(MATCH($D1395, 'Patient Tracking'!$A:$A, 0), 1), \"View\")","v":{"$error":"#N/A"}}]
[{"$f":"HYPERLINK(\"#'Patient Tracking'!\" & ADDRESS(MATCH($D1396, 'Patient Tracking'!$A:$A, 0), 1), \"View\")","v":{"$error":"#N/A"}}]
[{"$f":"HYPERLINK(\"#'Patient Tracking'!\" & ADDRESS(MATCH($D1397, 'Patient Tracking'!$A:$A, 0), 1), \"View\")","v":{"$error":"#N/A"}}]
[{"$f":"HYPERLINK(\"#'Patient Tracking'!\" & ADDRESS(MATCH($D1398, 'Patient Tracking'!$A:$A, 0), 1), \"View\")","v":{"$error":"#N/A"}}]
[{"$f":"HYPERLINK(\"#'Patient Tracking'!\" & ADDRESS(MATCH($D1399, 'Patient Tracking'!$A:$A, 0), 1), \"View\")","v":{"$error":"#N/A"}}]
[{"$f":"HYPERLINK(\"#'Patient Tracking'!\" & ADDRESS(MATCH($D1400, 'Patient Tracking'!$A:$A, 0), 1), \"View\")","v":{"$error":"#N/A"}}]
[{"$f":"HYPERLINK(\"#'Patient Tracking'!\" & ADDRESS(MATCH($D1401, 'Patient Tracking'!$A:$A, 0), 1), \"View\")","v":{"$error":"#N/A"}}]
[{"$f":"HYPERLINK(\"#'Patient Tracking'!\" & ADDRESS(MATCH($D1402, 'Patient Tracking'!$A:$A, 0), 1), \"View\")","v":{"$error":"#N/A"}}]
[{"$f":"HYPERLINK(\"#'Patient Tracking'!\" & ADDRESS(MATCH($D1403, 'Patient Tracking'!$A:$A, 0), 1), \"View\")","v":{"$error":"#N/A"}}]
[{"$f":"HYPERLINK(\"#'Patient Tracking'!\" & ADDRESS(MATCH($D1404, 'Patient Tracking'!$A:$A, 0), 1), \"View\")","v":{"$error":"#N/A"}}]
[{"$f":"HYPERLINK(\"#'Patient Tracking'!\" & ADDRESS(MATCH($D1405, 'Patient Tracking'!$A:$A, 0), 1), \"View\")","v":{"$error":"#N/A"}}]
[{"$f":"HYPERLINK(\"#'Patient Tracking'!\" & ADDRESS(MATCH($D1406, 'Patient Tracking'!$A:$A, 0), 1), \"View\")","v":{"$error":"#N/A"}}]
[{"$f":"HYPERLINK(\"#'Patient Tracking'!\" & ADDRESS(MATCH($D1407, 'Patient Tracking'!$A:$A, 0), 1), \"View\")","v":{"$error":"#N/A"}}]
[{"$f":"HYPERLINK(\"#'Patient Tracking'!\" & ADDRESS(MATCH($D1408, 'Patient Tracking'!$A:$A, 0), 1), \"View\")","v":{"$error":"#N/A"}}]
[{"$f":"HYPERLINK(\"#'Patient Tracking'!\" & ADDRESS(MATCH($D1409, 'Patient Tracking'!$A:$A, 0), 1), \"View\")","v":{"$error":"#N/A"}}]
[{"$f":"HYPERLINK(\"#'Patient Tracking'!\" & ADDRESS(MATCH($D1410, 'Patient Tracking'!$A:$A, 0), 1), \"View\")","v":{"$error":"#N/A"}}]
[{"$f":"HYPERLINK(\"#'Patient Tracking'!\" & ADDRESS(MATCH($D1411, 'Patient Tracking'!$A:$A, 0), 1), \"View\")","v":{"$error":"#N/A"}}]
[{"$f":"HYPERLINK(\"#'Patient Tracking'!\" & ADDRESS(MATCH($D1412, 'Patient Tracking'!$A:$A, 0), 1), \"View\")","v":{"$error":"#N/A"}}]
[{"$f":"HYPERLINK(\"#'Patient Tracking'!\" & ADDRESS(MATCH($D1413, 'Patient Tracking'!$A:$A, 0), 1), \"View\")","v":{"$error":"#N/A"}}]
[{"$f":"HYPERLINK(\"#'Patient Tracking'!\" & ADDRESS(MATCH($D1414, 'Patient Tracking'!$A:$A, 0), 1), \"View\")","v":{"$error":"#N/A"}}]
[{"$f":"HYPERLINK(\"#'Patient Tracking'!\" & ADDRESS(MATCH($D1415, 'Patient Tracking'!$A:$A, 0), 1), \"View\")","v":{"$error":"#N/A"}}]
[{"$f":"HYPERLINK(\"#'Patient Tracking'!\" & ADDRESS(MATCH($D1416, 'Patient Tracking'!$A:$A, 0), 1), \"View\")","v":{"$error":"#N/A"}}]
[{"$f":"HYPERLINK(\"#'Patient Tracking'!\" & ADDRESS(MATCH($D1417, 'Patient Tracking'!$A:$A, 0), 1), \"View\")","v":{"$error":"#N/A"}}]
[{"$f":"HYPERLINK(\"#'Patient Tracking'!\" & ADDRESS(MATCH($D1418, 'Patient Tracking'!$A:$A, 0), 1), \"View\")","v":{"$error":"#N/A"}}]
[{"$f":"HYPERLINK(\"#'Patient Tracking'!\" & ADDRESS(MATCH($D1419, 'Patient Tracking'!$A:$A, 0), 1), \"View\")","v":{"$error":"#N/A"}}]
[{"$f":"HYPERLINK(\"#'Patient Tracking'!\" & ADDRESS(MATCH($D1420, 'Patient Tracking'!$A:$A, 0), 1), \"View\")","v":{"$error":"#N/A"}}]
[{"$f":"HYPERLINK(\"#'Patient Tracking'!\" & ADDRESS(MATCH($D1421, 'Patient Tracking'!$A:$A, 0), 1), \"View\")","v":{"$error":"#N/A"}}]
[{"$f":"HYPERLINK(\"#'Patient Tracking'!\" & ADDRESS(MATCH($D1422, 'Patient Tracking'!$A:$A, 0), 1), \"View\")","v":{"$error":"#N/A"}}]
[{"$f":"HYPERLINK(\"#'Patient Tracking'!\" & ADDRESS(MATCH($D1423, 'Patient Tracking'!$A:$A, 0), 1), \"View\")","v":{"$error":"#N/A"}}]
[{"$f":"HYPERLINK(\"#'Patient Tracking'!\" & ADDRESS(MATCH($D1424, 'Patient Tracking'!$A:$A, 0), 1), \"View\")","v":{"$error":"#N/A"}}]
[{"$f":"HYPERLINK(\"#'Patient Tracking'!\" & ADDRESS(MATCH($D1425, 'Patient Tracking'!$A:$A, 0), 1), \"View\")","v":{"$error":"#N/A"}}]
[{"$f":"HYPERLINK(\"#'Patient Tracking'!\" & ADDRESS(MATCH($D1426, 'Patient Tracking'!$A:$A, 0), 1), \"View\")","v":{"$error":"#N/A"}}]
[{"$f":"HYPERLINK(\"#'Patient Tracking'!\" & ADDRESS(MATCH($D1427, 'Patient Tracking'!$A:$A, 0), 1), \"View\")","v":{"$error":"#N/A"}}]
[{"$f":"HYPERLINK(\"#'Patient Tracking'!\" & ADDRESS(MATCH($D1428, 'Patient Tracking'!$A:$A, 0), 1), \"View\")","v":{"$error":"#N/A"}}]
[{"$f":"HYPERLINK(\"#'Patient Tracking'!\" & ADDRESS(MATCH($D1429, 'Patient Tracking'!$A:$A, 0), 1), \"View\")","v":{"$error":"#N/A"}}]
[{"$f":"HYPERLINK(\"#'Patient Tracking'!\" & ADDRESS(MATCH($D1430, 'Patient Tracking'!$A:$A, 0), 1), \"View\")","v":{"$error":"#N/A"}}]
[{"$f":"HYPERLINK(\"#'Patient Tracking'!\" & ADDRESS(MATCH($D1431, 'Patient Tracking'!$A:$A, 0), 1), \"View\")","v":{"$error":"#N/A"}}]
[{"$f":"HYPERLINK(\"#'Patient Tracking'!\" & ADDRESS(MATCH($D1432, 'Patient Tracking'!$A:$A, 0), 1), \"View\")","v":{"$error":"#N/A"}}]
[{"$f":"HYPERLINK(\"#'Patient Tracking'!\" & ADDRESS(MATCH($D1433, 'Patient Tracking'!$A:$A, 0), 1), \"View\")","v":{"$error":"#N/A"}}]
[{"$f":"HYPERLINK(\"#'Patient Tracking'!\" & ADDRESS(MATCH($D1434, 'Patient Tracking'!$A:$A, 0), 1), \"View\")","v":{"$error":"#N/A"}}]
[{"$f":"HYPERLINK(\"#'Patient Tracking'!\" & ADDRESS(MATCH($D1435, 'Patient Tracking'!$A:$A, 0), 1), \"View\")","v":{"$error":"#N/A"}}]
[{"$f":"HYPERLINK(\"#'Patient Tracking'!\" & ADDRESS(MATCH($D1436, 'Patient Tracking'!$A:$A, 0), 1), \"View\")","v":{"$error":"#N/A"}}]
[{"$f":"HYPERLINK(\"#'Patient Tracking'!\" & ADDRESS(MATCH($D1437, 'Patient Tracking'!$A:$A, 0), 1), \"View\")","v":{"$error":"#N/A"}}]
[{"$f":"HYPERLINK(\"#'Patient Tracking'!\" & ADDRESS(MATCH($D1438, 'Patient Tracking'!$A:$A, 0), 1), \"View\")","v":{"$error":"#N/A"}}]
[{"$f":"HYPERLINK(\"#'Patient Tracking'!\" & ADDRESS(MATCH($D1439, 'Patient Tracking'!$A:$A, 0), 1), \"View\")","v":{"$error":"#N/A"}}]
[{"$f":"HYPERLINK(\"#'Patient Tracking'!\" & ADDRESS(MATCH($D1440, 'Patient Tracking'!$A:$A, 0), 1), \"View\")","v":{"$error":"#N/A"}}]
[{"$f":"HYPERLINK(\"#'Patient Tracking'!\" & ADDRESS(MATCH($D1441, 'Patient Tracking'!$A:$A, 0), 1), \"View\")","v":{"$error":"#N/A"}}]
[{"$f":"HYPERLINK(\"#'Patient Tracking'!\" & ADDRESS(MATCH($D1442, 'Patient Tracking'!$A:$A, 0), 1), \"View\")","v":{"$error":"#N/A"}}]
[{"$f":"HYPERLINK(\"#'Patient Tracking'!\" & ADDRESS(MATCH($D1443, 'Patient Tracking'!$A:$A, 0), 1), \"View\")","v":{"$error":"#N/A"}}]
[{"$f":"HYPERLINK(\"#'Patient Tracking'!\" & ADDRESS(MATCH($D1444, 'Patient Tracking'!$A:$A, 0), 1), \"View\")","v":{"$error":"#N/A"}}]
[{"$f":"HYPERLINK(\"#'Patient Tracking'!\" & ADDRESS(MATCH($D1445, 'Patient Tracking'!$A:$A, 0), 1), \"View\")","v":{"$error":"#N/A"}}]
[{"$f":"HYPERLINK(\"#'Patient Tracking'!\" & ADDRESS(MATCH($D1446, 'Patient Tracking'!$A:$A, 0), 1), \"View\")","v":{"$error":"#N/A"}}]
[{"$f":"HYPERLINK(\"#'Patient Tracking'!\" & ADDRESS(MATCH($D1447, 'Patient Tracking'!$A:$A, 0), 1), \"View\")","v":{"$error":"#N/A"}}]
[{"$f":"HYPERLINK(\"#'Patient Tracking'!\" & ADDRESS(MATCH($D1448, 'Patient Tracking'!$A:$A, 0), 1), \"View\")","v":{"$error":"#N/A"}}]
[{"$f":"HYPERLINK(\"#'Patient Tracking'!\" & ADDRESS(MATCH($D1449, 'Patient Tracking'!$A:$A, 0), 1), \"View\")","v":{"$error":"#N/A"}}]
[{"$f":"HYPERLINK(\"#'Patient Tracking'!\" & ADDRESS(MATCH($D1450, 'Patient Tracking'!$A:$A, 0), 1), \"View\")","v":{"$error":"#N/A"}}]
[{"$f":"HYPERLINK(\"#'Patient Tracking'!\" & ADDRESS(MATCH($D1451, 'Patient Tracking'!$A:$A, 0), 1), \"View\")","v":{"$error":"#N/A"}}]
[{"$f":"HYPERLINK(\"#'Patient Tracking'!\" & ADDRESS(MATCH($D1452, 'Patient Tracking'!$A:$A, 0), 1), \"View\")","v":{"$error":"#N/A"}}]
[{"$f":"HYPERLINK(\"#'Patient Tracking'!\" & ADDRESS(MATCH($D1453, 'Patient Tracking'!$A:$A, 0), 1), \"View\")","v":{"$error":"#N/A"}}]
[{"$f":"HYPERLINK(\"#'Patient Tracking'!\" & ADDRESS(MATCH($D1454, 'Patient Tracking'!$A:$A, 0), 1), \"View\")","v":{"$error":"#N/A"}}]
[{"$f":"HYPERLINK(\"#'Patient Tracking'!\" & ADDRESS(MATCH($D1455, 'Patient Tracking'!$A:$A, 0), 1), \"View\")","v":{"$error":"#N/A"}}]
[{"$f":"HYPERLINK(\"#'Patient Tracking'!\" & ADDRESS(MATCH($D1456, 'Patient Tracking'!$A:$A, 0), 1), \"View\")","v":{"$error":"#N/A"}}]
[{"$f":"HYPERLINK(\"#'Patient Tracking'!\" & ADDRESS(MATCH($D1457, 'Patient Tracking'!$A:$A, 0), 1), \"View\")","v":{"$error":"#N/A"}}]
[{"$f":"HYPERLINK(\"#'Patient Tracking'!\" & ADDRESS(MATCH($D1458, 'Patient Tracking'!$A:$A, 0), 1), \"View\")","v":{"$error":"#N/A"}}]
[{"$f":"HYPERLINK(\"#'Patient Tracking'!\" & ADDRESS(MATCH($D1459, 'Patient Tracking'!$A:$A, 0), 1), \"View\")","v":{"$error":"#N/A"}}]
[{"$f":"HYPERLINK(\"#'Patient Tracking'!\" & ADDRESS(MATCH($D1460, 'Patient Tracking'!$A:$A, 0), 1), \"View\")","v":{"$error":"#N/A"}}]
[{"$f":"HYPERLINK(\"#'Patient Tracking'!\" & ADDRESS(MATCH($D1461, 'Patient Tracking'!$A:$A, 0), 1), \"View\")","v":{"$error":"#N/A"}}]
[{"$f":"HYPERLINK(\"#'Patient Tracking'!\" & ADDRESS(MATCH($D1462, 'Patient Tracking'!$A:$A, 0), 1), \"View\")","v":{"$error":"#N/A"}}]
[{"$f":"HYPERLINK(\"#'Patient Tracking'!\" & ADDRESS(MATCH($D1463, 'Patient Tracking'!$A:$A, 0), 1), \"View\")","v":{"$error":"#N/A"}}]
[{"$f":"HYPERLINK(\"#'Patient Tracking'!\" & ADDRESS(MATCH($D1464, 'Patient Tracking'!$A:$A, 0), 1), \"View\")","v":{"$error":"#N/A"}}]
[{"$f":"HYPERLINK(\"#'Patient Tracking'!\" & ADDRESS(MATCH($D1465, 'Patient Tracking'!$A:$A, 0), 1), \"View\")","v":{"$error":"#N/A"}}]
[{"$f":"HYPERLINK(\"#'Patient Tracking'!\" & ADDRESS(MATCH($D1466, 'Patient Tracking'!$A:$A, 0), 1), \"View\")","v":{"$error":"#N/A"}}]
[{"$f":"HYPERLINK(\"#'Patient Tracking'!\" & ADDRESS(MATCH($D1467, 'Patient Tracking'!$A:$A, 0), 1), \"View\")","v":{"$error":"#N/A"}}]
[{"$f":"HYPERLINK(\"#'Patient Tracking'!\" & ADDRESS(MATCH($D1468, 'Patient Tracking'!$A:$A, 0), 1), \"View\")","v":{"$error":"#N/A"}}]
[{"$f":"HYPERLINK(\"#'Patient Tracking'!\" & ADDRESS(MATCH($D1469, 'Patient Tracking'!$A:$A, 0), 1), \"View\")","v":{"$error":"#N/A"}}]
[{"$f":"HYPERLINK(\"#'Patient Tracking'!\" & ADDRESS(MATCH($D1470, 'Patient Tracking'!$A:$A, 0), 1), \"View\")","v":{"$error":"#N/A"}}]
[{"$f":"HYPERLINK(\"#'Patient Tracking'!\" & ADDRESS(MATCH($D1471, 'Patient Tracking'!$A:$A, 0), 1), \"View\")","v":{"$error":"#N/A"}}]
[{"$f":"HYPERLINK(\"#'Patient Tracking'!\" & ADDRESS(MATCH($D1472, 'Patient Tracking'!$A:$A, 0), 1), \"View\")","v":{"$error":"#N/A"}}]
[{"$f":"HYPERLINK(\"#'Patient Tracking'!\" & ADDRESS(MATCH($D1473, 'Patient Tracking'!$A:$A, 0), 1), \"View\")","v":{"$error":"#N/A"}}]
[{"$f":"HYPERLINK(\"#'Patient Tracking'!\" & ADDRESS(MATCH($D1474, 'Patient Tracking'!$A:$A, 0), 1), \"View\")","v":{"$error":"#N/A"}}]
[{"$f":"HYPERLINK(\"#'Patient Tracking'!\" & ADDRESS(MATCH($D1475, 'Patient Tracking'!$A:$A, 0), 1), \"View\")","v":{"$error":"#N/A"}}]
[{"$f":"HYPERLINK(\"#'Patient Tracking'!\" & ADDRESS(MATCH($D1476, 'Patient Tracking'!$A:$A, 0), 1), \"View\")","v":{"$error":"#N/A"}}]
[{"$f":"HYPERLINK(\"#'Patient Tracking'!\" & ADDRESS(MATCH($D1477, 'Patient Tracking'!$A:$A, 0), 1), \"View\")","v":{"$error":"#N/A"}}]
[{"$f":"HYPERLINK(\"#'Patient Tracking'!\" & ADDRESS(MATCH($D1478, 'Patient Tracking'!$A:$A, 0), 1), \"View\")","v":{"$error":"#N/A"}}]
[{"$f":"HYPERLINK(\"#'Patient Tracking'!\" & ADDRESS(MATCH($D1479, 'Patient Tracking'!$A:$A, 0), 1), \"View\")","v":{"$error":"#N/A"}}]
[{"$f":"HYPERLINK(\"#'Patient Tracking'!\" & ADDRESS(MATCH($D1480, 'Patient Tracking'!$A:$A, 0), 1), \"View\")","v":{"$error":"#N/A"}}]
[{"$f":"HYPERLINK(\"#'Patient Tracking'!\" & ADDRESS(MATCH($D1481, 'Patient Tracking'!$A:$A, 0), 1), \"View\")","v":{"$error":"#N/A"}}]
[{"$f":"HYPERLINK(\"#'Patient Tracking'!\" & ADDRESS(MATCH($D1482, 'Patient Tracking'!$A:$A, 0), 1), \"View\")","v":{"$error":"#N/A"}}]
[{"$f":"HYPERLINK(\"#'Patient Tracking'!\" & ADDRESS(MATCH($D1483, 'Patient Tracking'!$A:$A, 0), 1), \"View\")","v":{"$error":"#N/A"}}]
[{"$f":"HYPERLINK(\"#'Patient Tracking'!\" & ADDRESS(MATCH($D1484, 'Patient Tracking'!$A:$A, 0), 1), \"View\")","v":{"$error":"#N/A"}}]
[{"$f":"HYPERLINK(\"#'Patient Tracking'!\" & ADDRESS(MATCH($D1485, 'Patient Tracking'!$A:$A, 0), 1), \"View\")","v":{"$error":"#N/A"}}]
[{"$f":"HYPERLINK(\"#'Patient Tracking'!\" & ADDRESS(MATCH($D1486, 'Patient Tracking'!$A:$A, 0), 1), \"View\")","v":{"$error":"#N/A"}}]
[{"$f":"HYPERLINK(\"#'Patient Tracking'!\" & ADDRESS(MATCH($D1487, 'Patient Tracking'!$A:$A, 0), 1), \"View\")","v":{"$error":"#N/A"}}]
[{"$f":"HYPERLINK(\"#'Patient Tracking'!\" & ADDRESS(MATCH($D1488, 'Patient Tracking'!$A:$A, 0), 1), \"View\")","v":{"$error":"#N/A"}}]
[{"$f":"HYPERLINK(\"#'Patient Tracking'!\" & ADDRESS(MATCH($D1489, 'Patient Tracking'!$A:$A, 0), 1), \"View\")","v":{"$error":"#N/A"}}]
[{"$f":"HYPERLINK(\"#'Patient Tracking'!\" & ADDRESS(MATCH($D1490, 'Patient Tracking'!$A:$A, 0), 1), \"View\")","v":{"$error":"#N/A"}}]
[{"$f":"HYPERLINK(\"#'Patient Tracking'!\" & ADDRESS(MATCH($D1491, 'Patient Tracking'!$A:$A, 0), 1), \"View\")","v":{"$error":"#N/A"}}]
[{"$f":"HYPERLINK(\"#'Patient Tracking'!\" & ADDRESS(MATCH($D1492, 'Patient Tracking'!$A:$A, 0), 1), \"View\")","v":{"$error":"#N/A"}}]
[{"$f":"HYPERLINK(\"#'Patient Tracking'!\" & ADDRESS(MATCH($D1493, 'Patient Tracking'!$A:$A, 0), 1), \"View\")","v":{"$error":"#N/A"}}]
[{"$f":"HYPERLINK(\"#'Patient Tracking'!\" & ADDRESS(MATCH($D1494, 'Patient Tracking'!$A:$A, 0), 1), \"View\")","v":{"$error":"#N/A"}}]
[{"$f":"HYPERLINK(\"#'Patient Tracking'!\" & ADDRESS(MATCH($D1495, 'Patient Tracking'!$A:$A, 0), 1), \"View\")","v":{"$error":"#N/A"}}]
[{"$f":"HYPERLINK(\"#'Patient Tracking'!\" & ADDRESS(MATCH($D1496, 'Patient Tracking'!$A:$A, 0), 1), \"View\")","v":{"$error":"#N/A"}}]
[{"$f":"HYPERLINK(\"#'Patient Tracking'!\" & ADDRESS(MATCH($D1497, 'Patient Tracking'!$A:$A, 0), 1), \"View\")","v":{"$error":"#N/A"}}]
[{"$f":"HYPERLINK(\"#'Patient Tracking'!\" & ADDRESS(MATCH($D1498, 'Patient Tracking'!$A:$A, 0), 1), \"View\")","v":{"$error":"#N/A"}}]
[{"$f":"HYPERLINK(\"#'Patient Tracking'!\" & ADDRESS(MATCH($D1499, 'Patient Tracking'!$A:$A, 0), 1), \"View\")","v":{"$error":"#N/A"}}]
[{"$f":"HYPERLINK(\"#'Patient Tracking'!\" & ADDRESS(MATCH($D1500, 'Patient Tracking'!$A:$A, 0), 1), \"View\")","v":{"$error":"#N/A"}}]
[{"$f":"HYPERLINK(\"#'Patient Tracking'!\" & ADDRESS(MATCH($D1501, 'Patient Tracking'!$A:$A, 0), 1), \"View\")","v":{"$error":"#N/A"}}]
[{"$f":"HYPERLINK(\"#'Patient Tracking'!\" & ADDRESS(MATCH($D1502, 'Patient Tracking'!$A:$A, 0), 1), \"View\")","v":{"$error":"#N/A"}}]
[{"$f":"HYPERLINK(\"#'Patient Tracking'!\" & ADDRESS(MATCH($D1503, 'Patient Tracking'!$A:$A, 0), 1), \"View\")","v":{"$error":"#N/A"}}]
[{"$f":"HYPERLINK(\"#'Patient Tracking'!\" & ADDRESS(MATCH($D1504, 'Patient Tracking'!$A:$A, 0), 1), \"View\")","v":{"$error":"#N/A"}}]
[{"$f":"HYPERLINK(\"#'Patient Tracking'!\" & ADDRESS(MATCH($D1505, 'Patient Tracking'!$A:$A, 0), 1), \"View\")","v":{"$error":"#N/A"}}]
[{"$f":"HYPERLINK(\"#'Patient Tracking'!\" & ADDRESS(MATCH($D1506, 'Patient Tracking'!$A:$A, 0), 1), \"View\")","v":{"$error":"#N/A"}}]
[{"$f":"HYPERLINK(\"#'Patient Tracking'!\" & ADDRESS(MATCH($D1507, 'Patient Tracking'!$A:$A, 0), 1), \"View\")","v":{"$error":"#N/A"}}]
[{"$f":"HYPERLINK(\"#'Patient Tracking'!\" & ADDRESS(MATCH($D1508, 'Patient Tracking'!$A:$A, 0), 1), \"View\")","v":{"$error":"#N/A"}}]
[{"$f":"HYPERLINK(\"#'Patient Tracking'!\" & ADDRESS(MATCH($D1509, 'Patient Tracking'!$A:$A, 0), 1), \"View\")","v":{"$error":"#N/A"}}]
[{"$f":"HYPERLINK(\"#'Patient Tracking'!\" & ADDRESS(MATCH($D1510, 'Patient Tracking'!$A:$A, 0), 1), \"View\")","v":{"$error":"#N/A"}}]
[{"$f":"HYPERLINK(\"#'Patient Tracking'!\" & ADDRESS(MATCH($D1511, 'Patient Tracking'!$A:$A, 0), 1), \"View\")","v":{"$error":"#N/A"}}]
[{"$f":"HYPERLINK(\"#'Patient Tracking'!\" & ADDRESS(MATCH($D1512, 'Patient Tracking'!$A:$A, 0), 1), \"View\")","v":{"$error":"#N/A"}}]
[{"$f":"HYPERLINK(\"#'Patient Tracking'!\" & ADDRESS(MATCH($D1513, 'Patient Tracking'!$A:$A, 0), 1), \"View\")","v":{"$error":"#N/A"}}]
[{"$f":"HYPERLINK(\"#'Patient Tracking'!\" & ADDRESS(MATCH($D1514, 'Patient Tracking'!$A:$A, 0), 1), \"View\")","v":{"$error":"#N/A"}}]
[{"$f":"HYPERLINK(\"#'Patient Tracking'!\" & ADDRESS(MATCH($D1515, 'Patient Tracking'!$A:$A, 0), 1), \"View\")","v":{"$error":"#N/A"}}]
[{"$f":"HYPERLINK(\"#'Patient Tracking'!\" & ADDRESS(MATCH($D1516, 'Patient Tracking'!$A:$A, 0), 1), \"View\")","v":{"$error":"#N/A"}}]
[{"$f":"HYPERLINK(\"#'Patient Tracking'!\" & ADDRESS(MATCH($D1517, 'Patient Tracking'!$A:$A, 0), 1), \"View\")","v":{"$error":"#N/A"}}]
[{"$f":"HYPERLINK(\"#'Patient Tracking'!\" & ADDRESS(MATCH($D1518, 'Patient Tracking'!$A:$A, 0), 1), \"View\")","v":{"$error":"#N/A"}}]
[{"$f":"HYPERLINK(\"#'Patient Tracking'!\" & ADDRESS(MATCH($D1519, 'Patient Tracking'!$A:$A, 0), 1), \"View\")","v":{"$error":"#N/A"}}]
[{"$f":"HYPERLINK(\"#'Patient Tracking'!\" & ADDRESS(MATCH($D1520, 'Patient Tracking'!$A:$A, 0), 1), \"View\")","v":{"$error":"#N/A"}}]
[{"$f":"HYPERLINK(\"#'Patient Tracking'!\" & ADDRESS(MATCH($D1521, 'Patient Tracking'!$A:$A, 0), 1), \"View\")","v":{"$error":"#N/A"}}]
[{"$f":"HYPERLINK(\"#'Patient Tracking'!\" & ADDRESS(MATCH($D1522, 'Patient Tracking'!$A:$A, 0), 1), \"View\")","v":{"$error":"#N/A"}}]
[{"$f":"HYPERLINK(\"#'Patient Tracking'!\" & ADDRESS(MATCH($D1523, 'Patient Tracking'!$A:$A, 0), 1), \"View\")","v":{"$error":"#N/A"}}]
[{"$f":"HYPERLINK(\"#'Patient Tracking'!\" & ADDRESS(MATCH($D1524, 'Patient Tracking'!$A:$A, 0), 1), \"View\")","v":{"$error":"#N/A"}}]
[{"$f":"HYPERLINK(\"#'Patient Tracking'!\" & ADDRESS(MATCH($D1525, 'Patient Tracking'!$A:$A, 0), 1), \"View\")","v":{"$error":"#N/A"}}]
[{"$f":"HYPERLINK(\"#'Patient Tracking'!\" & ADDRESS(MATCH($D1526, 'Patient Tracking'!$A:$A, 0), 1), \"View\")","v":{"$error":"#N/A"}}]
[{"$f":"HYPERLINK(\"#'Patient Tracking'!\" & ADDRESS(MATCH($D1527, 'Patient Tracking'!$A:$A, 0), 1), \"View\")","v":{"$error":"#N/A"}}]
[{"$f":"HYPERLINK(\"#'Patient Tracking'!\" & ADDRESS(MATCH($D1528, 'Patient Tracking'!$A:$A, 0), 1), \"View\")","v":{"$error":"#N/A"}}]
[{"$f":"HYPERLINK(\"#'Patient Tracking'!\" & ADDRESS(MATCH($D1529, 'Patient Tracking'!$A:$A, 0), 1), \"View\")","v":{"$error":"#N/A"}}]
[{"$f":"HYPERLINK(\"#'Patient Tracking'!\" & ADDRESS(MATCH($D1530, 'Patient Tracking'!$A:$A, 0), 1), \"View\")","v":{"$error":"#N/A"}}]
[{"$f":"HYPERLINK(\"#'Patient Tracking'!\" & ADDRESS(MATCH($D1531, 'Patient Tracking'!$A:$A, 0), 1), \"View\")","v":{"$error":"#N/A"}}]
[{"$f":"HYPERLINK(\"#'Patient Tracking'!\" & ADDRESS(MATCH($D1532, 'Patient Tracking'!$A:$A, 0), 1), \"View\")","v":{"$error":"#N/A"}}]
[{"$f":"HYPERLINK(\"#'Patient Tracking'!\" & ADDRESS(MATCH($D1533, 'Patient Tracking'!$A:$A, 0), 1), \"View\")","v":{"$error":"#N/A"}}]
[{"$f":"HYPERLINK(\"#'Patient Tracking'!\" & ADDRESS(MATCH($D1534, 'Patient Tracking'!$A:$A, 0), 1), \"View\")","v":{"$error":"#N/A"}}]
[{"$f":"HYPERLINK(\"#'Patient Tracking'!\" & ADDRESS(MATCH($D1535, 'Patient Tracking'!$A:$A, 0), 1), \"View\")","v":{"$error":"#N/A"}}]
[{"$f":"HYPERLINK(\"#'Patient Tracking'!\" & ADDRESS(MATCH($D1536, 'Patient Tracking'!$A:$A, 0), 1), \"View\")","v":{"$error":"#N/A"}}]
[{"$f":"HYPERLINK(\"#'Patient Tracking'!\" & ADDRESS(MATCH($D1537, 'Patient Tracking'!$A:$A, 0), 1), \"View\")","v":{"$error":"#N/A"}}]
[{"$f":"HYPERLINK(\"#'Patient Tracking'!\" & ADDRESS(MATCH($D1538, 'Patient Tracking'!$A:$A, 0), 1), \"View\")","v":{"$error":"#N/A"}}]
[{"$f":"HYPERLINK(\"#'Patient Tracking'!\" & ADDRESS(MATCH($D1539, 'Patient Tracking'!$A:$A, 0), 1), \"View\")","v":{"$error":"#N/A"}}]
[{"$f":"HYPERLINK(\"#'Patient Tracking'!\" & ADDRESS(MATCH($D1540, 'Patient Tracking'!$A:$A, 0), 1), \"View\")","v":{"$error":"#N/A"}}]
[{"$f":"HYPERLINK(\"#'Patient Tracking'!\" & ADDRESS(MATCH($D1541, 'Patient Tracking'!$A:$A, 0), 1), \"View\")","v":{"$error":"#N/A"}}]
[{"$f":"HYPERLINK(\"#'Patient Tracking'!\" & ADDRESS(MATCH($D1542, 'Patient Tracking'!$A:$A, 0), 1), \"View\")","v":{"$error":"#N/A"}}]
[{"$f":"HYPERLINK(\"#'Patient Tracking'!\" & ADDRESS(MATCH($D1543, 'Patient Tracking'!$A:$A, 0), 1), \"View\")","v":{"$error":"#N/A"}}]
[{"$f":"HYPERLINK(\"#'Patient Tracking'!\" & ADDRESS(MATCH($D1544, 'Patient Tracking'!$A:$A, 0), 1), \"View\")","v":{"$error":"#N/A"}}]
[{"$f":"HYPERLINK(\"#'Patient Tracking'!\" & ADDRESS(MATCH($D1545, 'Patient Tracking'!$A:$A, 0), 1), \"View\")","v":{"$error":"#N/A"}}]
[{"$f":"HYPERLINK(\"#'Patient Tracking'!\" & ADDRESS(MATCH($D1546, 'Patient Tracking'!$A:$A, 0), 1), \"View\")","v":{"$error":"#N/A"}}]
[{"$f":"HYPERLINK(\"#'Patient Tracking'!\" & ADDRESS(MATCH($D1547, 'Patient Tracking'!$A:$A, 0), 1), \"View\")","v":{"$error":"#N/A"}}]
[{"$f":"HYPERLINK(\"#'Patient Tracking'!\" & ADDRESS(MATCH($D1548, 'Patient Tracking'!$A:$A, 0), 1), \"View\")","v":{"$error":"#N/A"}}]
[{"$f":"HYPERLINK(\"#'Patient Tracking'!\" & ADDRESS(MATCH($D1549, 'Patient Tracking'!$A:$A, 0), 1), \"View\")","v":{"$error":"#N/A"}}]
[{"$f":"HYPERLINK(\"#'Patient Tracking'!\" & ADDRESS(MATCH($D1550, 'Patient Tracking'!$A:$A, 0), 1), \"View\")","v":{"$error":"#N/A"}}]
[{"$f":"HYPERLINK(\"#'Patient Tracking'!\" & ADDRESS(MATCH($D1551, 'Patient Tracking'!$A:$A, 0), 1), \"View\")","v":{"$error":"#N/A"}}]
[{"$f":"HYPERLINK(\"#'Patient Tracking'!\" & ADDRESS(MATCH($D1552, 'Patient Tracking'!$A:$A, 0), 1), \"View\")","v":{"$error":"#N/A"}}]
[{"$f":"HYPERLINK(\"#'Patient Tracking'!\" & ADDRESS(MATCH($D1553, 'Patient Tracking'!$A:$A, 0), 1), \"View\")","v":{"$error":"#N/A"}}]
[{"$f":"HYPERLINK(\"#'Patient Tracking'!\" & ADDRESS(MATCH($D1554, 'Patient Tracking'!$A:$A, 0), 1), \"View\")","v":{"$error":"#N/A"}}]
[{"$f":"HYPERLINK(\"#'Patient Tracking'!\" & ADDRESS(MATCH($D1555, 'Patient Tracking'!$A:$A, 0), 1), \"View\")","v":{"$error":"#N/A"}}]
[{"$f":"HYPERLINK(\"#'Patient Tracking'!\" & ADDRESS(MATCH($D1556, 'Patient Tracking'!$A:$A, 0), 1), \"View\")","v":{"$error":"#N/A"}}]
[{"$f":"HYPERLINK(\"#'Patient Tracking'!\" & ADDRESS(MATCH($D1557, 'Patient Tracking'!$A:$A, 0), 1), \"View\")","v":{"$error":"#N/A"}}]
[{"$f":"HYPERLINK(\"#'Patient Tracking'!\" & ADDRESS(MATCH($D1558, 'Patient Tracking'!$A:$A, 0), 1), \"View\")","v":{"$error":"#N/A"}}]
[{"$f":"HYPERLINK(\"#'Patient Tracking'!\" & ADDRESS(MATCH($D1559, 'Patient Tracking'!$A:$A, 0), 1), \"View\")","v":{"$error":"#N/A"}}]
[{"$f":"HYPERLINK(\"#'Patient Tracking'!\" & ADDRESS(MATCH($D1560, 'Patient Tracking'!$A:$A, 0), 1), \"View\")","v":{"$error":"#N/A"}}]
[{"$f":"HYPERLINK(\"#'Patient Tracking'!\" & ADDRESS(MATCH($D1561, 'Patient Tracking'!$A:$A, 0), 1), \"View\")","v":{"$error":"#N/A"}}]
[{"$f":"HYPERLINK(\"#'Patient Tracking'!\" & ADDRESS(MATCH($D1562, 'Patient Tracking'!$A:$A, 0), 1), \"View\")","v":{"$error":"#N/A"}}]
[{"$f":"HYPERLINK(\"#'Patient Tracking'!\" & ADDRESS(MATCH($D1563, 'Patient Tracking'!$A:$A, 0), 1), \"View\")","v":{"$error":"#N/A"}}]
[{"$f":"HYPERLINK(\"#'Patient Tracking'!\" & ADDRESS(MATCH($D1564, 'Patient Tracking'!$A:$A, 0), 1), \"View\")","v":{"$error":"#N/A"}}]
[{"$f":"HYPERLINK(\"#'Patient Tracking'!\" & ADDRESS(MATCH($D1565, 'Patient Tracking'!$A:$A, 0), 1), \"View\")","v":{"$error":"#N/A"}}]
[{"$f":"HYPERLINK(\"#'Patient Tracking'!\" & ADDRESS(MATCH($D1566, 'Patient Tracking'!$A:$A, 0), 1), \"View\")","v":{"$error":"#N/A"}}]
[{"$f":"HYPERLINK(\"#'Patient Tracking'!\" & ADDRESS(MATCH($D1567, 'Patient Tracking'!$A:$A, 0), 1), \"View\")","v":{"$error":"#N/A"}}]
[{"$f":"HYPERLINK(\"#'Patient Tracking'!\" & ADDRESS(MATCH($D1568, 'Patient Tracking'!$A:$A, 0), 1), \"View\")","v":{"$error":"#N/A"}}]
[{"$f":"HYPERLINK(\"#'Patient Tracking'!\" & ADDRESS(MATCH($D1569, 'Patient Tracking'!$A:$A, 0), 1), \"View\")","v":{"$error":"#N/A"}}]
[{"$f":"HYPERLINK(\"#'Patient Tracking'!\" & ADDRESS(MATCH($D1570, 'Patient Tracking'!$A:$A, 0), 1), \"View\")","v":{"$error":"#N/A"}}]
[{"$f":"HYPERLINK(\"#'Patient Tracking'!\" & ADDRESS(MATCH($D1571, 'Patient Tracking'!$A:$A, 0), 1), \"View\")","v":{"$error":"#N/A"}}]
[{"$f":"HYPERLINK(\"#'Patient Tracking'!\" & ADDRESS(MATCH($D1572, 'Patient Tracking'!$A:$A, 0), 1), \"View\")","v":{"$error":"#N/A"}}]
[{"$f":"HYPERLINK(\"#'Patient Tracking'!\" & ADDRESS(MATCH($D1573, 'Patient Tracking'!$A:$A, 0), 1), \"View\")","v":{"$error":"#N/A"}}]
[{"$f":"HYPERLINK(\"#'Patient Tracking'!\" & ADDRESS(MATCH($D1574, 'Patient Tracking'!$A:$A, 0), 1), \"View\")","v":{"$error":"#N/A"}}]
[{"$f":"HYPERLINK(\"#'Patient Tracking'!\" & ADDRESS(MATCH($D1575, 'Patient Tracking'!$A:$A, 0), 1), \"View\")","v":{"$error":"#N/A"}}]
[{"$f":"HYPERLINK(\"#'Patient Tracking'!\" & ADDRESS(MATCH($D1576, 'Patient Tracking'!$A:$A, 0), 1), \"View\")","v":{"$error":"#N/A"}}]
[{"$f":"HYPERLINK(\"#'Patient Tracking'!\" & ADDRESS(MATCH($D1577, 'Patient Tracking'!$A:$A, 0), 1), \"View\")","v":{"$error":"#N/A"}}]
[{"$f":"HYPERLINK(\"#'Patient Tracking'!\" & ADDRESS(MATCH($D1578, 'Patient Tracking'!$A:$A, 0), 1), \"View\")","v":{"$error":"#N/A"}}]
[{"$f":"HYPERLINK(\"#'Patient Tracking'!\" & ADDRESS(MATCH($D1579, 'Patient Tracking'!$A:$A, 0), 1), \"View\")","v":{"$error":"#N/A"}}]
[{"$f":"HYPERLINK(\"#'Patient Tracking'!\" & ADDRESS(MATCH($D1580, 'Patient Tracking'!$A:$A, 0), 1), \"View\")","v":{"$error":"#N/A"}}]
[{"$f":"HYPERLINK(\"#'Patient Tracking'!\" & ADDRESS(MATCH($D1581, 'Patient Tracking'!$A:$A, 0), 1), \"View\")","v":{"$error":"#N/A"}}]
[{"$f":"HYPERLINK(\"#'Patient Tracking'!\" & ADDRESS(MATCH($D1582, 'Patient Tracking'!$A:$A, 0), 1), \"View\")","v":{"$error":"#N/A"}}]
[{"$f":"HYPERLINK(\"#'Patient Tracking'!\" & ADDRESS(MATCH($D1583, 'Patient Tracking'!$A:$A, 0), 1), \"View\")","v":{"$error":"#N/A"}}]
[{"$f":"HYPERLINK(\"#'Patient Tracking'!\" & ADDRESS(MATCH($D1584, 'Patient Tracking'!$A:$A, 0), 1), \"View\")","v":{"$error":"#N/A"}}]
[{"$f":"HYPERLINK(\"#'Patient Tracking'!\" & ADDRESS(MATCH($D1585, 'Patient Tracking'!$A:$A, 0), 1), \"View\")","v":{"$error":"#N/A"}}]
[{"$f":"HYPERLINK(\"#'Patient Tracking'!\" & ADDRESS(MATCH($D1586, 'Patient Tracking'!$A:$A, 0), 1), \"View\")","v":{"$error":"#N/A"}}]
[{"$f":"HYPERLINK(\"#'Patient Tracking'!\" & ADDRESS(MATCH($D1587, 'Patient Tracking'!$A:$A, 0), 1), \"View\")","v":{"$error":"#N/A"}}]
[{"$f":"HYPERLINK(\"#'Patient Tracking'!\" & ADDRESS(MATCH($D1588, 'Patient Tracking'!$A:$A, 0), 1), \"View\")","v":{"$error":"#N/A"}}]
[{"$f":"HYPERLINK(\"#'Patient Tracking'!\" & ADDRESS(MATCH($D1589, 'Patient Tracking'!$A:$A, 0), 1), \"View\")","v":{"$error":"#N/A"}}]
[{"$f":"HYPERLINK(\"#'Patient Tracking'!\" & ADDRESS(MATCH($D1590, 'Patient Tracking'!$A:$A, 0), 1), \"View\")","v":{"$error":"#N/A"}}]
[{"$f":"HYPERLINK(\"#'Patient Tracking'!\" & ADDRESS(MATCH($D1591, 'Patient Tracking'!$A:$A, 0), 1), \"View\")","v":{"$error":"#N/A"}}]
[{"$f":"HYPERLINK(\"#'Patient Tracking'!\" & ADDRESS(MATCH($D1592, 'Patient Tracking'!$A:$A, 0), 1), \"View\")","v":{"$error":"#N/A"}}]
[{"$f":"HYPERLINK(\"#'Patient Tracking'!\" & ADDRESS(MATCH($D1593, 'Patient Tracking'!$A:$A, 0), 1), \"View\")","v":{"$error":"#N/A"}}]
[{"$f":"HYPERLINK(\"#'Patient Tracking'!\" & ADDRESS(MATCH($D1594, 'Patient Tracking'!$A:$A, 0), 1), \"View\")","v":{"$error":"#N/A"}}]
[{"$f":"HYPERLINK(\"#'Patient Tracking'!\" & ADDRESS(MATCH($D1595, 'Patient Tracking'!$A:$A, 0), 1), \"View\")","v":{"$error":"#N/A"}}]
[{"$f":"HYPERLINK(\"#'Patient Tracking'!\" & ADDRESS(MATCH($D1596, 'Patient Tracking'!$A:$A, 0), 1), \"View\")","v":{"$error":"#N/A"}}]
[{"$f":"HYPERLINK(\"#'Patient Tracking'!\" & ADDRESS(MATCH($D1597, 'Patient Tracking'!$A:$A, 0), 1), \"View\")","v":{"$error":"#N/A"}}]
[{"$f":"HYPERLINK(\"#'Patient Tracking'!\" & ADDRESS(MATCH($D1598, 'Patient Tracking'!$A:$A, 0), 1), \"View\")","v":{"$error":"#N/A"}}]
[{"$f":"HYPERLINK(\"#'Patient Tracking'!\" & ADDRESS(MATCH($D1599, 'Patient Tracking'!$A:$A, 0), 1), \"View\")","v":{"$error":"#N/A"}}]
[{"$f":"HYPERLINK(\"#'Patient Tracking'!\" & ADDRESS(MATCH($D1600, 'Patient Tracking'!$A:$A, 0), 1), \"View\")","v":{"$error":"#N/A"}}]
[{"$f":"HYPERLINK(\"#'Patient Tracking'!\" & ADDRESS(MATCH($D1601, 'Patient Tracking'!$A:$A, 0), 1), \"View\")","v":{"$error":"#N/A"}}]
[{"$f":"HYPERLINK(\"#'Patient Tracking'!\" & ADDRESS(MATCH($D1602, 'Patient Tracking'!$A:$A, 0), 1), \"View\")","v":{"$error":"#N/A"}}]

{"sheet":"Caseload Overview - BACKUP","index":4,"n_rows":1602,"n_cols":19,"rows_kept":1602,"cut":false,"hidden":true,"merged":[[0,0,0,2],[0,4,0,18],[1,4,1,8],[1,9,1,12],[1,13,1,16],[1,17,2,18],[2,4,2,8],[2,9,2,12],[2,13,2,16]]}
["Click here for Patient Tracking Spreadsheet Template resources",null,null,null,"1) EVERY time this worksheet is used, ensure all other versions of the template are CLOSED, and press \"Ctrl+J\" to refresh the page.\n2) Do NOT use the Caseload Overview if fewer than 2 ACTIVE patients are entered on the Patient Tracking worksheet.\n3) Do NOT change the number of rows or columns. If you need to make any changes to the table whatsoever (other than sort and filter), use the de-identified template provided at the link to the left.\n4) Be aware that at least one PHQ-9 score must be entered for a given record in order for that record's GAD-7 scores to display properly in the Caseload Overview."]
[null,null,null,null,"Treatment Status\nIndicates that the the most recent contact was over 2 months ago",null,null,null,null,"PHQ-9",null,null,null,"GAD-7\nA green check mark indicates that a patient's last available GAD-7 score was at target (<8 or 50% decrease from initial score)",null,null,null,"Psychiatric Case Review"]
[null,null,null,null,"      The most recent contact was over 1 month (30 days) ago\n       The next follow-up contact is past due",null,null,null,null,"      The last available PHQ-9 score is at target (<5 or 50% decrease \n       from initial score)\n       The last available PHQ-9 score is more than 30 days old",null,null,null,"      The last available GAD-7 score is at target (<10 or 50% decrease \n       from initial score)\n       The last available GAD-7 score is more than 30 days old"]
["View Record","Treatment Status","Name","MRN","Date of Initial Assessment","Date of Most Recent Contact","Date Next Follow-up Due","Number of Follow-up Contacts","Weeks in Treatment","Initial PHQ-9 Score","Last Available PHQ-9 Score","% Change in PHQ-9 Score","Date of Last PHQ-9 Score","Initial GAD-7 Score","Last Available GAD-7 Score","% Change in GAD-7 Score","Date of Last GAD-7 Score","Flag","Most Recent Psychiatric Case Review Note"]
[{"$f":"HYPERLINK(\"#'Patient Tracking'!\" & ADDRESS(MATCH($D5, 'Patient Tracking'!$A:$A, 0), 1), \"View\")","v":"View"},"Active","Bob Dolittle",1222,"2016-09-02","2016-10-28","2016-11-11",3,13.857142857142858,22,19,-0.13636363636363635,"2016-10-28",12,10,-0.16666666666666663,"2016-10-28","Flag as safety risk","2016-09-17"]
[{"$f":"HYPERLINK(\"#'Patient Tracking'!\" & ADDRESS(MATCH($D6, 'Patient Tracking'!$A:$A, 0), 1), \"View\")","v":"View"},"Active","Susan Test",1678,"2016-02-20","2016-10-30","2016-11-13",10,41.714285714285715,22,15,-0.31818181818181823,"2016-10-30",18,14,-0.22222222222222221,"2016-10-30","Flag for discussion & safety risk","2016-09-15"]
[{"$f":"HYPERLINK(\"#'Patient Tracking'!\" & ADDRESS(MATCH($D7, 'Patient Tracking'!$A:$A, 0), 1), \"View\")","v":"View"},"Active","Albert Smith",5555,"2016-08-05","2016-10-22","2016-11-19",5,17.857142857142858,18,18,0,"2016-10-22",14,10,-0.2857142857142857,"2016-10-22","Flag for discussion",""]
[{"$f":"HYPERLINK(\"#'Patient Tracking'!\" & ADDRESS(MATCH($D8, 'Patient Tracking'!$A:$A, 0), 1), \"View\")","v":"View"},"Active","Nancy Fake",6789,"2016-11-05","2016-11-05","2016-11-19",0,4.7142857142857144,"No Score","No Score","","","No Score","No Score","","","",""]
[{"$f":"HYPERLINK(\"#'Patient Tracking'!\" & ADDRESS(MATCH($D9, 'Patient Tracking'!$A:$A, 0), 1), \"View\")","v":"View"},"Active","Joe Smith",1234,"2016-09-01","2016-11-08","2016-11-22",5,14,15,9,-0.4,"2016-11-08",11,7,-0.36363636363636365,"2016-11-08","","2016-10-24"]
[{"$f":"HYPERLINK(\"#'Patient Tracking'!\" & ADDRESS(MATCH($D10, 'Patient Tracking'!$A:$A, 0), 1), \"View\")","v":"View"},"RP","Betty Test",2500,"2016-05-15","2016-11-15","2016-12-15",10,29.571428571428573,12,1,-0.91666666666666663,"2016-11-15",9,3,-0.66666666666666674,"2016-11-15","",""]
[{"$f":"HYPERLINK(\"#'Patient Tracking'!\" & ADDRESS(MATCH($D11, 'Patient Tracking'!$A:$A, 0), 1), \"View\")","v":"View"},"RP","John Doe",4321,"2016-01-15","2016-11-16","2016-12-16",12,46.857142857142854,20,0,-1,"2016-11-16",14,1,-0.9285714285714286,"2016-11-16","","2016-11-01"]
[{"$f":"HYPERLINK(\"#'Patient Tracking'!\" & ADDRESS(MATCH($D12, 'Patient Tracking'!$A:$A, 0), 1), \"View\")","v":{"$error":"#N/A"}}]
[{"$f":"HYPERLINK(\"#'Patient Tracking'!\" & ADDRESS(MATCH($D13, 'Patient Tracking'!$A:$A, 0), 1), \"View\")","v":{"$error":"#N/A"}}]
[{"$f":"HYPERLINK(\"#'Patient Tracking'!\" & ADDRESS(MATCH($D14, 'Patient Tracking'!$A:$A, 0), 1), \"View\")","v":{"$error":"#N/A"}}]
[{"$f":"HYPERLINK(\"#'Patient Tracking'!\" & ADDRESS(MATCH($D15, 'Patient Tracking'!$A:$A, 0), 1), \"View\")","v":{"$error":"#N/A"}}]
[{"$f":"HYPERLINK(\"#'Patient Tracking'!\" & ADDRESS(MATCH($D16, 'Patient Tracking'!$A:$A, 0), 1), \"View\")","v":{"$error":"#N/A"}}]
[{"$f":"HYPERLINK(\"#'Patient Tracking'!\" & ADDRESS(MATCH($D17, 'Patient Tracking'!$A:$A, 0), 1), \"View\")","v":{"$error":"#N/A"}}]
[{"$f":"HYPERLINK(\"#'Patient Tracking'!\" & ADDRESS(MATCH($D18, 'Patient Tracking'!$A:$A, 0), 1), \"View\")","v":{"$error":"#N/A"}}]
[{"$f":"HYPERLINK(\"#'Patient Tracking'!\" & ADDRESS(MATCH($D19, 'Patient Tracking'!$A:$A, 0), 1), \"View\")","v":{"$error":"#N/A"}}]
[{"$f":"HYPERLINK(\"#'Patient Tracking'!\" & ADDRESS(MATCH($D20, 'Patient Tracking'!$A:$A, 0), 1), \"View\")","v":{"$error":"#N/A"}}]
[{"$f":"HYPERLINK(\"#'Patient Tracking'!\" & ADDRESS(MATCH($D21, 'Patient Tracking'!$A:$A, 0), 1), \"View\")","v":{"$error":"#N/A"}}]
[{"$f":"HYPERLINK(\"#'Patient Tracking'!\" & ADDRESS(MATCH($D22, 'Patient Tracking'!$A:$A, 0), 1), \"View\")","v":{"$error":"#N/A"}}]
[{"$f":"HYPERLINK(\"#'Patient Tracking'!\" & ADDRESS(MATCH($D23, 'Patient Tracking'!$A:$A, 0), 1), \"View\")","v":{"$error":"#N/A"}}]
[{"$f":"HYPERLINK(\"#'Patient Tracking'!\" & ADDRESS(MATCH($D24, 'Patient Tracking'!$A:$A, 0), 1), \"View\")","v":{"$error":"#N/A"}}]
[{"$f":"HYPERLINK(\"#'Patient Tracking'!\" & ADDRESS(MATCH($D25, 'Patient Tracking'!$A:$A, 0), 1), \"View\")","v":{"$error":"#N/A"}}]
[{"$f":"HYPERLINK(\"#'Patient Tracking'!\" & ADDRESS(MATCH($D26, 'Patient Tracking'!$A:$A, 0), 1), \"View\")","v":{"$error":"#N/A"}}]
[{"$f":"HYPERLINK(\"#'Patient Tracking'!\" & ADDRESS(MATCH($D27, 'Patient Tracking'!$A:$A, 0), 1), \"View\")","v":{"$error":"#N/A"}}]
[{"$f":"HYPERLINK(\"#'Patient Tracking'!\" & ADDRESS(MATCH($D28, 'Patient Tracking'!$A:$A, 0), 1), \"View\")","v":{"$error":"#N/A"}}]
[{"$f":"HYPERLINK(\"#'Patient Tracking'!\" & ADDRESS(MATCH($D29, 'Patient Tracking'!$A:$A, 0), 1), \"View\")","v":{"$error":"#N/A"}}]
[{"$f":"HYPERLINK(\"#'Patient Tracking'!\" & ADDRESS(MATCH($D30, 'Patient Tracking'!$A:$A, 0), 1), \"View\")","v":{"$error":"#N/A"}}]
[{"$f":"HYPERLINK(\"#'Patient Tracking'!\" & ADDRESS(MATCH($D31, 'Patient Tracking'!$A:$A, 0), 1), \"View\")","v":{"$error":"#N/A"}}]
[{"$f":"HYPERLINK(\"#'Patient Tracking'!\" & ADDRESS(MATCH($D32, 'Patient Tracking'!$A:$A, 0), 1), \"View\")","v":{"$error":"#N/A"}}]
[{"$f":"HYPERLINK(\"#'Patient Tracking'!\" & ADDRESS(MATCH($D33, 'Patient Tracking'!$A:$A, 0), 1), \"View\")","v":{"$error":"#N/A"}}]
[{"$f":"HYPERLINK(\"#'Patient Tracking'!\" & ADDRESS(MATCH($D34, 'Patient Tracking'!$A:$A, 0), 1), \"View\")","v":{"$error":"#N/A"}}]
[{"$f":"HYPERLINK(\"#'Patient Tracking'!\" & ADDRESS(MATCH($D35, 'Patient Tracking'!$A:$A, 0), 1), \"View\")","v":{"$error":"#N/A"}}]
[{"$f":"HYPERLINK(\"#'Patient Tracking'!\" & ADDRESS(MATCH($D36, 'Patient Tracking'!$A:$A, 0), 1), \"View\")","v":{"$error":"#N/A"}}]
[{"$f":"HYPERLINK(\"#'Patient Tracking'!\" & ADDRESS(MATCH($D37, 'Patient Tracking'!$A:$A, 0), 1), \"View\")","v":{"$error":"#N/A"}}]
[{"$f":"HYPERLINK(\"#'Patient Tracking'!\" & ADDRESS(MATCH($D38, 'Patient Tracking'!$A:$A, 0), 1), \"View\")","v":{"$error":"#N/A"}}]
[{"$f":"HYPERLINK(\"#'Patient Tracking'!\" & ADDRESS(MATCH($D39, 'Patient Tracking'!$A:$A, 0), 1), \"View\")","v":{"$error":"#N/A"}}]
[{"$f":"HYPERLINK(\"#'Patient Tracking'!\" & ADDRESS(MATCH($D40, 'Patient Tracking'!$A:$A, 0), 1), \"View\")","v":{"$error":"#N/A"}}]
[{"$f":"HYPERLINK(\"#'Patient Tracking'!\" & ADDRESS(MATCH($D41, 'Patient Tracking'!$A:$A, 0), 1), \"View\")","v":{"$error":"#N/A"}}]
[{"$f":"HYPERLINK(\"#'Patient Tracking'!\" & ADDRESS(MATCH($D42, 'Patient Tracking'!$A:$A, 0), 1), \"View\")","v":{"$error":"#N/A"}}]
[{"$f":"HYPERLINK(\"#'Patient Tracking'!\" & ADDRESS(MATCH($D43, 'Patient Tracking'!$A:$A, 0), 1), \"View\")","v":{"$error":"#N/A"}}]
[{"$f":"HYPERLINK(\"#'Patient Tracking'!\" & ADDRESS(MATCH($D44, 'Patient Tracking'!$A:$A, 0), 1), \"View\")","v":{"$error":"#N/A"}}]
[{"$f":"HYPERLINK(\"#'Patient Tracking'!\" & ADDRESS(MATCH($D45, 'Patient Tracking'!$A:$A, 0), 1), \"View\")","v":{"$error":"#N/A"}}]
[{"$f":"HYPERLINK(\"#'Patient Tracking'!\" & ADDRESS(MATCH($D46, 'Patient Tracking'!$A:$A, 0), 1), \"View\")","v":{"$error":"#N/A"}}]
[{"$f":"HYPERLINK(\"#'Patient Tracking'!\" & ADDRESS(MATCH($D47, 'Patient Tracking'!$A:$A, 0), 1), \"View\")","v":{"$error":"#N/A"}}]
[{"$f":"HYPERLINK(\"#'Patient Tracking'!\" & ADDRESS(MATCH($D48, 'Patient Tracking'!$A:$A, 0), 1), \"View\")","v":{"$error":"#N/A"}}]
[{"$f":"HYPERLINK(\"#'Patient Tracking'!\" & ADDRESS(MATCH($D49, 'Patient Tracking'!$A:$A, 0), 1), \"View\")","v":{"$error":"#N/A"}}]
[{"$f":"HYPERLINK(\"#'Patient Tracking'!\" & ADDRESS(MATCH($D50, 'Patient Tracking'!$A:$A, 0), 1), \"View\")","v":{"$error":"#N/A"}}]
[{"$f":"HYPERLINK(\"#'Patient Tracking'!\" & ADDRESS(MATCH($D51, 'Patient Tracking'!$A:$A, 0), 1), \"View\")","v":{"$error":"#N/A"}}]
[{"$f":"HYPERLINK(\"#'Patient Tracking'!\" & ADDRESS(MATCH($D52, 'Patient Tracking'!$A:$A, 0), 1), \"View\")","v":{"$error":"#N/A"}}]
[{"$f":"HYPERLINK(\"#'Patient Tracking'!\" & ADDRESS(MATCH($D53, 'Patient Tracking'!$A:$A, 0), 1), \"View\")","v":{"$error":"#N/A"}}]
[{"$f":"HYPERLINK(\"#'Patient Tracking'!\" & ADDRESS(MATCH($D54, 'Patient Tracking'!$A:$A, 0), 1), \"View\")","v":{"$error":"#N/A"}}]
[{"$f":"HYPERLINK(\"#'Patient Tracking'!\" & ADDRESS(MATCH($D55, 'Patient Tracking'!$A:$A, 0), 1), \"View\")","v":{"$error":"#N/A"}}]
[{"$f":"HYPERLINK(\"#'Patient Tracking'!\" & ADDRESS(MATCH($D56, 'Patient Tracking'!$A:$A, 0), 1), \"View\")","v":{"$error":"#N/A"}}]
[{"$f":"HYPERLINK(\"#'Patient Tracking'!\" & ADDRESS(MATCH($D57, 'Patient Tracking'!$A:$A, 0), 1), \"View\")","v":{"$error":"#N/A"}}]
[{"$f":"HYPERLINK(\"#'Patient Tracking'!\" & ADDRESS(MATCH($D58, 'Patient Tracking'!$A:$A, 0), 1), \"View\")","v":{"$error":"#N/A"}}]
[{"$f":"HYPERLINK(\"#'Patient Tracking'!\" & ADDRESS(MATCH($D59, 'Patient Tracking'!$A:$A, 0), 1), \"View\")","v":{"$error":"#N/A"}}]
[{"$f":"HYPERLINK(\"#'Patient Tracking'!\" & ADDRESS(MATCH($D60, 'Patient Tracking'!$A:$A, 0), 1), \"View\")","v":{"$error":"#N/A"}}]
[{"$f":"HYPERLINK(\"#'Patient Tracking'!\" & ADDRESS(MATCH($D61, 'Patient Tracking'!$A:$A, 0), 1), \"View\")","v":{"$error":"#N/A"}}]
[{"$f":"HYPERLINK(\"#'Patient Tracking'!\" & ADDRESS(MATCH($D62, 'Patient Tracking'!$A:$A, 0), 1), \"View\")","v":{"$error":"#N/A"}}]
[{"$f":"HYPERLINK(\"#'Patient Tracking'!\" & ADDRESS(MATCH($D63, 'Patient Tracking'!$A:$A, 0), 1), \"View\")","v":{"$error":"#N/A"}}]
[{"$f":"HYPERLINK(\"#'Patient Tracking'!\" & ADDRESS(MATCH($D64, 'Patient Tracking'!$A:$A, 0), 1), \"View\")","v":{"$error":"#N/A"}}]
[{"$f":"HYPERLINK(\"#'Patient Tracking'!\" & ADDRESS(MATCH($D65, 'Patient Tracking'!$A:$A, 0), 1), \"View\")","v":{"$error":"#N/A"}}]
[{"$f":"HYPERLINK(\"#'Patient Tracking'!\" & ADDRESS(MATCH($D66, 'Patient Tracking'!$A:$A, 0), 1), \"View\")","v":{"$error":"#N/A"}}]
[{"$f":"HYPERLINK(\"#'Patient Tracking'!\" & ADDRESS(MATCH($D67, 'Patient Tracking'!$A:$A, 0), 1), \"View\")","v":{"$error":"#N/A"}}]
[{"$f":"HYPERLINK(\"#'Patient Tracking'!\" & ADDRESS(MATCH($D68, 'Patient Tracking'!$A:$A, 0), 1), \"View\")","v":{"$error":"#N/A"}}]
[{"$f":"HYPERLINK(\"#'Patient Tracking'!\" & ADDRESS(MATCH($D69, 'Patient Tracking'!$A:$A, 0), 1), \"View\")","v":{"$error":"#N/A"}}]
[{"$f":"HYPERLINK(\"#'Patient Tracking'!\" & ADDRESS(MATCH($D70, 'Patient Tracking'!$A:$A, 0), 1), \"View\")","v":{"$error":"#N/A"}}]
[{"$f":"HYPERLINK(\"#'Patient Tracking'!\" & ADDRESS(MATCH($D71, 'Patient Tracking'!$A:$A, 0), 1), \"View\")","v":{"$error":"#N/A"}}]
[{"$f":"HYPERLINK(\"#'Patient Tracking'!\" & ADDRESS(MATCH($D72, 'Patient Tracking'!$A:$A, 0), 1), \"View\")","v":{"$error":"#N/A"}}]
[{"$f":"HYPERLINK(\"#'Patient Tracking'!\" & ADDRESS(MATCH($D73, 'Patient Tracking'!$A:$A, 0), 1), \"View\")","v":{"$error":"#N/A"}}]
[{"$f":"HYPERLINK(\"#'Patient Tracking'!\" & ADDRESS(MATCH($D74, 'Patient Tracking'!$A:$A, 0), 1), \"View\")","v":{"$error":"#N/A"}}]
[{"$f":"HYPERLINK(\"#'Patient Tracking'!\" & ADDRESS(MATCH($D75, 'Patient Tracking'!$A:$A, 0), 1), \"View\")","v":{"$error":"#N/A"}}]
[{"$f":"HYPERLINK(\"#'Patient Tracking'!\" & ADDRESS(MATCH($D76, 'Patient Tracking'!$A:$A, 0), 1), \"View\")","v":{"$error":"#N/A"}}]
[{"$f":"HYPERLINK(\"#'Patient Tracking'!\" & ADDRESS(MATCH($D77, 'Patient Tracking'!$A:$A, 0), 1), \"View\")","v":{"$error":"#N/A"}}]
[{"$f":"HYPERLINK(\"#'Patient Tracking'!\" & ADDRESS(MATCH($D78, 'Patient Tracking'!$A:$A, 0), 1), \"View\")","v":{"$error":"#N/A"}}]
[{"$f":"HYPERLINK(\"#'Patient Tracking'!\" & ADDRESS(MATCH($D79, 'Patient Tracking'!$A:$A, 0), 1), \"View\")","v":{"$error":"#N/A"}}]
[{"$f":"HYPERLINK(\"#'Patient Tracking'!\" & ADDRESS(MATCH($D80, 'Patient Tracking'!$A:$A, 0), 1), \"View\")","v":{"$error":"#N/A"}}]
[{"$f":"HYPERLINK(\"#'Patient Tracking'!\" & ADDRESS(MATCH($D81, 'Patient Tracking'!$A:$A, 0), 1), \"View\")","v":{"$error":"#N/A"}}]
[{"$f":"HYPERLINK(\"#'Patient Tracking'!\" & ADDRESS(MATCH($D82, 'Patient Tracking'!$A:$A, 0), 1), \"View\")","v":{"$error":"#N/A"}}]
[{"$f":"HYPERLINK(\"#'Patient Tracking'!\" & ADDRESS(MATCH($D83, 'Patient Tracking'!$A:$A, 0), 1), \"View\")","v":{"$error":"#N/A"}}]
[{"$f":"HYPERLINK(\"#'Patient Tracking'!\" & ADDRESS(MATCH($D84, 'Patient Tracking'!$A:$A, 0), 1), \"View\")","v":{"$error":"#N/A"}}]
[{"$f":"HYPERLINK(\"#'Patient Tracking'!\" & ADDRESS(MATCH($D85, 'Patient Tracking'!$A:$A, 0), 1), \"View\")","v":{"$error":"#N/A"}}]
[{"$f":"HYPERLINK(\"#'Patient Tracking'!\" & ADDRESS(MATCH($D86, 'Patient Tracking'!$A:$A, 0), 1), \"View\")","v":{"$error":"#N/A"}}]
[{"$f":"HYPERLINK(\"#'Patient Tracking'!\" & ADDRESS(MATCH($D87, 'Patient Tracking'!$A:$A, 0), 1), \"View\")","v":{"$error":"#N/A"}}]
[{"$f":"HYPERLINK(\"#'Patient Tracking'!\" & ADDRESS(MATCH($D88, 'Patient Tracking'!$A:$A, 0), 1), \"View\")","v":{"$error":"#N/A"}}]
[{"$f":"HYPERLINK(\"#'Patient Tracking'!\" & ADDRESS(MATCH($D89, 'Patient Tracking'!$A:$A, 0), 1), \"View\")","v":{"$error":"#N/A"}}]
[{"$f":"HYPERLINK(\"#'Patient Tracking'!\" & ADDRESS(MATCH($D90, 'Patient Tracking'!$A:$A, 0), 1), \"View\")","v":{"$error":"#N/A"}}]
[{"$f":"HYPERLINK(\"#'Patient Tracking'!\" & ADDRESS(MATCH($D91, 'Patient Tracking'!$A:$A, 0), 1), \"View\")","v":{"$error":"#N/A"}}]
[{"$f":"HYPERLINK(\"#'Patient Tracking'!\" & ADDRESS(MATCH($D92, 'Patient Tracking'!$A:$A, 0), 1), \"View\")","v":{"$error":"#N/A"}}]
[{"$f":"HYPERLINK(\"#'Patient Tracking'!\" & ADDRESS(MATCH($D93, 'Patient Tracking'!$A:$A, 0), 1), \"View\")","v":{"$error":"#N/A"}}]
[{"$f":"HYPERLINK(\"#'Patient Tracking'!\" & ADDRESS(MATCH($D94, 'Patient Tracking'!$A:$A, 0), 1), \"View\")","v":{"$error":"#N/A"}}]
[{"$f":"HYPERLINK(\"#'Patient Tracking'!\" & ADDRESS(MATCH($D95, 'Patient Tracking'!$A:$A, 0), 1), \"View\")","v":{"$error":"#N/A"}}]
[{"$f":"HYPERLINK(\"#'Patient Tracking'!\" & ADDRESS(MATCH($D96, 'Patient Tracking'!$A:$A, 0), 1), \"View\")","v":{"$error":"#N/A"}}]
[{"$f":"HYPERLINK(\"#'Patient Tracking'!\" & ADDRESS(MATCH($D97, 'Patient Tracking'!$A:$A, 0), 1), \"View\")","v":{"$error":"#N/A"}}]
[{"$f":"HYPERLINK(\"#'Patient Tracking'!\" & ADDRESS(MATCH($D98, 'Patient Tracking'!$A:$A, 0), 1), \"View\")","v":{"$error":"#N/A"}}]
[{"$f":"HYPERLINK(\"#'Patient Tracking'!\" & ADDRESS(MATCH($D99, 'Patient Tracking'!$A:$A, 0), 1), \"View\")","v":{"$error":"#N/A"}}]
[{"$f":"HYPERLINK(\"#'Patient Tracking'!\" & ADDRESS(MATCH($D100, 'Patient Tracking'!$A:$A, 0), 1), \"View\")","v":{"$error":"#N/A"}}]
[{"$f":"HYPERLINK(\"#'Patient Tracking'!\" & ADDRESS(MATCH($D101, 'Patient Tracking'!$A:$A, 0), 1), \"View\")","v":{"$error":"#N/A"}}]
[{"$f":"HYPERLINK(\"#'Patient Tracking'!\" & ADDRESS(MATCH($D102, 'Patient Tracking'!$A:$A, 0), 1), \"View\")","v":{"$error":"#N/A"}}]
[{"$f":"HYPERLINK(\"#'Patient Tracking'!\" & ADDRESS(MATCH($D103, 'Patient Tracking'!$A:$A, 0), 1), \"View\")","v":{"$error":"#N/A"}}]
[{"$f":"HYPERLINK(\"#'Patient Tracking'!\" & ADDRESS(MATCH($D104, 'Patient Tracking'!$A:$A, 0), 1), \"View\")","v":{"$error":"#N/A"}}]
[{"$f":"HYPERLINK(\"#'Patient Tracking'!\" & ADDRESS(MATCH($D105, 'Patient Tracking'!$A:$A, 0), 1), \"View\")","v":{"$error":"#N/A"}}]
[{"$f":"HYPERLINK(\"#'Patient Tracking'!\" & ADDRESS(MATCH($D106, 'Patient Tracking'!$A:$A, 0), 1), \"View\")","v":{"$error":"#N/A"}}]
[{"$f":"HYPERLINK(\"#'Patient Tracking'!\" & ADDRESS(MATCH($D107, 'Patient Tracking'!$A:$A, 0), 1), \"View\")","v":{"$error":"#N/A"}}]
[{"$f":"HYPERLINK(\"#'Patient Tracking'!\" & ADDRESS(MATCH($D108, 'Patient Tracking'!$A:$A, 0), 1), \"View\")","v":{"$error":"#N/A"}}]
[{"$f":"HYPERLINK(\"#'Patient Tracking'!\" & ADDRESS(MATCH($D109, 'Patient Tracking'!$A:$A, 0), 1), \"View\")","v":{"$error":"#N/A"}}]
[{"$f":"HYPERLINK(\"#'Patient Tracking'!\" & ADDRESS(MATCH($D110, 'Patient Tracking'!$A:$A, 0), 1), \"View\")","v":{"$error":"#N/A"}}]
[{"$f":"HYPERLINK(\"#'Patient Tracking'!\" & ADDRESS(MATCH($D111, 'Patient Tracking'!$A:$A, 0), 1), \"View\")","v":{"$error":"#N/A"}}]
[{"$f":"HYPERLINK(\"#'Patient Tracking'!\" & ADDRESS(MATCH($D112, 'Patient Tracking'!$A:$A, 0), 1), \"View\")","v":{"$error":"#N/A"}}]
[{"$f":"HYPERLINK(\"#'Patient Tracking'!\" & ADDRESS(MATCH($D113, 'Patient Tracking'!$A:$A, 0), 1), \"View\")","v":{"$error":"#N/A"}}]
[{"$f":"HYPERLINK(\"#'Patient Tracking'!\" & ADDRESS(MATCH($D114, 'Patient Tracking'!$A:$A, 0), 1), \"View\")","v":{"$error":"#N/A"}}]
[{"$f":"HYPERLINK(\"#'Patient Tracking'!\" & ADDRESS(MATCH($D115, 'Patient Tracking'!$A:$A, 0), 1), \"View\")","v":{"$error":"#N/A"}}]
[{"$f":"HYPERLINK(\"#'Patient Tracking'!\" & ADDRESS(MATCH($D116, 'Patient Tracking'!$A:$A, 0), 1), \"View\")","v":{"$error":"#N/A"}}]
[{"$f":"HYPERLINK(\"#'Patient Tracking'!\" & ADDRESS(MATCH($D117, 'Patient Tracking'!$A:$A, 0), 1), \"View\")","v":{"$error":"#N/A"}}]
[{"$f":"HYPERLINK(\"#'Patient Tracking'!\" & ADDRESS(MATCH($D118, 'Patient Tracking'!$A:$A, 0), 1), \"View\")","v":{"$error":"#N/A"}}]
[{"$f":"HYPERLINK(\"#'Patient Tracking'!\" & ADDRESS(MATCH($D119, 'Patient Tracking'!$A:$A, 0), 1), \"View\")","v":{"$error":"#N/A"}}]
[{"$f":"HYPERLINK(\"#'Patient Tracking'!\" & ADDRESS(MATCH($D120, 'Patient Tracking'!$A:$A, 0), 1), \"View\")","v":{"$error":"#N/A"}}]
[{"$f":"HYPERLINK(\"#'Patient Tracking'!\" & ADDRESS(MATCH($D121, 'Patient Tracking'!$A:$A, 0), 1), \"View\")","v":{"$error":"#N/A"}}]
[{"$f":"HYPERLINK(\"#'Patient Tracking'!\" & ADDRESS(MATCH($D122, 'Patient Tracking'!$A:$A, 0), 1), \"View\")","v":{"$error":"#N/A"}}]
[{"$f":"HYPERLINK(\"#'Patient Tracking'!\" & ADDRESS(MATCH($D123, 'Patient Tracking'!$A:$A, 0), 1), \"View\")","v":{"$error":"#N/A"}}]
[{"$f":"HYPERLINK(\"#'Patient Tracking'!\" & ADDRESS(MATCH($D124, 'Patient Tracking'!$A:$A, 0), 1), \"View\")","v":{"$error":"#N/A"}}]
[{"$f":"HYPERLINK(\"#'Patient Tracking'!\" & ADDRESS(MATCH($D125, 'Patient Tracking'!$A:$A, 0), 1), \"View\")","v":{"$error":"#N/A"}}]
[{"$f":"HYPERLINK(\"#'Patient Tracking'!\" & ADDRESS(MATCH($D126, 'Patient Tracking'!$A:$A, 0), 1), \"View\")","v":{"$error":"#N/A"}}]
[{"$f":"HYPERLINK(\"#'Patient Tracking'!\" & ADDRESS(MATCH($D127, 'Patient Tracking'!$A:$A, 0), 1), \"View\")","v":{"$error":"#N/A"}}]
[{"$f":"HYPERLINK(\"#'Patient Tracking'!\" & ADDRESS(MATCH($D128, 'Patient Tracking'!$A:$A, 0), 1), \"View\")","v":{"$error":"#N/A"}}]
[{"$f":"HYPERLINK(\"#'Patient Tracking'!\" & ADDRESS(MATCH($D129, 'Patient Tracking'!$A:$A, 0), 1), \"View\")","v":{"$error":"#N/A"}}]
[{"$f":"HYPERLINK(\"#'Patient Tracking'!\" & ADDRESS(MATCH($D130, 'Patient Tracking'!$A:$A, 0), 1), \"View\")","v":{"$error":"#N/A"}}]
[{"$f":"HYPERLINK(\"#'Patient Tracking'!\" & ADDRESS(MATCH($D131, 'Patient Tracking'!$A:$A, 0), 1), \"View\")","v":{"$error":"#N/A"}}]
[{"$f":"HYPERLINK(\"#'Patient Tracking'!\" & ADDRESS(MATCH($D132, 'Patient Tracking'!$A:$A, 0), 1), \"View\")","v":{"$error":"#N/A"}}]
[{"$f":"HYPERLINK(\"#'Patient Tracking'!\" & ADDRESS(MATCH($D133, 'Patient Tracking'!$A:$A, 0), 1), \"View\")","v":{"$error":"#N/A"}}]
[{"$f":"HYPERLINK(\"#'Patient Tracking'!\" & ADDRESS(MATCH($D134, 'Patient Tracking'!$A:$A, 0), 1), \"View\")","v":{"$error":"#N/A"}}]
[{"$f":"HYPERLINK(\"#'Patient Tracking'!\" & ADDRESS(MATCH($D135, 'Patient Tracking'!$A:$A, 0), 1), \"View\")","v":{"$error":"#N/A"}}]
[{"$f":"HYPERLINK(\"#'Patient Tracking'!\" & ADDRESS(MATCH($D136, 'Patient Tracking'!$A:$A, 0), 1), \"View\")","v":{"$error":"#N/A"}}]
[{"$f":"HYPERLINK(\"#'Patient Tracking'!\" & ADDRESS(MATCH($D137, 'Patient Tracking'!$A:$A, 0), 1), \"View\")","v":{"$error":"#N/A"}}]
[{"$f":"HYPERLINK(\"#'Patient Tracking'!\" & ADDRESS(MATCH($D138, 'Patient Tracking'!$A:$A, 0), 1), \"View\")","v":{"$error":"#N/A"}}]
[{"$f":"HYPERLINK(\"#'Patient Tracking'!\" & ADDRESS(MATCH($D139, 'Patient Tracking'!$A:$A, 0), 1), \"View\")","v":{"$error":"#N/A"}}]
[{"$f":"HYPERLINK(\"#'Patient Tracking'!\" & ADDRESS(MATCH($D140, 'Patient Tracking'!$A:$A, 0), 1), \"View\")","v":{"$error":"#N/A"}}]
[{"$f":"HYPERLINK(\"#'Patient Tracking'!\" & ADDRESS(MATCH($D141, 'Patient Tracking'!$A:$A, 0), 1), \"View\")","v":{"$error":"#N/A"}}]
[{"$f":"HYPERLINK(\"#'Patient Tracking'!\" & ADDRESS(MATCH($D142, 'Patient Tracking'!$A:$A, 0), 1), \"View\")","v":{"$error":"#N/A"}}]
[{"$f":"HYPERLINK(\"#'Patient Tracking'!\" & ADDRESS(MATCH($D143, 'Patient Tracking'!$A:$A, 0), 1), \"View\")","v":{"$error":"#N/A"}}]
[{"$f":"HYPERLINK(\"#'Patient Tracking'!\" & ADDRESS(MATCH($D144, 'Patient Tracking'!$A:$A, 0), 1), \"View\")","v":{"$error":"#N/A"}}]
[{"$f":"HYPERLINK(\"#'Patient Tracking'!\" & ADDRESS(MATCH($D145, 'Patient Tracking'!$A:$A, 0), 1), \"View\")","v":{"$error":"#N/A"}}]
[{"$f":"HYPERLINK(\"#'Patient Tracking'!\" & ADDRESS(MATCH($D146, 'Patient Tracking'!$A:$A, 0), 1), \"View\")","v":{"$error":"#N/A"}}]
[{"$f":"HYPERLINK(\"#'Patient Tracking'!\" & ADDRESS(MATCH($D147, 'Patient Tracking'!$A:$A, 0), 1), \"View\")","v":{"$error":"#N/A"}}]
[{"$f":"HYPERLINK(\"#'Patient Tracking'!\" & ADDRESS(MATCH($D148, 'Patient Tracking'!$A:$A, 0), 1), \"View\")","v":{"$error":"#N/A"}}]
[{"$f":"HYPERLINK(\"#'Patient Tracking'!\" & ADDRESS(MATCH($D149, 'Patient Tracking'!$A:$A, 0), 1), \"View\")","v":{"$error":"#N/A"}}]
[{"$f":"HYPERLINK(\"#'Patient Tracking'!\" & ADDRESS(MATCH($D150, 'Patient Tracking'!$A:$A, 0), 1), \"View\")","v":{"$error":"#N/A"}}]
[{"$f":"HYPERLINK(\"#'Patient Tracking'!\" & ADDRESS(MATCH($D151, 'Patient Tracking'!$A:$A, 0), 1), \"View\")","v":{"$error":"#N/A"}}]
[{"$f":"HYPERLINK(\"#'Patient Tracking'!\" & ADDRESS(MATCH($D152, 'Patient Tracking'!$A:$A, 0), 1), \"View\")","v":{"$error":"#N/A"}}]
[{"$f":"HYPERLINK(\"#'Patient Tracking'!\" & ADDRESS(MATCH($D153, 'Patient Tracking'!$A:$A, 0), 1), \"View\")","v":{"$error":"#N/A"}}]
[{"$f":"HYPERLINK(\"#'Patient Tracking'!\" & ADDRESS(MATCH($D154, 'Patient Tracking'!$A:$A, 0), 1), \"View\")","v":{"$error":"#N/A"}}]
[{"$f":"HYPERLINK(\"#'Patient Tracking'!\" & ADDRESS(MATCH($D155, 'Patient Tracking'!$A:$A, 0), 1), \"View\")","v":{"$error":"#N/A"}}]
[{"$f":"HYPERLINK(\"#'Patient Tracking'!\" & ADDRESS(MATCH($D156, 'Patient Tracking'!$A:$A, 0), 1), \"View\")","v":{"$error":"#N/A"}}]
[{"$f":"HYPERLINK(\"#'Patient Tracking'!\" & ADDRESS(MATCH($D157, 'Patient Tracking'!$A:$A, 0), 1), \"View\")","v":{"$error":"#N/A"}}]
[{"$f":"HYPERLINK(\"#'Patient Tracking'!\" & ADDRESS(MATCH($D158, 'Patient Tracking'!$A:$A, 0), 1), \"View\")","v":{"$error":"#N/A"}}]
[{"$f":"HYPERLINK(\"#'Patient Tracking'!\" & ADDRESS(MATCH($D159, 'Patient Tracking'!$A:$A, 0), 1), \"View\")","v":{"$error":"#N/A"}}]
[{"$f":"HYPERLINK(\"#'Patient Tracking'!\" & ADDRESS(MATCH($D160, 'Patient Tracking'!$A:$A, 0), 1), \"View\")","v":{"$error":"#N/A"}}]
[{"$f":"HYPERLINK(\"#'Patient Tracking'!\" & ADDRESS(MATCH($D161, 'Patient Tracking'!$A:$A, 0), 1), \"View\")","v":{"$error":"#N/A"}}]
[{"$f":"HYPERLINK(\"#'Patient Tracking'!\" & ADDRESS(MATCH($D162, 'Patient Tracking'!$A:$A, 0), 1), \"View\")","v":{"$error":"#N/A"}}]
[{"$f":"HYPERLINK(\"#'Patient Tracking'!\" & ADDRESS(MATCH($D163, 'Patient Tracking'!$A:$A, 0), 1), \"View\")","v":{"$error":"#N/A"}}]
[{"$f":"HYPERLINK(\"#'Patient Tracking'!\" & ADDRESS(MATCH($D164, 'Patient Tracking'!$A:$A, 0), 1), \"View\")","v":{"$error":"#N/A"}}]
[{"$f":"HYPERLINK(\"#'Patient Tracking'!\" & ADDRESS(MATCH($D165, 'Patient Tracking'!$A:$A, 0), 1), \"View\")","v":{"$error":"#N/A"}}]
[{"$f":"HYPERLINK(\"#'Patient Tracking'!\" & ADDRESS(MATCH($D166, 'Patient Tracking'!$A:$A, 0), 1), \"View\")","v":{"$error":"#N/A"}}]
[{"$f":"HYPERLINK(\"#'Patient Tracking'!\" & ADDRESS(MATCH($D167, 'Patient Tracking'!$A:$A, 0), 1), \"View\")","v":{"$error":"#N/A"}}]
[{"$f":"HYPERLINK(\"#'Patient Tracking'!\" & ADDRESS(MATCH($D168, 'Patient Tracking'!$A:$A, 0), 1), \"View\")","v":{"$error":"#N/A"}}]
[{"$f":"HYPERLINK(\"#'Patient Tracking'!\" & ADDRESS(MATCH($D169, 'Patient Tracking'!$A:$A, 0), 1), \"View\")","v":{"$error":"#N/A"}}]
[{"$f":"HYPERLINK(\"#'Patient Tracking'!\" & ADDRESS(MATCH($D170, 'Patient Tracking'!$A:$A, 0), 1), \"View\")","v":{"$error":"#N/A"}}]
[{"$f":"HYPERLINK(\"#'Patient Tracking'!\" & ADDRESS(MATCH($D171, 'Patient Tracking'!$A:$A, 0), 1), \"View\")","v":{"$error":"#N/A"}}]
[{"$f":"HYPERLINK(\"#'Patient Tracking'!\" & ADDRESS(MATCH($D172, 'Patient Tracking'!$A:$A, 0), 1), \"View\")","v":{"$error":"#N/A"}}]
[{"$f":"HYPERLINK(\"#'Patient Tracking'!\" & ADDRESS(MATCH($D173, 'Patient Tracking'!$A:$A, 0), 1), \"View\")","v":{"$error":"#N/A"}}]
[{"$f":"HYPERLINK(\"#'Patient Tracking'!\" & ADDRESS(MATCH($D174, 'Patient Tracking'!$A:$A, 0), 1), \"View\")","v":{"$error":"#N/A"}}]
[{"$f":"HYPERLINK(\"#'Patient Tracking'!\" & ADDRESS(MATCH($D175, 'Patient Tracking'!$A:$A, 0), 1), \"View\")","v":{"$error":"#N/A"}}]
[{"$f":"HYPERLINK(\"#'Patient Tracking'!\" & ADDRESS(MATCH($D176, 'Patient Tracking'!$A:$A, 0), 1), \"View\")","v":{"$error":"#N/A"}}]
[{"$f":"HYPERLINK(\"#'Patient Tracking'!\" & ADDRESS(MATCH($D177, 'Patient Tracking'!$A:$A, 0), 1), \"View\")","v":{"$error":"#N/A"}}]
[{"$f":"HYPERLINK(\"#'Patient Tracking'!\" & ADDRESS(MATCH($D178, 'Patient Tracking'!$A:$A, 0), 1), \"View\")","v":{"$error":"#N/A"}}]
[{"$f":"HYPERLINK(\"#'Patient Tracking'!\" & ADDRESS(MATCH($D179, 'Patient Tracking'!$A:$A, 0), 1), \"View\")","v":{"$error":"#N/A"}}]
[{"$f":"HYPERLINK(\"#'Patient Tracking'!\" & ADDRESS(MATCH($D180, 'Patient Tracking'!$A:$A, 0), 1), \"View\")","v":{"$error":"#N/A"}}]
[{"$f":"HYPERLINK(\"#'Patient Tracking'!\" & ADDRESS(MATCH($D181, 'Patient Tracking'!$A:$A, 0), 1), \"View\")","v":{"$error":"#N/A"}}]
[{"$f":"HYPERLINK(\"#'Patient Tracking'!\" & ADDRESS(MATCH($D182, 'Patient Tracking'!$A:$A, 0), 1), \"View\")","v":{"$error":"#N/A"}}]
[{"$f":"HYPERLINK(\"#'Patient Tracking'!\" & ADDRESS(MATCH($D183, 'Patient Tracking'!$A:$A, 0), 1), \"View\")","v":{"$error":"#N/A"}}]
[{"$f":"HYPERLINK(\"#'Patient Tracking'!\" & ADDRESS(MATCH($D184, 'Patient Tracking'!$A:$A, 0), 1), \"View\")","v":{"$error":"#N/A"}}]
[{"$f":"HYPERLINK(\"#'Patient Tracking'!\" & ADDRESS(MATCH($D185, 'Patient Tracking'!$A:$A, 0), 1), \"View\")","v":{"$error":"#N/A"}}]
[{"$f":"HYPERLINK(\"#'Patient Tracking'!\" & ADDRESS(MATCH($D186, 'Patient Tracking'!$A:$A, 0), 1), \"View\")","v":{"$error":"#N/A"}}]
[{"$f":"HYPERLINK(\"#'Patient Tracking'!\" & ADDRESS(MATCH($D187, 'Patient Tracking'!$A:$A, 0), 1), \"View\")","v":{"$error":"#N/A"}}]
[{"$f":"HYPERLINK(\"#'Patient Tracking'!\" & ADDRESS(MATCH($D188, 'Patient Tracking'!$A:$A, 0), 1), \"View\")","v":{"$error":"#N/A"}}]
[{"$f":"HYPERLINK(\"#'Patient Tracking'!\" & ADDRESS(MATCH($D189, 'Patient Tracking'!$A:$A, 0), 1), \"View\")","v":{"$error":"#N/A"}}]
[{"$f":"HYPERLINK(\"#'Patient Tracking'!\" & ADDRESS(MATCH($D190, 'Patient Tracking'!$A:$A, 0), 1), \"View\")","v":{"$error":"#N/A"}}]
[{"$f":"HYPERLINK(\"#'Patient Tracking'!\" & ADDRESS(MATCH($D191, 'Patient Tracking'!$A:$A, 0), 1), \"View\")","v":{"$error":"#N/A"}}]
[{"$f":"HYPERLINK(\"#'Patient Tracking'!\" & ADDRESS(MATCH($D192, 'Patient Tracking'!$A:$A, 0), 1), \"View\")","v":{"$error":"#N/A"}}]
[{"$f":"HYPERLINK(\"#'Patient Tracking'!\" & ADDRESS(MATCH($D193, 'Patient Tracking'!$A:$A, 0), 1), \"View\")","v":{"$error":"#N/A"}}]
[{"$f":"HYPERLINK(\"#'Patient Tracking'!\" & ADDRESS(MATCH($D194, 'Patient Tracking'!$A:$A, 0), 1), \"View\")","v":{"$error":"#N/A"}}]
[{"$f":"HYPERLINK(\"#'Patient Tracking'!\" & ADDRESS(MATCH($D195, 'Patient Tracking'!$A:$A, 0), 1), \"View\")","v":{"$error":"#N/A"}}]
[{"$f":"HYPERLINK(\"#'Patient Tracking'!\" & ADDRESS(MATCH($D196, 'Patient Tracking'!$A:$A, 0), 1), \"View\")","v":{"$error":"#N/A"}}]
[{"$f":"HYPERLINK(\"#'Patient Tracking'!\" & ADDRESS(MATCH($D197, 'Patient Tracking'!$A:$A, 0), 1), \"View\")","v":{"$error":"#N/A"}}]
[{"$f":"HYPERLINK(\"#'Patient Tracking'!\" & ADDRESS(MATCH($D198, 'Patient Tracking'!$A:$A, 0), 1), \"View\")","v":{"$error":"#N/A"}}]
[{"$f":"HYPERLINK(\"#'Patient Tracking'!\" & ADDRESS(MATCH($D199, 'Patient Tracking'!$A:$A, 0), 1), \"View\")","v":{"$error":"#N/A"}}]
[{"$f":"HYPERLINK(\"#'Patient Tracking'!\" & ADDRESS(MATCH($D200, 'Patient Tracking'!$A:$A, 0), 1), \"View\")","v":{"$error":"#N/A"}}]
[{"$f":"HYPERLINK(\"#'Patient Tracking'!\" & ADDRESS(MATCH($D201, 'Patient Tracking'!$A:$A, 0), 1), \"View\")","v":{"$error":"#N/A"}}]
[{"$f":"HYPERLINK(\"#'Patient Tracking'!\" & ADDRESS(MATCH($D202, 'Patient Tracking'!$A:$A, 0), 1), \"View\")","v":{"$error":"#N/A"}}]
[{"$f":"HYPERLINK(\"#'Patient Tracking'!\" & ADDRESS(MATCH($D203, 'Patient Tracking'!$A:$A, 0), 1), \"View\")","v":{"$error":"#N/A"}}]
[{"$f":"HYPERLINK(\"#'Patient Tracking'!\" & ADDRESS(MATCH($D204, 'Patient Tracking'!$A:$A, 0), 1), \"View\")","v":{"$error":"#N/A"}}]
[{"$f":"HYPERLINK(\"#'Patient Tracking'!\" & ADDRESS(MATCH($D205, 'Patient Tracking'!$A:$A, 0), 1), \"View\")","v":{"$error":"#N/A"}}]
[{"$f":"HYPERLINK(\"#'Patient Tracking'!\" & ADDRESS(MATCH($D206, 'Patient Tracking'!$A:$A, 0), 1), \"View\")","v":{"$error":"#N/A"}}]
[{"$f":"HYPERLINK(\"#'Patient Tracking'!\" & ADDRESS(MATCH($D207, 'Patient Tracking'!$A:$A, 0), 1), \"View\")","v":{"$error":"#N/A"}}]
[{"$f":"HYPERLINK(\"#'Patient Tracking'!\" & ADDRESS(MATCH($D208, 'Patient Tracking'!$A:$A, 0), 1), \"View\")","v":{"$error":"#N/A"}}]
[{"$f":"HYPERLINK(\"#'Patient Tracking'!\" & ADDRESS(MATCH($D209, 'Patient Tracking'!$A:$A, 0), 1), \"View\")","v":{"$error":"#N/A"}}]
[{"$f":"HYPERLINK(\"#'Patient Tracking'!\" & ADDRESS(MATCH($D210, 'Patient Tracking'!$A:$A, 0), 1), \"View\")","v":{"$error":"#N/A"}}]
[{"$f":"HYPERLINK(\"#'Patient Tracking'!\" & ADDRESS(MATCH($D211, 'Patient Tracking'!$A:$A, 0), 1), \"View\")","v":{"$error":"#N/A"}}]
[{"$f":"HYPERLINK(\"#'Patient Tracking'!\" & ADDRESS(MATCH($D212, 'Patient Tracking'!$A:$A, 0), 1), \"View\")","v":{"$error":"#N/A"}}]
[{"$f":"HYPERLINK(\"#'Patient Tracking'!\" & ADDRESS(MATCH($D213, 'Patient Tracking'!$A:$A, 0), 1), \"View\")","v":{"$error":"#N/A"}}]
[{"$f":"HYPERLINK(\"#'Patient Tracking'!\" & ADDRESS(MATCH($D214, 'Patient Tracking'!$A:$A, 0), 1), \"View\")","v":{"$error":"#N/A"}}]
[{"$f":"HYPERLINK(\"#'Patient Tracking'!\" & ADDRESS(MATCH($D215, 'Patient Tracking'!$A:$A, 0), 1), \"View\")","v":{"$error":"#N/A"}}]
[{"$f":"HYPERLINK(\"#'Patient Tracking'!\" & ADDRESS(MATCH($D216, 'Patient Tracking'!$A:$A, 0), 1), \"View\")","v":{"$error":"#N/A"}}]
[{"$f":"HYPERLINK(\"#'Patient Tracking'!\" & ADDRESS(MATCH($D217, 'Patient Tracking'!$A:$A, 0), 1), \"View\")","v":{"$error":"#N/A"}}]
[{"$f":"HYPERLINK(\"#'Patient Tracking'!\" & ADDRESS(MATCH($D218, 'Patient Tracking'!$A:$A, 0), 1), \"View\")","v":{"$error":"#N/A"}}]
[{"$f":"HYPERLINK(\"#'Patient Tracking'!\" & ADDRESS(MATCH($D219, 'Patient Tracking'!$A:$A, 0), 1), \"View\")","v":{"$error":"#N/A"}}]
[{"$f":"HYPERLINK(\"#'Patient Tracking'!\" & ADDRESS(MATCH($D220, 'Patient Tracking'!$A:$A, 0), 1), \"View\")","v":{"$error":"#N/A"}}]
[{"$f":"HYPERLINK(\"#'Patient Tracking'!\" & ADDRESS(MATCH($D221, 'Patient Tracking'!$A:$A, 0), 1), \"View\")","v":{"$error":"#N/A"}}]
[{"$f":"HYPERLINK(\"#'Patient Tracking'!\" & ADDRESS(MATCH($D222, 'Patient Tracking'!$A:$A, 0), 1), \"View\")","v":{"$error":"#N/A"}}]
[{"$f":"HYPERLINK(\"#'Patient Tracking'!\" & ADDRESS(MATCH($D223, 'Patient Tracking'!$A:$A, 0), 1), \"View\")","v":{"$error":"#N/A"}}]
[{"$f":"HYPERLINK(\"#'Patient Tracking'!\" & ADDRESS(MATCH($D224, 'Patient Tracking'!$A:$A, 0), 1), \"View\")","v":{"$error":"#N/A"}}]
[{"$f":"HYPERLINK(\"#'Patient Tracking'!\" & ADDRESS(MATCH($D225, 'Patient Tracking'!$A:$A, 0), 1), \"View\")","v":{"$error":"#N/A"}}]
[{"$f":"HYPERLINK(\"#'Patient Tracking'!\" & ADDRESS(MATCH($D226, 'Patient Tracking'!$A:$A, 0), 1), \"View\")","v":{"$error":"#N/A"}}]
[{"$f":"HYPERLINK(\"#'Patient Tracking'!\" & ADDRESS(MATCH($D227, 'Patient Tracking'!$A:$A, 0), 1), \"View\")","v":{"$error":"#N/A"}}]
[{"$f":"HYPERLINK(\"#'Patient Tracking'!\" & ADDRESS(MATCH($D228, 'Patient Tracking'!$A:$A, 0), 1), \"View\")","v":{"$error":"#N/A"}}]
[{"$f":"HYPERLINK(\"#'Patient Tracking'!\" & ADDRESS(MATCH($D229, 'Patient Tracking'!$A:$A, 0), 1), \"View\")","v":{"$error":"#N/A"}}]
[{"$f":"HYPERLINK(\"#'Patient Tracking'!\" & ADDRESS(MATCH($D230, 'Patient Tracking'!$A:$A, 0), 1), \"View\")","v":{"$error":"#N/A"}}]
[{"$f":"HYPERLINK(\"#'Patient Tracking'!\" & ADDRESS(MATCH($D231, 'Patient Tracking'!$A:$A, 0), 1), \"View\")","v":{"$error":"#N/A"}}]
[{"$f":"HYPERLINK(\"#'Patient Tracking'!\" & ADDRESS(MATCH($D232, 'Patient Tracking'!$A:$A, 0), 1), \"View\")","v":{"$error":"#N/A"}}]
[{"$f":"HYPERLINK(\"#'Patient Tracking'!\" & ADDRESS(MATCH($D233, 'Patient Tracking'!$A:$A, 0), 1), \"View\")","v":{"$error":"#N/A"}}]
[{"$f":"HYPERLINK(\"#'Patient Tracking'!\" & ADDRESS(MATCH($D234, 'Patient Tracking'!$A:$A, 0), 1), \"View\")","v":{"$error":"#N/A"}}]
[{"$f":"HYPERLINK(\"#'Patient Tracking'!\" & ADDRESS(MATCH($D235, 'Patient Tracking'!$A:$A, 0), 1), \"View\")","v":{"$error":"#N/A"}}]
[{"$f":"HYPERLINK(\"#'Patient Tracking'!\" & ADDRESS(MATCH($D236, 'Patient Tracking'!$A:$A, 0), 1), \"View\")","v":{"$error":"#N/A"}}]
[{"$f":"HYPERLINK(\"#'Patient Tracking'!\" & ADDRESS(MATCH($D237, 'Patient Tracking'!$A:$A, 0), 1), \"View\")","v":{"$error":"#N/A"}}]
[{"$f":"HYPERLINK(\"#'Patient Tracking'!\" & ADDRESS(MATCH($D238, 'Patient Tracking'!$A:$A, 0), 1), \"View\")","v":{"$error":"#N/A"}}]
[{"$f":"HYPERLINK(\"#'Patient Tracking'!\" & ADDRESS(MATCH($D239, 'Patient Tracking'!$A:$A, 0), 1), \"View\")","v":{"$error":"#N/A"}}]
[{"$f":"HYPERLINK(\"#'Patient Tracking'!\" & ADDRESS(MATCH($D240, 'Patient Tracking'!$A:$A, 0), 1), \"View\")","v":{"$error":"#N/A"}}]
[{"$f":"HYPERLINK(\"#'Patient Tracking'!\" & ADDRESS(MATCH($D241, 'Patient Tracking'!$A:$A, 0), 1), \"View\")","v":{"$error":"#N/A"}}]
[{"$f":"HYPERLINK(\"#'Patient Tracking'!\" & ADDRESS(MATCH($D242, 'Patient Tracking'!$A:$A, 0), 1), \"View\")","v":{"$error":"#N/A"}}]
[{"$f":"HYPERLINK(\"#'Patient Tracking'!\" & ADDRESS(MATCH($D243, 'Patient Tracking'!$A:$A, 0), 1), \"View\")","v":{"$error":"#N/A"}}]
[{"$f":"HYPERLINK(\"#'Patient Tracking'!\" & ADDRESS(MATCH($D244, 'Patient Tracking'!$A:$A, 0), 1), \"View\")","v":{"$error":"#N/A"}}]
[{"$f":"HYPERLINK(\"#'Patient Tracking'!\" & ADDRESS(MATCH($D245, 'Patient Tracking'!$A:$A, 0), 1), \"View\")","v":{"$error":"#N/A"}}]
[{"$f":"HYPERLINK(\"#'Patient Tracking'!\" & ADDRESS(MATCH($D246, 'Patient Tracking'!$A:$A, 0), 1), \"View\")","v":{"$error":"#N/A"}}]
[{"$f":"HYPERLINK(\"#'Patient Tracking'!\" & ADDRESS(MATCH($D247, 'Patient Tracking'!$A:$A, 0), 1), \"View\")","v":{"$error":"#N/A"}}]
[{"$f":"HYPERLINK(\"#'Patient Tracking'!\" & ADDRESS(MATCH($D248, 'Patient Tracking'!$A:$A, 0), 1), \"View\")","v":{"$error":"#N/A"}}]
[{"$f":"HYPERLINK(\"#'Patient Tracking'!\" & ADDRESS(MATCH($D249, 'Patient Tracking'!$A:$A, 0), 1), \"View\")","v":{"$error":"#N/A"}}]
[{"$f":"HYPERLINK(\"#'Patient Tracking'!\" & ADDRESS(MATCH($D250, 'Patient Tracking'!$A:$A, 0), 1), \"View\")","v":{"$error":"#N/A"}}]
[{"$f":"HYPERLINK(\"#'Patient Tracking'!\" & ADDRESS(MATCH($D251, 'Patient Tracking'!$A:$A, 0), 1), \"View\")","v":{"$error":"#N/A"}}]
[{"$f":"HYPERLINK(\"#'Patient Tracking'!\" & ADDRESS(MATCH($D252, 'Patient Tracking'!$A:$A, 0), 1), \"View\")","v":{"$error":"#N/A"}}]
[{"$f":"HYPERLINK(\"#'Patient Tracking'!\" & ADDRESS(MATCH($D253, 'Patient Tracking'!$A:$A, 0), 1), \"View\")","v":{"$error":"#N/A"}}]
[{"$f":"HYPERLINK(\"#'Patient Tracking'!\" & ADDRESS(MATCH($D254, 'Patient Tracking'!$A:$A, 0), 1), \"View\")","v":{"$error":"#N/A"}}]
[{"$f":"HYPERLINK(\"#'Patient Tracking'!\" & ADDRESS(MATCH($D255, 'Patient Tracking'!$A:$A, 0), 1), \"View\")","v":{"$error":"#N/A"}}]
[{"$f":"HYPERLINK(\"#'Patient Tracking'!\" & ADDRESS(MATCH($D256, 'Patient Tracking'!$A:$A, 0), 1), \"View\")","v":{"$error":"#N/A"}}]
[{"$f":"HYPERLINK(\"#'Patient Tracking'!\" & ADDRESS(MATCH($D257, 'Patient Tracking'!$A:$A, 0), 1), \"View\")","v":{"$error":"#N/A"}}]
[{"$f":"HYPERLINK(\"#'Patient Tracking'!\" & ADDRESS(MATCH($D258, 'Patient Tracking'!$A:$A, 0), 1), \"View\")","v":{"$error":"#N/A"}}]
[{"$f":"HYPERLINK(\"#'Patient Tracking'!\" & ADDRESS(MATCH($D259, 'Patient Tracking'!$A:$A, 0), 1), \"View\")","v":{"$error":"#N/A"}}]
[{"$f":"HYPERLINK(\"#'Patient Tracking'!\" & ADDRESS(MATCH($D260, 'Patient Tracking'!$A:$A, 0), 1), \"View\")","v":{"$error":"#N/A"}}]
[{"$f":"HYPERLINK(\"#'Patient Tracking'!\" & ADDRESS(MATCH($D261, 'Patient Tracking'!$A:$A, 0), 1), \"View\")","v":{"$error":"#N/A"}}]
[{"$f":"HYPERLINK(\"#'Patient Tracking'!\" & ADDRESS(MATCH($D262, 'Patient Tracking'!$A:$A, 0), 1), \"View\")","v":{"$error":"#N/A"}}]
[{"$f":"HYPERLINK(\"#'Patient Tracking'!\" & ADDRESS(MATCH($D263, 'Patient Tracking'!$A:$A, 0), 1), \"View\")","v":{"$error":"#N/A"}}]
[{"$f":"HYPERLINK(\"#'Patient Tracking'!\" & ADDRESS(MATCH($D264, 'Patient Tracking'!$A:$A, 0), 1), \"View\")","v":{"$error":"#N/A"}}]
[{"$f":"HYPERLINK(\"#'Patient Tracking'!\" & ADDRESS(MATCH($D265, 'Patient Tracking'!$A:$A, 0), 1), \"View\")","v":{"$error":"#N/A"}}]
[{"$f":"HYPERLINK(\"#'Patient Tracking'!\" & ADDRESS(MATCH($D266, 'Patient Tracking'!$A:$A, 0), 1), \"View\")","v":{"$error":"#N/A"}}]
[{"$f":"HYPERLINK(\"#'Patient Tracking'!\" & ADDRESS(MATCH($D267, 'Patient Tracking'!$A:$A, 0), 1), \"View\")","v":{"$error":"#N/A"}}]
[{"$f":"HYPERLINK(\"#'Patient Tracking'!\" & ADDRESS(MATCH($D268, 'Patient Tracking'!$A:$A, 0), 1), \"View\")","v":{"$error":"#N/A"}}]
[{"$f":"HYPERLINK(\"#'Patient Tracking'!\" & ADDRESS(MATCH($D269, 'Patient Tracking'!$A:$A, 0), 1), \"View\")","v":{"$error":"#N/A"}}]
[{"$f":"HYPERLINK(\"#'Patient Tracking'!\" & ADDRESS(MATCH($D270, 'Patient Tracking'!$A:$A, 0), 1), \"View\")","v":{"$error":"#N/A"}}]
[{"$f":"HYPERLINK(\"#'Patient Tracking'!\" & ADDRESS(MATCH($D271, 'Patient Tracking'!$A:$A, 0), 1), \"View\")","v":{"$error":"#N/A"}}]
[{"$f":"HYPERLINK(\"#'Patient Tracking'!\" & ADDRESS(MATCH($D272, 'Patient Tracking'!$A:$A, 0), 1), \"View\")","v":{"$error":"#N/A"}}]
[{"$f":"HYPERLINK(\"#'Patient Tracking'!\" & ADDRESS(MATCH($D273, 'Patient Tracking'!$A:$A, 0), 1), \"View\")","v":{"$error":"#N/A"}}]
[{"$f":"HYPERLINK(\"#'Patient Tracking'!\" & ADDRESS(MATCH($D274, 'Patient Tracking'!$A:$A, 0), 1), \"View\")","v":{"$error":"#N/A"}}]
[{"$f":"HYPERLINK(\"#'Patient Tracking'!\" & ADDRESS(MATCH($D275, 'Patient Tracking'!$A:$A, 0), 1), \"View\")","v":{"$error":"#N/A"}}]
[{"$f":"HYPERLINK(\"#'Patient Tracking'!\" & ADDRESS(MATCH($D276, 'Patient Tracking'!$A:$A, 0), 1), \"View\")","v":{"$error":"#N/A"}}]
[{"$f":"HYPERLINK(\"#'Patient Tracking'!\" & ADDRESS(MATCH($D277, 'Patient Tracking'!$A:$A, 0), 1), \"View\")","v":{"$error":"#N/A"}}]
[{"$f":"HYPERLINK(\"#'Patient Tracking'!\" & ADDRESS(MATCH($D278, 'Patient Tracking'!$A:$A, 0), 1), \"View\")","v":{"$error":"#N/A"}}]
[{"$f":"HYPERLINK(\"#'Patient Tracking'!\" & ADDRESS(MATCH($D279, 'Patient Tracking'!$A:$A, 0), 1), \"View\")","v":{"$error":"#N/A"}}]
[{"$f":"HYPERLINK(\"#'Patient Tracking'!\" & ADDRESS(MATCH($D280, 'Patient Tracking'!$A:$A, 0), 1), \"View\")","v":{"$error":"#N/A"}}]
[{"$f":"HYPERLINK(\"#'Patient Tracking'!\" & ADDRESS(MATCH($D281, 'Patient Tracking'!$A:$A, 0), 1), \"View\")","v":{"$error":"#N/A"}}]
[{"$f":"HYPERLINK(\"#'Patient Tracking'!\" & ADDRESS(MATCH($D282, 'Patient Tracking'!$A:$A, 0), 1), \"View\")","v":{"$error":"#N/A"}}]
[{"$f":"HYPERLINK(\"#'Patient Tracking'!\" & ADDRESS(MATCH($D283, 'Patient Tracking'!$A:$A, 0), 1), \"View\")","v":{"$error":"#N/A"}}]
[{"$f":"HYPERLINK(\"#'Patient Tracking'!\" & ADDRESS(MATCH($D284, 'Patient Tracking'!$A:$A, 0), 1), \"View\")","v":{"$error":"#N/A"}}]
[{"$f":"HYPERLINK(\"#'Patient Tracking'!\" & ADDRESS(MATCH($D285, 'Patient Tracking'!$A:$A, 0), 1), \"View\")","v":{"$error":"#N/A"}}]
[{"$f":"HYPERLINK(\"#'Patient Tracking'!\" & ADDRESS(MATCH($D286, 'Patient Tracking'!$A:$A, 0), 1), \"View\")","v":{"$error":"#N/A"}}]
[{"$f":"HYPERLINK(\"#'Patient Tracking'!\" & ADDRESS(MATCH($D287, 'Patient Tracking'!$A:$A, 0), 1), \"View\")","v":{"$error":"#N/A"}}]
[{"$f":"HYPERLINK(\"#'Patient Tracking'!\" & ADDRESS(MATCH($D288, 'Patient Tracking'!$A:$A, 0), 1), \"View\")","v":{"$error":"#N/A"}}]
[{"$f":"HYPERLINK(\"#'Patient Tracking'!\" & ADDRESS(MATCH($D289, 'Patient Tracking'!$A:$A, 0), 1), \"View\")","v":{"$error":"#N/A"}}]
[{"$f":"HYPERLINK(\"#'Patient Tracking'!\" & ADDRESS(MATCH($D290, 'Patient Tracking'!$A:$A, 0), 1), \"View\")","v":{"$error":"#N/A"}}]
[{"$f":"HYPERLINK(\"#'Patient Tracking'!\" & ADDRESS(MATCH($D291, 'Patient Tracking'!$A:$A, 0), 1), \"View\")","v":{"$error":"#N/A"}}]
[{"$f":"HYPERLINK(\"#'Patient Tracking'!\" & ADDRESS(MATCH($D292, 'Patient Tracking'!$A:$A, 0), 1), \"View\")","v":{"$error":"#N/A"}}]
[{"$f":"HYPERLINK(\"#'Patient Tracking'!\" & ADDRESS(MATCH($D293, 'Patient Tracking'!$A:$A, 0), 1), \"View\")","v":{"$error":"#N/A"}}]
[{"$f":"HYPERLINK(\"#'Patient Tracking'!\" & ADDRESS(MATCH($D294, 'Patient Tracking'!$A:$A, 0), 1), \"View\")","v":{"$error":"#N/A"}}]
[{"$f":"HYPERLINK(\"#'Patient Tracking'!\" & ADDRESS(MATCH($D295, 'Patient Tracking'!$A:$A, 0), 1), \"View\")","v":{"$error":"#N/A"}}]
[{"$f":"HYPERLINK(\"#'Patient Tracking'!\" & ADDRESS(MATCH($D296, 'Patient Tracking'!$A:$A, 0), 1), \"View\")","v":{"$error":"#N/A"}}]
[{"$f":"HYPERLINK(\"#'Patient Tracking'!\" & ADDRESS(MATCH($D297, 'Patient Tracking'!$A:$A, 0), 1), \"View\")","v":{"$error":"#N/A"}}]
[{"$f":"HYPERLINK(\"#'Patient Tracking'!\" & ADDRESS(MATCH($D298, 'Patient Tracking'!$A:$A, 0), 1), \"View\")","v":{"$error":"#N/A"}}]
[{"$f":"HYPERLINK(\"#'Patient Tracking'!\" & ADDRESS(MATCH($D299, 'Patient Tracking'!$A:$A, 0), 1), \"View\")","v":{"$error":"#N/A"}}]
[{"$f":"HYPERLINK(\"#'Patient Tracking'!\" & ADDRESS(MATCH($D300, 'Patient Tracking'!$A:$A, 0), 1), \"View\")","v":{"$error":"#N/A"}}]
[{"$f":"HYPERLINK(\"#'Patient Tracking'!\" & ADDRESS(MATCH($D301, 'Patient Tracking'!$A:$A, 0), 1), \"View\")","v":{"$error":"#N/A"}}]
[{"$f":"HYPERLINK(\"#'Patient Tracking'!\" & ADDRESS(MATCH($D302, 'Patient Tracking'!$A:$A, 0), 1), \"View\")","v":{"$error":"#N/A"}}]
[{"$f":"HYPERLINK(\"#'Patient Tracking'!\" & ADDRESS(MATCH($D303, 'Patient Tracking'!$A:$A, 0), 1), \"View\")","v":{"$error":"#N/A"}}]
[{"$f":"HYPERLINK(\"#'Patient Tracking'!\" & ADDRESS(MATCH($D304, 'Patient Tracking'!$A:$A, 0), 1), \"View\")","v":{"$error":"#N/A"}}]
[{"$f":"HYPERLINK(\"#'Patient Tracking'!\" & ADDRESS(MATCH($D305, 'Patient Tracking'!$A:$A, 0), 1), \"View\")","v":{"$error":"#N/A"}}]
[{"$f":"HYPERLINK(\"#'Patient Tracking'!\" & ADDRESS(MATCH($D306, 'Patient Tracking'!$A:$A, 0), 1), \"View\")","v":{"$error":"#N/A"}}]
[{"$f":"HYPERLINK(\"#'Patient Tracking'!\" & ADDRESS(MATCH($D307, 'Patient Tracking'!$A:$A, 0), 1), \"View\")","v":{"$error":"#N/A"}}]
[{"$f":"HYPERLINK(\"#'Patient Tracking'!\" & ADDRESS(MATCH($D308, 'Patient Tracking'!$A:$A, 0), 1), \"View\")","v":{"$error":"#N/A"}}]
[{"$f":"HYPERLINK(\"#'Patient Tracking'!\" & ADDRESS(MATCH($D309, 'Patient Tracking'!$A:$A, 0), 1), \"View\")","v":{"$error":"#N/A"}}]
[{"$f":"HYPERLINK(\"#'Patient Tracking'!\" & ADDRESS(MATCH($D310, 'Patient Tracking'!$A:$A, 0), 1), \"View\")","v":{"$error":"#N/A"}}]
[{"$f":"HYPERLINK(\"#'Patient Tracking'!\" & ADDRESS(MATCH($D311, 'Patient Tracking'!$A:$A, 0), 1), \"View\")","v":{"$error":"#N/A"}}]
[{"$f":"HYPERLINK(\"#'Patient Tracking'!\" & ADDRESS(MATCH($D312, 'Patient Tracking'!$A:$A, 0), 1), \"View\")","v":{"$error":"#N/A"}}]
[{"$f":"HYPERLINK(\"#'Patient Tracking'!\" & ADDRESS(MATCH($D313, 'Patient Tracking'!$A:$A, 0), 1), \"View\")","v":{"$error":"#N/A"}}]
[{"$f":"HYPERLINK(\"#'Patient Tracking'!\" & ADDRESS(MATCH($D314, 'Patient Tracking'!$A:$A, 0), 1), \"View\")","v":{"$error":"#N/A"}}]
[{"$f":"HYPERLINK(\"#'Patient Tracking'!\" & ADDRESS(MATCH($D315, 'Patient Tracking'!$A:$A, 0), 1), \"View\")","v":{"$error":"#N/A"}}]
[{"$f":"HYPERLINK(\"#'Patient Tracking'!\" & ADDRESS(MATCH($D316, 'Patient Tracking'!$A:$A, 0), 1), \"View\")","v":{"$error":"#N/A"}}]
[{"$f":"HYPERLINK(\"#'Patient Tracking'!\" & ADDRESS(MATCH($D317, 'Patient Tracking'!$A:$A, 0), 1), \"View\")","v":{"$error":"#N/A"}}]
[{"$f":"HYPERLINK(\"#'Patient Tracking'!\" & ADDRESS(MATCH($D318, 'Patient Tracking'!$A:$A, 0), 1), \"View\")","v":{"$error":"#N/A"}}]
[{"$f":"HYPERLINK(\"#'Patient Tracking'!\" & ADDRESS(MATCH($D319, 'Patient Tracking'!$A:$A, 0), 1), \"View\")","v":{"$error":"#N/A"}}]
[{"$f":"HYPERLINK(\"#'Patient Tracking'!\" & ADDRESS(MATCH($D320, 'Patient Tracking'!$A:$A, 0), 1), \"View\")","v":{"$error":"#N/A"}}]
[{"$f":"HYPERLINK(\"#'Patient Tracking'!\" & ADDRESS(MATCH($D321, 'Patient Tracking'!$A:$A, 0), 1), \"View\")","v":{"$error":"#N/A"}}]
[{"$f":"HYPERLINK(\"#'Patient Tracking'!\" & ADDRESS(MATCH($D322, 'Patient Tracking'!$A:$A, 0), 1), \"View\")","v":{"$error":"#N/A"}}]
[{"$f":"HYPERLINK(\"#'Patient Tracking'!\" & ADDRESS(MATCH($D323, 'Patient Tracking'!$A:$A, 0), 1), \"View\")","v":{"$error":"#N/A"}}]
[{"$f":"HYPERLINK(\"#'Patient Tracking'!\" & ADDRESS(MATCH($D324, 'Patient Tracking'!$A:$A, 0), 1), \"View\")","v":{"$error":"#N/A"}}]
[{"$f":"HYPERLINK(\"#'Patient Tracking'!\" & ADDRESS(MATCH($D325, 'Patient Tracking'!$A:$A, 0), 1), \"View\")","v":{"$error":"#N/A"}}]
[{"$f":"HYPERLINK(\"#'Patient Tracking'!\" & ADDRESS(MATCH($D326, 'Patient Tracking'!$A:$A, 0), 1), \"View\")","v":{"$error":"#N/A"}}]
[{"$f":"HYPERLINK(\"#'Patient Tracking'!\" & ADDRESS(MATCH($D327, 'Patient Tracking'!$A:$A, 0), 1), \"View\")","v":{"$error":"#N/A"}}]
[{"$f":"HYPERLINK(\"#'Patient Tracking'!\" & ADDRESS(MATCH($D328, 'Patient Tracking'!$A:$A, 0), 1), \"View\")","v":{"$error":"#N/A"}}]
[{"$f":"HYPERLINK(\"#'Patient Tracking'!\" & ADDRESS(MATCH($D329, 'Patient Tracking'!$A:$A, 0), 1), \"View\")","v":{"$error":"#N/A"}}]
[{"$f":"HYPERLINK(\"#'Patient Tracking'!\" & ADDRESS(MATCH($D330, 'Patient Tracking'!$A:$A, 0), 1), \"View\")","v":{"$error":"#N/A"}}]
[{"$f":"HYPERLINK(\"#'Patient Tracking'!\" & ADDRESS(MATCH($D331, 'Patient Tracking'!$A:$A, 0), 1), \"View\")","v":{"$error":"#N/A"}}]
[{"$f":"HYPERLINK(\"#'Patient Tracking'!\" & ADDRESS(MATCH($D332, 'Patient Tracking'!$A:$A, 0), 1), \"View\")","v":{"$error":"#N/A"}}]
[{"$f":"HYPERLINK(\"#'Patient Tracking'!\" & ADDRESS(MATCH($D333, 'Patient Tracking'!$A:$A, 0), 1), \"View\")","v":{"$error":"#N/A"}}]
[{"$f":"HYPERLINK(\"#'Patient Tracking'!\" & ADDRESS(MATCH($D334, 'Patient Tracking'!$A:$A, 0), 1), \"View\")","v":{"$error":"#N/A"}}]
[{"$f":"HYPERLINK(\"#'Patient Tracking'!\" & ADDRESS(MATCH($D335, 'Patient Tracking'!$A:$A, 0), 1), \"View\")","v":{"$error":"#N/A"}}]
[{"$f":"HYPERLINK(\"#'Patient Tracking'!\" & ADDRESS(MATCH($D336, 'Patient Tracking'!$A:$A, 0), 1), \"View\")","v":{"$error":"#N/A"}}]
[{"$f":"HYPERLINK(\"#'Patient Tracking'!\" & ADDRESS(MATCH($D337, 'Patient Tracking'!$A:$A, 0), 1), \"View\")","v":{"$error":"#N/A"}}]
[{"$f":"HYPERLINK(\"#'Patient Tracking'!\" & ADDRESS(MATCH($D338, 'Patient Tracking'!$A:$A, 0), 1), \"View\")","v":{"$error":"#N/A"}}]
[{"$f":"HYPERLINK(\"#'Patient Tracking'!\" & ADDRESS(MATCH($D339, 'Patient Tracking'!$A:$A, 0), 1), \"View\")","v":{"$error":"#N/A"}}]
[{"$f":"HYPERLINK(\"#'Patient Tracking'!\" & ADDRESS(MATCH($D340, 'Patient Tracking'!$A:$A, 0), 1), \"View\")","v":{"$error":"#N/A"}}]
[{"$f":"HYPERLINK(\"#'Patient Tracking'!\" & ADDRESS(MATCH($D341, 'Patient Tracking'!$A:$A, 0), 1), \"View\")","v":{"$error":"#N/A"}}]
[{"$f":"HYPERLINK(\"#'Patient Tracking'!\" & ADDRESS(MATCH($D342, 'Patient Tracking'!$A:$A, 0), 1), \"View\")","v":{"$error":"#N/A"}}]
[{"$f":"HYPERLINK(\"#'Patient Tracking'!\" & ADDRESS(MATCH($D343, 'Patient Tracking'!$A:$A, 0), 1), \"View\")","v":{"$error":"#N/A"}}]
[{"$f":"HYPERLINK(\"#'Patient Tracking'!\" & ADDRESS(MATCH($D344, 'Patient Tracking'!$A:$A, 0), 1), \"View\")","v":{"$error":"#N/A"}}]
[{"$f":"HYPERLINK(\"#'Patient Tracking'!\" & ADDRESS(MATCH($D345, 'Patient Tracking'!$A:$A, 0), 1), \"View\")","v":{"$error":"#N/A"}}]
[{"$f":"HYPERLINK(\"#'Patient Tracking'!\" & ADDRESS(MATCH($D346, 'Patient Tracking'!$A:$A, 0), 1), \"View\")","v":{"$error":"#N/A"}}]
[{"$f":"HYPERLINK(\"#'Patient Tracking'!\" & ADDRESS(MATCH($D347, 'Patient Tracking'!$A:$A, 0), 1), \"View\")","v":{"$error":"#N/A"}}]
[{"$f":"HYPERLINK(\"#'Patient Tracking'!\" & ADDRESS(MATCH($D348, 'Patient Tracking'!$A:$A, 0), 1), \"View\")","v":{"$error":"#N/A"}}]
[{"$f":"HYPERLINK(\"#'Patient Tracking'!\" & ADDRESS(MATCH($D349, 'Patient Tracking'!$A:$A, 0), 1), \"View\")","v":{"$error":"#N/A"}}]
[{"$f":"HYPERLINK(\"#'Patient Tracking'!\" & ADDRESS(MATCH($D350, 'Patient Tracking'!$A:$A, 0), 1), \"View\")","v":{"$error":"#N/A"}}]
[{"$f":"HYPERLINK(\"#'Patient Tracking'!\" & ADDRESS(MATCH($D351, 'Patient Tracking'!$A:$A, 0), 1), \"View\")","v":{"$error":"#N/A"}}]
[{"$f":"HYPERLINK(\"#'Patient Tracking'!\" & ADDRESS(MATCH($D352, 'Patient Tracking'!$A:$A, 0), 1), \"View\")","v":{"$error":"#N/A"}}]
[{"$f":"HYPERLINK(\"#'Patient Tracking'!\" & ADDRESS(MATCH($D353, 'Patient Tracking'!$A:$A, 0), 1), \"View\")","v":{"$error":"#N/A"}}]
[{"$f":"HYPERLINK(\"#'Patient Tracking'!\" & ADDRESS(MATCH($D354, 'Patient Tracking'!$A:$A, 0), 1), \"View\")","v":{"$error":"#N/A"}}]
[{"$f":"HYPERLINK(\"#'Patient Tracking'!\" & ADDRESS(MATCH($D355, 'Patient Tracking'!$A:$A, 0), 1), \"View\")","v":{"$error":"#N/A"}}]
[{"$f":"HYPERLINK(\"#'Patient Tracking'!\" & ADDRESS(MATCH($D356, 'Patient Tracking'!$A:$A, 0), 1), \"View\")","v":{"$error":"#N/A"}}]
[{"$f":"HYPERLINK(\"#'Patient Tracking'!\" & ADDRESS(MATCH($D357, 'Patient Tracking'!$A:$A, 0), 1), \"View\")","v":{"$error":"#N/A"}}]
[{"$f":"HYPERLINK(\"#'Patient Tracking'!\" & ADDRESS(MATCH($D358, 'Patient Tracking'!$A:$A, 0), 1), \"View\")","v":{"$error":"#N/A"}}]
[{"$f":"HYPERLINK(\"#'Patient Tracking'!\" & ADDRESS(MATCH($D359, 'Patient Tracking'!$A:$A, 0), 1), \"View\")","v":{"$error":"#N/A"}}]
[{"$f":"HYPERLINK(\"#'Patient Tracking'!\" & ADDRESS(MATCH($D360, 'Patient Tracking'!$A:$A, 0), 1), \"View\")","v":{"$error":"#N/A"}}]
[{"$f":"HYPERLINK(\"#'Patient Tracking'!\" & ADDRESS(MATCH($D361, 'Patient Tracking'!$A:$A, 0), 1), \"View\")","v":{"$error":"#N/A"}}]
[{"$f":"HYPERLINK(\"#'Patient Tracking'!\" & ADDRESS(MATCH($D362, 'Patient Tracking'!$A:$A, 0), 1), \"View\")","v":{"$error":"#N/A"}}]
[{"$f":"HYPERLINK(\"#'Patient Tracking'!\" & ADDRESS(MATCH($D363, 'Patient Tracking'!$A:$A, 0), 1), \"View\")","v":{"$error":"#N/A"}}]
[{"$f":"HYPERLINK(\"#'Patient Tracking'!\" & ADDRESS(MATCH($D364, 'Patient Tracking'!$A:$A, 0), 1), \"View\")","v":{"$error":"#N/A"}}]
[{"$f":"HYPERLINK(\"#'Patient Tracking'!\" & ADDRESS(MATCH($D365, 'Patient Tracking'!$A:$A, 0), 1), \"View\")","v":{"$error":"#N/A"}}]
[{"$f":"HYPERLINK(\"#'Patient Tracking'!\" & ADDRESS(MATCH($D366, 'Patient Tracking'!$A:$A, 0), 1), \"View\")","v":{"$error":"#N/A"}}]
[{"$f":"HYPERLINK(\"#'Patient Tracking'!\" & ADDRESS(MATCH($D367, 'Patient Tracking'!$A:$A, 0), 1), \"View\")","v":{"$error":"#N/A"}}]
[{"$f":"HYPERLINK(\"#'Patient Tracking'!\" & ADDRESS(MATCH($D368, 'Patient Tracking'!$A:$A, 0), 1), \"View\")","v":{"$error":"#N/A"}}]
[{"$f":"HYPERLINK(\"#'Patient Tracking'!\" & ADDRESS(MATCH($D369, 'Patient Tracking'!$A:$A, 0), 1), \"View\")","v":{"$error":"#N/A"}}]
[{"$f":"HYPERLINK(\"#'Patient Tracking'!\" & ADDRESS(MATCH($D370, 'Patient Tracking'!$A:$A, 0), 1), \"View\")","v":{"$error":"#N/A"}}]
[{"$f":"HYPERLINK(\"#'Patient Tracking'!\" & ADDRESS(MATCH($D371, 'Patient Tracking'!$A:$A, 0), 1), \"View\")","v":{"$error":"#N/A"}}]
[{"$f":"HYPERLINK(\"#'Patient Tracking'!\" & ADDRESS(MATCH($D372, 'Patient Tracking'!$A:$A, 0), 1), \"View\")","v":{"$error":"#N/A"}}]
[{"$f":"HYPERLINK(\"#'Patient Tracking'!\" & ADDRESS(MATCH($D373, 'Patient Tracking'!$A:$A, 0), 1), \"View\")","v":{"$error":"#N/A"}}]
[{"$f":"HYPERLINK(\"#'Patient Tracking'!\" & ADDRESS(MATCH($D374, 'Patient Tracking'!$A:$A, 0), 1), \"View\")","v":{"$error":"#N/A"}}]
[{"$f":"HYPERLINK(\"#'Patient Tracking'!\" & ADDRESS(MATCH($D375, 'Patient Tracking'!$A:$A, 0), 1), \"View\")","v":{"$error":"#N/A"}}]
[{"$f":"HYPERLINK(\"#'Patient Tracking'!\" & ADDRESS(MATCH($D376, 'Patient Tracking'!$A:$A, 0), 1), \"View\")","v":{"$error":"#N/A"}}]
[{"$f":"HYPERLINK(\"#'Patient Tracking'!\" & ADDRESS(MATCH($D377, 'Patient Tracking'!$A:$A, 0), 1), \"View\")","v":{"$error":"#N/A"}}]
[{"$f":"HYPERLINK(\"#'Patient Tracking'!\" & ADDRESS(MATCH($D378, 'Patient Tracking'!$A:$A, 0), 1), \"View\")","v":{"$error":"#N/A"}}]
[{"$f":"HYPERLINK(\"#'Patient Tracking'!\" & ADDRESS(MATCH($D379, 'Patient Tracking'!$A:$A, 0), 1), \"View\")","v":{"$error":"#N/A"}}]
[{"$f":"HYPERLINK(\"#'Patient Tracking'!\" & ADDRESS(MATCH($D380, 'Patient Tracking'!$A:$A, 0), 1), \"View\")","v":{"$error":"#N/A"}}]
[{"$f":"HYPERLINK(\"#'Patient Tracking'!\" & ADDRESS(MATCH($D381, 'Patient Tracking'!$A:$A, 0), 1), \"View\")","v":{"$error":"#N/A"}}]
[{"$f":"HYPERLINK(\"#'Patient Tracking'!\" & ADDRESS(MATCH($D382, 'Patient Tracking'!$A:$A, 0), 1), \"View\")","v":{"$error":"#N/A"}}]
[{"$f":"HYPERLINK(\"#'Patient Tracking'!\" & ADDRESS(MATCH($D383, 'Patient Tracking'!$A:$A, 0), 1), \"View\")","v":{"$error":"#N/A"}}]
[{"$f":"HYPERLINK(\"#'Patient Tracking'!\" & ADDRESS(MATCH($D384, 'Patient Tracking'!$A:$A, 0), 1), \"View\")","v":{"$error":"#N/A"}}]
[{"$f":"HYPERLINK(\"#'Patient Tracking'!\" & ADDRESS(MATCH($D385, 'Patient Tracking'!$A:$A, 0), 1), \"View\")","v":{"$error":"#N/A"}}]
[{"$f":"HYPERLINK(\"#'Patient Tracking'!\" & ADDRESS(MATCH($D386, 'Patient Tracking'!$A:$A, 0), 1), \"View\")","v":{"$error":"#N/A"}}]
[{"$f":"HYPERLINK(\"#'Patient Tracking'!\" & ADDRESS(MATCH($D387, 'Patient Tracking'!$A:$A, 0), 1), \"View\")","v":{"$error":"#N/A"}}]
[{"$f":"HYPERLINK(\"#'Patient Tracking'!\" & ADDRESS(MATCH($D388, 'Patient Tracking'!$A:$A, 0), 1), \"View\")","v":{"$error":"#N/A"}}]
[{"$f":"HYPERLINK(\"#'Patient Tracking'!\" & ADDRESS(MATCH($D389, 'Patient Tracking'!$A:$A, 0), 1), \"View\")","v":{"$error":"#N/A"}}]
[{"$f":"HYPERLINK(\"#'Patient Tracking'!\" & ADDRESS(MATCH($D390, 'Patient Tracking'!$A:$A, 0), 1), \"View\")","v":{"$error":"#N/A"}}]
[{"$f":"HYPERLINK(\"#'Patient Tracking'!\" & ADDRESS(MATCH($D391, 'Patient Tracking'!$A:$A, 0), 1), \"View\")","v":{"$error":"#N/A"}}]
[{"$f":"HYPERLINK(\"#'Patient Tracking'!\" & ADDRESS(MATCH($D392, 'Patient Tracking'!$A:$A, 0), 1), \"View\")","v":{"$error":"#N/A"}}]
[{"$f":"HYPERLINK(\"#'Patient Tracking'!\" & ADDRESS(MATCH($D393, 'Patient Tracking'!$A:$A, 0), 1), \"View\")","v":{"$error":"#N/A"}}]
[{"$f":"HYPERLINK(\"#'Patient Tracking'!\" & ADDRESS(MATCH($D394, 'Patient Tracking'!$A:$A, 0), 1), \"View\")","v":{"$error":"#N/A"}}]
[{"$f":"HYPERLINK(\"#'Patient Tracking'!\" & ADDRESS(MATCH($D395, 'Patient Tracking'!$A:$A, 0), 1), \"View\")","v":{"$error":"#N/A"}}]
[{"$f":"HYPERLINK(\"#'Patient Tracking'!\" & ADDRESS(MATCH($D396, 'Patient Tracking'!$A:$A, 0), 1), \"View\")","v":{"$error":"#N/A"}}]
[{"$f":"HYPERLINK(\"#'Patient Tracking'!\" & ADDRESS(MATCH($D397, 'Patient Tracking'!$A:$A, 0), 1), \"View\")","v":{"$error":"#N/A"}}]
[{"$f":"HYPERLINK(\"#'Patient Tracking'!\" & ADDRESS(MATCH($D398, 'Patient Tracking'!$A:$A, 0), 1), \"View\")","v":{"$error":"#N/A"}}]
[{"$f":"HYPERLINK(\"#'Patient Tracking'!\" & ADDRESS(MATCH($D399, 'Patient Tracking'!$A:$A, 0), 1), \"View\")","v":{"$error":"#N/A"}}]
[{"$f":"HYPERLINK(\"#'Patient Tracking'!\" & ADDRESS(MATCH($D400, 'Patient Tracking'!$A:$A, 0), 1), \"View\")","v":{"$error":"#N/A"}}]
[{"$f":"HYPERLINK(\"#'Patient Tracking'!\" & ADDRESS(MATCH($D401, 'Patient Tracking'!$A:$A, 0), 1), \"View\")","v":{"$error":"#N/A"}}]
[{"$f":"HYPERLINK(\"#'Patient Tracking'!\" & ADDRESS(MATCH($D402, 'Patient Tracking'!$A:$A, 0), 1), \"View\")","v":{"$error":"#N/A"}}]
[{"$f":"HYPERLINK(\"#'Patient Tracking'!\" & ADDRESS(MATCH($D403, 'Patient Tracking'!$A:$A, 0), 1), \"View\")","v":{"$error":"#N/A"}}]
[{"$f":"HYPERLINK(\"#'Patient Tracking'!\" & ADDRESS(MATCH($D404, 'Patient Tracking'!$A:$A, 0), 1), \"View\")","v":{"$error":"#N/A"}}]
[{"$f":"HYPERLINK(\"#'Patient Tracking'!\" & ADDRESS(MATCH($D405, 'Patient Tracking'!$A:$A, 0), 1), \"View\")","v":{"$error":"#N/A"}}]
[{"$f":"HYPERLINK(\"#'Patient Tracking'!\" & ADDRESS(MATCH($D406, 'Patient Tracking'!$A:$A, 0), 1), \"View\")","v":{"$error":"#N/A"}}]
[{"$f":"HYPERLINK(\"#'Patient Tracking'!\" & ADDRESS(MATCH($D407, 'Patient Tracking'!$A:$A, 0), 1), \"View\")","v":{"$error":"#N/A"}}]
[{"$f":"HYPERLINK(\"#'Patient Tracking'!\" & ADDRESS(MATCH($D408, 'Patient Tracking'!$A:$A, 0), 1), \"View\")","v":{"$error":"#N/A"}}]
[{"$f":"HYPERLINK(\"#'Patient Tracking'!\" & ADDRESS(MATCH($D409, 'Patient Tracking'!$A:$A, 0), 1), \"View\")","v":{"$error":"#N/A"}}]
[{"$f":"HYPERLINK(\"#'Patient Tracking'!\" & ADDRESS(MATCH($D410, 'Patient Tracking'!$A:$A, 0), 1), \"View\")","v":{"$error":"#N/A"}}]
[{"$f":"HYPERLINK(\"#'Patient Tracking'!\" & ADDRESS(MATCH($D411, 'Patient Tracking'!$A:$A, 0), 1), \"View\")","v":{"$error":"#N/A"}}]
[{"$f":"HYPERLINK(\"#'Patient Tracking'!\" & ADDRESS(MATCH($D412, 'Patient Tracking'!$A:$A, 0), 1), \"View\")","v":{"$error":"#N/A"}}]
[{"$f":"HYPERLINK(\"#'Patient Tracking'!\" & ADDRESS(MATCH($D413, 'Patient Tracking'!$A:$A, 0), 1), \"View\")","v":{"$error":"#N/A"}}]
[{"$f":"HYPERLINK(\"#'Patient Tracking'!\" & ADDRESS(MATCH($D414, 'Patient Tracking'!$A:$A, 0), 1), \"View\")","v":{"$error":"#N/A"}}]
[{"$f":"HYPERLINK(\"#'Patient Tracking'!\" & ADDRESS(MATCH($D415, 'Patient Tracking'!$A:$A, 0), 1), \"View\")","v":{"$error":"#N/A"}}]
[{"$f":"HYPERLINK(\"#'Patient Tracking'!\" & ADDRESS(MATCH($D416, 'Patient Tracking'!$A:$A, 0), 1), \"View\")","v":{"$error":"#N/A"}}]
[{"$f":"HYPERLINK(\"#'Patient Tracking'!\" & ADDRESS(MATCH($D417, 'Patient Tracking'!$A:$A, 0), 1), \"View\")","v":{"$error":"#N/A"}}]
[{"$f":"HYPERLINK(\"#'Patient Tracking'!\" & ADDRESS(MATCH($D418, 'Patient Tracking'!$A:$A, 0), 1), \"View\")","v":{"$error":"#N/A"}}]
[{"$f":"HYPERLINK(\"#'Patient Tracking'!\" & ADDRESS(MATCH($D419, 'Patient Tracking'!$A:$A, 0), 1), \"View\")","v":{"$error":"#N/A"}}]
[{"$f":"HYPERLINK(\"#'Patient Tracking'!\" & ADDRESS(MATCH($D420, 'Patient Tracking'!$A:$A, 0), 1), \"View\")","v":{"$error":"#N/A"}}]
[{"$f":"HYPERLINK(\"#'Patient Tracking'!\" & ADDRESS(MATCH($D421, 'Patient Tracking'!$A:$A, 0), 1), \"View\")","v":{"$error":"#N/A"}}]
[{"$f":"HYPERLINK(\"#'Patient Tracking'!\" & ADDRESS(MATCH($D422, 'Patient Tracking'!$A:$A, 0), 1), \"View\")","v":{"$error":"#N/A"}}]
[{"$f":"HYPERLINK(\"#'Patient Tracking'!\" & ADDRESS(MATCH($D423, 'Patient Tracking'!$A:$A, 0), 1), \"View\")","v":{"$error":"#N/A"}}]
[{"$f":"HYPERLINK(\"#'Patient Tracking'!\" & ADDRESS(MATCH($D424, 'Patient Tracking'!$A:$A, 0), 1), \"View\")","v":{"$error":"#N/A"}}]
[{"$f":"HYPERLINK(\"#'Patient Tracking'!\" & ADDRESS(MATCH($D425, 'Patient Tracking'!$A:$A, 0), 1), \"View\")","v":{"$error":"#N/A"}}]
[{"$f":"HYPERLINK(\"#'Patient Tracking'!\" & ADDRESS(MATCH($D426, 'Patient Tracking'!$A:$A, 0), 1), \"View\")","v":{"$error":"#N/A"}}]
[{"$f":"HYPERLINK(\"#'Patient Tracking'!\" & ADDRESS(MATCH($D427, 'Patient Tracking'!$A:$A, 0), 1), \"View\")","v":{"$error":"#N/A"}}]
[{"$f":"HYPERLINK(\"#'Patient Tracking'!\" & ADDRESS(MATCH($D428, 'Patient Tracking'!$A:$A, 0), 1), \"View\")","v":{"$error":"#N/A"}}]
[{"$f":"HYPERLINK(\"#'Patient Tracking'!\" & ADDRESS(MATCH($D429, 'Patient Tracking'!$A:$A, 0), 1), \"View\")","v":{"$error":"#N/A"}}]
[{"$f":"HYPERLINK(\"#'Patient Tracking'!\" & ADDRESS(MATCH($D430, 'Patient Tracking'!$A:$A, 0), 1), \"View\")","v":{"$error":"#N/A"}}]
[{"$f":"HYPERLINK(\"#'Patient Tracking'!\" & ADDRESS(MATCH($D431, 'Patient Tracking'!$A:$A, 0), 1), \"View\")","v":{"$error":"#N/A"}}]
[{"$f":"HYPERLINK(\"#'Patient Tracking'!\" & ADDRESS(MATCH($D432, 'Patient Tracking'!$A:$A, 0), 1), \"View\")","v":{"$error":"#N/A"}}]
[{"$f":"HYPERLINK(\"#'Patient Tracking'!\" & ADDRESS(MATCH($D433, 'Patient Tracking'!$A:$A, 0), 1), \"View\")","v":{"$error":"#N/A"}}]
[{"$f":"HYPERLINK(\"#'Patient Tracking'!\" & ADDRESS(MATCH($D434, 'Patient Tracking'!$A:$A, 0), 1), \"View\")","v":{"$error":"#N/A"}}]
[{"$f":"HYPERLINK(\"#'Patient Tracking'!\" & ADDRESS(MATCH($D435, 'Patient Tracking'!$A:$A, 0), 1), \"View\")","v":{"$error":"#N/A"}}]
[{"$f":"HYPERLINK(\"#'Patient Tracking'!\" & ADDRESS(MATCH($D436, 'Patient Tracking'!$A:$A, 0), 1), \"View\")","v":{"$error":"#N/A"}}]
[{"$f":"HYPERLINK(\"#'Patient Tracking'!\" & ADDRESS(MATCH($D437, 'Patient Tracking'!$A:$A, 0), 1), \"View\")","v":{"$error":"#N/A"}}]
[{"$f":"HYPERLINK(\"#'Patient Tracking'!\" & ADDRESS(MATCH($D438, 'Patient Tracking'!$A:$A, 0), 1), \"View\")","v":{"$error":"#N/A"}}]
[{"$f":"HYPERLINK(\"#'Patient Tracking'!\" & ADDRESS(MATCH($D439, 'Patient Tracking'!$A:$A, 0), 1), \"View\")","v":{"$error":"#N/A"}}]
[{"$f":"HYPERLINK(\"#'Patient Tracking'!\" & ADDRESS(MATCH($D440, 'Patient Tracking'!$A:$A, 0), 1), \"View\")","v":{"$error":"#N/A"}}]
[{"$f":"HYPERLINK(\"#'Patient Tracking'!\" & ADDRESS(MATCH($D441, 'Patient Tracking'!$A:$A, 0), 1), \"View\")","v":{"$error":"#N/A"}}]
[{"$f":"HYPERLINK(\"#'Patient Tracking'!\" & ADDRESS(MATCH($D442, 'Patient Tracking'!$A:$A, 0), 1), \"View\")","v":{"$error":"#N/A"}}]
[{"$f":"HYPERLINK(\"#'Patient Tracking'!\" & ADDRESS(MATCH($D443, 'Patient Tracking'!$A:$A, 0), 1), \"View\")","v":{"$error":"#N/A"}}]
[{"$f":"HYPERLINK(\"#'Patient Tracking'!\" & ADDRESS(MATCH($D444, 'Patient Tracking'!$A:$A, 0), 1), \"View\")","v":{"$error":"#N/A"}}]
[{"$f":"HYPERLINK(\"#'Patient Tracking'!\" & ADDRESS(MATCH($D445, 'Patient Tracking'!$A:$A, 0), 1), \"View\")","v":{"$error":"#N/A"}}]
[{"$f":"HYPERLINK(\"#'Patient Tracking'!\" & ADDRESS(MATCH($D446, 'Patient Tracking'!$A:$A, 0), 1), \"View\")","v":{"$error":"#N/A"}}]
[{"$f":"HYPERLINK(\"#'Patient Tracking'!\" & ADDRESS(MATCH($D447, 'Patient Tracking'!$A:$A, 0), 1), \"View\")","v":{"$error":"#N/A"}}]
[{"$f":"HYPERLINK(\"#'Patient Tracking'!\" & ADDRESS(MATCH($D448, 'Patient Tracking'!$A:$A, 0), 1), \"View\")","v":{"$error":"#N/A"}}]
[{"$f":"HYPERLINK(\"#'Patient Tracking'!\" & ADDRESS(MATCH($D449, 'Patient Tracking'!$A:$A, 0), 1), \"View\")","v":{"$error":"#N/A"}}]
[{"$f":"HYPERLINK(\"#'Patient Tracking'!\" & ADDRESS(MATCH($D450, 'Patient Tracking'!$A:$A, 0), 1), \"View\")","v":{"$error":"#N/A"}}]
[{"$f":"HYPERLINK(\"#'Patient Tracking'!\" & ADDRESS(MATCH($D451, 'Patient Tracking'!$A:$A, 0), 1), \"View\")","v":{"$error":"#N/A"}}]
[{"$f":"HYPERLINK(\"#'Patient Tracking'!\" & ADDRESS(MATCH($D452, 'Patient Tracking'!$A:$A, 0), 1), \"View\")","v":{"$error":"#N/A"}}]
[{"$f":"HYPERLINK(\"#'Patient Tracking'!\" & ADDRESS(MATCH($D453, 'Patient Tracking'!$A:$A, 0), 1), \"View\")","v":{"$error":"#N/A"}}]
[{"$f":"HYPERLINK(\"#'Patient Tracking'!\" & ADDRESS(MATCH($D454, 'Patient Tracking'!$A:$A, 0), 1), \"View\")","v":{"$error":"#N/A"}}]
[{"$f":"HYPERLINK(\"#'Patient Tracking'!\" & ADDRESS(MATCH($D455, 'Patient Tracking'!$A:$A, 0), 1), \"View\")","v":{"$error":"#N/A"}}]
[{"$f":"HYPERLINK(\"#'Patient Tracking'!\" & ADDRESS(MATCH($D456, 'Patient Tracking'!$A:$A, 0), 1), \"View\")","v":{"$error":"#N/A"}}]
[{"$f":"HYPERLINK(\"#'Patient Tracking'!\" & ADDRESS(MATCH($D457, 'Patient Tracking'!$A:$A, 0), 1), \"View\")","v":{"$error":"#N/A"}}]
[{"$f":"HYPERLINK(\"#'Patient Tracking'!\" & ADDRESS(MATCH($D458, 'Patient Tracking'!$A:$A, 0), 1), \"View\")","v":{"$error":"#N/A"}}]
[{"$f":"HYPERLINK(\"#'Patient Tracking'!\" & ADDRESS(MATCH($D459, 'Patient Tracking'!$A:$A, 0), 1), \"View\")","v":{"$error":"#N/A"}}]
[{"$f":"HYPERLINK(\"#'Patient Tracking'!\" & ADDRESS(MATCH($D460, 'Patient Tracking'!$A:$A, 0), 1), \"View\")","v":{"$error":"#N/A"}}]
[{"$f":"HYPERLINK(\"#'Patient Tracking'!\" & ADDRESS(MATCH($D461, 'Patient Tracking'!$A:$A, 0), 1), \"View\")","v":{"$error":"#N/A"}}]
[{"$f":"HYPERLINK(\"#'Patient Tracking'!\" & ADDRESS(MATCH($D462, 'Patient Tracking'!$A:$A, 0), 1), \"View\")","v":{"$error":"#N/A"}}]
[{"$f":"HYPERLINK(\"#'Patient Tracking'!\" & ADDRESS(MATCH($D463, 'Patient Tracking'!$A:$A, 0), 1), \"View\")","v":{"$error":"#N/A"}}]
[{"$f":"HYPERLINK(\"#'Patient Tracking'!\" & ADDRESS(MATCH($D464, 'Patient Tracking'!$A:$A, 0), 1), \"View\")","v":{"$error":"#N/A"}}]
[{"$f":"HYPERLINK(\"#'Patient Tracking'!\" & ADDRESS(MATCH($D465, 'Patient Tracking'!$A:$A, 0), 1), \"View\")","v":{"$error":"#N/A"}}]
[{"$f":"HYPERLINK(\"#'Patient Tracking'!\" & ADDRESS(MATCH($D466, 'Patient Tracking'!$A:$A, 0), 1), \"View\")","v":{"$error":"#N/A"}}]
[{"$f":"HYPERLINK(\"#'Patient Tracking'!\" & ADDRESS(MATCH($D467, 'Patient Tracking'!$A:$A, 0), 1), \"View\")","v":{"$error":"#N/A"}}]
[{"$f":"HYPERLINK(\"#'Patient Tracking'!\" & ADDRESS(MATCH($D468, 'Patient Tracking'!$A:$A, 0), 1), \"View\")","v":{"$error":"#N/A"}}]
[{"$f":"HYPERLINK(\"#'Patient Tracking'!\" & ADDRESS(MATCH($D469, 'Patient Tracking'!$A:$A, 0), 1), \"View\")","v":{"$error":"#N/A"}}]
[{"$f":"HYPERLINK(\"#'Patient Tracking'!\" & ADDRESS(MATCH($D470, 'Patient Tracking'!$A:$A, 0), 1), \"View\")","v":{"$error":"#N/A"}}]
[{"$f":"HYPERLINK(\"#'Patient Tracking'!\" & ADDRESS(MATCH($D471, 'Patient Tracking'!$A:$A, 0), 1), \"View\")","v":{"$error":"#N/A"}}]
[{"$f":"HYPERLINK(\"#'Patient Tracking'!\" & ADDRESS(MATCH($D472, 'Patient Tracking'!$A:$A, 0), 1), \"View\")","v":{"$error":"#N/A"}}]
[{"$f":"HYPERLINK(\"#'Patient Tracking'!\" & ADDRESS(MATCH($D473, 'Patient Tracking'!$A:$A, 0), 1), \"View\")","v":{"$error":"#N/A"}}]
[{"$f":"HYPERLINK(\"#'Patient Tracking'!\" & ADDRESS(MATCH($D474, 'Patient Tracking'!$A:$A, 0), 1), \"View\")","v":{"$error":"#N/A"}}]
[{"$f":"HYPERLINK(\"#'Patient Tracking'!\" & ADDRESS(MATCH($D475, 'Patient Tracking'!$A:$A, 0), 1), \"View\")","v":{"$error":"#N/A"}}]
[{"$f":"HYPERLINK(\"#'Patient Tracking'!\" & ADDRESS(MATCH($D476, 'Patient Tracking'!$A:$A, 0), 1), \"View\")","v":{"$error":"#N/A"}}]
[{"$f":"HYPERLINK(\"#'Patient Tracking'!\" & ADDRESS(MATCH($D477, 'Patient Tracking'!$A:$A, 0), 1), \"View\")","v":{"$error":"#N/A"}}]
[{"$f":"HYPERLINK(\"#'Patient Tracking'!\" & ADDRESS(MATCH($D478, 'Patient Tracking'!$A:$A, 0), 1), \"View\")","v":{"$error":"#N/A"}}]
[{"$f":"HYPERLINK(\"#'Patient Tracking'!\" & ADDRESS(MATCH($D479, 'Patient Tracking'!$A:$A, 0), 1), \"View\")","v":{"$error":"#N/A"}}]
[{"$f":"HYPERLINK(\"#'Patient Tracking'!\" & ADDRESS(MATCH($D480, 'Patient Tracking'!$A:$A, 0), 1), \"View\")","v":{"$error":"#N/A"}}]
[{"$f":"HYPERLINK(\"#'Patient Tracking'!\" & ADDRESS(MATCH($D481, 'Patient Tracking'!$A:$A, 0), 1), \"View\")","v":{"$error":"#N/A"}}]
[{"$f":"HYPERLINK(\"#'Patient Tracking'!\" & ADDRESS(MATCH($D482, 'Patient Tracking'!$A:$A, 0), 1), \"View\")","v":{"$error":"#N/A"}}]
[{"$f":"HYPERLINK(\"#'Patient Tracking'!\" & ADDRESS(MATCH($D483, 'Patient Tracking'!$A:$A, 0), 1), \"View\")","v":{"$error":"#N/A"}}]
[{"$f":"HYPERLINK(\"#'Patient Tracking'!\" & ADDRESS(MATCH($D484, 'Patient Tracking'!$A:$A, 0), 1), \"View\")","v":{"$error":"#N/A"}}]
[{"$f":"HYPERLINK(\"#'Patient Tracking'!\" & ADDRESS(MATCH($D485, 'Patient Tracking'!$A:$A, 0), 1), \"View\")","v":{"$error":"#N/A"}}]
[{"$f":"HYPERLINK(\"#'Patient Tracking'!\" & ADDRESS(MATCH($D486, 'Patient Tracking'!$A:$A, 0), 1), \"View\")","v":{"$error":"#N/A"}}]
[{"$f":"HYPERLINK(\"#'Patient Tracking'!\" & ADDRESS(MATCH($D487, 'Patient Tracking'!$A:$A, 0), 1), \"View\")","v":{"$error":"#N/A"}}]
[{"$f":"HYPERLINK(\"#'Patient Tracking'!\" & ADDRESS(MATCH($D488, 'Patient Tracking'!$A:$A, 0), 1), \"View\")","v":{"$error":"#N/A"}}]
[{"$f":"HYPERLINK(\"#'Patient Tracking'!\" & ADDRESS(MATCH($D489, 'Patient Tracking'!$A:$A, 0), 1), \"View\")","v":{"$error":"#N/A"}}]
[{"$f":"HYPERLINK(\"#'Patient Tracking'!\" & ADDRESS(MATCH($D490, 'Patient Tracking'!$A:$A, 0), 1), \"View\")","v":{"$error":"#N/A"}}]
[{"$f":"HYPERLINK(\"#'Patient Tracking'!\" & ADDRESS(MATCH($D491, 'Patient Tracking'!$A:$A, 0), 1), \"View\")","v":{"$error":"#N/A"}}]
[{"$f":"HYPERLINK(\"#'Patient Tracking'!\" & ADDRESS(MATCH($D492, 'Patient Tracking'!$A:$A, 0), 1), \"View\")","v":{"$error":"#N/A"}}]
[{"$f":"HYPERLINK(\"#'Patient Tracking'!\" & ADDRESS(MATCH($D493, 'Patient Tracking'!$A:$A, 0), 1), \"View\")","v":{"$error":"#N/A"}}]
[{"$f":"HYPERLINK(\"#'Patient Tracking'!\" & ADDRESS(MATCH($D494, 'Patient Tracking'!$A:$A, 0), 1), \"View\")","v":{"$error":"#N/A"}}]
[{"$f":"HYPERLINK(\"#'Patient Tracking'!\" & ADDRESS(MATCH($D495, 'Patient Tracking'!$A:$A, 0), 1), \"View\")","v":{"$error":"#N/A"}}]
[{"$f":"HYPERLINK(\"#'Patient Tracking'!\" & ADDRESS(MATCH($D496, 'Patient Tracking'!$A:$A, 0), 1), \"View\")","v":{"$error":"#N/A"}}]
[{"$f":"HYPERLINK(\"#'Patient Tracking'!\" & ADDRESS(MATCH($D497, 'Patient Tracking'!$A:$A, 0), 1), \"View\")","v":{"$error":"#N/A"}}]
[{"$f":"HYPERLINK(\"#'Patient Tracking'!\" & ADDRESS(MATCH($D498, 'Patient Tracking'!$A:$A, 0), 1), \"View\")","v":{"$error":"#N/A"}}]
[{"$f":"HYPERLINK(\"#'Patient Tracking'!\" & ADDRESS(MATCH($D499, 'Patient Tracking'!$A:$A, 0), 1), \"View\")","v":{"$error":"#N/A"}}]
[{"$f":"HYPERLINK(\"#'Patient Tracking'!\" & ADDRESS(MATCH($D500, 'Patient Tracking'!$A:$A, 0), 1), \"View\")","v":{"$error":"#N/A"}}]
[{"$f":"HYPERLINK(\"#'Patient Tracking'!\" & ADDRESS(MATCH($D501, 'Patient Tracking'!$A:$A, 0), 1), \"View\")","v":{"$error":"#N/A"}}]
[{"$f":"HYPERLINK(\"#'Patient Tracking'!\" & ADDRESS(MATCH($D502, 'Patient Tracking'!$A:$A, 0), 1), \"View\")","v":{"$error":"#N/A"}}]
[{"$f":"HYPERLINK(\"#'Patient Tracking'!\" & ADDRESS(MATCH($D503, 'Patient Tracking'!$A:$A, 0), 1), \"View\")","v":{"$error":"#N/A"}}]
[{"$f":"HYPERLINK(\"#'Patient Tracking'!\" & ADDRESS(MATCH($D504, 'Patient Tracking'!$A:$A, 0), 1), \"View\")","v":{"$error":"#N/A"}}]
[{"$f":"HYPERLINK(\"#'Patient Tracking'!\" & ADDRESS(MATCH($D505, 'Patient Tracking'!$A:$A, 0), 1), \"View\")","v":{"$error":"#N/A"}}]
[{"$f":"HYPERLINK(\"#'Patient Tracking'!\" & ADDRESS(MATCH($D506, 'Patient Tracking'!$A:$A, 0), 1), \"View\")","v":{"$error":"#N/A"}}]
[{"$f":"HYPERLINK(\"#'Patient Tracking'!\" & ADDRESS(MATCH($D507, 'Patient Tracking'!$A:$A, 0), 1), \"View\")","v":{"$error":"#N/A"}}]
[{"$f":"HYPERLINK(\"#'Patient Tracking'!\" & ADDRESS(MATCH($D508, 'Patient Tracking'!$A:$A, 0), 1), \"View\")","v":{"$error":"#N/A"}}]
[{"$f":"HYPERLINK(\"#'Patient Tracking'!\" & ADDRESS(MATCH($D509, 'Patient Tracking'!$A:$A, 0), 1), \"View\")","v":{"$error":"#N/A"}}]
[{"$f":"HYPERLINK(\"#'Patient Tracking'!\" & ADDRESS(MATCH($D510, 'Patient Tracking'!$A:$A, 0), 1), \"View\")","v":{"$error":"#N/A"}}]
[{"$f":"HYPERLINK(\"#'Patient Tracking'!\" & ADDRESS(MATCH($D511, 'Patient Tracking'!$A:$A, 0), 1), \"View\")","v":{"$error":"#N/A"}}]
[{"$f":"HYPERLINK(\"#'Patient Tracking'!\" & ADDRESS(MATCH($D512, 'Patient Tracking'!$A:$A, 0), 1), \"View\")","v":{"$error":"#N/A"}}]
[{"$f":"HYPERLINK(\"#'Patient Tracking'!\" & ADDRESS(MATCH($D513, 'Patient Tracking'!$A:$A, 0), 1), \"View\")","v":{"$error":"#N/A"}}]
[{"$f":"HYPERLINK(\"#'Patient Tracking'!\" & ADDRESS(MATCH($D514, 'Patient Tracking'!$A:$A, 0), 1), \"View\")","v":{"$error":"#N/A"}}]
[{"$f":"HYPERLINK(\"#'Patient Tracking'!\" & ADDRESS(MATCH($D515, 'Patient Tracking'!$A:$A, 0), 1), \"View\")","v":{"$error":"#N/A"}}]
[{"$f":"HYPERLINK(\"#'Patient Tracking'!\" & ADDRESS(MATCH($D516, 'Patient Tracking'!$A:$A, 0), 1), \"View\")","v":{"$error":"#N/A"}}]
[{"$f":"HYPERLINK(\"#'Patient Tracking'!\" & ADDRESS(MATCH($D517, 'Patient Tracking'!$A:$A, 0), 1), \"View\")","v":{"$error":"#N/A"}}]
[{"$f":"HYPERLINK(\"#'Patient Tracking'!\" & ADDRESS(MATCH($D518, 'Patient Tracking'!$A:$A, 0), 1), \"View\")","v":{"$error":"#N/A"}}]
[{"$f":"HYPERLINK(\"#'Patient Tracking'!\" & ADDRESS(MATCH($D519, 'Patient Tracking'!$A:$A, 0), 1), \"View\")","v":{"$error":"#N/A"}}]
[{"$f":"HYPERLINK(\"#'Patient Tracking'!\" & ADDRESS(MATCH($D520, 'Patient Tracking'!$A:$A, 0), 1), \"View\")","v":{"$error":"#N/A"}}]
[{"$f":"HYPERLINK(\"#'Patient Tracking'!\" & ADDRESS(MATCH($D521, 'Patient Tracking'!$A:$A, 0), 1), \"View\")","v":{"$error":"#N/A"}}]
[{"$f":"HYPERLINK(\"#'Patient Tracking'!\" & ADDRESS(MATCH($D522, 'Patient Tracking'!$A:$A, 0), 1), \"View\")","v":{"$error":"#N/A"}}]
[{"$f":"HYPERLINK(\"#'Patient Tracking'!\" & ADDRESS(MATCH($D523, 'Patient Tracking'!$A:$A, 0), 1), \"View\")","v":{"$error":"#N/A"}}]
[{"$f":"HYPERLINK(\"#'Patient Tracking'!\" & ADDRESS(MATCH($D524, 'Patient Tracking'!$A:$A, 0), 1), \"View\")","v":{"$error":"#N/A"}}]
[{"$f":"HYPERLINK(\"#'Patient Tracking'!\" & ADDRESS(MATCH($D525, 'Patient Tracking'!$A:$A, 0), 1), \"View\")","v":{"$error":"#N/A"}}]
[{"$f":"HYPERLINK(\"#'Patient Tracking'!\" & ADDRESS(MATCH($D526, 'Patient Tracking'!$A:$A, 0), 1), \"View\")","v":{"$error":"#N/A"}}]
[{"$f":"HYPERLINK(\"#'Patient Tracking'!\" & ADDRESS(MATCH($D527, 'Patient Tracking'!$A:$A, 0), 1), \"View\")","v":{"$error":"#N/A"}}]
[{"$f":"HYPERLINK(\"#'Patient Tracking'!\" & ADDRESS(MATCH($D528, 'Patient Tracking'!$A:$A, 0), 1), \"View\")","v":{"$error":"#N/A"}}]
[{"$f":"HYPERLINK(\"#'Patient Tracking'!\" & ADDRESS(MATCH($D529, 'Patient Tracking'!$A:$A, 0), 1), \"View\")","v":{"$error":"#N/A"}}]
[{"$f":"HYPERLINK(\"#'Patient Tracking'!\" & ADDRESS(MATCH($D530, 'Patient Tracking'!$A:$A, 0), 1), \"View\")","v":{"$error":"#N/A"}}]
[{"$f":"HYPERLINK(\"#'Patient Tracking'!\" & ADDRESS(MATCH($D531, 'Patient Tracking'!$A:$A, 0), 1), \"View\")","v":{"$error":"#N/A"}}]
[{"$f":"HYPERLINK(\"#'Patient Tracking'!\" & ADDRESS(MATCH($D532, 'Patient Tracking'!$A:$A, 0), 1), \"View\")","v":{"$error":"#N/A"}}]
[{"$f":"HYPERLINK(\"#'Patient Tracking'!\" & ADDRESS(MATCH($D533, 'Patient Tracking'!$A:$A, 0), 1), \"View\")","v":{"$error":"#N/A"}}]
[{"$f":"HYPERLINK(\"#'Patient Tracking'!\" & ADDRESS(MATCH($D534, 'Patient Tracking'!$A:$A, 0), 1), \"View\")","v":{"$error":"#N/A"}}]
[{"$f":"HYPERLINK(\"#'Patient Tracking'!\" & ADDRESS(MATCH($D535, 'Patient Tracking'!$A:$A, 0), 1), \"View\")","v":{"$error":"#N/A"}}]
[{"$f":"HYPERLINK(\"#'Patient Tracking'!\" & ADDRESS(MATCH($D536, 'Patient Tracking'!$A:$A, 0), 1), \"View\")","v":{"$error":"#N/A"}}]
[{"$f":"HYPERLINK(\"#'Patient Tracking'!\" & ADDRESS(MATCH($D537, 'Patient Tracking'!$A:$A, 0), 1), \"View\")","v":{"$error":"#N/A"}}]
[{"$f":"HYPERLINK(\"#'Patient Tracking'!\" & ADDRESS(MATCH($D538, 'Patient Tracking'!$A:$A, 0), 1), \"View\")","v":{"$error":"#N/A"}}]
[{"$f":"HYPERLINK(\"#'Patient Tracking'!\" & ADDRESS(MATCH($D539, 'Patient Tracking'!$A:$A, 0), 1), \"View\")","v":{"$error":"#N/A"}}]
[{"$f":"HYPERLINK(\"#'Patient Tracking'!\" & ADDRESS(MATCH($D540, 'Patient Tracking'!$A:$A, 0), 1), \"View\")","v":{"$error":"#N/A"}}]
[{"$f":"HYPERLINK(\"#'Patient Tracking'!\" & ADDRESS(MATCH($D541, 'Patient Tracking'!$A:$A, 0), 1), \"View\")","v":{"$error":"#N/A"}}]
[{"$f":"HYPERLINK(\"#'Patient Tracking'!\" & ADDRESS(MATCH($D542, 'Patient Tracking'!$A:$A, 0), 1), \"View\")","v":{"$error":"#N/A"}}]
[{"$f":"HYPERLINK(\"#'Patient Tracking'!\" & ADDRESS(MATCH($D543, 'Patient Tracking'!$A:$A, 0), 1), \"View\")","v":{"$error":"#N/A"}}]
[{"$f":"HYPERLINK(\"#'Patient Tracking'!\" & ADDRESS(MATCH($D544, 'Patient Tracking'!$A:$A, 0), 1), \"View\")","v":{"$error":"#N/A"}}]
[{"$f":"HYPERLINK(\"#'Patient Tracking'!\" & ADDRESS(MATCH($D545, 'Patient Tracking'!$A:$A, 0), 1), \"View\")","v":{"$error":"#N/A"}}]
[{"$f":"HYPERLINK(\"#'Patient Tracking'!\" & ADDRESS(MATCH($D546, 'Patient Tracking'!$A:$A, 0), 1), \"View\")","v":{"$error":"#N/A"}}]
[{"$f":"HYPERLINK(\"#'Patient Tracking'!\" & ADDRESS(MATCH($D547, 'Patient Tracking'!$A:$A, 0), 1), \"View\")","v":{"$error":"#N/A"}}]
[{"$f":"HYPERLINK(\"#'Patient Tracking'!\" & ADDRESS(MATCH($D548, 'Patient Tracking'!$A:$A, 0), 1), \"View\")","v":{"$error":"#N/A"}}]
[{"$f":"HYPERLINK(\"#'Patient Tracking'!\" & ADDRESS(MATCH($D549, 'Patient Tracking'!$A:$A, 0), 1), \"View\")","v":{"$error":"#N/A"}}]
[{"$f":"HYPERLINK(\"#'Patient Tracking'!\" & ADDRESS(MATCH($D550, 'Patient Tracking'!$A:$A, 0), 1), \"View\")","v":{"$error":"#N/A"}}]
[{"$f":"HYPERLINK(\"#'Patient Tracking'!\" & ADDRESS(MATCH($D551, 'Patient Tracking'!$A:$A, 0), 1), \"View\")","v":{"$error":"#N/A"}}]
[{"$f":"HYPERLINK(\"#'Patient Tracking'!\" & ADDRESS(MATCH($D552, 'Patient Tracking'!$A:$A, 0), 1), \"View\")","v":{"$error":"#N/A"}}]
[{"$f":"HYPERLINK(\"#'Patient Tracking'!\" & ADDRESS(MATCH($D553, 'Patient Tracking'!$A:$A, 0), 1), \"View\")","v":{"$error":"#N/A"}}]
[{"$f":"HYPERLINK(\"#'Patient Tracking'!\" & ADDRESS(MATCH($D554, 'Patient Tracking'!$A:$A, 0), 1), \"View\")","v":{"$error":"#N/A"}}]
[{"$f":"HYPERLINK(\"#'Patient Tracking'!\" & ADDRESS(MATCH($D555, 'Patient Tracking'!$A:$A, 0), 1), \"View\")","v":{"$error":"#N/A"}}]
[{"$f":"HYPERLINK(\"#'Patient Tracking'!\" & ADDRESS(MATCH($D556, 'Patient Tracking'!$A:$A, 0), 1), \"View\")","v":{"$error":"#N/A"}}]
[{"$f":"HYPERLINK(\"#'Patient Tracking'!\" & ADDRESS(MATCH($D557, 'Patient Tracking'!$A:$A, 0), 1), \"View\")","v":{"$error":"#N/A"}}]
[{"$f":"HYPERLINK(\"#'Patient Tracking'!\" & ADDRESS(MATCH($D558, 'Patient Tracking'!$A:$A, 0), 1), \"View\")","v":{"$error":"#N/A"}}]
[{"$f":"HYPERLINK(\"#'Patient Tracking'!\" & ADDRESS(MATCH($D559, 'Patient Tracking'!$A:$A, 0), 1), \"View\")","v":{"$error":"#N/A"}}]
[{"$f":"HYPERLINK(\"#'Patient Tracking'!\" & ADDRESS(MATCH($D560, 'Patient Tracking'!$A:$A, 0), 1), \"View\")","v":{"$error":"#N/A"}}]
[{"$f":"HYPERLINK(\"#'Patient Tracking'!\" & ADDRESS(MATCH($D561, 'Patient Tracking'!$A:$A, 0), 1), \"View\")","v":{"$error":"#N/A"}}]
[{"$f":"HYPERLINK(\"#'Patient Tracking'!\" & ADDRESS(MATCH($D562, 'Patient Tracking'!$A:$A, 0), 1), \"View\")","v":{"$error":"#N/A"}}]
[{"$f":"HYPERLINK(\"#'Patient Tracking'!\" & ADDRESS(MATCH($D563, 'Patient Tracking'!$A:$A, 0), 1), \"View\")","v":{"$error":"#N/A"}}]
[{"$f":"HYPERLINK(\"#'Patient Tracking'!\" & ADDRESS(MATCH($D564, 'Patient Tracking'!$A:$A, 0), 1), \"View\")","v":{"$error":"#N/A"}}]
[{"$f":"HYPERLINK(\"#'Patient Tracking'!\" & ADDRESS(MATCH($D565, 'Patient Tracking'!$A:$A, 0), 1), \"View\")","v":{"$error":"#N/A"}}]
[{"$f":"HYPERLINK(\"#'Patient Tracking'!\" & ADDRESS(MATCH($D566, 'Patient Tracking'!$A:$A, 0), 1), \"View\")","v":{"$error":"#N/A"}}]
[{"$f":"HYPERLINK(\"#'Patient Tracking'!\" & ADDRESS(MATCH($D567, 'Patient Tracking'!$A:$A, 0), 1), \"View\")","v":{"$error":"#N/A"}}]
[{"$f":"HYPERLINK(\"#'Patient Tracking'!\" & ADDRESS(MATCH($D568, 'Patient Tracking'!$A:$A, 0), 1), \"View\")","v":{"$error":"#N/A"}}]
[{"$f":"HYPERLINK(\"#'Patient Tracking'!\" & ADDRESS(MATCH($D569, 'Patient Tracking'!$A:$A, 0), 1), \"View\")","v":{"$error":"#N/A"}}]
[{"$f":"HYPERLINK(\"#'Patient Tracking'!\" & ADDRESS(MATCH($D570, 'Patient Tracking'!$A:$A, 0), 1), \"View\")","v":{"$error":"#N/A"}}]
[{"$f":"HYPERLINK(\"#'Patient Tracking'!\" & ADDRESS(MATCH($D571, 'Patient Tracking'!$A:$A, 0), 1), \"View\")","v":{"$error":"#N/A"}}]
[{"$f":"HYPERLINK(\"#'Patient Tracking'!\" & ADDRESS(MATCH($D572, 'Patient Tracking'!$A:$A, 0), 1), \"View\")","v":{"$error":"#N/A"}}]
[{"$f":"HYPERLINK(\"#'Patient Tracking'!\" & ADDRESS(MATCH($D573, 'Patient Tracking'!$A:$A, 0), 1), \"View\")","v":{"$error":"#N/A"}}]
[{"$f":"HYPERLINK(\"#'Patient Tracking'!\" & ADDRESS(MATCH($D574, 'Patient Tracking'!$A:$A, 0), 1), \"View\")","v":{"$error":"#N/A"}}]
[{"$f":"HYPERLINK(\"#'Patient Tracking'!\" & ADDRESS(MATCH($D575, 'Patient Tracking'!$A:$A, 0), 1), \"View\")","v":{"$error":"#N/A"}}]
[{"$f":"HYPERLINK(\"#'Patient Tracking'!\" & ADDRESS(MATCH($D576, 'Patient Tracking'!$A:$A, 0), 1), \"View\")","v":{"$error":"#N/A"}}]
[{"$f":"HYPERLINK(\"#'Patient Tracking'!\" & ADDRESS(MATCH($D577, 'Patient Tracking'!$A:$A, 0), 1), \"View\")","v":{"$error":"#N/A"}}]
[{"$f":"HYPERLINK(\"#'Patient Tracking'!\" & ADDRESS(MATCH($D578, 'Patient Tracking'!$A:$A, 0), 1), \"View\")","v":{"$error":"#N/A"}}]
[{"$f":"HYPERLINK(\"#'Patient Tracking'!\" & ADDRESS(MATCH($D579, 'Patient Tracking'!$A:$A, 0), 1), \"View\")","v":{"$error":"#N/A"}}]
[{"$f":"HYPERLINK(\"#'Patient Tracking'!\" & ADDRESS(MATCH($D580, 'Patient Tracking'!$A:$A, 0), 1), \"View\")","v":{"$error":"#N/A"}}]
[{"$f":"HYPERLINK(\"#'Patient Tracking'!\" & ADDRESS(MATCH($D581, 'Patient Tracking'!$A:$A, 0), 1), \"View\")","v":{"$error":"#N/A"}}]
[{"$f":"HYPERLINK(\"#'Patient Tracking'!\" & ADDRESS(MATCH($D582, 'Patient Tracking'!$A:$A, 0), 1), \"View\")","v":{"$error":"#N/A"}}]
[{"$f":"HYPERLINK(\"#'Patient Tracking'!\" & ADDRESS(MATCH($D583, 'Patient Tracking'!$A:$A, 0), 1), \"View\")","v":{"$error":"#N/A"}}]
[{"$f":"HYPERLINK(\"#'Patient Tracking'!\" & ADDRESS(MATCH($D584, 'Patient Tracking'!$A:$A, 0), 1), \"View\")","v":{"$error":"#N/A"}}]
[{"$f":"HYPERLINK(\"#'Patient Tracking'!\" & ADDRESS(MATCH($D585, 'Patient Tracking'!$A:$A, 0), 1), \"View\")","v":{"$error":"#N/A"}}]
[{"$f":"HYPERLINK(\"#'Patient Tracking'!\" & ADDRESS(MATCH($D586, 'Patient Tracking'!$A:$A, 0), 1), \"View\")","v":{"$error":"#N/A"}}]
[{"$f":"HYPERLINK(\"#'Patient Tracking'!\" & ADDRESS(MATCH($D587, 'Patient Tracking'!$A:$A, 0), 1), \"View\")","v":{"$error":"#N/A"}}]
[{"$f":"HYPERLINK(\"#'Patient Tracking'!\" & ADDRESS(MATCH($D588, 'Patient Tracking'!$A:$A, 0), 1), \"View\")","v":{"$error":"#N/A"}}]
[{"$f":"HYPERLINK(\"#'Patient Tracking'!\" & ADDRESS(MATCH($D589, 'Patient Tracking'!$A:$A, 0), 1), \"View\")","v":{"$error":"#N/A"}}]
[{"$f":"HYPERLINK(\"#'Patient Tracking'!\" & ADDRESS(MATCH($D590, 'Patient Tracking'!$A:$A, 0), 1), \"View\")","v":{"$error":"#N/A"}}]
[{"$f":"HYPERLINK(\"#'Patient Tracking'!\" & ADDRESS(MATCH($D591, 'Patient Tracking'!$A:$A, 0), 1), \"View\")","v":{"$error":"#N/A"}}]
[{"$f":"HYPERLINK(\"#'Patient Tracking'!\" & ADDRESS(MATCH($D592, 'Patient Tracking'!$A:$A, 0), 1), \"View\")","v":{"$error":"#N/A"}}]
[{"$f":"HYPERLINK(\"#'Patient Tracking'!\" & ADDRESS(MATCH($D593, 'Patient Tracking'!$A:$A, 0), 1), \"View\")","v":{"$error":"#N/A"}}]
[{"$f":"HYPERLINK(\"#'Patient Tracking'!\" & ADDRESS(MATCH($D594, 'Patient Tracking'!$A:$A, 0), 1), \"View\")","v":{"$error":"#N/A"}}]
[{"$f":"HYPERLINK(\"#'Patient Tracking'!\" & ADDRESS(MATCH($D595, 'Patient Tracking'!$A:$A, 0), 1), \"View\")","v":{"$error":"#N/A"}}]
[{"$f":"HYPERLINK(\"#'Patient Tracking'!\" & ADDRESS(MATCH($D596, 'Patient Tracking'!$A:$A, 0), 1), \"View\")","v":{"$error":"#N/A"}}]
[{"$f":"HYPERLINK(\"#'Patient Tracking'!\" & ADDRESS(MATCH($D597, 'Patient Tracking'!$A:$A, 0), 1), \"View\")","v":{"$error":"#N/A"}}]
[{"$f":"HYPERLINK(\"#'Patient Tracking'!\" & ADDRESS(MATCH($D598, 'Patient Tracking'!$A:$A, 0), 1), \"View\")","v":{"$error":"#N/A"}}]
[{"$f":"HYPERLINK(\"#'Patient Tracking'!\" & ADDRESS(MATCH($D599, 'Patient Tracking'!$A:$A, 0), 1), \"View\")","v":{"$error":"#N/A"}}]
[{"$f":"HYPERLINK(\"#'Patient Tracking'!\" & ADDRESS(MATCH($D600, 'Patient Tracking'!$A:$A, 0), 1), \"View\")","v":{"$error":"#N/A"}}]
[{"$f":"HYPERLINK(\"#'Patient Tracking'!\" & ADDRESS(MATCH($D601, 'Patient Tracking'!$A:$A, 0), 1), \"View\")","v":{"$error":"#N/A"}}]
[{"$f":"HYPERLINK(\"#'Patient Tracking'!\" & ADDRESS(MATCH($D602, 'Patient Tracking'!$A:$A, 0), 1), \"View\")","v":{"$error":"#N/A"}}]
[{"$f":"HYPERLINK(\"#'Patient Tracking'!\" & ADDRESS(MATCH($D603, 'Patient Tracking'!$A:$A, 0), 1), \"View\")","v":{"$error":"#N/A"}}]
[{"$f":"HYPERLINK(\"#'Patient Tracking'!\" & ADDRESS(MATCH($D604, 'Patient Tracking'!$A:$A, 0), 1), \"View\")","v":{"$error":"#N/A"}}]
[{"$f":"HYPERLINK(\"#'Patient Tracking'!\" & ADDRESS(MATCH($D605, 'Patient Tracking'!$A:$A, 0), 1), \"View\")","v":{"$error":"#N/A"}}]
[{"$f":"HYPERLINK(\"#'Patient Tracking'!\" & ADDRESS(MATCH($D606, 'Patient Tracking'!$A:$A, 0), 1), \"View\")","v":{"$error":"#N/A"}}]
[{"$f":"HYPERLINK(\"#'Patient Tracking'!\" & ADDRESS(MATCH($D607, 'Patient Tracking'!$A:$A, 0), 1), \"View\")","v":{"$error":"#N/A"}}]
[{"$f":"HYPERLINK(\"#'Patient Tracking'!\" & ADDRESS(MATCH($D608, 'Patient Tracking'!$A:$A, 0), 1), \"View\")","v":{"$error":"#N/A"}}]
[{"$f":"HYPERLINK(\"#'Patient Tracking'!\" & ADDRESS(MATCH($D609, 'Patient Tracking'!$A:$A, 0), 1), \"View\")","v":{"$error":"#N/A"}}]
[{"$f":"HYPERLINK(\"#'Patient Tracking'!\" & ADDRESS(MATCH($D610, 'Patient Tracking'!$A:$A, 0), 1), \"View\")","v":{"$error":"#N/A"}}]
[{"$f":"HYPERLINK(\"#'Patient Tracking'!\" & ADDRESS(MATCH($D611, 'Patient Tracking'!$A:$A, 0), 1), \"View\")","v":{"$error":"#N/A"}}]
[{"$f":"HYPERLINK(\"#'Patient Tracking'!\" & ADDRESS(MATCH($D612, 'Patient Tracking'!$A:$A, 0), 1), \"View\")","v":{"$error":"#N/A"}}]
[{"$f":"HYPERLINK(\"#'Patient Tracking'!\" & ADDRESS(MATCH($D613, 'Patient Tracking'!$A:$A, 0), 1), \"View\")","v":{"$error":"#N/A"}}]
[{"$f":"HYPERLINK(\"#'Patient Tracking'!\" & ADDRESS(MATCH($D614, 'Patient Tracking'!$A:$A, 0), 1), \"View\")","v":{"$error":"#N/A"}}]
[{"$f":"HYPERLINK(\"#'Patient Tracking'!\" & ADDRESS(MATCH($D615, 'Patient Tracking'!$A:$A, 0), 1), \"View\")","v":{"$error":"#N/A"}}]
[{"$f":"HYPERLINK(\"#'Patient Tracking'!\" & ADDRESS(MATCH($D616, 'Patient Tracking'!$A:$A, 0), 1), \"View\")","v":{"$error":"#N/A"}}]
[{"$f":"HYPERLINK(\"#'Patient Tracking'!\" & ADDRESS(MATCH($D617, 'Patient Tracking'!$A:$A, 0), 1), \"View\")","v":{"$error":"#N/A"}}]
[{"$f":"HYPERLINK(\"#'Patient Tracking'!\" & ADDRESS(MATCH($D618, 'Patient Tracking'!$A:$A, 0), 1), \"View\")","v":{"$error":"#N/A"}}]
[{"$f":"HYPERLINK(\"#'Patient Tracking'!\" & ADDRESS(MATCH($D619, 'Patient Tracking'!$A:$A, 0), 1), \"View\")","v":{"$error":"#N/A"}}]
[{"$f":"HYPERLINK(\"#'Patient Tracking'!\" & ADDRESS(MATCH($D620, 'Patient Tracking'!$A:$A, 0), 1), \"View\")","v":{"$error":"#N/A"}}]
[{"$f":"HYPERLINK(\"#'Patient Tracking'!\" & ADDRESS(MATCH($D621, 'Patient Tracking'!$A:$A, 0), 1), \"View\")","v":{"$error":"#N/A"}}]
[{"$f":"HYPERLINK(\"#'Patient Tracking'!\" & ADDRESS(MATCH($D622, 'Patient Tracking'!$A:$A, 0), 1), \"View\")","v":{"$error":"#N/A"}}]
[{"$f":"HYPERLINK(\"#'Patient Tracking'!\" & ADDRESS(MATCH($D623, 'Patient Tracking'!$A:$A, 0), 1), \"View\")","v":{"$error":"#N/A"}}]
[{"$f":"HYPERLINK(\"#'Patient Tracking'!\" & ADDRESS(MATCH($D624, 'Patient Tracking'!$A:$A, 0), 1), \"View\")","v":{"$error":"#N/A"}}]
[{"$f":"HYPERLINK(\"#'Patient Tracking'!\" & ADDRESS(MATCH($D625, 'Patient Tracking'!$A:$A, 0), 1), \"View\")","v":{"$error":"#N/A"}}]
[{"$f":"HYPERLINK(\"#'Patient Tracking'!\" & ADDRESS(MATCH($D626, 'Patient Tracking'!$A:$A, 0), 1), \"View\")","v":{"$error":"#N/A"}}]
[{"$f":"HYPERLINK(\"#'Patient Tracking'!\" & ADDRESS(MATCH($D627, 'Patient Tracking'!$A:$A, 0), 1), \"View\")","v":{"$error":"#N/A"}}]
[{"$f":"HYPERLINK(\"#'Patient Tracking'!\" & ADDRESS(MATCH($D628, 'Patient Tracking'!$A:$A, 0), 1), \"View\")","v":{"$error":"#N/A"}}]
[{"$f":"HYPERLINK(\"#'Patient Tracking'!\" & ADDRESS(MATCH($D629, 'Patient Tracking'!$A:$A, 0), 1), \"View\")","v":{"$error":"#N/A"}}]
[{"$f":"HYPERLINK(\"#'Patient Tracking'!\" & ADDRESS(MATCH($D630, 'Patient Tracking'!$A:$A, 0), 1), \"View\")","v":{"$error":"#N/A"}}]
[{"$f":"HYPERLINK(\"#'Patient Tracking'!\" & ADDRESS(MATCH($D631, 'Patient Tracking'!$A:$A, 0), 1), \"View\")","v":{"$error":"#N/A"}}]
[{"$f":"HYPERLINK(\"#'Patient Tracking'!\" & ADDRESS(MATCH($D632, 'Patient Tracking'!$A:$A, 0), 1), \"View\")","v":{"$error":"#N/A"}}]
[{"$f":"HYPERLINK(\"#'Patient Tracking'!\" & ADDRESS(MATCH($D633, 'Patient Tracking'!$A:$A, 0), 1), \"View\")","v":{"$error":"#N/A"}}]
[{"$f":"HYPERLINK(\"#'Patient Tracking'!\" & ADDRESS(MATCH($D634, 'Patient Tracking'!$A:$A, 0), 1), \"View\")","v":{"$error":"#N/A"}}]
[{"$f":"HYPERLINK(\"#'Patient Tracking'!\" & ADDRESS(MATCH($D635, 'Patient Tracking'!$A:$A, 0), 1), \"View\")","v":{"$error":"#N/A"}}]
[{"$f":"HYPERLINK(\"#'Patient Tracking'!\" & ADDRESS(MATCH($D636, 'Patient Tracking'!$A:$A, 0), 1), \"View\")","v":{"$error":"#N/A"}}]
[{"$f":"HYPERLINK(\"#'Patient Tracking'!\" & ADDRESS(MATCH($D637, 'Patient Tracking'!$A:$A, 0), 1), \"View\")","v":{"$error":"#N/A"}}]
[{"$f":"HYPERLINK(\"#'Patient Tracking'!\" & ADDRESS(MATCH($D638, 'Patient Tracking'!$A:$A, 0), 1), \"View\")","v":{"$error":"#N/A"}}]
[{"$f":"HYPERLINK(\"#'Patient Tracking'!\" & ADDRESS(MATCH($D639, 'Patient Tracking'!$A:$A, 0), 1), \"View\")","v":{"$error":"#N/A"}}]
[{"$f":"HYPERLINK(\"#'Patient Tracking'!\" & ADDRESS(MATCH($D640, 'Patient Tracking'!$A:$A, 0), 1), \"View\")","v":{"$error":"#N/A"}}]
[{"$f":"HYPERLINK(\"#'Patient Tracking'!\" & ADDRESS(MATCH($D641, 'Patient Tracking'!$A:$A, 0), 1), \"View\")","v":{"$error":"#N/A"}}]
[{"$f":"HYPERLINK(\"#'Patient Tracking'!\" & ADDRESS(MATCH($D642, 'Patient Tracking'!$A:$A, 0), 1), \"View\")","v":{"$error":"#N/A"}}]
[{"$f":"HYPERLINK(\"#'Patient Tracking'!\" & ADDRESS(MATCH($D643, 'Patient Tracking'!$A:$A, 0), 1), \"View\")","v":{"$error":"#N/A"}}]
[{"$f":"HYPERLINK(\"#'Patient Tracking'!\" & ADDRESS(MATCH($D644, 'Patient Tracking'!$A:$A, 0), 1), \"View\")","v":{"$error":"#N/A"}}]
[{"$f":"HYPERLINK(\"#'Patient Tracking'!\" & ADDRESS(MATCH($D645, 'Patient Tracking'!$A:$A, 0), 1), \"View\")","v":{"$error":"#N/A"}}]
[{"$f":"HYPERLINK(\"#'Patient Tracking'!\" & ADDRESS(MATCH($D646, 'Patient Tracking'!$A:$A, 0), 1), \"View\")","v":{"$error":"#N/A"}}]
[{"$f":"HYPERLINK(\"#'Patient Tracking'!\" & ADDRESS(MATCH($D647, 'Patient Tracking'!$A:$A, 0), 1), \"View\")","v":{"$error":"#N/A"}}]
[{"$f":"HYPERLINK(\"#'Patient Tracking'!\" & ADDRESS(MATCH($D648, 'Patient Tracking'!$A:$A, 0), 1), \"View\")","v":{"$error":"#N/A"}}]
[{"$f":"HYPERLINK(\"#'Patient Tracking'!\" & ADDRESS(MATCH($D649, 'Patient Tracking'!$A:$A, 0), 1), \"View\")","v":{"$error":"#N/A"}}]
[{"$f":"HYPERLINK(\"#'Patient Tracking'!\" & ADDRESS(MATCH($D650, 'Patient Tracking'!$A:$A, 0), 1), \"View\")","v":{"$error":"#N/A"}}]
[{"$f":"HYPERLINK(\"#'Patient Tracking'!\" & ADDRESS(MATCH($D651, 'Patient Tracking'!$A:$A, 0), 1), \"View\")","v":{"$error":"#N/A"}}]
[{"$f":"HYPERLINK(\"#'Patient Tracking'!\" & ADDRESS(MATCH($D652, 'Patient Tracking'!$A:$A, 0), 1), \"View\")","v":{"$error":"#N/A"}}]
[{"$f":"HYPERLINK(\"#'Patient Tracking'!\" & ADDRESS(MATCH($D653, 'Patient Tracking'!$A:$A, 0), 1), \"View\")","v":{"$error":"#N/A"}}]
[{"$f":"HYPERLINK(\"#'Patient Tracking'!\" & ADDRESS(MATCH($D654, 'Patient Tracking'!$A:$A, 0), 1), \"View\")","v":{"$error":"#N/A"}}]
[{"$f":"HYPERLINK(\"#'Patient Tracking'!\" & ADDRESS(MATCH($D655, 'Patient Tracking'!$A:$A, 0), 1), \"View\")","v":{"$error":"#N/A"}}]
[{"$f":"HYPERLINK(\"#'Patient Tracking'!\" & ADDRESS(MATCH($D656, 'Patient Tracking'!$A:$A, 0), 1), \"View\")","v":{"$error":"#N/A"}}]
[{"$f":"HYPERLINK(\"#'Patient Tracking'!\" & ADDRESS(MATCH($D657, 'Patient Tracking'!$A:$A, 0), 1), \"View\")","v":{"$error":"#N/A"}}]
[{"$f":"HYPERLINK(\"#'Patient Tracking'!\" & ADDRESS(MATCH($D658, 'Patient Tracking'!$A:$A, 0), 1), \"View\")","v":{"$error":"#N/A"}}]
[{"$f":"HYPERLINK(\"#'Patient Tracking'!\" & ADDRESS(MATCH($D659, 'Patient Tracking'!$A:$A, 0), 1), \"View\")","v":{"$error":"#N/A"}}]
[{"$f":"HYPERLINK(\"#'Patient Tracking'!\" & ADDRESS(MATCH($D660, 'Patient Tracking'!$A:$A, 0), 1), \"View\")","v":{"$error":"#N/A"}}]
[{"$f":"HYPERLINK(\"#'Patient Tracking'!\" & ADDRESS(MATCH($D661, 'Patient Tracking'!$A:$A, 0), 1), \"View\")","v":{"$error":"#N/A"}}]
[{"$f":"HYPERLINK(\"#'Patient Tracking'!\" & ADDRESS(MATCH($D662, 'Patient Tracking'!$A:$A, 0), 1), \"View\")","v":{"$error":"#N/A"}}]
[{"$f":"HYPERLINK(\"#'Patient Tracking'!\" & ADDRESS(MATCH($D663, 'Patient Tracking'!$A:$A, 0), 1), \"View\")","v":{"$error":"#N/A"}}]
[{"$f":"HYPERLINK(\"#'Patient Tracking'!\" & ADDRESS(MATCH($D664, 'Patient Tracking'!$A:$A, 0), 1), \"View\")","v":{"$error":"#N/A"}}]
[{"$f":"HYPERLINK(\"#'Patient Tracking'!\" & ADDRESS(MATCH($D665, 'Patient Tracking'!$A:$A, 0), 1), \"View\")","v":{"$error":"#N/A"}}]
[{"$f":"HYPERLINK(\"#'Patient Tracking'!\" & ADDRESS(MATCH($D666, 'Patient Tracking'!$A:$A, 0), 1), \"View\")","v":{"$error":"#N/A"}}]
[{"$f":"HYPERLINK(\"#'Patient Tracking'!\" & ADDRESS(MATCH($D667, 'Patient Tracking'!$A:$A, 0), 1), \"View\")","v":{"$error":"#N/A"}}]
[{"$f":"HYPERLINK(\"#'Patient Tracking'!\" & ADDRESS(MATCH($D668, 'Patient Tracking'!$A:$A, 0), 1), \"View\")","v":{"$error":"#N/A"}}]
[{"$f":"HYPERLINK(\"#'Patient Tracking'!\" & ADDRESS(MATCH($D669, 'Patient Tracking'!$A:$A, 0), 1), \"View\")","v":{"$error":"#N/A"}}]
[{"$f":"HYPERLINK(\"#'Patient Tracking'!\" & ADDRESS(MATCH($D670, 'Patient Tracking'!$A:$A, 0), 1), \"View\")","v":{"$error":"#N/A"}}]
[{"$f":"HYPERLINK(\"#'Patient Tracking'!\" & ADDRESS(MATCH($D671, 'Patient Tracking'!$A:$A, 0), 1), \"View\")","v":{"$error":"#N/A"}}]
[{"$f":"HYPERLINK(\"#'Patient Tracking'!\" & ADDRESS(MATCH($D672, 'Patient Tracking'!$A:$A, 0), 1), \"View\")","v":{"$error":"#N/A"}}]
[{"$f":"HYPERLINK(\"#'Patient Tracking'!\" & ADDRESS(MATCH($D673, 'Patient Tracking'!$A:$A, 0), 1), \"View\")","v":{"$error":"#N/A"}}]
[{"$f":"HYPERLINK(\"#'Patient Tracking'!\" & ADDRESS(MATCH($D674, 'Patient Tracking'!$A:$A, 0), 1), \"View\")","v":{"$error":"#N/A"}}]
[{"$f":"HYPERLINK(\"#'Patient Tracking'!\" & ADDRESS(MATCH($D675, 'Patient Tracking'!$A:$A, 0), 1), \"View\")","v":{"$error":"#N/A"}}]
[{"$f":"HYPERLINK(\"#'Patient Tracking'!\" & ADDRESS(MATCH($D676, 'Patient Tracking'!$A:$A, 0), 1), \"View\")","v":{"$error":"#N/A"}}]
[{"$f":"HYPERLINK(\"#'Patient Tracking'!\" & ADDRESS(MATCH($D677, 'Patient Tracking'!$A:$A, 0), 1), \"View\")","v":{"$error":"#N/A"}}]
[{"$f":"HYPERLINK(\"#'Patient Tracking'!\" & ADDRESS(MATCH($D678, 'Patient Tracking'!$A:$A, 0), 1), \"View\")","v":{"$error":"#N/A"}}]
[{"$f":"HYPERLINK(\"#'Patient Tracking'!\" & ADDRESS(MATCH($D679, 'Patient Tracking'!$A:$A, 0), 1), \"View\")","v":{"$error":"#N/A"}}]
[{"$f":"HYPERLINK(\"#'Patient Tracking'!\" & ADDRESS(MATCH($D680, 'Patient Tracking'!$A:$A, 0), 1), \"View\")","v":{"$error":"#N/A"}}]
[{"$f":"HYPERLINK(\"#'Patient Tracking'!\" & ADDRESS(MATCH($D681, 'Patient Tracking'!$A:$A, 0), 1), \"View\")","v":{"$error":"#N/A"}}]
[{"$f":"HYPERLINK(\"#'Patient Tracking'!\" & ADDRESS(MATCH($D682, 'Patient Tracking'!$A:$A, 0), 1), \"View\")","v":{"$error":"#N/A"}}]
[{"$f":"HYPERLINK(\"#'Patient Tracking'!\" & ADDRESS(MATCH($D683, 'Patient Tracking'!$A:$A, 0), 1), \"View\")","v":{"$error":"#N/A"}}]
[{"$f":"HYPERLINK(\"#'Patient Tracking'!\" & ADDRESS(MATCH($D684, 'Patient Tracking'!$A:$A, 0), 1), \"View\")","v":{"$error":"#N/A"}}]
[{"$f":"HYPERLINK(\"#'Patient Tracking'!\" & ADDRESS(MATCH($D685, 'Patient Tracking'!$A:$A, 0), 1), \"View\")","v":{"$error":"#N/A"}}]
[{"$f":"HYPERLINK(\"#'Patient Tracking'!\" & ADDRESS(MATCH($D686, 'Patient Tracking'!$A:$A, 0), 1), \"View\")","v":{"$error":"#N/A"}}]
[{"$f":"HYPERLINK(\"#'Patient Tracking'!\" & ADDRESS(MATCH($D687, 'Patient Tracking'!$A:$A, 0), 1), \"View\")","v":{"$error":"#N/A"}}]
[{"$f":"HYPERLINK(\"#'Patient Tracking'!\" & ADDRESS(MATCH($D688, 'Patient Tracking'!$A:$A, 0), 1), \"View\")","v":{"$error":"#N/A"}}]
[{"$f":"HYPERLINK(\"#'Patient Tracking'!\" & ADDRESS(MATCH($D689, 'Patient Tracking'!$A:$A, 0), 1), \"View\")","v":{"$error":"#N/A"}}]
[{"$f":"HYPERLINK(\"#'Patient Tracking'!\" & ADDRESS(MATCH($D690, 'Patient Tracking'!$A:$A, 0), 1), \"View\")","v":{"$error":"#N/A"}}]
[{"$f":"HYPERLINK(\"#'Patient Tracking'!\" & ADDRESS(MATCH($D691, 'Patient Tracking'!$A:$A, 0), 1), \"View\")","v":{"$error":"#N/A"}}]
[{"$f":"HYPERLINK(\"#'Patient Tracking'!\" & ADDRESS(MATCH($D692, 'Patient Tracking'!$A:$A, 0), 1), \"View\")","v":{"$error":"#N/A"}}]
[{"$f":"HYPERLINK(\"#'Patient Tracking'!\" & ADDRESS(MATCH($D693, 'Patient Tracking'!$A:$A, 0), 1), \"View\")","v":{"$error":"#N/A"}}]
[{"$f":"HYPERLINK(\"#'Patient Tracking'!\" & ADDRESS(MATCH($D694, 'Patient Tracking'!$A:$A, 0), 1), \"View\")","v":{"$error":"#N/A"}}]
[{"$f":"HYPERLINK(\"#'Patient Tracking'!\" & ADDRESS(MATCH($D695, 'Patient Tracking'!$A:$A, 0), 1), \"View\")","v":{"$error":"#N/A"}}]
[{"$f":"HYPERLINK(\"#'Patient Tracking'!\" & ADDRESS(MATCH($D696, 'Patient Tracking'!$A:$A, 0), 1), \"View\")","v":{"$error":"#N/A"}}]
[{"$f":"HYPERLINK(\"#'Patient Tracking'!\" & ADDRESS(MATCH($D697, 'Patient Tracking'!$A:$A, 0), 1), \"View\")","v":{"$error":"#N/A"}}]
[{"$f":"HYPERLINK(\"#'Patient Tracking'!\" & ADDRESS(MATCH($D698, 'Patient Tracking'!$A:$A, 0), 1), \"View\")","v":{"$error":"#N/A"}}]
[{"$f":"HYPERLINK(\"#'Patient Tracking'!\" & ADDRESS(MATCH($D699, 'Patient Tracking'!$A:$A, 0), 1), \"View\")","v":{"$error":"#N/A"}}]
[{"$f":"HYPERLINK(\"#'Patient Tracking'!\" & ADDRESS(MATCH($D700, 'Patient Tracking'!$A:$A, 0), 1), \"View\")","v":{"$error":"#N/A"}}]
[{"$f":"HYPERLINK(\"#'Patient Tracking'!\" & ADDRESS(MATCH($D701, 'Patient Tracking'!$A:$A, 0), 1), \"View\")","v":{"$error":"#N/A"}}]
[{"$f":"HYPERLINK(\"#'Patient Tracking'!\" & ADDRESS(MATCH($D702, 'Patient Tracking'!$A:$A, 0), 1), \"View\")","v":{"$error":"#N/A"}}]
[{"$f":"HYPERLINK(\"#'Patient Tracking'!\" & ADDRESS(MATCH($D703, 'Patient Tracking'!$A:$A, 0), 1), \"View\")","v":{"$error":"#N/A"}}]
[{"$f":"HYPERLINK(\"#'Patient Tracking'!\" & ADDRESS(MATCH($D704, 'Patient Tracking'!$A:$A, 0), 1), \"View\")","v":{"$error":"#N/A"}}]
[{"$f":"HYPERLINK(\"#'Patient Tracking'!\" & ADDRESS(MATCH($D705, 'Patient Tracking'!$A:$A, 0), 1), \"View\")","v":{"$error":"#N/A"}}]
[{"$f":"HYPERLINK(\"#'Patient Tracking'!\" & ADDRESS(MATCH($D706, 'Patient Tracking'!$A:$A, 0), 1), \"View\")","v":{"$error":"#N/A"}}]
[{"$f":"HYPERLINK(\"#'Patient Tracking'!\" & ADDRESS(MATCH($D707, 'Patient Tracking'!$A:$A, 0), 1), \"View\")","v":{"$error":"#N/A"}}]
[{"$f":"HYPERLINK(\"#'Patient Tracking'!\" & ADDRESS(MATCH($D708, 'Patient Tracking'!$A:$A, 0), 1), \"View\")","v":{"$error":"#N/A"}}]
[{"$f":"HYPERLINK(\"#'Patient Tracking'!\" & ADDRESS(MATCH($D709, 'Patient Tracking'!$A:$A, 0), 1), \"View\")","v":{"$error":"#N/A"}}]
[{"$f":"HYPERLINK(\"#'Patient Tracking'!\" & ADDRESS(MATCH($D710, 'Patient Tracking'!$A:$A, 0), 1), \"View\")","v":{"$error":"#N/A"}}]
[{"$f":"HYPERLINK(\"#'Patient Tracking'!\" & ADDRESS(MATCH($D711, 'Patient Tracking'!$A:$A, 0), 1), \"View\")","v":{"$error":"#N/A"}}]
[{"$f":"HYPERLINK(\"#'Patient Tracking'!\" & ADDRESS(MATCH($D712, 'Patient Tracking'!$A:$A, 0), 1), \"View\")","v":{"$error":"#N/A"}}]
[{"$f":"HYPERLINK(\"#'Patient Tracking'!\" & ADDRESS(MATCH($D713, 'Patient Tracking'!$A:$A, 0), 1), \"View\")","v":{"$error":"#N/A"}}]
[{"$f":"HYPERLINK(\"#'Patient Tracking'!\" & ADDRESS(MATCH($D714, 'Patient Tracking'!$A:$A, 0), 1), \"View\")","v":{"$error":"#N/A"}}]
[{"$f":"HYPERLINK(\"#'Patient Tracking'!\" & ADDRESS(MATCH($D715, 'Patient Tracking'!$A:$A, 0), 1), \"View\")","v":{"$error":"#N/A"}}]
[{"$f":"HYPERLINK(\"#'Patient Tracking'!\" & ADDRESS(MATCH($D716, 'Patient Tracking'!$A:$A, 0), 1), \"View\")","v":{"$error":"#N/A"}}]
[{"$f":"HYPERLINK(\"#'Patient Tracking'!\" & ADDRESS(MATCH($D717, 'Patient Tracking'!$A:$A, 0), 1), \"View\")","v":{"$error":"#N/A"}}]
[{"$f":"HYPERLINK(\"#'Patient Tracking'!\" & ADDRESS(MATCH($D718, 'Patient Tracking'!$A:$A, 0), 1), \"View\")","v":{"$error":"#N/A"}}]
[{"$f":"HYPERLINK(\"#'Patient Tracking'!\" & ADDRESS(MATCH($D719, 'Patient Tracking'!$A:$A, 0), 1), \"View\")","v":{"$error":"#N/A"}}]
[{"$f":"HYPERLINK(\"#'Patient Tracking'!\" & ADDRESS(MATCH($D720, 'Patient Tracking'!$A:$A, 0), 1), \"View\")","v":{"$error":"#N/A"}}]
[{"$f":"HYPERLINK(\"#'Patient Tracking'!\" & ADDRESS(MATCH($D721, 'Patient Tracking'!$A:$A, 0), 1), \"View\")","v":{"$error":"#N/A"}}]
[{"$f":"HYPERLINK(\"#'Patient Tracking'!\" & ADDRESS(MATCH($D722, 'Patient Tracking'!$A:$A, 0), 1), \"View\")","v":{"$error":"#N/A"}}]
[{"$f":"HYPERLINK(\"#'Patient Tracking'!\" & ADDRESS(MATCH($D723, 'Patient Tracking'!$A:$A, 0), 1), \"View\")","v":{"$error":"#N/A"}}]
[{"$f":"HYPERLINK(\"#'Patient Tracking'!\" & ADDRESS(MATCH($D724, 'Patient Tracking'!$A:$A, 0), 1), \"View\")","v":{"$error":"#N/A"}}]
[{"$f":"HYPERLINK(\"#'Patient Tracking'!\" & ADDRESS(MATCH($D725, 'Patient Tracking'!$A:$A, 0), 1), \"View\")","v":{"$error":"#N/A"}}]
[{"$f":"HYPERLINK(\"#'Patient Tracking'!\" & ADDRESS(MATCH($D726, 'Patient Tracking'!$A:$A, 0), 1), \"View\")","v":{"$error":"#N/A"}}]
[{"$f":"HYPERLINK(\"#'Patient Tracking'!\" & ADDRESS(MATCH($D727, 'Patient Tracking'!$A:$A, 0), 1), \"View\")","v":{"$error":"#N/A"}}]
[{"$f":"HYPERLINK(\"#'Patient Tracking'!\" & ADDRESS(MATCH($D728, 'Patient Tracking'!$A:$A, 0), 1), \"View\")","v":{"$error":"#N/A"}}]
[{"$f":"HYPERLINK(\"#'Patient Tracking'!\" & ADDRESS(MATCH($D729, 'Patient Tracking'!$A:$A, 0), 1), \"View\")","v":{"$error":"#N/A"}}]
[{"$f":"HYPERLINK(\"#'Patient Tracking'!\" & ADDRESS(MATCH($D730, 'Patient Tracking'!$A:$A, 0), 1), \"View\")","v":{"$error":"#N/A"}}]
[{"$f":"HYPERLINK(\"#'Patient Tracking'!\" & ADDRESS(MATCH($D731, 'Patient Tracking'!$A:$A, 0), 1), \"View\")","v":{"$error":"#N/A"}}]
[{"$f":"HYPERLINK(\"#'Patient Tracking'!\" & ADDRESS(MATCH($D732, 'Patient Tracking'!$A:$A, 0), 1), \"View\")","v":{"$error":"#N/A"}}]
[{"$f":"HYPERLINK(\"#'Patient Tracking'!\" & ADDRESS(MATCH($D733, 'Patient Tracking'!$A:$A, 0), 1), \"View\")","v":{"$error":"#N/A"}}]
[{"$f":"HYPERLINK(\"#'Patient Tracking'!\" & ADDRESS(MATCH($D734, 'Patient Tracking'!$A:$A, 0), 1), \"View\")","v":{"$error":"#N/A"}}]
[{"$f":"HYPERLINK(\"#'Patient Tracking'!\" & ADDRESS(MATCH($D735, 'Patient Tracking'!$A:$A, 0), 1), \"View\")","v":{"$error":"#N/A"}}]
[{"$f":"HYPERLINK(\"#'Patient Tracking'!\" & ADDRESS(MATCH($D736, 'Patient Tracking'!$A:$A, 0), 1), \"View\")","v":{"$error":"#N/A"}}]
[{"$f":"HYPERLINK(\"#'Patient Tracking'!\" & ADDRESS(MATCH($D737, 'Patient Tracking'!$A:$A, 0), 1), \"View\")","v":{"$error":"#N/A"}}]
[{"$f":"HYPERLINK(\"#'Patient Tracking'!\" & ADDRESS(MATCH($D738, 'Patient Tracking'!$A:$A, 0), 1), \"View\")","v":{"$error":"#N/A"}}]
[{"$f":"HYPERLINK(\"#'Patient Tracking'!\" & ADDRESS(MATCH($D739, 'Patient Tracking'!$A:$A, 0), 1), \"View\")","v":{"$error":"#N/A"}}]
[{"$f":"HYPERLINK(\"#'Patient Tracking'!\" & ADDRESS(MATCH($D740, 'Patient Tracking'!$A:$A, 0), 1), \"View\")","v":{"$error":"#N/A"}}]
[{"$f":"HYPERLINK(\"#'Patient Tracking'!\" & ADDRESS(MATCH($D741, 'Patient Tracking'!$A:$A, 0), 1), \"View\")","v":{"$error":"#N/A"}}]
[{"$f":"HYPERLINK(\"#'Patient Tracking'!\" & ADDRESS(MATCH($D742, 'Patient Tracking'!$A:$A, 0), 1), \"View\")","v":{"$error":"#N/A"}}]
[{"$f":"HYPERLINK(\"#'Patient Tracking'!\" & ADDRESS(MATCH($D743, 'Patient Tracking'!$A:$A, 0), 1), \"View\")","v":{"$error":"#N/A"}}]
[{"$f":"HYPERLINK(\"#'Patient Tracking'!\" & ADDRESS(MATCH($D744, 'Patient Tracking'!$A:$A, 0), 1), \"View\")","v":{"$error":"#N/A"}}]
[{"$f":"HYPERLINK(\"#'Patient Tracking'!\" & ADDRESS(MATCH($D745, 'Patient Tracking'!$A:$A, 0), 1), \"View\")","v":{"$error":"#N/A"}}]
[{"$f":"HYPERLINK(\"#'Patient Tracking'!\" & ADDRESS(MATCH($D746, 'Patient Tracking'!$A:$A, 0), 1), \"View\")","v":{"$error":"#N/A"}}]
[{"$f":"HYPERLINK(\"#'Patient Tracking'!\" & ADDRESS(MATCH($D747, 'Patient Tracking'!$A:$A, 0), 1), \"View\")","v":{"$error":"#N/A"}}]
[{"$f":"HYPERLINK(\"#'Patient Tracking'!\" & ADDRESS(MATCH($D748, 'Patient Tracking'!$A:$A, 0), 1), \"View\")","v":{"$error":"#N/A"}}]
[{"$f":"HYPERLINK(\"#'Patient Tracking'!\" & ADDRESS(MATCH($D749, 'Patient Tracking'!$A:$A, 0), 1), \"View\")","v":{"$error":"#N/A"}}]
[{"$f":"HYPERLINK(\"#'Patient Tracking'!\" & ADDRESS(MATCH($D750, 'Patient Tracking'!$A:$A, 0), 1), \"View\")","v":{"$error":"#N/A"}}]
[{"$f":"HYPERLINK(\"#'Patient Tracking'!\" & ADDRESS(MATCH($D751, 'Patient Tracking'!$A:$A, 0), 1), \"View\")","v":{"$error":"#N/A"}}]
[{"$f":"HYPERLINK(\"#'Patient Tracking'!\" & ADDRESS(MATCH($D752, 'Patient Tracking'!$A:$A, 0), 1), \"View\")","v":{"$error":"#N/A"}}]
[{"$f":"HYPERLINK(\"#'Patient Tracking'!\" & ADDRESS(MATCH($D753, 'Patient Tracking'!$A:$A, 0), 1), \"View\")","v":{"$error":"#N/A"}}]
[{"$f":"HYPERLINK(\"#'Patient Tracking'!\" & ADDRESS(MATCH($D754, 'Patient Tracking'!$A:$A, 0), 1), \"View\")","v":{"$error":"#N/A"}}]
[{"$f":"HYPERLINK(\"#'Patient Tracking'!\" & ADDRESS(MATCH($D755, 'Patient Tracking'!$A:$A, 0), 1), \"View\")","v":{"$error":"#N/A"}}]
[{"$f":"HYPERLINK(\"#'Patient Tracking'!\" & ADDRESS(MATCH($D756, 'Patient Tracking'!$A:$A, 0), 1), \"View\")","v":{"$error":"#N/A"}}]
[{"$f":"HYPERLINK(\"#'Patient Tracking'!\" & ADDRESS(MATCH($D757, 'Patient Tracking'!$A:$A, 0), 1), \"View\")","v":{"$error":"#N/A"}}]
[{"$f":"HYPERLINK(\"#'Patient Tracking'!\" & ADDRESS(MATCH($D758, 'Patient Tracking'!$A:$A, 0), 1), \"View\")","v":{"$error":"#N/A"}}]
[{"$f":"HYPERLINK(\"#'Patient Tracking'!\" & ADDRESS(MATCH($D759, 'Patient Tracking'!$A:$A, 0), 1), \"View\")","v":{"$error":"#N/A"}}]
[{"$f":"HYPERLINK(\"#'Patient Tracking'!\" & ADDRESS(MATCH($D760, 'Patient Tracking'!$A:$A, 0), 1), \"View\")","v":{"$error":"#N/A"}}]
[{"$f":"HYPERLINK(\"#'Patient Tracking'!\" & ADDRESS(MATCH($D761, 'Patient Tracking'!$A:$A, 0), 1), \"View\")","v":{"$error":"#N/A"}}]
[{"$f":"HYPERLINK(\"#'Patient Tracking'!\" & ADDRESS(MATCH($D762, 'Patient Tracking'!$A:$A, 0), 1), \"View\")","v":{"$error":"#N/A"}}]
[{"$f":"HYPERLINK(\"#'Patient Tracking'!\" & ADDRESS(MATCH($D763, 'Patient Tracking'!$A:$A, 0), 1), \"View\")","v":{"$error":"#N/A"}}]
[{"$f":"HYPERLINK(\"#'Patient Tracking'!\" & ADDRESS(MATCH($D764, 'Patient Tracking'!$A:$A, 0), 1), \"View\")","v":{"$error":"#N/A"}}]
[{"$f":"HYPERLINK(\"#'Patient Tracking'!\" & ADDRESS(MATCH($D765, 'Patient Tracking'!$A:$A, 0), 1), \"View\")","v":{"$error":"#N/A"}}]
[{"$f":"HYPERLINK(\"#'Patient Tracking'!\" & ADDRESS(MATCH($D766, 'Patient Tracking'!$A:$A, 0), 1), \"View\")","v":{"$error":"#N/A"}}]
[{"$f":"HYPERLINK(\"#'Patient Tracking'!\" & ADDRESS(MATCH($D767, 'Patient Tracking'!$A:$A, 0), 1), \"View\")","v":{"$error":"#N/A"}}]
[{"$f":"HYPERLINK(\"#'Patient Tracking'!\" & ADDRESS(MATCH($D768, 'Patient Tracking'!$A:$A, 0), 1), \"View\")","v":{"$error":"#N/A"}}]
[{"$f":"HYPERLINK(\"#'Patient Tracking'!\" & ADDRESS(MATCH($D769, 'Patient Tracking'!$A:$A, 0), 1), \"View\")","v":{"$error":"#N/A"}}]
[{"$f":"HYPERLINK(\"#'Patient Tracking'!\" & ADDRESS(MATCH($D770, 'Patient Tracking'!$A:$A, 0), 1), \"View\")","v":{"$error":"#N/A"}}]
[{"$f":"HYPERLINK(\"#'Patient Tracking'!\" & ADDRESS(MATCH($D771, 'Patient Tracking'!$A:$A, 0), 1), \"View\")","v":{"$error":"#N/A"}}]
[{"$f":"HYPERLINK(\"#'Patient Tracking'!\" & ADDRESS(MATCH($D772, 'Patient Tracking'!$A:$A, 0), 1), \"View\")","v":{"$error":"#N/A"}}]
[{"$f":"HYPERLINK(\"#'Patient Tracking'!\" & ADDRESS(MATCH($D773, 'Patient Tracking'!$A:$A, 0), 1), \"View\")","v":{"$error":"#N/A"}}]
[{"$f":"HYPERLINK(\"#'Patient Tracking'!\" & ADDRESS(MATCH($D774, 'Patient Tracking'!$A:$A, 0), 1), \"View\")","v":{"$error":"#N/A"}}]
[{"$f":"HYPERLINK(\"#'Patient Tracking'!\" & ADDRESS(MATCH($D775, 'Patient Tracking'!$A:$A, 0), 1), \"View\")","v":{"$error":"#N/A"}}]
[{"$f":"HYPERLINK(\"#'Patient Tracking'!\" & ADDRESS(MATCH($D776, 'Patient Tracking'!$A:$A, 0), 1), \"View\")","v":{"$error":"#N/A"}}]
[{"$f":"HYPERLINK(\"#'Patient Tracking'!\" & ADDRESS(MATCH($D777, 'Patient Tracking'!$A:$A, 0), 1), \"View\")","v":{"$error":"#N/A"}}]
[{"$f":"HYPERLINK(\"#'Patient Tracking'!\" & ADDRESS(MATCH($D778, 'Patient Tracking'!$A:$A, 0), 1), \"View\")","v":{"$error":"#N/A"}}]
[{"$f":"HYPERLINK(\"#'Patient Tracking'!\" & ADDRESS(MATCH($D779, 'Patient Tracking'!$A:$A, 0), 1), \"View\")","v":{"$error":"#N/A"}}]
[{"$f":"HYPERLINK(\"#'Patient Tracking'!\" & ADDRESS(MATCH($D780, 'Patient Tracking'!$A:$A, 0), 1), \"View\")","v":{"$error":"#N/A"}}]
[{"$f":"HYPERLINK(\"#'Patient Tracking'!\" & ADDRESS(MATCH($D781, 'Patient Tracking'!$A:$A, 0), 1), \"View\")","v":{"$error":"#N/A"}}]
[{"$f":"HYPERLINK(\"#'Patient Tracking'!\" & ADDRESS(MATCH($D782, 'Patient Tracking'!$A:$A, 0), 1), \"View\")","v":{"$error":"#N/A"}}]
[{"$f":"HYPERLINK(\"#'Patient Tracking'!\" & ADDRESS(MATCH($D783, 'Patient Tracking'!$A:$A, 0), 1), \"View\")","v":{"$error":"#N/A"}}]
[{"$f":"HYPERLINK(\"#'Patient Tracking'!\" & ADDRESS(MATCH($D784, 'Patient Tracking'!$A:$A, 0), 1), \"View\")","v":{"$error":"#N/A"}}]
[{"$f":"HYPERLINK(\"#'Patient Tracking'!\" & ADDRESS(MATCH($D785, 'Patient Tracking'!$A:$A, 0), 1), \"View\")","v":{"$error":"#N/A"}}]
[{"$f":"HYPERLINK(\"#'Patient Tracking'!\" & ADDRESS(MATCH($D786, 'Patient Tracking'!$A:$A, 0), 1), \"View\")","v":{"$error":"#N/A"}}]
[{"$f":"HYPERLINK(\"#'Patient Tracking'!\" & ADDRESS(MATCH($D787, 'Patient Tracking'!$A:$A, 0), 1), \"View\")","v":{"$error":"#N/A"}}]
[{"$f":"HYPERLINK(\"#'Patient Tracking'!\" & ADDRESS(MATCH($D788, 'Patient Tracking'!$A:$A, 0), 1), \"View\")","v":{"$error":"#N/A"}}]
[{"$f":"HYPERLINK(\"#'Patient Tracking'!\" & ADDRESS(MATCH($D789, 'Patient Tracking'!$A:$A, 0), 1), \"View\")","v":{"$error":"#N/A"}}]
[{"$f":"HYPERLINK(\"#'Patient Tracking'!\" & ADDRESS(MATCH($D790, 'Patient Tracking'!$A:$A, 0), 1), \"View\")","v":{"$error":"#N/A"}}]
[{"$f":"HYPERLINK(\"#'Patient Tracking'!\" & ADDRESS(MATCH($D791, 'Patient Tracking'!$A:$A, 0), 1), \"View\")","v":{"$error":"#N/A"}}]
[{"$f":"HYPERLINK(\"#'Patient Tracking'!\" & ADDRESS(MATCH($D792, 'Patient Tracking'!$A:$A, 0), 1), \"View\")","v":{"$error":"#N/A"}}]
[{"$f":"HYPERLINK(\"#'Patient Tracking'!\" & ADDRESS(MATCH($D793, 'Patient Tracking'!$A:$A, 0), 1), \"View\")","v":{"$error":"#N/A"}}]
[{"$f":"HYPERLINK(\"#'Patient Tracking'!\" & ADDRESS(MATCH($D794, 'Patient Tracking'!$A:$A, 0), 1), \"View\")","v":{"$error":"#N/A"}}]
[{"$f":"HYPERLINK(\"#'Patient Tracking'!\" & ADDRESS(MATCH($D795, 'Patient Tracking'!$A:$A, 0), 1), \"View\")","v":{"$error":"#N/A"}}]
[{"$f":"HYPERLINK(\"#'Patient Tracking'!\" & ADDRESS(MATCH($D796, 'Patient Tracking'!$A:$A, 0), 1), \"View\")","v":{"$error":"#N/A"}}]
[{"$f":"HYPERLINK(\"#'Patient Tracking'!\" & ADDRESS(MATCH($D797, 'Patient Tracking'!$A:$A, 0), 1), \"View\")","v":{"$error":"#N/A"}}]
[{"$f":"HYPERLINK(\"#'Patient Tracking'!\" & ADDRESS(MATCH($D798, 'Patient Tracking'!$A:$A, 0), 1), \"View\")","v":{"$error":"#N/A"}}]
[{"$f":"HYPERLINK(\"#'Patient Tracking'!\" & ADDRESS(MATCH($D799, 'Patient Tracking'!$A:$A, 0), 1), \"View\")","v":{"$error":"#N/A"}}]
[{"$f":"HYPERLINK(\"#'Patient Tracking'!\" & ADDRESS(MATCH($D800, 'Patient Tracking'!$A:$A, 0), 1), \"View\")","v":{"$error":"#N/A"}}]
[{"$f":"HYPERLINK(\"#'Patient Tracking'!\" & ADDRESS(MATCH($D801, 'Patient Tracking'!$A:$A, 0), 1), \"View\")","v":{"$error":"#N/A"}}]
[{"$f":"HYPERLINK(\"#'Patient Tracking'!\" & ADDRESS(MATCH($D802, 'Patient Tracking'!$A:$A, 0), 1), \"View\")","v":{"$error":"#N/A"}}]
[{"$f":"HYPERLINK(\"#'Patient Tracking'!\" & ADDRESS(MATCH($D803, 'Patient Tracking'!$A:$A, 0), 1), \"View\")","v":{"$error":"#N/A"}}]
[{"$f":"HYPERLINK(\"#'Patient Tracking'!\" & ADDRESS(MATCH($D804, 'Patient Tracking'!$A:$A, 0), 1), \"View\")","v":{"$error":"#N/A"}}]
[{"$f":"HYPERLINK(\"#'Patient Tracking'!\" & ADDRESS(MATCH($D805, 'Patient Tracking'!$A:$A, 0), 1), \"View\")","v":{"$error":"#N/A"}}]
[{"$f":"HYPERLINK(\"#'Patient Tracking'!\" & ADDRESS(MATCH($D806, 'Patient Tracking'!$A:$A, 0), 1), \"View\")","v":{"$error":"#N/A"}}]
[{"$f":"HYPERLINK(\"#'Patient Tracking'!\" & ADDRESS(MATCH($D807, 'Patient Tracking'!$A:$A, 0), 1), \"View\")","v":{"$error":"#N/A"}}]
[{"$f":"HYPERLINK(\"#'Patient Tracking'!\" & ADDRESS(MATCH($D808, 'Patient Tracking'!$A:$A, 0), 1), \"View\")","v":{"$error":"#N/A"}}]
[{"$f":"HYPERLINK(\"#'Patient Tracking'!\" & ADDRESS(MATCH($D809, 'Patient Tracking'!$A:$A, 0), 1), \"View\")","v":{"$error":"#N/A"}}]
[{"$f":"HYPERLINK(\"#'Patient Tracking'!\" & ADDRESS(MATCH($D810, 'Patient Tracking'!$A:$A, 0), 1), \"View\")","v":{"$error":"#N/A"}}]
[{"$f":"HYPERLINK(\"#'Patient Tracking'!\" & ADDRESS(MATCH($D811, 'Patient Tracking'!$A:$A, 0), 1), \"View\")","v":{"$error":"#N/A"}}]
[{"$f":"HYPERLINK(\"#'Patient Tracking'!\" & ADDRESS(MATCH($D812, 'Patient Tracking'!$A:$A, 0), 1), \"View\")","v":{"$error":"#N/A"}}]
[{"$f":"HYPERLINK(\"#'Patient Tracking'!\" & ADDRESS(MATCH($D813, 'Patient Tracking'!$A:$A, 0), 1), \"View\")","v":{"$error":"#N/A"}}]
[{"$f":"HYPERLINK(\"#'Patient Tracking'!\" & ADDRESS(MATCH($D814, 'Patient Tracking'!$A:$A, 0), 1), \"View\")","v":{"$error":"#N/A"}}]
[{"$f":"HYPERLINK(\"#'Patient Tracking'!\" & ADDRESS(MATCH($D815, 'Patient Tracking'!$A:$A, 0), 1), \"View\")","v":{"$error":"#N/A"}}]
[{"$f":"HYPERLINK(\"#'Patient Tracking'!\" & ADDRESS(MATCH($D816, 'Patient Tracking'!$A:$A, 0), 1), \"View\")","v":{"$error":"#N/A"}}]
[{"$f":"HYPERLINK(\"#'Patient Tracking'!\" & ADDRESS(MATCH($D817, 'Patient Tracking'!$A:$A, 0), 1), \"View\")","v":{"$error":"#N/A"}}]
[{"$f":"HYPERLINK(\"#'Patient Tracking'!\" & ADDRESS(MATCH($D818, 'Patient Tracking'!$A:$A, 0), 1), \"View\")","v":{"$error":"#N/A"}}]
[{"$f":"HYPERLINK(\"#'Patient Tracking'!\" & ADDRESS(MATCH($D819, 'Patient Tracking'!$A:$A, 0), 1), \"View\")","v":{"$error":"#N/A"}}]
[{"$f":"HYPERLINK(\"#'Patient Tracking'!\" & ADDRESS(MATCH($D820, 'Patient Tracking'!$A:$A, 0), 1), \"View\")","v":{"$error":"#N/A"}}]
[{"$f":"HYPERLINK(\"#'Patient Tracking'!\" & ADDRESS(MATCH($D821, 'Patient Tracking'!$A:$A, 0), 1), \"View\")","v":{"$error":"#N/A"}}]
[{"$f":"HYPERLINK(\"#'Patient Tracking'!\" & ADDRESS(MATCH($D822, 'Patient Tracking'!$A:$A, 0), 1), \"View\")","v":{"$error":"#N/A"}}]
[{"$f":"HYPERLINK(\"#'Patient Tracking'!\" & ADDRESS(MATCH($D823, 'Patient Tracking'!$A:$A, 0), 1), \"View\")","v":{"$error":"#N/A"}}]
[{"$f":"HYPERLINK(\"#'Patient Tracking'!\" & ADDRESS(MATCH($D824, 'Patient Tracking'!$A:$A, 0), 1), \"View\")","v":{"$error":"#N/A"}}]
[{"$f":"HYPERLINK(\"#'Patient Tracking'!\" & ADDRESS(MATCH($D825, 'Patient Tracking'!$A:$A, 0), 1), \"View\")","v":{"$error":"#N/A"}}]
[{"$f":"HYPERLINK(\"#'Patient Tracking'!\" & ADDRESS(MATCH($D826, 'Patient Tracking'!$A:$A, 0), 1), \"View\")","v":{"$error":"#N/A"}}]
[{"$f":"HYPERLINK(\"#'Patient Tracking'!\" & ADDRESS(MATCH($D827, 'Patient Tracking'!$A:$A, 0), 1), \"View\")","v":{"$error":"#N/A"}}]
[{"$f":"HYPERLINK(\"#'Patient Tracking'!\" & ADDRESS(MATCH($D828, 'Patient Tracking'!$A:$A, 0), 1), \"View\")","v":{"$error":"#N/A"}}]
[{"$f":"HYPERLINK(\"#'Patient Tracking'!\" & ADDRESS(MATCH($D829, 'Patient Tracking'!$A:$A, 0), 1), \"View\")","v":{"$error":"#N/A"}}]
[{"$f":"HYPERLINK(\"#'Patient Tracking'!\" & ADDRESS(MATCH($D830, 'Patient Tracking'!$A:$A, 0), 1), \"View\")","v":{"$error":"#N/A"}}]
[{"$f":"HYPERLINK(\"#'Patient Tracking'!\" & ADDRESS(MATCH($D831, 'Patient Tracking'!$A:$A, 0), 1), \"View\")","v":{"$error":"#N/A"}}]
[{"$f":"HYPERLINK(\"#'Patient Tracking'!\" & ADDRESS(MATCH($D832, 'Patient Tracking'!$A:$A, 0), 1), \"View\")","v":{"$error":"#N/A"}}]
[{"$f":"HYPERLINK(\"#'Patient Tracking'!\" & ADDRESS(MATCH($D833, 'Patient Tracking'!$A:$A, 0), 1), \"View\")","v":{"$error":"#N/A"}}]
[{"$f":"HYPERLINK(\"#'Patient Tracking'!\" & ADDRESS(MATCH($D834, 'Patient Tracking'!$A:$A, 0), 1), \"View\")","v":{"$error":"#N/A"}}]
[{"$f":"HYPERLINK(\"#'Patient Tracking'!\" & ADDRESS(MATCH($D835, 'Patient Tracking'!$A:$A, 0), 1), \"View\")","v":{"$error":"#N/A"}}]
[{"$f":"HYPERLINK(\"#'Patient Tracking'!\" & ADDRESS(MATCH($D836, 'Patient Tracking'!$A:$A, 0), 1), \"View\")","v":{"$error":"#N/A"}}]
[{"$f":"HYPERLINK(\"#'Patient Tracking'!\" & ADDRESS(MATCH($D837, 'Patient Tracking'!$A:$A, 0), 1), \"View\")","v":{"$error":"#N/A"}}]
[{"$f":"HYPERLINK(\"#'Patient Tracking'!\" & ADDRESS(MATCH($D838, 'Patient Tracking'!$A:$A, 0), 1), \"View\")","v":{"$error":"#N/A"}}]
[{"$f":"HYPERLINK(\"#'Patient Tracking'!\" & ADDRESS(MATCH($D839, 'Patient Tracking'!$A:$A, 0), 1), \"View\")","v":{"$error":"#N/A"}}]
[{"$f":"HYPERLINK(\"#'Patient Tracking'!\" & ADDRESS(MATCH($D840, 'Patient Tracking'!$A:$A, 0), 1), \"View\")","v":{"$error":"#N/A"}}]
[{"$f":"HYPERLINK(\"#'Patient Tracking'!\" & ADDRESS(MATCH($D841, 'Patient Tracking'!$A:$A, 0), 1), \"View\")","v":{"$error":"#N/A"}}]
[{"$f":"HYPERLINK(\"#'Patient Tracking'!\" & ADDRESS(MATCH($D842, 'Patient Tracking'!$A:$A, 0), 1), \"View\")","v":{"$error":"#N/A"}}]
[{"$f":"HYPERLINK(\"#'Patient Tracking'!\" & ADDRESS(MATCH($D843, 'Patient Tracking'!$A:$A, 0), 1), \"View\")","v":{"$error":"#N/A"}}]
[{"$f":"HYPERLINK(\"#'Patient Tracking'!\" & ADDRESS(MATCH($D844, 'Patient Tracking'!$A:$A, 0), 1), \"View\")","v":{"$error":"#N/A"}}]
[{"$f":"HYPERLINK(\"#'Patient Tracking'!\" & ADDRESS(MATCH($D845, 'Patient Tracking'!$A:$A, 0), 1), \"View\")","v":{"$error":"#N/A"}}]
[{"$f":"HYPERLINK(\"#'Patient Tracking'!\" & ADDRESS(MATCH($D846, 'Patient Tracking'!$A:$A, 0), 1), \"View\")","v":{"$error":"#N/A"}}]
[{"$f":"HYPERLINK(\"#'Patient Tracking'!\" & ADDRESS(MATCH($D847, 'Patient Tracking'!$A:$A, 0), 1), \"View\")","v":{"$error":"#N/A"}}]
[{"$f":"HYPERLINK(\"#'Patient Tracking'!\" & ADDRESS(MATCH($D848, 'Patient Tracking'!$A:$A, 0), 1), \"View\")","v":{"$error":"#N/A"}}]
[{"$f":"HYPERLINK(\"#'Patient Tracking'!\" & ADDRESS(MATCH($D849, 'Patient Tracking'!$A:$A, 0), 1), \"View\")","v":{"$error":"#N/A"}}]
[{"$f":"HYPERLINK(\"#'Patient Tracking'!\" & ADDRESS(MATCH($D850, 'Patient Tracking'!$A:$A, 0), 1), \"View\")","v":{"$error":"#N/A"}}]
[{"$f":"HYPERLINK(\"#'Patient Tracking'!\" & ADDRESS(MATCH($D851, 'Patient Tracking'!$A:$A, 0), 1), \"View\")","v":{"$error":"#N/A"}}]
[{"$f":"HYPERLINK(\"#'Patient Tracking'!\" & ADDRESS(MATCH($D852, 'Patient Tracking'!$A:$A, 0), 1), \"View\")","v":{"$error":"#N/A"}}]
[{"$f":"HYPERLINK(\"#'Patient Tracking'!\" & ADDRESS(MATCH($D853, 'Patient Tracking'!$A:$A, 0), 1), \"View\")","v":{"$error":"#N/A"}}]
[{"$f":"HYPERLINK(\"#'Patient Tracking'!\" & ADDRESS(MATCH($D854, 'Patient Tracking'!$A:$A, 0), 1), \"View\")","v":{"$error":"#N/A"}}]
[{"$f":"HYPERLINK(\"#'Patient Tracking'!\" & ADDRESS(MATCH($D855, 'Patient Tracking'!$A:$A, 0), 1), \"View\")","v":{"$error":"#N/A"}}]
[{"$f":"HYPERLINK(\"#'Patient Tracking'!\" & ADDRESS(MATCH($D856, 'Patient Tracking'!$A:$A, 0), 1), \"View\")","v":{"$error":"#N/A"}}]
[{"$f":"HYPERLINK(\"#'Patient Tracking'!\" & ADDRESS(MATCH($D857, 'Patient Tracking'!$A:$A, 0), 1), \"View\")","v":{"$error":"#N/A"}}]
[{"$f":"HYPERLINK(\"#'Patient Tracking'!\" & ADDRESS(MATCH($D858, 'Patient Tracking'!$A:$A, 0), 1), \"View\")","v":{"$error":"#N/A"}}]
[{"$f":"HYPERLINK(\"#'Patient Tracking'!\" & ADDRESS(MATCH($D859, 'Patient Tracking'!$A:$A, 0), 1), \"View\")","v":{"$error":"#N/A"}}]
[{"$f":"HYPERLINK(\"#'Patient Tracking'!\" & ADDRESS(MATCH($D860, 'Patient Tracking'!$A:$A, 0), 1), \"View\")","v":{"$error":"#N/A"}}]
[{"$f":"HYPERLINK(\"#'Patient Tracking'!\" & ADDRESS(MATCH($D861, 'Patient Tracking'!$A:$A, 0), 1), \"View\")","v":{"$error":"#N/A"}}]
[{"$f":"HYPERLINK(\"#'Patient Tracking'!\" & ADDRESS(MATCH($D862, 'Patient Tracking'!$A:$A, 0), 1), \"View\")","v":{"$error":"#N/A"}}]
[{"$f":"HYPERLINK(\"#'Patient Tracking'!\" & ADDRESS(MATCH($D863, 'Patient Tracking'!$A:$A, 0), 1), \"View\")","v":{"$error":"#N/A"}}]
[{"$f":"HYPERLINK(\"#'Patient Tracking'!\" & ADDRESS(MATCH($D864, 'Patient Tracking'!$A:$A, 0), 1), \"View\")","v":{"$error":"#N/A"}}]
[{"$f":"HYPERLINK(\"#'Patient Tracking'!\" & ADDRESS(MATCH($D865, 'Patient Tracking'!$A:$A, 0), 1), \"View\")","v":{"$error":"#N/A"}}]
[{"$f":"HYPERLINK(\"#'Patient Tracking'!\" & ADDRESS(MATCH($D866, 'Patient Tracking'!$A:$A, 0), 1), \"View\")","v":{"$error":"#N/A"}}]
[{"$f":"HYPERLINK(\"#'Patient Tracking'!\" & ADDRESS(MATCH($D867, 'Patient Tracking'!$A:$A, 0), 1), \"View\")","v":{"$error":"#N/A"}}]
[{"$f":"HYPERLINK(\"#'Patient Tracking'!\" & ADDRESS(MATCH($D868, 'Patient Tracking'!$A:$A, 0), 1), \"View\")","v":{"$error":"#N/A"}}]
[{"$f":"HYPERLINK(\"#'Patient Tracking'!\" & ADDRESS(MATCH($D869, 'Patient Tracking'!$A:$A, 0), 1), \"View\")","v":{"$error":"#N/A"}}]
[{"$f":"HYPERLINK(\"#'Patient Tracking'!\" & ADDRESS(MATCH($D870, 'Patient Tracking'!$A:$A, 0), 1), \"View\")","v":{"$error":"#N/A"}}]
[{"$f":"HYPERLINK(\"#'Patient Tracking'!\" & ADDRESS(MATCH($D871, 'Patient Tracking'!$A:$A, 0), 1), \"View\")","v":{"$error":"#N/A"}}]
[{"$f":"HYPERLINK(\"#'Patient Tracking'!\" & ADDRESS(MATCH($D872, 'Patient Tracking'!$A:$A, 0), 1), \"View\")","v":{"$error":"#N/A"}}]
[{"$f":"HYPERLINK(\"#'Patient Tracking'!\" & ADDRESS(MATCH($D873, 'Patient Tracking'!$A:$A, 0), 1), \"View\")","v":{"$error":"#N/A"}}]
[{"$f":"HYPERLINK(\"#'Patient Tracking'!\" & ADDRESS(MATCH($D874, 'Patient Tracking'!$A:$A, 0), 1), \"View\")","v":{"$error":"#N/A"}}]
[{"$f":"HYPERLINK(\"#'Patient Tracking'!\" & ADDRESS(MATCH($D875, 'Patient Tracking'!$A:$A, 0), 1), \"View\")","v":{"$error":"#N/A"}}]
[{"$f":"HYPERLINK(\"#'Patient Tracking'!\" & ADDRESS(MATCH($D876, 'Patient Tracking'!$A:$A, 0), 1), \"View\")","v":{"$error":"#N/A"}}]
[{"$f":"HYPERLINK(\"#'Patient Tracking'!\" & ADDRESS(MATCH($D877, 'Patient Tracking'!$A:$A, 0), 1), \"View\")","v":{"$error":"#N/A"}}]
[{"$f":"HYPERLINK(\"#'Patient Tracking'!\" & ADDRESS(MATCH($D878, 'Patient Tracking'!$A:$A, 0), 1), \"View\")","v":{"$error":"#N/A"}}]
[{"$f":"HYPERLINK(\"#'Patient Tracking'!\" & ADDRESS(MATCH($D879, 'Patient Tracking'!$A:$A, 0), 1), \"View\")","v":{"$error":"#N/A"}}]
[{"$f":"HYPERLINK(\"#'Patient Tracking'!\" & ADDRESS(MATCH($D880, 'Patient Tracking'!$A:$A, 0), 1), \"View\")","v":{"$error":"#N/A"}}]
[{"$f":"HYPERLINK(\"#'Patient Tracking'!\" & ADDRESS(MATCH($D881, 'Patient Tracking'!$A:$A, 0), 1), \"View\")","v":{"$error":"#N/A"}}]
[{"$f":"HYPERLINK(\"#'Patient Tracking'!\" & ADDRESS(MATCH($D882, 'Patient Tracking'!$A:$A, 0), 1), \"View\")","v":{"$error":"#N/A"}}]
[{"$f":"HYPERLINK(\"#'Patient Tracking'!\" & ADDRESS(MATCH($D883, 'Patient Tracking'!$A:$A, 0), 1), \"View\")","v":{"$error":"#N/A"}}]
[{"$f":"HYPERLINK(\"#'Patient Tracking'!\" & ADDRESS(MATCH($D884, 'Patient Tracking'!$A:$A, 0), 1), \"View\")","v":{"$error":"#N/A"}}]
[{"$f":"HYPERLINK(\"#'Patient Tracking'!\" & ADDRESS(MATCH($D885, 'Patient Tracking'!$A:$A, 0), 1), \"View\")","v":{"$error":"#N/A"}}]
[{"$f":"HYPERLINK(\"#'Patient Tracking'!\" & ADDRESS(MATCH($D886, 'Patient Tracking'!$A:$A, 0), 1), \"View\")","v":{"$error":"#N/A"}}]
[{"$f":"HYPERLINK(\"#'Patient Tracking'!\" & ADDRESS(MATCH($D887, 'Patient Tracking'!$A:$A, 0), 1), \"View\")","v":{"$error":"#N/A"}}]
[{"$f":"HYPERLINK(\"#'Patient Tracking'!\" & ADDRESS(MATCH($D888, 'Patient Tracking'!$A:$A, 0), 1), \"View\")","v":{"$error":"#N/A"}}]
[{"$f":"HYPERLINK(\"#'Patient Tracking'!\" & ADDRESS(MATCH($D889, 'Patient Tracking'!$A:$A, 0), 1), \"View\")","v":{"$error":"#N/A"}}]
[{"$f":"HYPERLINK(\"#'Patient Tracking'!\" & ADDRESS(MATCH($D890, 'Patient Tracking'!$A:$A, 0), 1), \"View\")","v":{"$error":"#N/A"}}]
[{"$f":"HYPERLINK(\"#'Patient Tracking'!\" & ADDRESS(MATCH($D891, 'Patient Tracking'!$A:$A, 0), 1), \"View\")","v":{"$error":"#N/A"}}]
[{"$f":"HYPERLINK(\"#'Patient Tracking'!\" & ADDRESS(MATCH($D892, 'Patient Tracking'!$A:$A, 0), 1), \"View\")","v":{"$error":"#N/A"}}]
[{"$f":"HYPERLINK(\"#'Patient Tracking'!\" & ADDRESS(MATCH($D893, 'Patient Tracking'!$A:$A, 0), 1), \"View\")","v":{"$error":"#N/A"}}]
[{"$f":"HYPERLINK(\"#'Patient Tracking'!\" & ADDRESS(MATCH($D894, 'Patient Tracking'!$A:$A, 0), 1), \"View\")","v":{"$error":"#N/A"}}]
[{"$f":"HYPERLINK(\"#'Patient Tracking'!\" & ADDRESS(MATCH($D895, 'Patient Tracking'!$A:$A, 0), 1), \"View\")","v":{"$error":"#N/A"}}]
[{"$f":"HYPERLINK(\"#'Patient Tracking'!\" & ADDRESS(MATCH($D896, 'Patient Tracking'!$A:$A, 0), 1), \"View\")","v":{"$error":"#N/A"}}]
[{"$f":"HYPERLINK(\"#'Patient Tracking'!\" & ADDRESS(MATCH($D897, 'Patient Tracking'!$A:$A, 0), 1), \"View\")","v":{"$error":"#N/A"}}]
[{"$f":"HYPERLINK(\"#'Patient Tracking'!\" & ADDRESS(MATCH($D898, 'Patient Tracking'!$A:$A, 0), 1), \"View\")","v":{"$error":"#N/A"}}]
[{"$f":"HYPERLINK(\"#'Patient Tracking'!\" & ADDRESS(MATCH($D899, 'Patient Tracking'!$A:$A, 0), 1), \"View\")","v":{"$error":"#N/A"}}]
[{"$f":"HYPERLINK(\"#'Patient Tracking'!\" & ADDRESS(MATCH($D900, 'Patient Tracking'!$A:$A, 0), 1), \"View\")","v":{"$error":"#N/A"}}]
[{"$f":"HYPERLINK(\"#'Patient Tracking'!\" & ADDRESS(MATCH($D901, 'Patient Tracking'!$A:$A, 0), 1), \"View\")","v":{"$error":"#N/A"}}]
[{"$f":"HYPERLINK(\"#'Patient Tracking'!\" & ADDRESS(MATCH($D902, 'Patient Tracking'!$A:$A, 0), 1), \"View\")","v":{"$error":"#N/A"}}]
[{"$f":"HYPERLINK(\"#'Patient Tracking'!\" & ADDRESS(MATCH($D903, 'Patient Tracking'!$A:$A, 0), 1), \"View\")","v":{"$error":"#N/A"}}]
[{"$f":"HYPERLINK(\"#'Patient Tracking'!\" & ADDRESS(MATCH($D904, 'Patient Tracking'!$A:$A, 0), 1), \"View\")","v":{"$error":"#N/A"}}]
[{"$f":"HYPERLINK(\"#'Patient Tracking'!\" & ADDRESS(MATCH($D905, 'Patient Tracking'!$A:$A, 0), 1), \"View\")","v":{"$error":"#N/A"}}]
[{"$f":"HYPERLINK(\"#'Patient Tracking'!\" & ADDRESS(MATCH($D906, 'Patient Tracking'!$A:$A, 0), 1), \"View\")","v":{"$error":"#N/A"}}]
[{"$f":"HYPERLINK(\"#'Patient Tracking'!\" & ADDRESS(MATCH($D907, 'Patient Tracking'!$A:$A, 0), 1), \"View\")","v":{"$error":"#N/A"}}]
[{"$f":"HYPERLINK(\"#'Patient Tracking'!\" & ADDRESS(MATCH($D908, 'Patient Tracking'!$A:$A, 0), 1), \"View\")","v":{"$error":"#N/A"}}]
[{"$f":"HYPERLINK(\"#'Patient Tracking'!\" & ADDRESS(MATCH($D909, 'Patient Tracking'!$A:$A, 0), 1), \"View\")","v":{"$error":"#N/A"}}]
[{"$f":"HYPERLINK(\"#'Patient Tracking'!\" & ADDRESS(MATCH($D910, 'Patient Tracking'!$A:$A, 0), 1), \"View\")","v":{"$error":"#N/A"}}]
[{"$f":"HYPERLINK(\"#'Patient Tracking'!\" & ADDRESS(MATCH($D911, 'Patient Tracking'!$A:$A, 0), 1), \"View\")","v":{"$error":"#N/A"}}]
[{"$f":"HYPERLINK(\"#'Patient Tracking'!\" & ADDRESS(MATCH($D912, 'Patient Tracking'!$A:$A, 0), 1), \"View\")","v":{"$error":"#N/A"}}]
[{"$f":"HYPERLINK(\"#'Patient Tracking'!\" & ADDRESS(MATCH($D913, 'Patient Tracking'!$A:$A, 0), 1), \"View\")","v":{"$error":"#N/A"}}]
[{"$f":"HYPERLINK(\"#'Patient Tracking'!\" & ADDRESS(MATCH($D914, 'Patient Tracking'!$A:$A, 0), 1), \"View\")","v":{"$error":"#N/A"}}]
[{"$f":"HYPERLINK(\"#'Patient Tracking'!\" & ADDRESS(MATCH($D915, 'Patient Tracking'!$A:$A, 0), 1), \"View\")","v":{"$error":"#N/A"}}]
[{"$f":"HYPERLINK(\"#'Patient Tracking'!\" & ADDRESS(MATCH($D916, 'Patient Tracking'!$A:$A, 0), 1), \"View\")","v":{"$error":"#N/A"}}]
[{"$f":"HYPERLINK(\"#'Patient Tracking'!\" & ADDRESS(MATCH($D917, 'Patient Tracking'!$A:$A, 0), 1), \"View\")","v":{"$error":"#N/A"}}]
[{"$f":"HYPERLINK(\"#'Patient Tracking'!\" & ADDRESS(MATCH($D918, 'Patient Tracking'!$A:$A, 0), 1), \"View\")","v":{"$error":"#N/A"}}]
[{"$f":"HYPERLINK(\"#'Patient Tracking'!\" & ADDRESS(MATCH($D919, 'Patient Tracking'!$A:$A, 0), 1), \"View\")","v":{"$error":"#N/A"}}]
[{"$f":"HYPERLINK(\"#'Patient Tracking'!\" & ADDRESS(MATCH($D920, 'Patient Tracking'!$A:$A, 0), 1), \"View\")","v":{"$error":"#N/A"}}]
[{"$f":"HYPERLINK(\"#'Patient Tracking'!\" & ADDRESS(MATCH($D921, 'Patient Tracking'!$A:$A, 0), 1), \"View\")","v":{"$error":"#N/A"}}]
[{"$f":"HYPERLINK(\"#'Patient Tracking'!\" & ADDRESS(MATCH($D922, 'Patient Tracking'!$A:$A, 0), 1), \"View\")","v":{"$error":"#N/A"}}]
[{"$f":"HYPERLINK(\"#'Patient Tracking'!\" & ADDRESS(MATCH($D923, 'Patient Tracking'!$A:$A, 0), 1), \"View\")","v":{"$error":"#N/A"}}]
[{"$f":"HYPERLINK(\"#'Patient Tracking'!\" & ADDRESS(MATCH($D924, 'Patient Tracking'!$A:$A, 0), 1), \"View\")","v":{"$error":"#N/A"}}]
[{"$f":"HYPERLINK(\"#'Patient Tracking'!\" & ADDRESS(MATCH($D925, 'Patient Tracking'!$A:$A, 0), 1), \"View\")","v":{"$error":"#N/A"}}]
[{"$f":"HYPERLINK(\"#'Patient Tracking'!\" & ADDRESS(MATCH($D926, 'Patient Tracking'!$A:$A, 0), 1), \"View\")","v":{"$error":"#N/A"}}]
[{"$f":"HYPERLINK(\"#'Patient Tracking'!\" & ADDRESS(MATCH($D927, 'Patient Tracking'!$A:$A, 0), 1), \"View\")","v":{"$error":"#N/A"}}]
[{"$f":"HYPERLINK(\"#'Patient Tracking'!\" & ADDRESS(MATCH($D928, 'Patient Tracking'!$A:$A, 0), 1), \"View\")","v":{"$error":"#N/A"}}]
[{"$f":"HYPERLINK(\"#'Patient Tracking'!\" & ADDRESS(MATCH($D929, 'Patient Tracking'!$A:$A, 0), 1), \"View\")","v":{"$error":"#N/A"}}]
[{"$f":"HYPERLINK(\"#'Patient Tracking'!\" & ADDRESS(MATCH($D930, 'Patient Tracking'!$A:$A, 0), 1), \"View\")","v":{"$error":"#N/A"}}]
[{"$f":"HYPERLINK(\"#'Patient Tracking'!\" & ADDRESS(MATCH($D931, 'Patient Tracking'!$A:$A, 0), 1), \"View\")","v":{"$error":"#N/A"}}]
[{"$f":"HYPERLINK(\"#'Patient Tracking'!\" & ADDRESS(MATCH($D932, 'Patient Tracking'!$A:$A, 0), 1), \"View\")","v":{"$error":"#N/A"}}]
[{"$f":"HYPERLINK(\"#'Patient Tracking'!\" & ADDRESS(MATCH($D933, 'Patient Tracking'!$A:$A, 0), 1), \"View\")","v":{"$error":"#N/A"}}]
[{"$f":"HYPERLINK(\"#'Patient Tracking'!\" & ADDRESS(MATCH($D934, 'Patient Tracking'!$A:$A, 0), 1), \"View\")","v":{"$error":"#N/A"}}]
[{"$f":"HYPERLINK(\"#'Patient Tracking'!\" & ADDRESS(MATCH($D935, 'Patient Tracking'!$A:$A, 0), 1), \"View\")","v":{"$error":"#N/A"}}]
[{"$f":"HYPERLINK(\"#'Patient Tracking'!\" & ADDRESS(MATCH($D936, 'Patient Tracking'!$A:$A, 0), 1), \"View\")","v":{"$error":"#N/A"}}]
[{"$f":"HYPERLINK(\"#'Patient Tracking'!\" & ADDRESS(MATCH($D937, 'Patient Tracking'!$A:$A, 0), 1), \"View\")","v":{"$error":"#N/A"}}]
[{"$f":"HYPERLINK(\"#'Patient Tracking'!\" & ADDRESS(MATCH($D938, 'Patient Tracking'!$A:$A, 0), 1), \"View\")","v":{"$error":"#N/A"}}]
[{"$f":"HYPERLINK(\"#'Patient Tracking'!\" & ADDRESS(MATCH($D939, 'Patient Tracking'!$A:$A, 0), 1), \"View\")","v":{"$error":"#N/A"}}]
[{"$f":"HYPERLINK(\"#'Patient Tracking'!\" & ADDRESS(MATCH($D940, 'Patient Tracking'!$A:$A, 0), 1), \"View\")","v":{"$error":"#N/A"}}]
[{"$f":"HYPERLINK(\"#'Patient Tracking'!\" & ADDRESS(MATCH($D941, 'Patient Tracking'!$A:$A, 0), 1), \"View\")","v":{"$error":"#N/A"}}]
[{"$f":"HYPERLINK(\"#'Patient Tracking'!\" & ADDRESS(MATCH($D942, 'Patient Tracking'!$A:$A, 0), 1), \"View\")","v":{"$error":"#N/A"}}]
[{"$f":"HYPERLINK(\"#'Patient Tracking'!\" & ADDRESS(MATCH($D943, 'Patient Tracking'!$A:$A, 0), 1), \"View\")","v":{"$error":"#N/A"}}]
[{"$f":"HYPERLINK(\"#'Patient Tracking'!\" & ADDRESS(MATCH($D944, 'Patient Tracking'!$A:$A, 0), 1), \"View\")","v":{"$error":"#N/A"}}]
[{"$f":"HYPERLINK(\"#'Patient Tracking'!\" & ADDRESS(MATCH($D945, 'Patient Tracking'!$A:$A, 0), 1), \"View\")","v":{"$error":"#N/A"}}]
[{"$f":"HYPERLINK(\"#'Patient Tracking'!\" & ADDRESS(MATCH($D946, 'Patient Tracking'!$A:$A, 0), 1), \"View\")","v":{"$error":"#N/A"}}]
[{"$f":"HYPERLINK(\"#'Patient Tracking'!\" & ADDRESS(MATCH($D947, 'Patient Tracking'!$A:$A, 0), 1), \"View\")","v":{"$error":"#N/A"}}]
[{"$f":"HYPERLINK(\"#'Patient Tracking'!\" & ADDRESS(MATCH($D948, 'Patient Tracking'!$A:$A, 0), 1), \"View\")","v":{"$error":"#N/A"}}]
[{"$f":"HYPERLINK(\"#'Patient Tracking'!\" & ADDRESS(MATCH($D949, 'Patient Tracking'!$A:$A, 0), 1), \"View\")","v":{"$error":"#N/A"}}]
[{"$f":"HYPERLINK(\"#'Patient Tracking'!\" & ADDRESS(MATCH($D950, 'Patient Tracking'!$A:$A, 0), 1), \"View\")","v":{"$error":"#N/A"}}]
[{"$f":"HYPERLINK(\"#'Patient Tracking'!\" & ADDRESS(MATCH($D951, 'Patient Tracking'!$A:$A, 0), 1), \"View\")","v":{"$error":"#N/A"}}]
[{"$f":"HYPERLINK(\"#'Patient Tracking'!\" & ADDRESS(MATCH($D952, 'Patient Tracking'!$A:$A, 0), 1), \"View\")","v":{"$error":"#N/A"}}]
[{"$f":"HYPERLINK(\"#'Patient Tracking'!\" & ADDRESS(MATCH($D953, 'Patient Tracking'!$A:$A, 0), 1), \"View\")","v":{"$error":"#N/A"}}]
[{"$f":"HYPERLINK(\"#'Patient Tracking'!\" & ADDRESS(MATCH($D954, 'Patient Tracking'!$A:$A, 0), 1), \"View\")","v":{"$error":"#N/A"}}]
[{"$f":"HYPERLINK(\"#'Patient Tracking'!\" & ADDRESS(MATCH($D955, 'Patient Tracking'!$A:$A, 0), 1), \"View\")","v":{"$error":"#N/A"}}]
[{"$f":"HYPERLINK(\"#'Patient Tracking'!\" & ADDRESS(MATCH($D956, 'Patient Tracking'!$A:$A, 0), 1), \"View\")","v":{"$error":"#N/A"}}]
[{"$f":"HYPERLINK(\"#'Patient Tracking'!\" & ADDRESS(MATCH($D957, 'Patient Tracking'!$A:$A, 0), 1), \"View\")","v":{"$error":"#N/A"}}]
[{"$f":"HYPERLINK(\"#'Patient Tracking'!\" & ADDRESS(MATCH($D958, 'Patient Tracking'!$A:$A, 0), 1), \"View\")","v":{"$error":"#N/A"}}]
[{"$f":"HYPERLINK(\"#'Patient Tracking'!\" & ADDRESS(MATCH($D959, 'Patient Tracking'!$A:$A, 0), 1), \"View\")","v":{"$error":"#N/A"}}]
[{"$f":"HYPERLINK(\"#'Patient Tracking'!\" & ADDRESS(MATCH($D960, 'Patient Tracking'!$A:$A, 0), 1), \"View\")","v":{"$error":"#N/A"}}]
[{"$f":"HYPERLINK(\"#'Patient Tracking'!\" & ADDRESS(MATCH($D961, 'Patient Tracking'!$A:$A, 0), 1), \"View\")","v":{"$error":"#N/A"}}]
[{"$f":"HYPERLINK(\"#'Patient Tracking'!\" & ADDRESS(MATCH($D962, 'Patient Tracking'!$A:$A, 0), 1), \"View\")","v":{"$error":"#N/A"}}]
[{"$f":"HYPERLINK(\"#'Patient Tracking'!\" & ADDRESS(MATCH($D963, 'Patient Tracking'!$A:$A, 0), 1), \"View\")","v":{"$error":"#N/A"}}]
[{"$f":"HYPERLINK(\"#'Patient Tracking'!\" & ADDRESS(MATCH($D964, 'Patient Tracking'!$A:$A, 0), 1), \"View\")","v":{"$error":"#N/A"}}]
[{"$f":"HYPERLINK(\"#'Patient Tracking'!\" & ADDRESS(MATCH($D965, 'Patient Tracking'!$A:$A, 0), 1), \"View\")","v":{"$error":"#N/A"}}]
[{"$f":"HYPERLINK(\"#'Patient Tracking'!\" & ADDRESS(MATCH($D966, 'Patient Tracking'!$A:$A, 0), 1), \"View\")","v":{"$error":"#N/A"}}]
[{"$f":"HYPERLINK(\"#'Patient Tracking'!\" & ADDRESS(MATCH($D967, 'Patient Tracking'!$A:$A, 0), 1), \"View\")","v":{"$error":"#N/A"}}]
[{"$f":"HYPERLINK(\"#'Patient Tracking'!\" & ADDRESS(MATCH($D968, 'Patient Tracking'!$A:$A, 0), 1), \"View\")","v":{"$error":"#N/A"}}]
[{"$f":"HYPERLINK(\"#'Patient Tracking'!\" & ADDRESS(MATCH($D969, 'Patient Tracking'!$A:$A, 0), 1), \"View\")","v":{"$error":"#N/A"}}]
[{"$f":"HYPERLINK(\"#'Patient Tracking'!\" & ADDRESS(MATCH($D970, 'Patient Tracking'!$A:$A, 0), 1), \"View\")","v":{"$error":"#N/A"}}]
[{"$f":"HYPERLINK(\"#'Patient Tracking'!\" & ADDRESS(MATCH($D971, 'Patient Tracking'!$A:$A, 0), 1), \"View\")","v":{"$error":"#N/A"}}]
[{"$f":"HYPERLINK(\"#'Patient Tracking'!\" & ADDRESS(MATCH($D972, 'Patient Tracking'!$A:$A, 0), 1), \"View\")","v":{"$error":"#N/A"}}]
[{"$f":"HYPERLINK(\"#'Patient Tracking'!\" & ADDRESS(MATCH($D973, 'Patient Tracking'!$A:$A, 0), 1), \"View\")","v":{"$error":"#N/A"}}]
[{"$f":"HYPERLINK(\"#'Patient Tracking'!\" & ADDRESS(MATCH($D974, 'Patient Tracking'!$A:$A, 0), 1), \"View\")","v":{"$error":"#N/A"}}]
[{"$f":"HYPERLINK(\"#'Patient Tracking'!\" & ADDRESS(MATCH($D975, 'Patient Tracking'!$A:$A, 0), 1), \"View\")","v":{"$error":"#N/A"}}]
[{"$f":"HYPERLINK(\"#'Patient Tracking'!\" & ADDRESS(MATCH($D976, 'Patient Tracking'!$A:$A, 0), 1), \"View\")","v":{"$error":"#N/A"}}]
[{"$f":"HYPERLINK(\"#'Patient Tracking'!\" & ADDRESS(MATCH($D977, 'Patient Tracking'!$A:$A, 0), 1), \"View\")","v":{"$error":"#N/A"}}]
[{"$f":"HYPERLINK(\"#'Patient Tracking'!\" & ADDRESS(MATCH($D978, 'Patient Tracking'!$A:$A, 0), 1), \"View\")","v":{"$error":"#N/A"}}]
[{"$f":"HYPERLINK(\"#'Patient Tracking'!\" & ADDRESS(MATCH($D979, 'Patient Tracking'!$A:$A, 0), 1), \"View\")","v":{"$error":"#N/A"}}]
[{"$f":"HYPERLINK(\"#'Patient Tracking'!\" & ADDRESS(MATCH($D980, 'Patient Tracking'!$A:$A, 0), 1), \"View\")","v":{"$error":"#N/A"}}]
[{"$f":"HYPERLINK(\"#'Patient Tracking'!\" & ADDRESS(MATCH($D981, 'Patient Tracking'!$A:$A, 0), 1), \"View\")","v":{"$error":"#N/A"}}]
[{"$f":"HYPERLINK(\"#'Patient Tracking'!\" & ADDRESS(MATCH($D982, 'Patient Tracking'!$A:$A, 0), 1), \"View\")","v":{"$error":"#N/A"}}]
[{"$f":"HYPERLINK(\"#'Patient Tracking'!\" & ADDRESS(MATCH($D983, 'Patient Tracking'!$A:$A, 0), 1), \"View\")","v":{"$error":"#N/A"}}]
[{"$f":"HYPERLINK(\"#'Patient Tracking'!\" & ADDRESS(MATCH($D984, 'Patient Tracking'!$A:$A, 0), 1), \"View\")","v":{"$error":"#N/A"}}]
[{"$f":"HYPERLINK(\"#'Patient Tracking'!\" & ADDRESS(MATCH($D985, 'Patient Tracking'!$A:$A, 0), 1), \"View\")","v":{"$error":"#N/A"}}]
[{"$f":"HYPERLINK(\"#'Patient Tracking'!\" & ADDRESS(MATCH($D986, 'Patient Tracking'!$A:$A, 0), 1), \"View\")","v":{"$error":"#N/A"}}]
[{"$f":"HYPERLINK(\"#'Patient Tracking'!\" & ADDRESS(MATCH($D987, 'Patient Tracking'!$A:$A, 0), 1), \"View\")","v":{"$error":"#N/A"}}]
[{"$f":"HYPERLINK(\"#'Patient Tracking'!\" & ADDRESS(MATCH($D988, 'Patient Tracking'!$A:$A, 0), 1), \"View\")","v":{"$error":"#N/A"}}]
[{"$f":"HYPERLINK(\"#'Patient Tracking'!\" & ADDRESS(MATCH($D989, 'Patient Tracking'!$A:$A, 0), 1), \"View\")","v":{"$error":"#N/A"}}]
[{"$f":"HYPERLINK(\"#'Patient Tracking'!\" & ADDRESS(MATCH($D990, 'Patient Tracking'!$A:$A, 0), 1), \"View\")","v":{"$error":"#N/A"}}]
[{"$f":"HYPERLINK(\"#'Patient Tracking'!\" & ADDRESS(MATCH($D991, 'Patient Tracking'!$A:$A, 0), 1), \"View\")","v":{"$error":"#N/A"}}]
[{"$f":"HYPERLINK(\"#'Patient Tracking'!\" & ADDRESS(MATCH($D992, 'Patient Tracking'!$A:$A, 0), 1), \"View\")","v":{"$error":"#N/A"}}]
[{"$f":"HYPERLINK(\"#'Patient Tracking'!\" & ADDRESS(MATCH($D993, 'Patient Tracking'!$A:$A, 0), 1), \"View\")","v":{"$error":"#N/A"}}]
[{"$f":"HYPERLINK(\"#'Patient Tracking'!\" & ADDRESS(MATCH($D994, 'Patient Tracking'!$A:$A, 0), 1), \"View\")","v":{"$error":"#N/A"}}]
[{"$f":"HYPERLINK(\"#'Patient Tracking'!\" & ADDRESS(MATCH($D995, 'Patient Tracking'!$A:$A, 0), 1), \"View\")","v":{"$error":"#N/A"}}]
[{"$f":"HYPERLINK(\"#'Patient Tracking'!\" & ADDRESS(MATCH($D996, 'Patient Tracking'!$A:$A, 0), 1), \"View\")","v":{"$error":"#N/A"}}]
[{"$f":"HYPERLINK(\"#'Patient Tracking'!\" & ADDRESS(MATCH($D997, 'Patient Tracking'!$A:$A, 0), 1), \"View\")","v":{"$error":"#N/A"}}]
[{"$f":"HYPERLINK(\"#'Patient Tracking'!\" & ADDRESS(MATCH($D998, 'Patient Tracking'!$A:$A, 0), 1), \"View\")","v":{"$error":"#N/A"}}]
[{"$f":"HYPERLINK(\"#'Patient Tracking'!\" & ADDRESS(MATCH($D999, 'Patient Tracking'!$A:$A, 0), 1), \"View\")","v":{"$error":"#N/A"}}]
[{"$f":"HYPERLINK(\"#'Patient Tracking'!\" & ADDRESS(MATCH($D1000, 'Patient Tracking'!$A:$A, 0), 1), \"View\")","v":{"$error":"#N/A"}}]
[{"$f":"HYPERLINK(\"#'Patient Tracking'!\" & ADDRESS(MATCH($D1001, 'Patient Tracking'!$A:$A, 0), 1), \"View\")","v":{"$error":"#N/A"}}]
[{"$f":"HYPERLINK(\"#'Patient Tracking'!\" & ADDRESS(MATCH($D1002, 'Patient Tracking'!$A:$A, 0), 1), \"View\")","v":{"$error":"#N/A"}}]
[{"$f":"HYPERLINK(\"#'Patient Tracking'!\" & ADDRESS(MATCH($D1003, 'Patient Tracking'!$A:$A, 0), 1), \"View\")","v":{"$error":"#N/A"}}]
[{"$f":"HYPERLINK(\"#'Patient Tracking'!\" & ADDRESS(MATCH($D1004, 'Patient Tracking'!$A:$A, 0), 1), \"View\")","v":{"$error":"#N/A"}}]
[{"$f":"HYPERLINK(\"#'Patient Tracking'!\" & ADDRESS(MATCH($D1005, 'Patient Tracking'!$A:$A, 0), 1), \"View\")","v":{"$error":"#N/A"}}]
[{"$f":"HYPERLINK(\"#'Patient Tracking'!\" & ADDRESS(MATCH($D1006, 'Patient Tracking'!$A:$A, 0), 1), \"View\")","v":{"$error":"#N/A"}}]
[{"$f":"HYPERLINK(\"#'Patient Tracking'!\" & ADDRESS(MATCH($D1007, 'Patient Tracking'!$A:$A, 0), 1), \"View\")","v":{"$error":"#N/A"}}]
[{"$f":"HYPERLINK(\"#'Patient Tracking'!\" & ADDRESS(MATCH($D1008, 'Patient Tracking'!$A:$A, 0), 1), \"View\")","v":{"$error":"#N/A"}}]
[{"$f":"HYPERLINK(\"#'Patient Tracking'!\" & ADDRESS(MATCH($D1009, 'Patient Tracking'!$A:$A, 0), 1), \"View\")","v":{"$error":"#N/A"}}]
[{"$f":"HYPERLINK(\"#'Patient Tracking'!\" & ADDRESS(MATCH($D1010, 'Patient Tracking'!$A:$A, 0), 1), \"View\")","v":{"$error":"#N/A"}}]
[{"$f":"HYPERLINK(\"#'Patient Tracking'!\" & ADDRESS(MATCH($D1011, 'Patient Tracking'!$A:$A, 0), 1), \"View\")","v":{"$error":"#N/A"}}]
[{"$f":"HYPERLINK(\"#'Patient Tracking'!\" & ADDRESS(MATCH($D1012, 'Patient Tracking'!$A:$A, 0), 1), \"View\")","v":{"$error":"#N/A"}}]
[{"$f":"HYPERLINK(\"#'Patient Tracking'!\" & ADDRESS(MATCH($D1013, 'Patient Tracking'!$A:$A, 0), 1), \"View\")","v":{"$error":"#N/A"}}]
[{"$f":"HYPERLINK(\"#'Patient Tracking'!\" & ADDRESS(MATCH($D1014, 'Patient Tracking'!$A:$A, 0), 1), \"View\")","v":{"$error":"#N/A"}}]
[{"$f":"HYPERLINK(\"#'Patient Tracking'!\" & ADDRESS(MATCH($D1015, 'Patient Tracking'!$A:$A, 0), 1), \"View\")","v":{"$error":"#N/A"}}]
[{"$f":"HYPERLINK(\"#'Patient Tracking'!\" & ADDRESS(MATCH($D1016, 'Patient Tracking'!$A:$A, 0), 1), \"View\")","v":{"$error":"#N/A"}}]
[{"$f":"HYPERLINK(\"#'Patient Tracking'!\" & ADDRESS(MATCH($D1017, 'Patient Tracking'!$A:$A, 0), 1), \"View\")","v":{"$error":"#N/A"}}]
[{"$f":"HYPERLINK(\"#'Patient Tracking'!\" & ADDRESS(MATCH($D1018, 'Patient Tracking'!$A:$A, 0), 1), \"View\")","v":{"$error":"#N/A"}}]
[{"$f":"HYPERLINK(\"#'Patient Tracking'!\" & ADDRESS(MATCH($D1019, 'Patient Tracking'!$A:$A, 0), 1), \"View\")","v":{"$error":"#N/A"}}]
[{"$f":"HYPERLINK(\"#'Patient Tracking'!\" & ADDRESS(MATCH($D1020, 'Patient Tracking'!$A:$A, 0), 1), \"View\")","v":{"$error":"#N/A"}}]
[{"$f":"HYPERLINK(\"#'Patient Tracking'!\" & ADDRESS(MATCH($D1021, 'Patient Tracking'!$A:$A, 0), 1), \"View\")","v":{"$error":"#N/A"}}]
[{"$f":"HYPERLINK(\"#'Patient Tracking'!\" & ADDRESS(MATCH($D1022, 'Patient Tracking'!$A:$A, 0), 1), \"View\")","v":{"$error":"#N/A"}}]
[{"$f":"HYPERLINK(\"#'Patient Tracking'!\" & ADDRESS(MATCH($D1023, 'Patient Tracking'!$A:$A, 0), 1), \"View\")","v":{"$error":"#N/A"}}]
[{"$f":"HYPERLINK(\"#'Patient Tracking'!\" & ADDRESS(MATCH($D1024, 'Patient Tracking'!$A:$A, 0), 1), \"View\")","v":{"$error":"#N/A"}}]
[{"$f":"HYPERLINK(\"#'Patient Tracking'!\" & ADDRESS(MATCH($D1025, 'Patient Tracking'!$A:$A, 0), 1), \"View\")","v":{"$error":"#N/A"}}]
[{"$f":"HYPERLINK(\"#'Patient Tracking'!\" & ADDRESS(MATCH($D1026, 'Patient Tracking'!$A:$A, 0), 1), \"View\")","v":{"$error":"#N/A"}}]
[{"$f":"HYPERLINK(\"#'Patient Tracking'!\" & ADDRESS(MATCH($D1027, 'Patient Tracking'!$A:$A, 0), 1), \"View\")","v":{"$error":"#N/A"}}]
[{"$f":"HYPERLINK(\"#'Patient Tracking'!\" & ADDRESS(MATCH($D1028, 'Patient Tracking'!$A:$A, 0), 1), \"View\")","v":{"$error":"#N/A"}}]
[{"$f":"HYPERLINK(\"#'Patient Tracking'!\" & ADDRESS(MATCH($D1029, 'Patient Tracking'!$A:$A, 0), 1), \"View\")","v":{"$error":"#N/A"}}]
[{"$f":"HYPERLINK(\"#'Patient Tracking'!\" & ADDRESS(MATCH($D1030, 'Patient Tracking'!$A:$A, 0), 1), \"View\")","v":{"$error":"#N/A"}}]
[{"$f":"HYPERLINK(\"#'Patient Tracking'!\" & ADDRESS(MATCH($D1031, 'Patient Tracking'!$A:$A, 0), 1), \"View\")","v":{"$error":"#N/A"}}]
[{"$f":"HYPERLINK(\"#'Patient Tracking'!\" & ADDRESS(MATCH($D1032, 'Patient Tracking'!$A:$A, 0), 1), \"View\")","v":{"$error":"#N/A"}}]
[{"$f":"HYPERLINK(\"#'Patient Tracking'!\" & ADDRESS(MATCH($D1033, 'Patient Tracking'!$A:$A, 0), 1), \"View\")","v":{"$error":"#N/A"}}]
[{"$f":"HYPERLINK(\"#'Patient Tracking'!\" & ADDRESS(MATCH($D1034, 'Patient Tracking'!$A:$A, 0), 1), \"View\")","v":{"$error":"#N/A"}}]
[{"$f":"HYPERLINK(\"#'Patient Tracking'!\" & ADDRESS(MATCH($D1035, 'Patient Tracking'!$A:$A, 0), 1), \"View\")","v":{"$error":"#N/A"}}]
[{"$f":"HYPERLINK(\"#'Patient Tracking'!\" & ADDRESS(MATCH($D1036, 'Patient Tracking'!$A:$A, 0), 1), \"View\")","v":{"$error":"#N/A"}}]
[{"$f":"HYPERLINK(\"#'Patient Tracking'!\" & ADDRESS(MATCH($D1037, 'Patient Tracking'!$A:$A, 0), 1), \"View\")","v":{"$error":"#N/A"}}]
[{"$f":"HYPERLINK(\"#'Patient Tracking'!\" & ADDRESS(MATCH($D1038, 'Patient Tracking'!$A:$A, 0), 1), \"View\")","v":{"$error":"#N/A"}}]
[{"$f":"HYPERLINK(\"#'Patient Tracking'!\" & ADDRESS(MATCH($D1039, 'Patient Tracking'!$A:$A, 0), 1), \"View\")","v":{"$error":"#N/A"}}]
[{"$f":"HYPERLINK(\"#'Patient Tracking'!\" & ADDRESS(MATCH($D1040, 'Patient Tracking'!$A:$A, 0), 1), \"View\")","v":{"$error":"#N/A"}}]
[{"$f":"HYPERLINK(\"#'Patient Tracking'!\" & ADDRESS(MATCH($D1041, 'Patient Tracking'!$A:$A, 0), 1), \"View\")","v":{"$error":"#N/A"}}]
[{"$f":"HYPERLINK(\"#'Patient Tracking'!\" & ADDRESS(MATCH($D1042, 'Patient Tracking'!$A:$A, 0), 1), \"View\")","v":{"$error":"#N/A"}}]
[{"$f":"HYPERLINK(\"#'Patient Tracking'!\" & ADDRESS(MATCH($D1043, 'Patient Tracking'!$A:$A, 0), 1), \"View\")","v":{"$error":"#N/A"}}]
[{"$f":"HYPERLINK(\"#'Patient Tracking'!\" & ADDRESS(MATCH($D1044, 'Patient Tracking'!$A:$A, 0), 1), \"View\")","v":{"$error":"#N/A"}}]
[{"$f":"HYPERLINK(\"#'Patient Tracking'!\" & ADDRESS(MATCH($D1045, 'Patient Tracking'!$A:$A, 0), 1), \"View\")","v":{"$error":"#N/A"}}]
[{"$f":"HYPERLINK(\"#'Patient Tracking'!\" & ADDRESS(MATCH($D1046, 'Patient Tracking'!$A:$A, 0), 1), \"View\")","v":{"$error":"#N/A"}}]
[{"$f":"HYPERLINK(\"#'Patient Tracking'!\" & ADDRESS(MATCH($D1047, 'Patient Tracking'!$A:$A, 0), 1), \"View\")","v":{"$error":"#N/A"}}]
[{"$f":"HYPERLINK(\"#'Patient Tracking'!\" & ADDRESS(MATCH($D1048, 'Patient Tracking'!$A:$A, 0), 1), \"View\")","v":{"$error":"#N/A"}}]
[{"$f":"HYPERLINK(\"#'Patient Tracking'!\" & ADDRESS(MATCH($D1049, 'Patient Tracking'!$A:$A, 0), 1), \"View\")","v":{"$error":"#N/A"}}]
[{"$f":"HYPERLINK(\"#'Patient Tracking'!\" & ADDRESS(MATCH($D1050, 'Patient Tracking'!$A:$A, 0), 1), \"View\")","v":{"$error":"#N/A"}}]
[{"$f":"HYPERLINK(\"#'Patient Tracking'!\" & ADDRESS(MATCH($D1051, 'Patient Tracking'!$A:$A, 0), 1), \"View\")","v":{"$error":"#N/A"}}]
[{"$f":"HYPERLINK(\"#'Patient Tracking'!\" & ADDRESS(MATCH($D1052, 'Patient Tracking'!$A:$A, 0), 1), \"View\")","v":{"$error":"#N/A"}}]
[{"$f":"HYPERLINK(\"#'Patient Tracking'!\" & ADDRESS(MATCH($D1053, 'Patient Tracking'!$A:$A, 0), 1), \"View\")","v":{"$error":"#N/A"}}]
[{"$f":"HYPERLINK(\"#'Patient Tracking'!\" & ADDRESS(MATCH($D1054, 'Patient Tracking'!$A:$A, 0), 1), \"View\")","v":{"$error":"#N/A"}}]
[{"$f":"HYPERLINK(\"#'Patient Tracking'!\" & ADDRESS(MATCH($D1055, 'Patient Tracking'!$A:$A, 0), 1), \"View\")","v":{"$error":"#N/A"}}]
[{"$f":"HYPERLINK(\"#'Patient Tracking'!\" & ADDRESS(MATCH($D1056, 'Patient Tracking'!$A:$A, 0), 1), \"View\")","v":{"$error":"#N/A"}}]
[{"$f":"HYPERLINK(\"#'Patient Tracking'!\" & ADDRESS(MATCH($D1057, 'Patient Tracking'!$A:$A, 0), 1), \"View\")","v":{"$error":"#N/A"}}]
[{"$f":"HYPERLINK(\"#'Patient Tracking'!\" & ADDRESS(MATCH($D1058, 'Patient Tracking'!$A:$A, 0), 1), \"View\")","v":{"$error":"#N/A"}}]
[{"$f":"HYPERLINK(\"#'Patient Tracking'!\" & ADDRESS(MATCH($D1059, 'Patient Tracking'!$A:$A, 0), 1), \"View\")","v":{"$error":"#N/A"}}]
[{"$f":"HYPERLINK(\"#'Patient Tracking'!\" & ADDRESS(MATCH($D1060, 'Patient Tracking'!$A:$A, 0), 1), \"View\")","v":{"$error":"#N/A"}}]
[{"$f":"HYPERLINK(\"#'Patient Tracking'!\" & ADDRESS(MATCH($D1061, 'Patient Tracking'!$A:$A, 0), 1), \"View\")","v":{"$error":"#N/A"}}]
[{"$f":"HYPERLINK(\"#'Patient Tracking'!\" & ADDRESS(MATCH($D1062, 'Patient Tracking'!$A:$A, 0), 1), \"View\")","v":{"$error":"#N/A"}}]
[{"$f":"HYPERLINK(\"#'Patient Tracking'!\" & ADDRESS(MATCH($D1063, 'Patient Tracking'!$A:$A, 0), 1), \"View\")","v":{"$error":"#N/A"}}]
[{"$f":"HYPERLINK(\"#'Patient Tracking'!\" & ADDRESS(MATCH($D1064, 'Patient Tracking'!$A:$A, 0), 1), \"View\")","v":{"$error":"#N/A"}}]
[{"$f":"HYPERLINK(\"#'Patient Tracking'!\" & ADDRESS(MATCH($D1065, 'Patient Tracking'!$A:$A, 0), 1), \"View\")","v":{"$error":"#N/A"}}]
[{"$f":"HYPERLINK(\"#'Patient Tracking'!\" & ADDRESS(MATCH($D1066, 'Patient Tracking'!$A:$A, 0), 1), \"View\")","v":{"$error":"#N/A"}}]
[{"$f":"HYPERLINK(\"#'Patient Tracking'!\" & ADDRESS(MATCH($D1067, 'Patient Tracking'!$A:$A, 0), 1), \"View\")","v":{"$error":"#N/A"}}]
[{"$f":"HYPERLINK(\"#'Patient Tracking'!\" & ADDRESS(MATCH($D1068, 'Patient Tracking'!$A:$A, 0), 1), \"View\")","v":{"$error":"#N/A"}}]
[{"$f":"HYPERLINK(\"#'Patient Tracking'!\" & ADDRESS(MATCH($D1069, 'Patient Tracking'!$A:$A, 0), 1), \"View\")","v":{"$error":"#N/A"}}]
[{"$f":"HYPERLINK(\"#'Patient Tracking'!\" & ADDRESS(MATCH($D1070, 'Patient Tracking'!$A:$A, 0), 1), \"View\")","v":{"$error":"#N/A"}}]
[{"$f":"HYPERLINK(\"#'Patient Tracking'!\" & ADDRESS(MATCH($D1071, 'Patient Tracking'!$A:$A, 0), 1), \"View\")","v":{"$error":"#N/A"}}]
[{"$f":"HYPERLINK(\"#'Patient Tracking'!\" & ADDRESS(MATCH($D1072, 'Patient Tracking'!$A:$A, 0), 1), \"View\")","v":{"$error":"#N/A"}}]
[{"$f":"HYPERLINK(\"#'Patient Tracking'!\" & ADDRESS(MATCH($D1073, 'Patient Tracking'!$A:$A, 0), 1), \"View\")","v":{"$error":"#N/A"}}]
[{"$f":"HYPERLINK(\"#'Patient Tracking'!\" & ADDRESS(MATCH($D1074, 'Patient Tracking'!$A:$A, 0), 1), \"View\")","v":{"$error":"#N/A"}}]
[{"$f":"HYPERLINK(\"#'Patient Tracking'!\" & ADDRESS(MATCH($D1075, 'Patient Tracking'!$A:$A, 0), 1), \"View\")","v":{"$error":"#N/A"}}]
[{"$f":"HYPERLINK(\"#'Patient Tracking'!\" & ADDRESS(MATCH($D1076, 'Patient Tracking'!$A:$A, 0), 1), \"View\")","v":{"$error":"#N/A"}}]
[{"$f":"HYPERLINK(\"#'Patient Tracking'!\" & ADDRESS(MATCH($D1077, 'Patient Tracking'!$A:$A, 0), 1), \"View\")","v":{"$error":"#N/A"}}]
[{"$f":"HYPERLINK(\"#'Patient Tracking'!\" & ADDRESS(MATCH($D1078, 'Patient Tracking'!$A:$A, 0), 1), \"View\")","v":{"$error":"#N/A"}}]
[{"$f":"HYPERLINK(\"#'Patient Tracking'!\" & ADDRESS(MATCH($D1079, 'Patient Tracking'!$A:$A, 0), 1), \"View\")","v":{"$error":"#N/A"}}]
[{"$f":"HYPERLINK(\"#'Patient Tracking'!\" & ADDRESS(MATCH($D1080, 'Patient Tracking'!$A:$A, 0), 1), \"View\")","v":{"$error":"#N/A"}}]
[{"$f":"HYPERLINK(\"#'Patient Tracking'!\" & ADDRESS(MATCH($D1081, 'Patient Tracking'!$A:$A, 0), 1), \"View\")","v":{"$error":"#N/A"}}]
[{"$f":"HYPERLINK(\"#'Patient Tracking'!\" & ADDRESS(MATCH($D1082, 'Patient Tracking'!$A:$A, 0), 1), \"View\")","v":{"$error":"#N/A"}}]
[{"$f":"HYPERLINK(\"#'Patient Tracking'!\" & ADDRESS(MATCH($D1083, 'Patient Tracking'!$A:$A, 0), 1), \"View\")","v":{"$error":"#N/A"}}]
[{"$f":"HYPERLINK(\"#'Patient Tracking'!\" & ADDRESS(MATCH($D1084, 'Patient Tracking'!$A:$A, 0), 1), \"View\")","v":{"$error":"#N/A"}}]
[{"$f":"HYPERLINK(\"#'Patient Tracking'!\" & ADDRESS(MATCH($D1085, 'Patient Tracking'!$A:$A, 0), 1), \"View\")","v":{"$error":"#N/A"}}]
[{"$f":"HYPERLINK(\"#'Patient Tracking'!\" & ADDRESS(MATCH($D1086, 'Patient Tracking'!$A:$A, 0), 1), \"View\")","v":{"$error":"#N/A"}}]
[{"$f":"HYPERLINK(\"#'Patient Tracking'!\" & ADDRESS(MATCH($D1087, 'Patient Tracking'!$A:$A, 0), 1), \"View\")","v":{"$error":"#N/A"}}]
[{"$f":"HYPERLINK(\"#'Patient Tracking'!\" & ADDRESS(MATCH($D1088, 'Patient Tracking'!$A:$A, 0), 1), \"View\")","v":{"$error":"#N/A"}}]
[{"$f":"HYPERLINK(\"#'Patient Tracking'!\" & ADDRESS(MATCH($D1089, 'Patient Tracking'!$A:$A, 0), 1), \"View\")","v":{"$error":"#N/A"}}]
[{"$f":"HYPERLINK(\"#'Patient Tracking'!\" & ADDRESS(MATCH($D1090, 'Patient Tracking'!$A:$A, 0), 1), \"View\")","v":{"$error":"#N/A"}}]
[{"$f":"HYPERLINK(\"#'Patient Tracking'!\" & ADDRESS(MATCH($D1091, 'Patient Tracking'!$A:$A, 0), 1), \"View\")","v":{"$error":"#N/A"}}]
[{"$f":"HYPERLINK(\"#'Patient Tracking'!\" & ADDRESS(MATCH($D1092, 'Patient Tracking'!$A:$A, 0), 1), \"View\")","v":{"$error":"#N/A"}}]
[{"$f":"HYPERLINK(\"#'Patient Tracking'!\" & ADDRESS(MATCH($D1093, 'Patient Tracking'!$A:$A, 0), 1), \"View\")","v":{"$error":"#N/A"}}]
[{"$f":"HYPERLINK(\"#'Patient Tracking'!\" & ADDRESS(MATCH($D1094, 'Patient Tracking'!$A:$A, 0), 1), \"View\")","v":{"$error":"#N/A"}}]
[{"$f":"HYPERLINK(\"#'Patient Tracking'!\" & ADDRESS(MATCH($D1095, 'Patient Tracking'!$A:$A, 0), 1), \"View\")","v":{"$error":"#N/A"}}]
[{"$f":"HYPERLINK(\"#'Patient Tracking'!\" & ADDRESS(MATCH($D1096, 'Patient Tracking'!$A:$A, 0), 1), \"View\")","v":{"$error":"#N/A"}}]
[{"$f":"HYPERLINK(\"#'Patient Tracking'!\" & ADDRESS(MATCH($D1097, 'Patient Tracking'!$A:$A, 0), 1), \"View\")","v":{"$error":"#N/A"}}]
[{"$f":"HYPERLINK(\"#'Patient Tracking'!\" & ADDRESS(MATCH($D1098, 'Patient Tracking'!$A:$A, 0), 1), \"View\")","v":{"$error":"#N/A"}}]
[{"$f":"HYPERLINK(\"#'Patient Tracking'!\" & ADDRESS(MATCH($D1099, 'Patient Tracking'!$A:$A, 0), 1), \"View\")","v":{"$error":"#N/A"}}]
[{"$f":"HYPERLINK(\"#'Patient Tracking'!\" & ADDRESS(MATCH($D1100, 'Patient Tracking'!$A:$A, 0), 1), \"View\")","v":{"$error":"#N/A"}}]
[{"$f":"HYPERLINK(\"#'Patient Tracking'!\" & ADDRESS(MATCH($D1101, 'Patient Tracking'!$A:$A, 0), 1), \"View\")","v":{"$error":"#N/A"}}]
[{"$f":"HYPERLINK(\"#'Patient Tracking'!\" & ADDRESS(MATCH($D1102, 'Patient Tracking'!$A:$A, 0), 1), \"View\")","v":{"$error":"#N/A"}}]
[{"$f":"HYPERLINK(\"#'Patient Tracking'!\" & ADDRESS(MATCH($D1103, 'Patient Tracking'!$A:$A, 0), 1), \"View\")","v":{"$error":"#N/A"}}]
[{"$f":"HYPERLINK(\"#'Patient Tracking'!\" & ADDRESS(MATCH($D1104, 'Patient Tracking'!$A:$A, 0), 1), \"View\")","v":{"$error":"#N/A"}}]
[{"$f":"HYPERLINK(\"#'Patient Tracking'!\" & ADDRESS(MATCH($D1105, 'Patient Tracking'!$A:$A, 0), 1), \"View\")","v":{"$error":"#N/A"}}]
[{"$f":"HYPERLINK(\"#'Patient Tracking'!\" & ADDRESS(MATCH($D1106, 'Patient Tracking'!$A:$A, 0), 1), \"View\")","v":{"$error":"#N/A"}}]
[{"$f":"HYPERLINK(\"#'Patient Tracking'!\" & ADDRESS(MATCH($D1107, 'Patient Tracking'!$A:$A, 0), 1), \"View\")","v":{"$error":"#N/A"}}]
[{"$f":"HYPERLINK(\"#'Patient Tracking'!\" & ADDRESS(MATCH($D1108, 'Patient Tracking'!$A:$A, 0), 1), \"View\")","v":{"$error":"#N/A"}}]
[{"$f":"HYPERLINK(\"#'Patient Tracking'!\" & ADDRESS(MATCH($D1109, 'Patient Tracking'!$A:$A, 0), 1), \"View\")","v":{"$error":"#N/A"}}]
[{"$f":"HYPERLINK(\"#'Patient Tracking'!\" & ADDRESS(MATCH($D1110, 'Patient Tracking'!$A:$A, 0), 1), \"View\")","v":{"$error":"#N/A"}}]
[{"$f":"HYPERLINK(\"#'Patient Tracking'!\" & ADDRESS(MATCH($D1111, 'Patient Tracking'!$A:$A, 0), 1), \"View\")","v":{"$error":"#N/A"}}]
[{"$f":"HYPERLINK(\"#'Patient Tracking'!\" & ADDRESS(MATCH($D1112, 'Patient Tracking'!$A:$A, 0), 1), \"View\")","v":{"$error":"#N/A"}}]
[{"$f":"HYPERLINK(\"#'Patient Tracking'!\" & ADDRESS(MATCH($D1113, 'Patient Tracking'!$A:$A, 0), 1), \"View\")","v":{"$error":"#N/A"}}]
[{"$f":"HYPERLINK(\"#'Patient Tracking'!\" & ADDRESS(MATCH($D1114, 'Patient Tracking'!$A:$A, 0), 1), \"View\")","v":{"$error":"#N/A"}}]
[{"$f":"HYPERLINK(\"#'Patient Tracking'!\" & ADDRESS(MATCH($D1115, 'Patient Tracking'!$A:$A, 0), 1), \"View\")","v":{"$error":"#N/A"}}]
[{"$f":"HYPERLINK(\"#'Patient Tracking'!\" & ADDRESS(MATCH($D1116, 'Patient Tracking'!$A:$A, 0), 1), \"View\")","v":{"$error":"#N/A"}}]
[{"$f":"HYPERLINK(\"#'Patient Tracking'!\" & ADDRESS(MATCH($D1117, 'Patient Tracking'!$A:$A, 0), 1), \"View\")","v":{"$error":"#N/A"}}]
[{"$f":"HYPERLINK(\"#'Patient Tracking'!\" & ADDRESS(MATCH($D1118, 'Patient Tracking'!$A:$A, 0), 1), \"View\")","v":{"$error":"#N/A"}}]
[{"$f":"HYPERLINK(\"#'Patient Tracking'!\" & ADDRESS(MATCH($D1119, 'Patient Tracking'!$A:$A, 0), 1), \"View\")","v":{"$error":"#N/A"}}]
[{"$f":"HYPERLINK(\"#'Patient Tracking'!\" & ADDRESS(MATCH($D1120, 'Patient Tracking'!$A:$A, 0), 1), \"View\")","v":{"$error":"#N/A"}}]
[{"$f":"HYPERLINK(\"#'Patient Tracking'!\" & ADDRESS(MATCH($D1121, 'Patient Tracking'!$A:$A, 0), 1), \"View\")","v":{"$error":"#N/A"}}]
[{"$f":"HYPERLINK(\"#'Patient Tracking'!\" & ADDRESS(MATCH($D1122, 'Patient Tracking'!$A:$A, 0), 1), \"View\")","v":{"$error":"#N/A"}}]
[{"$f":"HYPERLINK(\"#'Patient Tracking'!\" & ADDRESS(MATCH($D1123, 'Patient Tracking'!$A:$A, 0), 1), \"View\")","v":{"$error":"#N/A"}}]
[{"$f":"HYPERLINK(\"#'Patient Tracking'!\" & ADDRESS(MATCH($D1124, 'Patient Tracking'!$A:$A, 0), 1), \"View\")","v":{"$error":"#N/A"}}]
[{"$f":"HYPERLINK(\"#'Patient Tracking'!\" & ADDRESS(MATCH($D1125, 'Patient Tracking'!$A:$A, 0), 1), \"View\")","v":{"$error":"#N/A"}}]
[{"$f":"HYPERLINK(\"#'Patient Tracking'!\" & ADDRESS(MATCH($D1126, 'Patient Tracking'!$A:$A, 0), 1), \"View\")","v":{"$error":"#N/A"}}]
[{"$f":"HYPERLINK(\"#'Patient Tracking'!\" & ADDRESS(MATCH($D1127, 'Patient Tracking'!$A:$A, 0), 1), \"View\")","v":{"$error":"#N/A"}}]
[{"$f":"HYPERLINK(\"#'Patient Tracking'!\" & ADDRESS(MATCH($D1128, 'Patient Tracking'!$A:$A, 0), 1), \"View\")","v":{"$error":"#N/A"}}]
[{"$f":"HYPERLINK(\"#'Patient Tracking'!\" & ADDRESS(MATCH($D1129, 'Patient Tracking'!$A:$A, 0), 1), \"View\")","v":{"$error":"#N/A"}}]
[{"$f":"HYPERLINK(\"#'Patient Tracking'!\" & ADDRESS(MATCH($D1130, 'Patient Tracking'!$A:$A, 0), 1), \"View\")","v":{"$error":"#N/A"}}]
[{"$f":"HYPERLINK(\"#'Patient Tracking'!\" & ADDRESS(MATCH($D1131, 'Patient Tracking'!$A:$A, 0), 1), \"View\")","v":{"$error":"#N/A"}}]
[{"$f":"HYPERLINK(\"#'Patient Tracking'!\" & ADDRESS(MATCH($D1132, 'Patient Tracking'!$A:$A, 0), 1), \"View\")","v":{"$error":"#N/A"}}]
[{"$f":"HYPERLINK(\"#'Patient Tracking'!\" & ADDRESS(MATCH($D1133, 'Patient Tracking'!$A:$A, 0), 1), \"View\")","v":{"$error":"#N/A"}}]
[{"$f":"HYPERLINK(\"#'Patient Tracking'!\" & ADDRESS(MATCH($D1134, 'Patient Tracking'!$A:$A, 0), 1), \"View\")","v":{"$error":"#N/A"}}]
[{"$f":"HYPERLINK(\"#'Patient Tracking'!\" & ADDRESS(MATCH($D1135, 'Patient Tracking'!$A:$A, 0), 1), \"View\")","v":{"$error":"#N/A"}}]
[{"$f":"HYPERLINK(\"#'Patient Tracking'!\" & ADDRESS(MATCH($D1136, 'Patient Tracking'!$A:$A, 0), 1), \"View\")","v":{"$error":"#N/A"}}]
[{"$f":"HYPERLINK(\"#'Patient Tracking'!\" & ADDRESS(MATCH($D1137, 'Patient Tracking'!$A:$A, 0), 1), \"View\")","v":{"$error":"#N/A"}}]
[{"$f":"HYPERLINK(\"#'Patient Tracking'!\" & ADDRESS(MATCH($D1138, 'Patient Tracking'!$A:$A, 0), 1), \"View\")","v":{"$error":"#N/A"}}]
[{"$f":"HYPERLINK(\"#'Patient Tracking'!\" & ADDRESS(MATCH($D1139, 'Patient Tracking'!$A:$A, 0), 1), \"View\")","v":{"$error":"#N/A"}}]
[{"$f":"HYPERLINK(\"#'Patient Tracking'!\" & ADDRESS(MATCH($D1140, 'Patient Tracking'!$A:$A, 0), 1), \"View\")","v":{"$error":"#N/A"}}]
[{"$f":"HYPERLINK(\"#'Patient Tracking'!\" & ADDRESS(MATCH($D1141, 'Patient Tracking'!$A:$A, 0), 1), \"View\")","v":{"$error":"#N/A"}}]
[{"$f":"HYPERLINK(\"#'Patient Tracking'!\" & ADDRESS(MATCH($D1142, 'Patient Tracking'!$A:$A, 0), 1), \"View\")","v":{"$error":"#N/A"}}]
[{"$f":"HYPERLINK(\"#'Patient Tracking'!\" & ADDRESS(MATCH($D1143, 'Patient Tracking'!$A:$A, 0), 1), \"View\")","v":{"$error":"#N/A"}}]
[{"$f":"HYPERLINK(\"#'Patient Tracking'!\" & ADDRESS(MATCH($D1144, 'Patient Tracking'!$A:$A, 0), 1), \"View\")","v":{"$error":"#N/A"}}]
[{"$f":"HYPERLINK(\"#'Patient Tracking'!\" & ADDRESS(MATCH($D1145, 'Patient Tracking'!$A:$A, 0), 1), \"View\")","v":{"$error":"#N/A"}}]
[{"$f":"HYPERLINK(\"#'Patient Tracking'!\" & ADDRESS(MATCH($D1146, 'Patient Tracking'!$A:$A, 0), 1), \"View\")","v":{"$error":"#N/A"}}]
[{"$f":"HYPERLINK(\"#'Patient Tracking'!\" & ADDRESS(MATCH($D1147, 'Patient Tracking'!$A:$A, 0), 1), \"View\")","v":{"$error":"#N/A"}}]
[{"$f":"HYPERLINK(\"#'Patient Tracking'!\" & ADDRESS(MATCH($D1148, 'Patient Tracking'!$A:$A, 0), 1), \"View\")","v":{"$error":"#N/A"}}]
[{"$f":"HYPERLINK(\"#'Patient Tracking'!\" & ADDRESS(MATCH($D1149, 'Patient Tracking'!$A:$A, 0), 1), \"View\")","v":{"$error":"#N/A"}}]
[{"$f":"HYPERLINK(\"#'Patient Tracking'!\" & ADDRESS(MATCH($D1150, 'Patient Tracking'!$A:$A, 0), 1), \"View\")","v":{"$error":"#N/A"}}]
[{"$f":"HYPERLINK(\"#'Patient Tracking'!\" & ADDRESS(MATCH($D1151, 'Patient Tracking'!$A:$A, 0), 1), \"View\")","v":{"$error":"#N/A"}}]
[{"$f":"HYPERLINK(\"#'Patient Tracking'!\" & ADDRESS(MATCH($D1152, 'Patient Tracking'!$A:$A, 0), 1), \"View\")","v":{"$error":"#N/A"}}]
[{"$f":"HYPERLINK(\"#'Patient Tracking'!\" & ADDRESS(MATCH($D1153, 'Patient Tracking'!$A:$A, 0), 1), \"View\")","v":{"$error":"#N/A"}}]
[{"$f":"HYPERLINK(\"#'Patient Tracking'!\" & ADDRESS(MATCH($D1154, 'Patient Tracking'!$A:$A, 0), 1), \"View\")","v":{"$error":"#N/A"}}]
[{"$f":"HYPERLINK(\"#'Patient Tracking'!\" & ADDRESS(MATCH($D1155, 'Patient Tracking'!$A:$A, 0), 1), \"View\")","v":{"$error":"#N/A"}}]
[{"$f":"HYPERLINK(\"#'Patient Tracking'!\" & ADDRESS(MATCH($D1156, 'Patient Tracking'!$A:$A, 0), 1), \"View\")","v":{"$error":"#N/A"}}]
[{"$f":"HYPERLINK(\"#'Patient Tracking'!\" & ADDRESS(MATCH($D1157, 'Patient Tracking'!$A:$A, 0), 1), \"View\")","v":{"$error":"#N/A"}}]
[{"$f":"HYPERLINK(\"#'Patient Tracking'!\" & ADDRESS(MATCH($D1158, 'Patient Tracking'!$A:$A, 0), 1), \"View\")","v":{"$error":"#N/A"}}]
[{"$f":"HYPERLINK(\"#'Patient Tracking'!\" & ADDRESS(MATCH($D1159, 'Patient Tracking'!$A:$A, 0), 1), \"View\")","v":{"$error":"#N/A"}}]
[{"$f":"HYPERLINK(\"#'Patient Tracking'!\" & ADDRESS(MATCH($D1160, 'Patient Tracking'!$A:$A, 0), 1), \"View\")","v":{"$error":"#N/A"}}]
[{"$f":"HYPERLINK(\"#'Patient Tracking'!\" & ADDRESS(MATCH($D1161, 'Patient Tracking'!$A:$A, 0), 1), \"View\")","v":{"$error":"#N/A"}}]
[{"$f":"HYPERLINK(\"#'Patient Tracking'!\" & ADDRESS(MATCH($D1162, 'Patient Tracking'!$A:$A, 0), 1), \"View\")","v":{"$error":"#N/A"}}]
[{"$f":"HYPERLINK(\"#'Patient Tracking'!\" & ADDRESS(MATCH($D1163, 'Patient Tracking'!$A:$A, 0), 1), \"View\")","v":{"$error":"#N/A"}}]
[{"$f":"HYPERLINK(\"#'Patient Tracking'!\" & ADDRESS(MATCH($D1164, 'Patient Tracking'!$A:$A, 0), 1), \"View\")","v":{"$error":"#N/A"}}]
[{"$f":"HYPERLINK(\"#'Patient Tracking'!\" & ADDRESS(MATCH($D1165, 'Patient Tracking'!$A:$A, 0), 1), \"View\")","v":{"$error":"#N/A"}}]
[{"$f":"HYPERLINK(\"#'Patient Tracking'!\" & ADDRESS(MATCH($D1166, 'Patient Tracking'!$A:$A, 0), 1), \"View\")","v":{"$error":"#N/A"}}]
[{"$f":"HYPERLINK(\"#'Patient Tracking'!\" & ADDRESS(MATCH($D1167, 'Patient Tracking'!$A:$A, 0), 1), \"View\")","v":{"$error":"#N/A"}}]
[{"$f":"HYPERLINK(\"#'Patient Tracking'!\" & ADDRESS(MATCH($D1168, 'Patient Tracking'!$A:$A, 0), 1), \"View\")","v":{"$error":"#N/A"}}]
[{"$f":"HYPERLINK(\"#'Patient Tracking'!\" & ADDRESS(MATCH($D1169, 'Patient Tracking'!$A:$A, 0), 1), \"View\")","v":{"$error":"#N/A"}}]
[{"$f":"HYPERLINK(\"#'Patient Tracking'!\" & ADDRESS(MATCH($D1170, 'Patient Tracking'!$A:$A, 0), 1), \"View\")","v":{"$error":"#N/A"}}]
[{"$f":"HYPERLINK(\"#'Patient Tracking'!\" & ADDRESS(MATCH($D1171, 'Patient Tracking'!$A:$A, 0), 1), \"View\")","v":{"$error":"#N/A"}}]
[{"$f":"HYPERLINK(\"#'Patient Tracking'!\" & ADDRESS(MATCH($D1172, 'Patient Tracking'!$A:$A, 0), 1), \"View\")","v":{"$error":"#N/A"}}]
[{"$f":"HYPERLINK(\"#'Patient Tracking'!\" & ADDRESS(MATCH($D1173, 'Patient Tracking'!$A:$A, 0), 1), \"View\")","v":{"$error":"#N/A"}}]
[{"$f":"HYPERLINK(\"#'Patient Tracking'!\" & ADDRESS(MATCH($D1174, 'Patient Tracking'!$A:$A, 0), 1), \"View\")","v":{"$error":"#N/A"}}]
[{"$f":"HYPERLINK(\"#'Patient Tracking'!\" & ADDRESS(MATCH($D1175, 'Patient Tracking'!$A:$A, 0), 1), \"View\")","v":{"$error":"#N/A"}}]
[{"$f":"HYPERLINK(\"#'Patient Tracking'!\" & ADDRESS(MATCH($D1176, 'Patient Tracking'!$A:$A, 0), 1), \"View\")","v":{"$error":"#N/A"}}]
[{"$f":"HYPERLINK(\"#'Patient Tracking'!\" & ADDRESS(MATCH($D1177, 'Patient Tracking'!$A:$A, 0), 1), \"View\")","v":{"$error":"#N/A"}}]
[{"$f":"HYPERLINK(\"#'Patient Tracking'!\" & ADDRESS(MATCH($D1178, 'Patient Tracking'!$A:$A, 0), 1), \"View\")","v":{"$error":"#N/A"}}]
[{"$f":"HYPERLINK(\"#'Patient Tracking'!\" & ADDRESS(MATCH($D1179, 'Patient Tracking'!$A:$A, 0), 1), \"View\")","v":{"$error":"#N/A"}}]
[{"$f":"HYPERLINK(\"#'Patient Tracking'!\" & ADDRESS(MATCH($D1180, 'Patient Tracking'!$A:$A, 0), 1), \"View\")","v":{"$error":"#N/A"}}]
[{"$f":"HYPERLINK(\"#'Patient Tracking'!\" & ADDRESS(MATCH($D1181, 'Patient Tracking'!$A:$A, 0), 1), \"View\")","v":{"$error":"#N/A"}}]
[{"$f":"HYPERLINK(\"#'Patient Tracking'!\" & ADDRESS(MATCH($D1182, 'Patient Tracking'!$A:$A, 0), 1), \"View\")","v":{"$error":"#N/A"}}]
[{"$f":"HYPERLINK(\"#'Patient Tracking'!\" & ADDRESS(MATCH($D1183, 'Patient Tracking'!$A:$A, 0), 1), \"View\")","v":{"$error":"#N/A"}}]
[{"$f":"HYPERLINK(\"#'Patient Tracking'!\" & ADDRESS(MATCH($D1184, 'Patient Tracking'!$A:$A, 0), 1), \"View\")","v":{"$error":"#N/A"}}]
[{"$f":"HYPERLINK(\"#'Patient Tracking'!\" & ADDRESS(MATCH($D1185, 'Patient Tracking'!$A:$A, 0), 1), \"View\")","v":{"$error":"#N/A"}}]
[{"$f":"HYPERLINK(\"#'Patient Tracking'!\" & ADDRESS(MATCH($D1186, 'Patient Tracking'!$A:$A, 0), 1), \"View\")","v":{"$error":"#N/A"}}]
[{"$f":"HYPERLINK(\"#'Patient Tracking'!\" & ADDRESS(MATCH($D1187, 'Patient Tracking'!$A:$A, 0), 1), \"View\")","v":{"$error":"#N/A"}}]
[{"$f":"HYPERLINK(\"#'Patient Tracking'!\" & ADDRESS(MATCH($D1188, 'Patient Tracking'!$A:$A, 0), 1), \"View\")","v":{"$error":"#N/A"}}]
[{"$f":"HYPERLINK(\"#'Patient Tracking'!\" & ADDRESS(MATCH($D1189, 'Patient Tracking'!$A:$A, 0), 1), \"View\")","v":{"$error":"#N/A"}}]
[{"$f":"HYPERLINK(\"#'Patient Tracking'!\" & ADDRESS(MATCH($D1190, 'Patient Tracking'!$A:$A, 0), 1), \"View\")","v":{"$error":"#N/A"}}]
[{"$f":"HYPERLINK(\"#'Patient Tracking'!\" & ADDRESS(MATCH($D1191, 'Patient Tracking'!$A:$A, 0), 1), \"View\")","v":{"$error":"#N/A"}}]
[{"$f":"HYPERLINK(\"#'Patient Tracking'!\" & ADDRESS(MATCH($D1192, 'Patient Tracking'!$A:$A, 0), 1), \"View\")","v":{"$error":"#N/A"}}]
[{"$f":"HYPERLINK(\"#'Patient Tracking'!\" & ADDRESS(MATCH($D1193, 'Patient Tracking'!$A:$A, 0), 1), \"View\")","v":{"$error":"#N/A"}}]
[{"$f":"HYPERLINK(\"#'Patient Tracking'!\" & ADDRESS(MATCH($D1194, 'Patient Tracking'!$A:$A, 0), 1), \"View\")","v":{"$error":"#N/A"}}]
[{"$f":"HYPERLINK(\"#'Patient Tracking'!\" & ADDRESS(MATCH($D1195, 'Patient Tracking'!$A:$A, 0), 1), \"View\")","v":{"$error":"#N/A"}}]
[{"$f":"HYPERLINK(\"#'Patient Tracking'!\" & ADDRESS(MATCH($D1196, 'Patient Tracking'!$A:$A, 0), 1), \"View\")","v":{"$error":"#N/A"}}]
[{"$f":"HYPERLINK(\"#'Patient Tracking'!\" & ADDRESS(MATCH($D1197, 'Patient Tracking'!$A:$A, 0), 1), \"View\")","v":{"$error":"#N/A"}}]
[{"$f":"HYPERLINK(\"#'Patient Tracking'!\" & ADDRESS(MATCH($D1198, 'Patient Tracking'!$A:$A, 0), 1), \"View\")","v":{"$error":"#N/A"}}]
[{"$f":"HYPERLINK(\"#'Patient Tracking'!\" & ADDRESS(MATCH($D1199, 'Patient Tracking'!$A:$A, 0), 1), \"View\")","v":{"$error":"#N/A"}}]
[{"$f":"HYPERLINK(\"#'Patient Tracking'!\" & ADDRESS(MATCH($D1200, 'Patient Tracking'!$A:$A, 0), 1), \"View\")","v":{"$error":"#N/A"}}]
[{"$f":"HYPERLINK(\"#'Patient Tracking'!\" & ADDRESS(MATCH($D1201, 'Patient Tracking'!$A:$A, 0), 1), \"View\")","v":{"$error":"#N/A"}}]
[{"$f":"HYPERLINK(\"#'Patient Tracking'!\" & ADDRESS(MATCH($D1202, 'Patient Tracking'!$A:$A, 0), 1), \"View\")","v":{"$error":"#N/A"}}]
[{"$f":"HYPERLINK(\"#'Patient Tracking'!\" & ADDRESS(MATCH($D1203, 'Patient Tracking'!$A:$A, 0), 1), \"View\")","v":{"$error":"#N/A"}}]
[{"$f":"HYPERLINK(\"#'Patient Tracking'!\" & ADDRESS(MATCH($D1204, 'Patient Tracking'!$A:$A, 0), 1), \"View\")","v":{"$error":"#N/A"}}]
[{"$f":"HYPERLINK(\"#'Patient Tracking'!\" & ADDRESS(MATCH($D1205, 'Patient Tracking'!$A:$A, 0), 1), \"View\")","v":{"$error":"#N/A"}}]
[{"$f":"HYPERLINK(\"#'Patient Tracking'!\" & ADDRESS(MATCH($D1206, 'Patient Tracking'!$A:$A, 0), 1), \"View\")","v":{"$error":"#N/A"}}]
[{"$f":"HYPERLINK(\"#'Patient Tracking'!\" & ADDRESS(MATCH($D1207, 'Patient Tracking'!$A:$A, 0), 1), \"View\")","v":{"$error":"#N/A"}}]
[{"$f":"HYPERLINK(\"#'Patient Tracking'!\" & ADDRESS(MATCH($D1208, 'Patient Tracking'!$A:$A, 0), 1), \"View\")","v":{"$error":"#N/A"}}]
[{"$f":"HYPERLINK(\"#'Patient Tracking'!\" & ADDRESS(MATCH($D1209, 'Patient Tracking'!$A:$A, 0), 1), \"View\")","v":{"$error":"#N/A"}}]
[{"$f":"HYPERLINK(\"#'Patient Tracking'!\" & ADDRESS(MATCH($D1210, 'Patient Tracking'!$A:$A, 0), 1), \"View\")","v":{"$error":"#N/A"}}]
[{"$f":"HYPERLINK(\"#'Patient Tracking'!\" & ADDRESS(MATCH($D1211, 'Patient Tracking'!$A:$A, 0), 1), \"View\")","v":{"$error":"#N/A"}}]
[{"$f":"HYPERLINK(\"#'Patient Tracking'!\" & ADDRESS(MATCH($D1212, 'Patient Tracking'!$A:$A, 0), 1), \"View\")","v":{"$error":"#N/A"}}]
[{"$f":"HYPERLINK(\"#'Patient Tracking'!\" & ADDRESS(MATCH($D1213, 'Patient Tracking'!$A:$A, 0), 1), \"View\")","v":{"$error":"#N/A"}}]
[{"$f":"HYPERLINK(\"#'Patient Tracking'!\" & ADDRESS(MATCH($D1214, 'Patient Tracking'!$A:$A, 0), 1), \"View\")","v":{"$error":"#N/A"}}]
[{"$f":"HYPERLINK(\"#'Patient Tracking'!\" & ADDRESS(MATCH($D1215, 'Patient Tracking'!$A:$A, 0), 1), \"View\")","v":{"$error":"#N/A"}}]
[{"$f":"HYPERLINK(\"#'Patient Tracking'!\" & ADDRESS(MATCH($D1216, 'Patient Tracking'!$A:$A, 0), 1), \"View\")","v":{"$error":"#N/A"}}]
[{"$f":"HYPERLINK(\"#'Patient Tracking'!\" & ADDRESS(MATCH($D1217, 'Patient Tracking'!$A:$A, 0), 1), \"View\")","v":{"$error":"#N/A"}}]
[{"$f":"HYPERLINK(\"#'Patient Tracking'!\" & ADDRESS(MATCH($D1218, 'Patient Tracking'!$A:$A, 0), 1), \"View\")","v":{"$error":"#N/A"}}]
[{"$f":"HYPERLINK(\"#'Patient Tracking'!\" & ADDRESS(MATCH($D1219, 'Patient Tracking'!$A:$A, 0), 1), \"View\")","v":{"$error":"#N/A"}}]
[{"$f":"HYPERLINK(\"#'Patient Tracking'!\" & ADDRESS(MATCH($D1220, 'Patient Tracking'!$A:$A, 0), 1), \"View\")","v":{"$error":"#N/A"}}]
[{"$f":"HYPERLINK(\"#'Patient Tracking'!\" & ADDRESS(MATCH($D1221, 'Patient Tracking'!$A:$A, 0), 1), \"View\")","v":{"$error":"#N/A"}}]
[{"$f":"HYPERLINK(\"#'Patient Tracking'!\" & ADDRESS(MATCH($D1222, 'Patient Tracking'!$A:$A, 0), 1), \"View\")","v":{"$error":"#N/A"}}]
[{"$f":"HYPERLINK(\"#'Patient Tracking'!\" & ADDRESS(MATCH($D1223, 'Patient Tracking'!$A:$A, 0), 1), \"View\")","v":{"$error":"#N/A"}}]
[{"$f":"HYPERLINK(\"#'Patient Tracking'!\" & ADDRESS(MATCH($D1224, 'Patient Tracking'!$A:$A, 0), 1), \"View\")","v":{"$error":"#N/A"}}]
[{"$f":"HYPERLINK(\"#'Patient Tracking'!\" & ADDRESS(MATCH($D1225, 'Patient Tracking'!$A:$A, 0), 1), \"View\")","v":{"$error":"#N/A"}}]
[{"$f":"HYPERLINK(\"#'Patient Tracking'!\" & ADDRESS(MATCH($D1226, 'Patient Tracking'!$A:$A, 0), 1), \"View\")","v":{"$error":"#N/A"}}]
[{"$f":"HYPERLINK(\"#'Patient Tracking'!\" & ADDRESS(MATCH($D1227, 'Patient Tracking'!$A:$A, 0), 1), \"View\")","v":{"$error":"#N/A"}}]
[{"$f":"HYPERLINK(\"#'Patient Tracking'!\" & ADDRESS(MATCH($D1228, 'Patient Tracking'!$A:$A, 0), 1), \"View\")","v":{"$error":"#N/A"}}]
[{"$f":"HYPERLINK(\"#'Patient Tracking'!\" & ADDRESS(MATCH($D1229, 'Patient Tracking'!$A:$A, 0), 1), \"View\")","v":{"$error":"#N/A"}}]
[{"$f":"HYPERLINK(\"#'Patient Tracking'!\" & ADDRESS(MATCH($D1230, 'Patient Tracking'!$A:$A, 0), 1), \"View\")","v":{"$error":"#N/A"}}]
[{"$f":"HYPERLINK(\"#'Patient Tracking'!\" & ADDRESS(MATCH($D1231, 'Patient Tracking'!$A:$A, 0), 1), \"View\")","v":{"$error":"#N/A"}}]
[{"$f":"HYPERLINK(\"#'Patient Tracking'!\" & ADDRESS(MATCH($D1232, 'Patient Tracking'!$A:$A, 0), 1), \"View\")","v":{"$error":"#N/A"}}]
[{"$f":"HYPERLINK(\"#'Patient Tracking'!\" & ADDRESS(MATCH($D1233, 'Patient Tracking'!$A:$A, 0), 1), \"View\")","v":{"$error":"#N/A"}}]
[{"$f":"HYPERLINK(\"#'Patient Tracking'!\" & ADDRESS(MATCH($D1234, 'Patient Tracking'!$A:$A, 0), 1), \"View\")","v":{"$error":"#N/A"}}]
[{"$f":"HYPERLINK(\"#'Patient Tracking'!\" & ADDRESS(MATCH($D1235, 'Patient Tracking'!$A:$A, 0), 1), \"View\")","v":{"$error":"#N/A"}}]
[{"$f":"HYPERLINK(\"#'Patient Tracking'!\" & ADDRESS(MATCH($D1236, 'Patient Tracking'!$A:$A, 0), 1), \"View\")","v":{"$error":"#N/A"}}]
[{"$f":"HYPERLINK(\"#'Patient Tracking'!\" & ADDRESS(MATCH($D1237, 'Patient Tracking'!$A:$A, 0), 1), \"View\")","v":{"$error":"#N/A"}}]
[{"$f":"HYPERLINK(\"#'Patient Tracking'!\" & ADDRESS(MATCH($D1238, 'Patient Tracking'!$A:$A, 0), 1), \"View\")","v":{"$error":"#N/A"}}]
[{"$f":"HYPERLINK(\"#'Patient Tracking'!\" & ADDRESS(MATCH($D1239, 'Patient Tracking'!$A:$A, 0), 1), \"View\")","v":{"$error":"#N/A"}}]
[{"$f":"HYPERLINK(\"#'Patient Tracking'!\" & ADDRESS(MATCH($D1240, 'Patient Tracking'!$A:$A, 0), 1), \"View\")","v":{"$error":"#N/A"}}]
[{"$f":"HYPERLINK(\"#'Patient Tracking'!\" & ADDRESS(MATCH($D1241, 'Patient Tracking'!$A:$A, 0), 1), \"View\")","v":{"$error":"#N/A"}}]
[{"$f":"HYPERLINK(\"#'Patient Tracking'!\" & ADDRESS(MATCH($D1242, 'Patient Tracking'!$A:$A, 0), 1), \"View\")","v":{"$error":"#N/A"}}]
[{"$f":"HYPERLINK(\"#'Patient Tracking'!\" & ADDRESS(MATCH($D1243, 'Patient Tracking'!$A:$A, 0), 1), \"View\")","v":{"$error":"#N/A"}}]
[{"$f":"HYPERLINK(\"#'Patient Tracking'!\" & ADDRESS(MATCH($D1244, 'Patient Tracking'!$A:$A, 0), 1), \"View\")","v":{"$error":"#N/A"}}]
[{"$f":"HYPERLINK(\"#'Patient Tracking'!\" & ADDRESS(MATCH($D1245, 'Patient Tracking'!$A:$A, 0), 1), \"View\")","v":{"$error":"#N/A"}}]
[{"$f":"HYPERLINK(\"#'Patient Tracking'!\" & ADDRESS(MATCH($D1246, 'Patient Tracking'!$A:$A, 0), 1), \"View\")","v":{"$error":"#N/A"}}]
[{"$f":"HYPERLINK(\"#'Patient Tracking'!\" & ADDRESS(MATCH($D1247, 'Patient Tracking'!$A:$A, 0), 1), \"View\")","v":{"$error":"#N/A"}}]
[{"$f":"HYPERLINK(\"#'Patient Tracking'!\" & ADDRESS(MATCH($D1248, 'Patient Tracking'!$A:$A, 0), 1), \"View\")","v":{"$error":"#N/A"}}]
[{"$f":"HYPERLINK(\"#'Patient Tracking'!\" & ADDRESS(MATCH($D1249, 'Patient Tracking'!$A:$A, 0), 1), \"View\")","v":{"$error":"#N/A"}}]
[{"$f":"HYPERLINK(\"#'Patient Tracking'!\" & ADDRESS(MATCH($D1250, 'Patient Tracking'!$A:$A, 0), 1), \"View\")","v":{"$error":"#N/A"}}]
[{"$f":"HYPERLINK(\"#'Patient Tracking'!\" & ADDRESS(MATCH($D1251, 'Patient Tracking'!$A:$A, 0), 1), \"View\")","v":{"$error":"#N/A"}}]
[{"$f":"HYPERLINK(\"#'Patient Tracking'!\" & ADDRESS(MATCH($D1252, 'Patient Tracking'!$A:$A, 0), 1), \"View\")","v":{"$error":"#N/A"}}]
[{"$f":"HYPERLINK(\"#'Patient Tracking'!\" & ADDRESS(MATCH($D1253, 'Patient Tracking'!$A:$A, 0), 1), \"View\")","v":{"$error":"#N/A"}}]
[{"$f":"HYPERLINK(\"#'Patient Tracking'!\" & ADDRESS(MATCH($D1254, 'Patient Tracking'!$A:$A, 0), 1), \"View\")","v":{"$error":"#N/A"}}]
[{"$f":"HYPERLINK(\"#'Patient Tracking'!\" & ADDRESS(MATCH($D1255, 'Patient Tracking'!$A:$A, 0), 1), \"View\")","v":{"$error":"#N/A"}}]
[{"$f":"HYPERLINK(\"#'Patient Tracking'!\" & ADDRESS(MATCH($D1256, 'Patient Tracking'!$A:$A, 0), 1), \"View\")","v":{"$error":"#N/A"}}]
[{"$f":"HYPERLINK(\"#'Patient Tracking'!\" & ADDRESS(MATCH($D1257, 'Patient Tracking'!$A:$A, 0), 1), \"View\")","v":{"$error":"#N/A"}}]
[{"$f":"HYPERLINK(\"#'Patient Tracking'!\" & ADDRESS(MATCH($D1258, 'Patient Tracking'!$A:$A, 0), 1), \"View\")","v":{"$error":"#N/A"}}]
[{"$f":"HYPERLINK(\"#'Patient Tracking'!\" & ADDRESS(MATCH($D1259, 'Patient Tracking'!$A:$A, 0), 1), \"View\")","v":{"$error":"#N/A"}}]
[{"$f":"HYPERLINK(\"#'Patient Tracking'!\" & ADDRESS(MATCH($D1260, 'Patient Tracking'!$A:$A, 0), 1), \"View\")","v":{"$error":"#N/A"}}]
[{"$f":"HYPERLINK(\"#'Patient Tracking'!\" & ADDRESS(MATCH($D1261, 'Patient Tracking'!$A:$A, 0), 1), \"View\")","v":{"$error":"#N/A"}}]
[{"$f":"HYPERLINK(\"#'Patient Tracking'!\" & ADDRESS(MATCH($D1262, 'Patient Tracking'!$A:$A, 0), 1), \"View\")","v":{"$error":"#N/A"}}]
[{"$f":"HYPERLINK(\"#'Patient Tracking'!\" & ADDRESS(MATCH($D1263, 'Patient Tracking'!$A:$A, 0), 1), \"View\")","v":{"$error":"#N/A"}}]
[{"$f":"HYPERLINK(\"#'Patient Tracking'!\" & ADDRESS(MATCH($D1264, 'Patient Tracking'!$A:$A, 0), 1), \"View\")","v":{"$error":"#N/A"}}]
[{"$f":"HYPERLINK(\"#'Patient Tracking'!\" & ADDRESS(MATCH($D1265, 'Patient Tracking'!$A:$A, 0), 1), \"View\")","v":{"$error":"#N/A"}}]
[{"$f":"HYPERLINK(\"#'Patient Tracking'!\" & ADDRESS(MATCH($D1266, 'Patient Tracking'!$A:$A, 0), 1), \"View\")","v":{"$error":"#N/A"}}]
[{"$f":"HYPERLINK(\"#'Patient Tracking'!\" & ADDRESS(MATCH($D1267, 'Patient Tracking'!$A:$A, 0), 1), \"View\")","v":{"$error":"#N/A"}}]
[{"$f":"HYPERLINK(\"#'Patient Tracking'!\" & ADDRESS(MATCH($D1268, 'Patient Tracking'!$A:$A, 0), 1), \"View\")","v":{"$error":"#N/A"}}]
[{"$f":"HYPERLINK(\"#'Patient Tracking'!\" & ADDRESS(MATCH($D1269, 'Patient Tracking'!$A:$A, 0), 1), \"View\")","v":{"$error":"#N/A"}}]
[{"$f":"HYPERLINK(\"#'Patient Tracking'!\" & ADDRESS(MATCH($D1270, 'Patient Tracking'!$A:$A, 0), 1), \"View\")","v":{"$error":"#N/A"}}]
[{"$f":"HYPERLINK(\"#'Patient Tracking'!\" & ADDRESS(MATCH($D1271, 'Patient Tracking'!$A:$A, 0), 1), \"View\")","v":{"$error":"#N/A"}}]
[{"$f":"HYPERLINK(\"#'Patient Tracking'!\" & ADDRESS(MATCH($D1272, 'Patient Tracking'!$A:$A, 0), 1), \"View\")","v":{"$error":"#N/A"}}]
[{"$f":"HYPERLINK(\"#'Patient Tracking'!\" & ADDRESS(MATCH($D1273, 'Patient Tracking'!$A:$A, 0), 1), \"View\")","v":{"$error":"#N/A"}}]
[{"$f":"HYPERLINK(\"#'Patient Tracking'!\" & ADDRESS(MATCH($D1274, 'Patient Tracking'!$A:$A, 0), 1), \"View\")","v":{"$error":"#N/A"}}]
[{"$f":"HYPERLINK(\"#'Patient Tracking'!\" & ADDRESS(MATCH($D1275, 'Patient Tracking'!$A:$A, 0), 1), \"View\")","v":{"$error":"#N/A"}}]
[{"$f":"HYPERLINK(\"#'Patient Tracking'!\" & ADDRESS(MATCH($D1276, 'Patient Tracking'!$A:$A, 0), 1), \"View\")","v":{"$error":"#N/A"}}]
[{"$f":"HYPERLINK(\"#'Patient Tracking'!\" & ADDRESS(MATCH($D1277, 'Patient Tracking'!$A:$A, 0), 1), \"View\")","v":{"$error":"#N/A"}}]
[{"$f":"HYPERLINK(\"#'Patient Tracking'!\" & ADDRESS(MATCH($D1278, 'Patient Tracking'!$A:$A, 0), 1), \"View\")","v":{"$error":"#N/A"}}]
[{"$f":"HYPERLINK(\"#'Patient Tracking'!\" & ADDRESS(MATCH($D1279, 'Patient Tracking'!$A:$A, 0), 1), \"View\")","v":{"$error":"#N/A"}}]
[{"$f":"HYPERLINK(\"#'Patient Tracking'!\" & ADDRESS(MATCH($D1280, 'Patient Tracking'!$A:$A, 0), 1), \"View\")","v":{"$error":"#N/A"}}]
[{"$f":"HYPERLINK(\"#'Patient Tracking'!\" & ADDRESS(MATCH($D1281, 'Patient Tracking'!$A:$A, 0), 1), \"View\")","v":{"$error":"#N/A"}}]
[{"$f":"HYPERLINK(\"#'Patient Tracking'!\" & ADDRESS(MATCH($D1282, 'Patient Tracking'!$A:$A, 0), 1), \"View\")","v":{"$error":"#N/A"}}]
[{"$f":"HYPERLINK(\"#'Patient Tracking'!\" & ADDRESS(MATCH($D1283, 'Patient Tracking'!$A:$A, 0), 1), \"View\")","v":{"$error":"#N/A"}}]
[{"$f":"HYPERLINK(\"#'Patient Tracking'!\" & ADDRESS(MATCH($D1284, 'Patient Tracking'!$A:$A, 0), 1), \"View\")","v":{"$error":"#N/A"}}]
[{"$f":"HYPERLINK(\"#'Patient Tracking'!\" & ADDRESS(MATCH($D1285, 'Patient Tracking'!$A:$A, 0), 1), \"View\")","v":{"$error":"#N/A"}}]
[{"$f":"HYPERLINK(\"#'Patient Tracking'!\" & ADDRESS(MATCH($D1286, 'Patient Tracking'!$A:$A, 0), 1), \"View\")","v":{"$error":"#N/A"}}]
[{"$f":"HYPERLINK(\"#'Patient Tracking'!\" & ADDRESS(MATCH($D1287, 'Patient Tracking'!$A:$A, 0), 1), \"View\")","v":{"$error":"#N/A"}}]
[{"$f":"HYPERLINK(\"#'Patient Tracking'!\" & ADDRESS(MATCH($D1288, 'Patient Tracking'!$A:$A, 0), 1), \"View\")","v":{"$error":"#N/A"}}]
[{"$f":"HYPERLINK(\"#'Patient Tracking'!\" & ADDRESS(MATCH($D1289, 'Patient Tracking'!$A:$A, 0), 1), \"View\")","v":{"$error":"#N/A"}}]
[{"$f":"HYPERLINK(\"#'Patient Tracking'!\" & ADDRESS(MATCH($D1290, 'Patient Tracking'!$A:$A, 0), 1), \"View\")","v":{"$error":"#N/A"}}]
[{"$f":"HYPERLINK(\"#'Patient Tracking'!\" & ADDRESS(MATCH($D1291, 'Patient Tracking'!$A:$A, 0), 1), \"View\")","v":{"$error":"#N/A"}}]
[{"$f":"HYPERLINK(\"#'Patient Tracking'!\" & ADDRESS(MATCH($D1292, 'Patient Tracking'!$A:$A, 0), 1), \"View\")","v":{"$error":"#N/A"}}]
[{"$f":"HYPERLINK(\"#'Patient Tracking'!\" & ADDRESS(MATCH($D1293, 'Patient Tracking'!$A:$A, 0), 1), \"View\")","v":{"$error":"#N/A"}}]
[{"$f":"HYPERLINK(\"#'Patient Tracking'!\" & ADDRESS(MATCH($D1294, 'Patient Tracking'!$A:$A, 0), 1), \"View\")","v":{"$error":"#N/A"}}]
[{"$f":"HYPERLINK(\"#'Patient Tracking'!\" & ADDRESS(MATCH($D1295, 'Patient Tracking'!$A:$A, 0), 1), \"View\")","v":{"$error":"#N/A"}}]
[{"$f":"HYPERLINK(\"#'Patient Tracking'!\" & ADDRESS(MATCH($D1296, 'Patient Tracking'!$A:$A, 0), 1), \"View\")","v":{"$error":"#N/A"}}]
[{"$f":"HYPERLINK(\"#'Patient Tracking'!\" & ADDRESS(MATCH($D1297, 'Patient Tracking'!$A:$A, 0), 1), \"View\")","v":{"$error":"#N/A"}}]
[{"$f":"HYPERLINK(\"#'Patient Tracking'!\" & ADDRESS(MATCH($D1298, 'Patient Tracking'!$A:$A, 0), 1), \"View\")","v":{"$error":"#N/A"}}]
[{"$f":"HYPERLINK(\"#'Patient Tracking'!\" & ADDRESS(MATCH($D1299, 'Patient Tracking'!$A:$A, 0), 1), \"View\")","v":{"$error":"#N/A"}}]
[{"$f":"HYPERLINK(\"#'Patient Tracking'!\" & ADDRESS(MATCH($D1300, 'Patient Tracking'!$A:$A, 0), 1), \"View\")","v":{"$error":"#N/A"}}]
[{"$f":"HYPERLINK(\"#'Patient Tracking'!\" & ADDRESS(MATCH($D1301, 'Patient Tracking'!$A:$A, 0), 1), \"View\")","v":{"$error":"#N/A"}}]
[{"$f":"HYPERLINK(\"#'Patient Tracking'!\" & ADDRESS(MATCH($D1302, 'Patient Tracking'!$A:$A, 0), 1), \"View\")","v":{"$error":"#N/A"}}]
[{"$f":"HYPERLINK(\"#'Patient Tracking'!\" & ADDRESS(MATCH($D1303, 'Patient Tracking'!$A:$A, 0), 1), \"View\")","v":{"$error":"#N/A"}}]
[{"$f":"HYPERLINK(\"#'Patient Tracking'!\" & ADDRESS(MATCH($D1304, 'Patient Tracking'!$A:$A, 0), 1), \"View\")","v":{"$error":"#N/A"}}]
[{"$f":"HYPERLINK(\"#'Patient Tracking'!\" & ADDRESS(MATCH($D1305, 'Patient Tracking'!$A:$A, 0), 1), \"View\")","v":{"$error":"#N/A"}}]
[{"$f":"HYPERLINK(\"#'Patient Tracking'!\" & ADDRESS(MATCH($D1306, 'Patient Tracking'!$A:$A, 0), 1), \"View\")","v":{"$error":"#N/A"}}]
[{"$f":"HYPERLINK(\"#'Patient Tracking'!\" & ADDRESS(MATCH($D1307, 'Patient Tracking'!$A:$A, 0), 1), \"View\")","v":{"$error":"#N/A"}}]
[{"$f":"HYPERLINK(\"#'Patient Tracking'!\" & ADDRESS(MATCH($D1308, 'Patient Tracking'!$A:$A, 0), 1), \"View\")","v":{"$error":"#N/A"}}]
[{"$f":"HYPERLINK(\"#'Patient Tracking'!\" & ADDRESS(MATCH($D1309, 'Patient Tracking'!$A:$A, 0), 1), \"View\")","v":{"$error":"#N/A"}}]
[{"$f":"HYPERLINK(\"#'Patient Tracking'!\" & ADDRESS(MATCH($D1310, 'Patient Tracking'!$A:$A, 0), 1), \"View\")","v":{"$error":"#N/A"}}]
[{"$f":"HYPERLINK(\"#'Patient Tracking'!\" & ADDRESS(MATCH($D1311, 'Patient Tracking'!$A:$A, 0), 1), \"View\")","v":{"$error":"#N/A"}}]
[{"$f":"HYPERLINK(\"#'Patient Tracking'!\" & ADDRESS(MATCH($D1312, 'Patient Tracking'!$A:$A, 0), 1), \"View\")","v":{"$error":"#N/A"}}]
[{"$f":"HYPERLINK(\"#'Patient Tracking'!\" & ADDRESS(MATCH($D1313, 'Patient Tracking'!$A:$A, 0), 1), \"View\")","v":{"$error":"#N/A"}}]
[{"$f":"HYPERLINK(\"#'Patient Tracking'!\" & ADDRESS(MATCH($D1314, 'Patient Tracking'!$A:$A, 0), 1), \"View\")","v":{"$error":"#N/A"}}]
[{"$f":"HYPERLINK(\"#'Patient Tracking'!\" & ADDRESS(MATCH($D1315, 'Patient Tracking'!$A:$A, 0), 1), \"View\")","v":{"$error":"#N/A"}}]
[{"$f":"HYPERLINK(\"#'Patient Tracking'!\" & ADDRESS(MATCH($D1316, 'Patient Tracking'!$A:$A, 0), 1), \"View\")","v":{"$error":"#N/A"}}]
[{"$f":"HYPERLINK(\"#'Patient Tracking'!\" & ADDRESS(MATCH($D1317, 'Patient Tracking'!$A:$A, 0), 1), \"View\")","v":{"$error":"#N/A"}}]
[{"$f":"HYPERLINK(\"#'Patient Tracking'!\" & ADDRESS(MATCH($D1318, 'Patient Tracking'!$A:$A, 0), 1), \"View\")","v":{"$error":"#N/A"}}]
[{"$f":"HYPERLINK(\"#'Patient Tracking'!\" & ADDRESS(MATCH($D1319, 'Patient Tracking'!$A:$A, 0), 1), \"View\")","v":{"$error":"#N/A"}}]
[{"$f":"HYPERLINK(\"#'Patient Tracking'!\" & ADDRESS(MATCH($D1320, 'Patient Tracking'!$A:$A, 0), 1), \"View\")","v":{"$error":"#N/A"}}]
[{"$f":"HYPERLINK(\"#'Patient Tracking'!\" & ADDRESS(MATCH($D1321, 'Patient Tracking'!$A:$A, 0), 1), \"View\")","v":{"$error":"#N/A"}}]
[{"$f":"HYPERLINK(\"#'Patient Tracking'!\" & ADDRESS(MATCH($D1322, 'Patient Tracking'!$A:$A, 0), 1), \"View\")","v":{"$error":"#N/A"}}]
[{"$f":"HYPERLINK(\"#'Patient Tracking'!\" & ADDRESS(MATCH($D1323, 'Patient Tracking'!$A:$A, 0), 1), \"View\")","v":{"$error":"#N/A"}}]
[{"$f":"HYPERLINK(\"#'Patient Tracking'!\" & ADDRESS(MATCH($D1324, 'Patient Tracking'!$A:$A, 0), 1), \"View\")","v":{"$error":"#N/A"}}]
[{"$f":"HYPERLINK(\"#'Patient Tracking'!\" & ADDRESS(MATCH($D1325, 'Patient Tracking'!$A:$A, 0), 1), \"View\")","v":{"$error":"#N/A"}}]
[{"$f":"HYPERLINK(\"#'Patient Tracking'!\" & ADDRESS(MATCH($D1326, 'Patient Tracking'!$A:$A, 0), 1), \"View\")","v":{"$error":"#N/A"}}]
[{"$f":"HYPERLINK(\"#'Patient Tracking'!\" & ADDRESS(MATCH($D1327, 'Patient Tracking'!$A:$A, 0), 1), \"View\")","v":{"$error":"#N/A"}}]
[{"$f":"HYPERLINK(\"#'Patient Tracking'!\" & ADDRESS(MATCH($D1328, 'Patient Tracking'!$A:$A, 0), 1), \"View\")","v":{"$error":"#N/A"}}]
[{"$f":"HYPERLINK(\"#'Patient Tracking'!\" & ADDRESS(MATCH($D1329, 'Patient Tracking'!$A:$A, 0), 1), \"View\")","v":{"$error":"#N/A"}}]
[{"$f":"HYPERLINK(\"#'Patient Tracking'!\" & ADDRESS(MATCH($D1330, 'Patient Tracking'!$A:$A, 0), 1), \"View\")","v":{"$error":"#N/A"}}]
[{"$f":"HYPERLINK(\"#'Patient Tracking'!\" & ADDRESS(MATCH($D1331, 'Patient Tracking'!$A:$A, 0), 1), \"View\")","v":{"$error":"#N/A"}}]
[{"$f":"HYPERLINK(\"#'Patient Tracking'!\" & ADDRESS(MATCH($D1332, 'Patient Tracking'!$A:$A, 0), 1), \"View\")","v":{"$error":"#N/A"}}]
[{"$f":"HYPERLINK(\"#'Patient Tracking'!\" & ADDRESS(MATCH($D1333, 'Patient Tracking'!$A:$A, 0), 1), \"View\")","v":{"$error":"#N/A"}}]
[{"$f":"HYPERLINK(\"#'Patient Tracking'!\" & ADDRESS(MATCH($D1334, 'Patient Tracking'!$A:$A, 0), 1), \"View\")","v":{"$error":"#N/A"}}]
[{"$f":"HYPERLINK(\"#'Patient Tracking'!\" & ADDRESS(MATCH($D1335, 'Patient Tracking'!$A:$A, 0), 1), \"View\")","v":{"$error":"#N/A"}}]
[{"$f":"HYPERLINK(\"#'Patient Tracking'!\" & ADDRESS(MATCH($D1336, 'Patient Tracking'!$A:$A, 0), 1), \"View\")","v":{"$error":"#N/A"}}]
[{"$f":"HYPERLINK(\"#'Patient Tracking'!\" & ADDRESS(MATCH($D1337, 'Patient Tracking'!$A:$A, 0), 1), \"View\")","v":{"$error":"#N/A"}}]
[{"$f":"HYPERLINK(\"#'Patient Tracking'!\" & ADDRESS(MATCH($D1338, 'Patient Tracking'!$A:$A, 0), 1), \"View\")","v":{"$error":"#N/A"}}]
[{"$f":"HYPERLINK(\"#'Patient Tracking'!\" & ADDRESS(MATCH($D1339, 'Patient Tracking'!$A:$A, 0), 1), \"View\")","v":{"$error":"#N/A"}}]
[{"$f":"HYPERLINK(\"#'Patient Tracking'!\" & ADDRESS(MATCH($D1340, 'Patient Tracking'!$A:$A, 0), 1), \"View\")","v":{"$error":"#N/A"}}]
[{"$f":"HYPERLINK(\"#'Patient Tracking'!\" & ADDRESS(MATCH($D1341, 'Patient Tracking'!$A:$A, 0), 1), \"View\")","v":{"$error":"#N/A"}}]
[{"$f":"HYPERLINK(\"#'Patient Tracking'!\" & ADDRESS(MATCH($D1342, 'Patient Tracking'!$A:$A, 0), 1), \"View\")","v":{"$error":"#N/A"}}]
[{"$f":"HYPERLINK(\"#'Patient Tracking'!\" & ADDRESS(MATCH($D1343, 'Patient Tracking'!$A:$A, 0), 1), \"View\")","v":{"$error":"#N/A"}}]
[{"$f":"HYPERLINK(\"#'Patient Tracking'!\" & ADDRESS(MATCH($D1344, 'Patient Tracking'!$A:$A, 0), 1), \"View\")","v":{"$error":"#N/A"}}]
[{"$f":"HYPERLINK(\"#'Patient Tracking'!\" & ADDRESS(MATCH($D1345, 'Patient Tracking'!$A:$A, 0), 1), \"View\")","v":{"$error":"#N/A"}}]
[{"$f":"HYPERLINK(\"#'Patient Tracking'!\" & ADDRESS(MATCH($D1346, 'Patient Tracking'!$A:$A, 0), 1), \"View\")","v":{"$error":"#N/A"}}]
[{"$f":"HYPERLINK(\"#'Patient Tracking'!\" & ADDRESS(MATCH($D1347, 'Patient Tracking'!$A:$A, 0), 1), \"View\")","v":{"$error":"#N/A"}}]
[{"$f":"HYPERLINK(\"#'Patient Tracking'!\" & ADDRESS(MATCH($D1348, 'Patient Tracking'!$A:$A, 0), 1), \"View\")","v":{"$error":"#N/A"}}]
[{"$f":"HYPERLINK(\"#'Patient Tracking'!\" & ADDRESS(MATCH($D1349, 'Patient Tracking'!$A:$A, 0), 1), \"View\")","v":{"$error":"#N/A"}}]
[{"$f":"HYPERLINK(\"#'Patient Tracking'!\" & ADDRESS(MATCH($D1350, 'Patient Tracking'!$A:$A, 0), 1), \"View\")","v":{"$error":"#N/A"}}]
[{"$f":"HYPERLINK(\"#'Patient Tracking'!\" & ADDRESS(MATCH($D1351, 'Patient Tracking'!$A:$A, 0), 1), \"View\")","v":{"$error":"#N/A"}}]
[{"$f":"HYPERLINK(\"#'Patient Tracking'!\" & ADDRESS(MATCH($D1352, 'Patient Tracking'!$A:$A, 0), 1), \"View\")","v":{"$error":"#N/A"}}]
[{"$f":"HYPERLINK(\"#'Patient Tracking'!\" & ADDRESS(MATCH($D1353, 'Patient Tracking'!$A:$A, 0), 1), \"View\")","v":{"$error":"#N/A"}}]
[{"$f":"HYPERLINK(\"#'Patient Tracking'!\" & ADDRESS(MATCH($D1354, 'Patient Tracking'!$A:$A, 0), 1), \"View\")","v":{"$error":"#N/A"}}]
[{"$f":"HYPERLINK(\"#'Patient Tracking'!\" & ADDRESS(MATCH($D1355, 'Patient Tracking'!$A:$A, 0), 1), \"View\")","v":{"$error":"#N/A"}}]
[{"$f":"HYPERLINK(\"#'Patient Tracking'!\" & ADDRESS(MATCH($D1356, 'Patient Tracking'!$A:$A, 0), 1), \"View\")","v":{"$error":"#N/A"}}]
[{"$f":"HYPERLINK(\"#'Patient Tracking'!\" & ADDRESS(MATCH($D1357, 'Patient Tracking'!$A:$A, 0), 1), \"View\")","v":{"$error":"#N/A"}}]
[{"$f":"HYPERLINK(\"#'Patient Tracking'!\" & ADDRESS(MATCH($D1358, 'Patient Tracking'!$A:$A, 0), 1), \"View\")","v":{"$error":"#N/A"}}]
[{"$f":"HYPERLINK(\"#'Patient Tracking'!\" & ADDRESS(MATCH($D1359, 'Patient Tracking'!$A:$A, 0), 1), \"View\")","v":{"$error":"#N/A"}}]
[{"$f":"HYPERLINK(\"#'Patient Tracking'!\" & ADDRESS(MATCH($D1360, 'Patient Tracking'!$A:$A, 0), 1), \"View\")","v":{"$error":"#N/A"}}]
[{"$f":"HYPERLINK(\"#'Patient Tracking'!\" & ADDRESS(MATCH($D1361, 'Patient Tracking'!$A:$A, 0), 1), \"View\")","v":{"$error":"#N/A"}}]
[{"$f":"HYPERLINK(\"#'Patient Tracking'!\" & ADDRESS(MATCH($D1362, 'Patient Tracking'!$A:$A, 0), 1), \"View\")","v":{"$error":"#N/A"}}]
[{"$f":"HYPERLINK(\"#'Patient Tracking'!\" & ADDRESS(MATCH($D1363, 'Patient Tracking'!$A:$A, 0), 1), \"View\")","v":{"$error":"#N/A"}}]
[{"$f":"HYPERLINK(\"#'Patient Tracking'!\" & ADDRESS(MATCH($D1364, 'Patient Tracking'!$A:$A, 0), 1), \"View\")","v":{"$error":"#N/A"}}]
[{"$f":"HYPERLINK(\"#'Patient Tracking'!\" & ADDRESS(MATCH($D1365, 'Patient Tracking'!$A:$A, 0), 1), \"View\")","v":{"$error":"#N/A"}}]
[{"$f":"HYPERLINK(\"#'Patient Tracking'!\" & ADDRESS(MATCH($D1366, 'Patient Tracking'!$A:$A, 0), 1), \"View\")","v":{"$error":"#N/A"}}]
[{"$f":"HYPERLINK(\"#'Patient Tracking'!\" & ADDRESS(MATCH($D1367, 'Patient Tracking'!$A:$A, 0), 1), \"View\")","v":{"$error":"#N/A"}}]
[{"$f":"HYPERLINK(\"#'Patient Tracking'!\" & ADDRESS(MATCH($D1368, 'Patient Tracking'!$A:$A, 0), 1), \"View\")","v":{"$error":"#N/A"}}]
[{"$f":"HYPERLINK(\"#'Patient Tracking'!\" & ADDRESS(MATCH($D1369, 'Patient Tracking'!$A:$A, 0), 1), \"View\")","v":{"$error":"#N/A"}}]
[{"$f":"HYPERLINK(\"#'Patient Tracking'!\" & ADDRESS(MATCH($D1370, 'Patient Tracking'!$A:$A, 0), 1), \"View\")","v":{"$error":"#N/A"}}]
[{"$f":"HYPERLINK(\"#'Patient Tracking'!\" & ADDRESS(MATCH($D1371, 'Patient Tracking'!$A:$A, 0), 1), \"View\")","v":{"$error":"#N/A"}}]
[{"$f":"HYPERLINK(\"#'Patient Tracking'!\" & ADDRESS(MATCH($D1372, 'Patient Tracking'!$A:$A, 0), 1), \"View\")","v":{"$error":"#N/A"}}]
[{"$f":"HYPERLINK(\"#'Patient Tracking'!\" & ADDRESS(MATCH($D1373, 'Patient Tracking'!$A:$A, 0), 1), \"View\")","v":{"$error":"#N/A"}}]
[{"$f":"HYPERLINK(\"#'Patient Tracking'!\" & ADDRESS(MATCH($D1374, 'Patient Tracking'!$A:$A, 0), 1), \"View\")","v":{"$error":"#N/A"}}]
[{"$f":"HYPERLINK(\"#'Patient Tracking'!\" & ADDRESS(MATCH($D1375, 'Patient Tracking'!$A:$A, 0), 1), \"View\")","v":{"$error":"#N/A"}}]
[{"$f":"HYPERLINK(\"#'Patient Tracking'!\" & ADDRESS(MATCH($D1376, 'Patient Tracking'!$A:$A, 0), 1), \"View\")","v":{"$error":"#N/A"}}]
[{"$f":"HYPERLINK(\"#'Patient Tracking'!\" & ADDRESS(MATCH($D1377, 'Patient Tracking'!$A:$A, 0), 1), \"View\")","v":{"$error":"#N/A"}}]
[{"$f":"HYPERLINK(\"#'Patient Tracking'!\" & ADDRESS(MATCH($D1378, 'Patient Tracking'!$A:$A, 0), 1), \"View\")","v":{"$error":"#N/A"}}]
[{"$f":"HYPERLINK(\"#'Patient Tracking'!\" & ADDRESS(MATCH($D1379, 'Patient Tracking'!$A:$A, 0), 1), \"View\")","v":{"$error":"#N/A"}}]
[{"$f":"HYPERLINK(\"#'Patient Tracking'!\" & ADDRESS(MATCH($D1380, 'Patient Tracking'!$A:$A, 0), 1), \"View\")","v":{"$error":"#N/A"}}]
[{"$f":"HYPERLINK(\"#'Patient Tracking'!\" & ADDRESS(MATCH($D1381, 'Patient Tracking'!$A:$A, 0), 1), \"View\")","v":{"$error":"#N/A"}}]
[{"$f":"HYPERLINK(\"#'Patient Tracking'!\" & ADDRESS(MATCH($D1382, 'Patient Tracking'!$A:$A, 0), 1), \"View\")","v":{"$error":"#N/A"}}]
[{"$f":"HYPERLINK(\"#'Patient Tracking'!\" & ADDRESS(MATCH($D1383, 'Patient Tracking'!$A:$A, 0), 1), \"View\")","v":{"$error":"#N/A"}}]
[{"$f":"HYPERLINK(\"#'Patient Tracking'!\" & ADDRESS(MATCH($D1384, 'Patient Tracking'!$A:$A, 0), 1), \"View\")","v":{"$error":"#N/A"}}]
[{"$f":"HYPERLINK(\"#'Patient Tracking'!\" & ADDRESS(MATCH($D1385, 'Patient Tracking'!$A:$A, 0), 1), \"View\")","v":{"$error":"#N/A"}}]
[{"$f":"HYPERLINK(\"#'Patient Tracking'!\" & ADDRESS(MATCH($D1386, 'Patient Tracking'!$A:$A, 0), 1), \"View\")","v":{"$error":"#N/A"}}]
[{"$f":"HYPERLINK(\"#'Patient Tracking'!\" & ADDRESS(MATCH($D1387, 'Patient Tracking'!$A:$A, 0), 1), \"View\")","v":{"$error":"#N/A"}}]
[{"$f":"HYPERLINK(\"#'Patient Tracking'!\" & ADDRESS(MATCH($D1388, 'Patient Tracking'!$A:$A, 0), 1), \"View\")","v":{"$error":"#N/A"}}]
[{"$f":"HYPERLINK(\"#'Patient Tracking'!\" & ADDRESS(MATCH($D1389, 'Patient Tracking'!$A:$A, 0), 1), \"View\")","v":{"$error":"#N/A"}}]
[{"$f":"HYPERLINK(\"#'Patient Tracking'!\" & ADDRESS(MATCH($D1390, 'Patient Tracking'!$A:$A, 0), 1), \"View\")","v":{"$error":"#N/A"}}]
[{"$f":"HYPERLINK(\"#'Patient Tracking'!\" & ADDRESS(MATCH($D1391, 'Patient Tracking'!$A:$A, 0), 1), \"View\")","v":{"$error":"#N/A"}}]
[{"$f":"HYPERLINK(\"#'Patient Tracking'!\" & ADDRESS(MATCH($D1392, 'Patient Tracking'!$A:$A, 0), 1), \"View\")","v":{"$error":"#N/A"}}]
[{"$f":"HYPERLINK(\"#'Patient Tracking'!\" & ADDRESS(MATCH($D1393, 'Patient Tracking'!$A:$A, 0), 1), \"View\")","v":{"$error":"#N/A"}}]
[{"$f":"HYPERLINK(\"#'Patient Tracking'!\" & ADDRESS(MATCH($D1394, 'Patient Tracking'!$A:$A, 0), 1), \"View\")","v":{"$error":"#N/A"}}]
[{"$f":"HYPERLINK(\"#'Patient Tracking'!\" & ADDRESS(MATCH($D1395, 'Patient Tracking'!$A:$A, 0), 1), \"View\")","v":{"$error":"#N/A"}}]
[{"$f":"HYPERLINK(\"#'Patient Tracking'!\" & ADDRESS(MATCH($D1396, 'Patient Tracking'!$A:$A, 0), 1), \"View\")","v":{"$error":"#N/A"}}]
[{"$f":"HYPERLINK(\"#'Patient Tracking'!\" & ADDRESS(MATCH($D1397, 'Patient Tracking'!$A:$A, 0), 1), \"View\")","v":{"$error":"#N/A"}}]
[{"$f":"HYPERLINK(\"#'Patient Tracking'!\" & ADDRESS(MATCH($D1398, 'Patient Tracking'!$A:$A, 0), 1), \"View\")","v":{"$error":"#N/A"}}]
[{"$f":"HYPERLINK(\"#'Patient Tracking'!\" & ADDRESS(MATCH($D1399, 'Patient Tracking'!$A:$A, 0), 1), \"View\")","v":{"$error":"#N/A"}}]
[{"$f":"HYPERLINK(\"#'Patient Tracking'!\" & ADDRESS(MATCH($D1400, 'Patient Tracking'!$A:$A, 0), 1), \"View\")","v":{"$error":"#N/A"}}]
[{"$f":"HYPERLINK(\"#'Patient Tracking'!\" & ADDRESS(MATCH($D1401, 'Patient Tracking'!$A:$A, 0), 1), \"View\")","v":{"$error":"#N/A"}}]
[{"$f":"HYPERLINK(\"#'Patient Tracking'!\" & ADDRESS(MATCH($D1402, 'Patient Tracking'!$A:$A, 0), 1), \"View\")","v":{"$error":"#N/A"}}]
[{"$f":"HYPERLINK(\"#'Patient Tracking'!\" & ADDRESS(MATCH($D1403, 'Patient Tracking'!$A:$A, 0), 1), \"View\")","v":{"$error":"#N/A"}}]
[{"$f":"HYPERLINK(\"#'Patient Tracking'!\" & ADDRESS(MATCH($D1404, 'Patient Tracking'!$A:$A, 0), 1), \"View\")","v":{"$error":"#N/A"}}]
[{"$f":"HYPERLINK(\"#'Patient Tracking'!\" & ADDRESS(MATCH($D1405, 'Patient Tracking'!$A:$A, 0), 1), \"View\")","v":{"$error":"#N/A"}}]
[{"$f":"HYPERLINK(\"#'Patient Tracking'!\" & ADDRESS(MATCH($D1406, 'Patient Tracking'!$A:$A, 0), 1), \"View\")","v":{"$error":"#N/A"}}]
[{"$f":"HYPERLINK(\"#'Patient Tracking'!\" & ADDRESS(MATCH($D1407, 'Patient Tracking'!$A:$A, 0), 1), \"View\")","v":{"$error":"#N/A"}}]
[{"$f":"HYPERLINK(\"#'Patient Tracking'!\" & ADDRESS(MATCH($D1408, 'Patient Tracking'!$A:$A, 0), 1), \"View\")","v":{"$error":"#N/A"}}]
[{"$f":"HYPERLINK(\"#'Patient Tracking'!\" & ADDRESS(MATCH($D1409, 'Patient Tracking'!$A:$A, 0), 1), \"View\")","v":{"$error":"#N/A"}}]
[{"$f":"HYPERLINK(\"#'Patient Tracking'!\" & ADDRESS(MATCH($D1410, 'Patient Tracking'!$A:$A, 0), 1), \"View\")","v":{"$error":"#N/A"}}]
[{"$f":"HYPERLINK(\"#'Patient Tracking'!\" & ADDRESS(MATCH($D1411, 'Patient Tracking'!$A:$A, 0), 1), \"View\")","v":{"$error":"#N/A"}}]
[{"$f":"HYPERLINK(\"#'Patient Tracking'!\" & ADDRESS(MATCH($D1412, 'Patient Tracking'!$A:$A, 0), 1), \"View\")","v":{"$error":"#N/A"}}]
[{"$f":"HYPERLINK(\"#'Patient Tracking'!\" & ADDRESS(MATCH($D1413, 'Patient Tracking'!$A:$A, 0), 1), \"View\")","v":{"$error":"#N/A"}}]
[{"$f":"HYPERLINK(\"#'Patient Tracking'!\" & ADDRESS(MATCH($D1414, 'Patient Tracking'!$A:$A, 0), 1), \"View\")","v":{"$error":"#N/A"}}]
[{"$f":"HYPERLINK(\"#'Patient Tracking'!\" & ADDRESS(MATCH($D1415, 'Patient Tracking'!$A:$A, 0), 1), \"View\")","v":{"$error":"#N/A"}}]
[{"$f":"HYPERLINK(\"#'Patient Tracking'!\" & ADDRESS(MATCH($D1416, 'Patient Tracking'!$A:$A, 0), 1), \"View\")","v":{"$error":"#N/A"}}]
[{"$f":"HYPERLINK(\"#'Patient Tracking'!\" & ADDRESS(MATCH($D1417, 'Patient Tracking'!$A:$A, 0), 1), \"View\")","v":{"$error":"#N/A"}}]
[{"$f":"HYPERLINK(\"#'Patient Tracking'!\" & ADDRESS(MATCH($D1418, 'Patient Tracking'!$A:$A, 0), 1), \"View\")","v":{"$error":"#N/A"}}]
[{"$f":"HYPERLINK(\"#'Patient Tracking'!\" & ADDRESS(MATCH($D1419, 'Patient Tracking'!$A:$A, 0), 1), \"View\")","v":{"$error":"#N/A"}}]
[{"$f":"HYPERLINK(\"#'Patient Tracking'!\" & ADDRESS(MATCH($D1420, 'Patient Tracking'!$A:$A, 0), 1), \"View\")","v":{"$error":"#N/A"}}]
[{"$f":"HYPERLINK(\"#'Patient Tracking'!\" & ADDRESS(MATCH($D1421, 'Patient Tracking'!$A:$A, 0), 1), \"View\")","v":{"$error":"#N/A"}}]
[{"$f":"HYPERLINK(\"#'Patient Tracking'!\" & ADDRESS(MATCH($D1422, 'Patient Tracking'!$A:$A, 0), 1), \"View\")","v":{"$error":"#N/A"}}]
[{"$f":"HYPERLINK(\"#'Patient Tracking'!\" & ADDRESS(MATCH($D1423, 'Patient Tracking'!$A:$A, 0), 1), \"View\")","v":{"$error":"#N/A"}}]
[{"$f":"HYPERLINK(\"#'Patient Tracking'!\" & ADDRESS(MATCH($D1424, 'Patient Tracking'!$A:$A, 0), 1), \"View\")","v":{"$error":"#N/A"}}]
[{"$f":"HYPERLINK(\"#'Patient Tracking'!\" & ADDRESS(MATCH($D1425, 'Patient Tracking'!$A:$A, 0), 1), \"View\")","v":{"$error":"#N/A"}}]
[{"$f":"HYPERLINK(\"#'Patient Tracking'!\" & ADDRESS(MATCH($D1426, 'Patient Tracking'!$A:$A, 0), 1), \"View\")","v":{"$error":"#N/A"}}]
[{"$f":"HYPERLINK(\"#'Patient Tracking'!\" & ADDRESS(MATCH($D1427, 'Patient Tracking'!$A:$A, 0), 1), \"View\")","v":{"$error":"#N/A"}}]
[{"$f":"HYPERLINK(\"#'Patient Tracking'!\" & ADDRESS(MATCH($D1428, 'Patient Tracking'!$A:$A, 0), 1), \"View\")","v":{"$error":"#N/A"}}]
[{"$f":"HYPERLINK(\"#'Patient Tracking'!\" & ADDRESS(MATCH($D1429, 'Patient Tracking'!$A:$A, 0), 1), \"View\")","v":{"$error":"#N/A"}}]
[{"$f":"HYPERLINK(\"#'Patient Tracking'!\" & ADDRESS(MATCH($D1430, 'Patient Tracking'!$A:$A, 0), 1), \"View\")","v":{"$error":"#N/A"}}]
[{"$f":"HYPERLINK(\"#'Patient Tracking'!\" & ADDRESS(MATCH($D1431, 'Patient Tracking'!$A:$A, 0), 1), \"View\")","v":{"$error":"#N/A"}}]
[{"$f":"HYPERLINK(\"#'Patient Tracking'!\" & ADDRESS(MATCH($D1432, 'Patient Tracking'!$A:$A, 0), 1), \"View\")","v":{"$error":"#N/A"}}]
[{"$f":"HYPERLINK(\"#'Patient Tracking'!\" & ADDRESS(MATCH($D1433, 'Patient Tracking'!$A:$A, 0), 1), \"View\")","v":{"$error":"#N/A"}}]
[{"$f":"HYPERLINK(\"#'Patient Tracking'!\" & ADDRESS(MATCH($D1434, 'Patient Tracking'!$A:$A, 0), 1), \"View\")","v":{"$error":"#N/A"}}]
[{"$f":"HYPERLINK(\"#'Patient Tracking'!\" & ADDRESS(MATCH($D1435, 'Patient Tracking'!$A:$A, 0), 1), \"View\")","v":{"$error":"#N/A"}}]
[{"$f":"HYPERLINK(\"#'Patient Tracking'!\" & ADDRESS(MATCH($D1436, 'Patient Tracking'!$A:$A, 0), 1), \"View\")","v":{"$error":"#N/A"}}]
[{"$f":"HYPERLINK(\"#'Patient Tracking'!\" & ADDRESS(MATCH($D1437, 'Patient Tracking'!$A:$A, 0), 1), \"View\")","v":{"$error":"#N/A"}}]
[{"$f":"HYPERLINK(\"#'Patient Tracking'!\" & ADDRESS(MATCH($D1438, 'Patient Tracking'!$A:$A, 0), 1), \"View\")","v":{"$error":"#N/A"}}]
[{"$f":"HYPERLINK(\"#'Patient Tracking'!\" & ADDRESS(MATCH($D1439, 'Patient Tracking'!$A:$A, 0), 1), \"View\")","v":{"$error":"#N/A"}}]
[{"$f":"HYPERLINK(\"#'Patient Tracking'!\" & ADDRESS(MATCH($D1440, 'Patient Tracking'!$A:$A, 0), 1), \"View\")","v":{"$error":"#N/A"}}]
[{"$f":"HYPERLINK(\"#'Patient Tracking'!\" & ADDRESS(MATCH($D1441, 'Patient Tracking'!$A:$A, 0), 1), \"View\")","v":{"$error":"#N/A"}}]
[{"$f":"HYPERLINK(\"#'Patient Tracking'!\" & ADDRESS(MATCH($D1442, 'Patient Tracking'!$A:$A, 0), 1), \"View\")","v":{"$error":"#N/A"}}]
[{"$f":"HYPERLINK(\"#'Patient Tracking'!\" & ADDRESS(MATCH($D1443, 'Patient Tracking'!$A:$A, 0), 1), \"View\")","v":{"$error":"#N/A"}}]
[{"$f":"HYPERLINK(\"#'Patient Tracking'!\" & ADDRESS(MATCH($D1444, 'Patient Tracking'!$A:$A, 0), 1), \"View\")","v":{"$error":"#N/A"}}]
[{"$f":"HYPERLINK(\"#'Patient Tracking'!\" & ADDRESS(MATCH($D1445, 'Patient Tracking'!$A:$A, 0), 1), \"View\")","v":{"$error":"#N/A"}}]
[{"$f":"HYPERLINK(\"#'Patient Tracking'!\" & ADDRESS(MATCH($D1446, 'Patient Tracking'!$A:$A, 0), 1), \"View\")","v":{"$error":"#N/A"}}]
[{"$f":"HYPERLINK(\"#'Patient Tracking'!\" & ADDRESS(MATCH($D1447, 'Patient Tracking'!$A:$A, 0), 1), \"View\")","v":{"$error":"#N/A"}}]
[{"$f":"HYPERLINK(\"#'Patient Tracking'!\" & ADDRESS(MATCH($D1448, 'Patient Tracking'!$A:$A, 0), 1), \"View\")","v":{"$error":"#N/A"}}]
[{"$f":"HYPERLINK(\"#'Patient Tracking'!\" & ADDRESS(MATCH($D1449, 'Patient Tracking'!$A:$A, 0), 1), \"View\")","v":{"$error":"#N/A"}}]
[{"$f":"HYPERLINK(\"#'Patient Tracking'!\" & ADDRESS(MATCH($D1450, 'Patient Tracking'!$A:$A, 0), 1), \"View\")","v":{"$error":"#N/A"}}]
[{"$f":"HYPERLINK(\"#'Patient Tracking'!\" & ADDRESS(MATCH($D1451, 'Patient Tracking'!$A:$A, 0), 1), \"View\")","v":{"$error":"#N/A"}}]
[{"$f":"HYPERLINK(\"#'Patient Tracking'!\" & ADDRESS(MATCH($D1452, 'Patient Tracking'!$A:$A, 0), 1), \"View\")","v":{"$error":"#N/A"}}]
[{"$f":"HYPERLINK(\"#'Patient Tracking'!\" & ADDRESS(MATCH($D1453, 'Patient Tracking'!$A:$A, 0), 1), \"View\")","v":{"$error":"#N/A"}}]
[{"$f":"HYPERLINK(\"#'Patient Tracking'!\" & ADDRESS(MATCH($D1454, 'Patient Tracking'!$A:$A, 0), 1), \"View\")","v":{"$error":"#N/A"}}]
[{"$f":"HYPERLINK(\"#'Patient Tracking'!\" & ADDRESS(MATCH($D1455, 'Patient Tracking'!$A:$A, 0), 1), \"View\")","v":{"$error":"#N/A"}}]
[{"$f":"HYPERLINK(\"#'Patient Tracking'!\" & ADDRESS(MATCH($D1456, 'Patient Tracking'!$A:$A, 0), 1), \"View\")","v":{"$error":"#N/A"}}]
[{"$f":"HYPERLINK(\"#'Patient Tracking'!\" & ADDRESS(MATCH($D1457, 'Patient Tracking'!$A:$A, 0), 1), \"View\")","v":{"$error":"#N/A"}}]
[{"$f":"HYPERLINK(\"#'Patient Tracking'!\" & ADDRESS(MATCH($D1458, 'Patient Tracking'!$A:$A, 0), 1), \"View\")","v":{"$error":"#N/A"}}]
[{"$f":"HYPERLINK(\"#'Patient Tracking'!\" & ADDRESS(MATCH($D1459, 'Patient Tracking'!$A:$A, 0), 1), \"View\")","v":{"$error":"#N/A"}}]
[{"$f":"HYPERLINK(\"#'Patient Tracking'!\" & ADDRESS(MATCH($D1460, 'Patient Tracking'!$A:$A, 0), 1), \"View\")","v":{"$error":"#N/A"}}]
[{"$f":"HYPERLINK(\"#'Patient Tracking'!\" & ADDRESS(MATCH($D1461, 'Patient Tracking'!$A:$A, 0), 1), \"View\")","v":{"$error":"#N/A"}}]
[{"$f":"HYPERLINK(\"#'Patient Tracking'!\" & ADDRESS(MATCH($D1462, 'Patient Tracking'!$A:$A, 0), 1), \"View\")","v":{"$error":"#N/A"}}]
[{"$f":"HYPERLINK(\"#'Patient Tracking'!\" & ADDRESS(MATCH($D1463, 'Patient Tracking'!$A:$A, 0), 1), \"View\")","v":{"$error":"#N/A"}}]
[{"$f":"HYPERLINK(\"#'Patient Tracking'!\" & ADDRESS(MATCH($D1464, 'Patient Tracking'!$A:$A, 0), 1), \"View\")","v":{"$error":"#N/A"}}]
[{"$f":"HYPERLINK(\"#'Patient Tracking'!\" & ADDRESS(MATCH($D1465, 'Patient Tracking'!$A:$A, 0), 1), \"View\")","v":{"$error":"#N/A"}}]
[{"$f":"HYPERLINK(\"#'Patient Tracking'!\" & ADDRESS(MATCH($D1466, 'Patient Tracking'!$A:$A, 0), 1), \"View\")","v":{"$error":"#N/A"}}]
[{"$f":"HYPERLINK(\"#'Patient Tracking'!\" & ADDRESS(MATCH($D1467, 'Patient Tracking'!$A:$A, 0), 1), \"View\")","v":{"$error":"#N/A"}}]
[{"$f":"HYPERLINK(\"#'Patient Tracking'!\" & ADDRESS(MATCH($D1468, 'Patient Tracking'!$A:$A, 0), 1), \"View\")","v":{"$error":"#N/A"}}]
[{"$f":"HYPERLINK(\"#'Patient Tracking'!\" & ADDRESS(MATCH($D1469, 'Patient Tracking'!$A:$A, 0), 1), \"View\")","v":{"$error":"#N/A"}}]
[{"$f":"HYPERLINK(\"#'Patient Tracking'!\" & ADDRESS(MATCH($D1470, 'Patient Tracking'!$A:$A, 0), 1), \"View\")","v":{"$error":"#N/A"}}]
[{"$f":"HYPERLINK(\"#'Patient Tracking'!\" & ADDRESS(MATCH($D1471, 'Patient Tracking'!$A:$A, 0), 1), \"View\")","v":{"$error":"#N/A"}}]
[{"$f":"HYPERLINK(\"#'Patient Tracking'!\" & ADDRESS(MATCH($D1472, 'Patient Tracking'!$A:$A, 0), 1), \"View\")","v":{"$error":"#N/A"}}]
[{"$f":"HYPERLINK(\"#'Patient Tracking'!\" & ADDRESS(MATCH($D1473, 'Patient Tracking'!$A:$A, 0), 1), \"View\")","v":{"$error":"#N/A"}}]
[{"$f":"HYPERLINK(\"#'Patient Tracking'!\" & ADDRESS(MATCH($D1474, 'Patient Tracking'!$A:$A, 0), 1), \"View\")","v":{"$error":"#N/A"}}]
[{"$f":"HYPERLINK(\"#'Patient Tracking'!\" & ADDRESS(MATCH($D1475, 'Patient Tracking'!$A:$A, 0), 1), \"View\")","v":{"$error":"#N/A"}}]
[{"$f":"HYPERLINK(\"#'Patient Tracking'!\" & ADDRESS(MATCH($D1476, 'Patient Tracking'!$A:$A, 0), 1), \"View\")","v":{"$error":"#N/A"}}]
[{"$f":"HYPERLINK(\"#'Patient Tracking'!\" & ADDRESS(MATCH($D1477, 'Patient Tracking'!$A:$A, 0), 1), \"View\")","v":{"$error":"#N/A"}}]
[{"$f":"HYPERLINK(\"#'Patient Tracking'!\" & ADDRESS(MATCH($D1478, 'Patient Tracking'!$A:$A, 0), 1), \"View\")","v":{"$error":"#N/A"}}]
[{"$f":"HYPERLINK(\"#'Patient Tracking'!\" & ADDRESS(MATCH($D1479, 'Patient Tracking'!$A:$A, 0), 1), \"View\")","v":{"$error":"#N/A"}}]
[{"$f":"HYPERLINK(\"#'Patient Tracking'!\" & ADDRESS(MATCH($D1480, 'Patient Tracking'!$A:$A, 0), 1), \"View\")","v":{"$error":"#N/A"}}]
[{"$f":"HYPERLINK(\"#'Patient Tracking'!\" & ADDRESS(MATCH($D1481, 'Patient Tracking'!$A:$A, 0), 1), \"View\")","v":{"$error":"#N/A"}}]
[{"$f":"HYPERLINK(\"#'Patient Tracking'!\" & ADDRESS(MATCH($D1482, 'Patient Tracking'!$A:$A, 0), 1), \"View\")","v":{"$error":"#N/A"}}]
[{"$f":"HYPERLINK(\"#'Patient Tracking'!\" & ADDRESS(MATCH($D1483, 'Patient Tracking'!$A:$A, 0), 1), \"View\")","v":{"$error":"#N/A"}}]
[{"$f":"HYPERLINK(\"#'Patient Tracking'!\" & ADDRESS(MATCH($D1484, 'Patient Tracking'!$A:$A, 0), 1), \"View\")","v":{"$error":"#N/A"}}]
[{"$f":"HYPERLINK(\"#'Patient Tracking'!\" & ADDRESS(MATCH($D1485, 'Patient Tracking'!$A:$A, 0), 1), \"View\")","v":{"$error":"#N/A"}}]
[{"$f":"HYPERLINK(\"#'Patient Tracking'!\" & ADDRESS(MATCH($D1486, 'Patient Tracking'!$A:$A, 0), 1), \"View\")","v":{"$error":"#N/A"}}]
[{"$f":"HYPERLINK(\"#'Patient Tracking'!\" & ADDRESS(MATCH($D1487, 'Patient Tracking'!$A:$A, 0), 1), \"View\")","v":{"$error":"#N/A"}}]
[{"$f":"HYPERLINK(\"#'Patient Tracking'!\" & ADDRESS(MATCH($D1488, 'Patient Tracking'!$A:$A, 0), 1), \"View\")","v":{"$error":"#N/A"}}]
[{"$f":"HYPERLINK(\"#'Patient Tracking'!\" & ADDRESS(MATCH($D1489, 'Patient Tracking'!$A:$A, 0), 1), \"View\")","v":{"$error":"#N/A"}}]
[{"$f":"HYPERLINK(\"#'Patient Tracking'!\" & ADDRESS(MATCH($D1490, 'Patient Tracking'!$A:$A, 0), 1), \"View\")","v":{"$error":"#N/A"}}]
[{"$f":"HYPERLINK(\"#'Patient Tracking'!\" & ADDRESS(MATCH($D1491, 'Patient Tracking'!$A:$A, 0), 1), \"View\")","v":{"$error":"#N/A"}}]
[{"$f":"HYPERLINK(\"#'Patient Tracking'!\" & ADDRESS(MATCH($D1492, 'Patient Tracking'!$A:$A, 0), 1), \"View\")","v":{"$error":"#N/A"}}]
[{"$f":"HYPERLINK(\"#'Patient Tracking'!\" & ADDRESS(MATCH($D1493, 'Patient Tracking'!$A:$A, 0), 1), \"View\")","v":{"$error":"#N/A"}}]
[{"$f":"HYPERLINK(\"#'Patient Tracking'!\" & ADDRESS(MATCH($D1494, 'Patient Tracking'!$A:$A, 0), 1), \"View\")","v":{"$error":"#N/A"}}]
[{"$f":"HYPERLINK(\"#'Patient Tracking'!\" & ADDRESS(MATCH($D1495, 'Patient Tracking'!$A:$A, 0), 1), \"View\")","v":{"$error":"#N/A"}}]
[{"$f":"HYPERLINK(\"#'Patient Tracking'!\" & ADDRESS(MATCH($D1496, 'Patient Tracking'!$A:$A, 0), 1), \"View\")","v":{"$error":"#N/A"}}]
[{"$f":"HYPERLINK(\"#'Patient Tracking'!\" & ADDRESS(MATCH($D1497, 'Patient Tracking'!$A:$A, 0), 1), \"View\")","v":{"$error":"#N/A"}}]
[{"$f":"HYPERLINK(\"#'Patient Tracking'!\" & ADDRESS(MATCH($D1498, 'Patient Tracking'!$A:$A, 0), 1), \"View\")","v":{"$error":"#N/A"}}]
[{"$f":"HYPERLINK(\"#'Patient Tracking'!\" & ADDRESS(MATCH($D1499, 'Patient Tracking'!$A:$A, 0), 1), \"View\")","v":{"$error":"#N/A"}}]
[{"$f":"HYPERLINK(\"#'Patient Tracking'!\" & ADDRESS(MATCH($D1500, 'Patient Tracking'!$A:$A, 0), 1), \"View\")","v":{"$error":"#N/A"}}]
[{"$f":"HYPERLINK(\"#'Patient Tracking'!\" & ADDRESS(MATCH($D1501, 'Patient Tracking'!$A:$A, 0), 1), \"View\")","v":{"$error":"#N/A"}}]
[{"$f":"HYPERLINK(\"#'Patient Tracking'!\" & ADDRESS(MATCH($D1502, 'Patient Tracking'!$A:$A, 0), 1), \"View\")","v":{"$error":"#N/A"}}]
[{"$f":"HYPERLINK(\"#'Patient Tracking'!\" & ADDRESS(MATCH($D1503, 'Patient Tracking'!$A:$A, 0), 1), \"View\")","v":{"$error":"#N/A"}}]
[{"$f":"HYPERLINK(\"#'Patient Tracking'!\" & ADDRESS(MATCH($D1504, 'Patient Tracking'!$A:$A, 0), 1), \"View\")","v":{"$error":"#N/A"}}]
[{"$f":"HYPERLINK(\"#'Patient Tracking'!\" & ADDRESS(MATCH($D1505, 'Patient Tracking'!$A:$A, 0), 1), \"View\")","v":{"$error":"#N/A"}}]
[{"$f":"HYPERLINK(\"#'Patient Tracking'!\" & ADDRESS(MATCH($D1506, 'Patient Tracking'!$A:$A, 0), 1), \"View\")","v":{"$error":"#N/A"}}]
[{"$f":"HYPERLINK(\"#'Patient Tracking'!\" & ADDRESS(MATCH($D1507, 'Patient Tracking'!$A:$A, 0), 1), \"View\")","v":{"$error":"#N/A"}}]
[{"$f":"HYPERLINK(\"#'Patient Tracking'!\" & ADDRESS(MATCH($D1508, 'Patient Tracking'!$A:$A, 0), 1), \"View\")","v":{"$error":"#N/A"}}]
[{"$f":"HYPERLINK(\"#'Patient Tracking'!\" & ADDRESS(MATCH($D1509, 'Patient Tracking'!$A:$A, 0), 1), \"View\")","v":{"$error":"#N/A"}}]
[{"$f":"HYPERLINK(\"#'Patient Tracking'!\" & ADDRESS(MATCH($D1510, 'Patient Tracking'!$A:$A, 0), 1), \"View\")","v":{"$error":"#N/A"}}]
[{"$f":"HYPERLINK(\"#'Patient Tracking'!\" & ADDRESS(MATCH($D1511, 'Patient Tracking'!$A:$A, 0), 1), \"View\")","v":{"$error":"#N/A"}}]
[{"$f":"HYPERLINK(\"#'Patient Tracking'!\" & ADDRESS(MATCH($D1512, 'Patient Tracking'!$A:$A, 0), 1), \"View\")","v":{"$error":"#N/A"}}]
[{"$f":"HYPERLINK(\"#'Patient Tracking'!\" & ADDRESS(MATCH($D1513, 'Patient Tracking'!$A:$A, 0), 1), \"View\")","v":{"$error":"#N/A"}}]
[{"$f":"HYPERLINK(\"#'Patient Tracking'!\" & ADDRESS(MATCH($D1514, 'Patient Tracking'!$A:$A, 0), 1), \"View\")","v":{"$error":"#N/A"}}]
[{"$f":"HYPERLINK(\"#'Patient Tracking'!\" & ADDRESS(MATCH($D1515, 'Patient Tracking'!$A:$A, 0), 1), \"View\")","v":{"$error":"#N/A"}}]
[{"$f":"HYPERLINK(\"#'Patient Tracking'!\" & ADDRESS(MATCH($D1516, 'Patient Tracking'!$A:$A, 0), 1), \"View\")","v":{"$error":"#N/A"}}]
[{"$f":"HYPERLINK(\"#'Patient Tracking'!\" & ADDRESS(MATCH($D1517, 'Patient Tracking'!$A:$A, 0), 1), \"View\")","v":{"$error":"#N/A"}}]
[{"$f":"HYPERLINK(\"#'Patient Tracking'!\" & ADDRESS(MATCH($D1518, 'Patient Tracking'!$A:$A, 0), 1), \"View\")","v":{"$error":"#N/A"}}]
[{"$f":"HYPERLINK(\"#'Patient Tracking'!\" & ADDRESS(MATCH($D1519, 'Patient Tracking'!$A:$A, 0), 1), \"View\")","v":{"$error":"#N/A"}}]
[{"$f":"HYPERLINK(\"#'Patient Tracking'!\" & ADDRESS(MATCH($D1520, 'Patient Tracking'!$A:$A, 0), 1), \"View\")","v":{"$error":"#N/A"}}]
[{"$f":"HYPERLINK(\"#'Patient Tracking'!\" & ADDRESS(MATCH($D1521, 'Patient Tracking'!$A:$A, 0), 1), \"View\")","v":{"$error":"#N/A"}}]
[{"$f":"HYPERLINK(\"#'Patient Tracking'!\" & ADDRESS(MATCH($D1522, 'Patient Tracking'!$A:$A, 0), 1), \"View\")","v":{"$error":"#N/A"}}]
[{"$f":"HYPERLINK(\"#'Patient Tracking'!\" & ADDRESS(MATCH($D1523, 'Patient Tracking'!$A:$A, 0), 1), \"View\")","v":{"$error":"#N/A"}}]
[{"$f":"HYPERLINK(\"#'Patient Tracking'!\" & ADDRESS(MATCH($D1524, 'Patient Tracking'!$A:$A, 0), 1), \"View\")","v":{"$error":"#N/A"}}]
[{"$f":"HYPERLINK(\"#'Patient Tracking'!\" & ADDRESS(MATCH($D1525, 'Patient Tracking'!$A:$A, 0), 1), \"View\")","v":{"$error":"#N/A"}}]
[{"$f":"HYPERLINK(\"#'Patient Tracking'!\" & ADDRESS(MATCH($D1526, 'Patient Tracking'!$A:$A, 0), 1), \"View\")","v":{"$error":"#N/A"}}]
[{"$f":"HYPERLINK(\"#'Patient Tracking'!\" & ADDRESS(MATCH($D1527, 'Patient Tracking'!$A:$A, 0), 1), \"View\")","v":{"$error":"#N/A"}}]
[{"$f":"HYPERLINK(\"#'Patient Tracking'!\" & ADDRESS(MATCH($D1528, 'Patient Tracking'!$A:$A, 0), 1), \"View\")","v":{"$error":"#N/A"}}]
[{"$f":"HYPERLINK(\"#'Patient Tracking'!\" & ADDRESS(MATCH($D1529, 'Patient Tracking'!$A:$A, 0), 1), \"View\")","v":{"$error":"#N/A"}}]
[{"$f":"HYPERLINK(\"#'Patient Tracking'!\" & ADDRESS(MATCH($D1530, 'Patient Tracking'!$A:$A, 0), 1), \"View\")","v":{"$error":"#N/A"}}]
[{"$f":"HYPERLINK(\"#'Patient Tracking'!\" & ADDRESS(MATCH($D1531, 'Patient Tracking'!$A:$A, 0), 1), \"View\")","v":{"$error":"#N/A"}}]
[{"$f":"HYPERLINK(\"#'Patient Tracking'!\" & ADDRESS(MATCH($D1532, 'Patient Tracking'!$A:$A, 0), 1), \"View\")","v":{"$error":"#N/A"}}]
[{"$f":"HYPERLINK(\"#'Patient Tracking'!\" & ADDRESS(MATCH($D1533, 'Patient Tracking'!$A:$A, 0), 1), \"View\")","v":{"$error":"#N/A"}}]
[{"$f":"HYPERLINK(\"#'Patient Tracking'!\" & ADDRESS(MATCH($D1534, 'Patient Tracking'!$A:$A, 0), 1), \"View\")","v":{"$error":"#N/A"}}]
[{"$f":"HYPERLINK(\"#'Patient Tracking'!\" & ADDRESS(MATCH($D1535, 'Patient Tracking'!$A:$A, 0), 1), \"View\")","v":{"$error":"#N/A"}}]
[{"$f":"HYPERLINK(\"#'Patient Tracking'!\" & ADDRESS(MATCH($D1536, 'Patient Tracking'!$A:$A, 0), 1), \"View\")","v":{"$error":"#N/A"}}]
[{"$f":"HYPERLINK(\"#'Patient Tracking'!\" & ADDRESS(MATCH($D1537, 'Patient Tracking'!$A:$A, 0), 1), \"View\")","v":{"$error":"#N/A"}}]
[{"$f":"HYPERLINK(\"#'Patient Tracking'!\" & ADDRESS(MATCH($D1538, 'Patient Tracking'!$A:$A, 0), 1), \"View\")","v":{"$error":"#N/A"}}]
[{"$f":"HYPERLINK(\"#'Patient Tracking'!\" & ADDRESS(MATCH($D1539, 'Patient Tracking'!$A:$A, 0), 1), \"View\")","v":{"$error":"#N/A"}}]
[{"$f":"HYPERLINK(\"#'Patient Tracking'!\" & ADDRESS(MATCH($D1540, 'Patient Tracking'!$A:$A, 0), 1), \"View\")","v":{"$error":"#N/A"}}]
[{"$f":"HYPERLINK(\"#'Patient Tracking'!\" & ADDRESS(MATCH($D1541, 'Patient Tracking'!$A:$A, 0), 1), \"View\")","v":{"$error":"#N/A"}}]
[{"$f":"HYPERLINK(\"#'Patient Tracking'!\" & ADDRESS(MATCH($D1542, 'Patient Tracking'!$A:$A, 0), 1), \"View\")","v":{"$error":"#N/A"}}]
[{"$f":"HYPERLINK(\"#'Patient Tracking'!\" & ADDRESS(MATCH($D1543, 'Patient Tracking'!$A:$A, 0), 1), \"View\")","v":{"$error":"#N/A"}}]
[{"$f":"HYPERLINK(\"#'Patient Tracking'!\" & ADDRESS(MATCH($D1544, 'Patient Tracking'!$A:$A, 0), 1), \"View\")","v":{"$error":"#N/A"}}]
[{"$f":"HYPERLINK(\"#'Patient Tracking'!\" & ADDRESS(MATCH($D1545, 'Patient Tracking'!$A:$A, 0), 1), \"View\")","v":{"$error":"#N/A"}}]
[{"$f":"HYPERLINK(\"#'Patient Tracking'!\" & ADDRESS(MATCH($D1546, 'Patient Tracking'!$A:$A, 0), 1), \"View\")","v":{"$error":"#N/A"}}]
[{"$f":"HYPERLINK(\"#'Patient Tracking'!\" & ADDRESS(MATCH($D1547, 'Patient Tracking'!$A:$A, 0), 1), \"View\")","v":{"$error":"#N/A"}}]
[{"$f":"HYPERLINK(\"#'Patient Tracking'!\" & ADDRESS(MATCH($D1548, 'Patient Tracking'!$A:$A, 0), 1), \"View\")","v":{"$error":"#N/A"}}]
[{"$f":"HYPERLINK(\"#'Patient Tracking'!\" & ADDRESS(MATCH($D1549, 'Patient Tracking'!$A:$A, 0), 1), \"View\")","v":{"$error":"#N/A"}}]
[{"$f":"HYPERLINK(\"#'Patient Tracking'!\" & ADDRESS(MATCH($D1550, 'Patient Tracking'!$A:$A, 0), 1), \"View\")","v":{"$error":"#N/A"}}]
[{"$f":"HYPERLINK(\"#'Patient Tracking'!\" & ADDRESS(MATCH($D1551, 'Patient Tracking'!$A:$A, 0), 1), \"View\")","v":{"$error":"#N/A"}}]
[{"$f":"HYPERLINK(\"#'Patient Tracking'!\" & ADDRESS(MATCH($D1552, 'Patient Tracking'!$A:$A, 0), 1), \"View\")","v":{"$error":"#N/A"}}]
[{"$f":"HYPERLINK(\"#'Patient Tracking'!\" & ADDRESS(MATCH($D1553, 'Patient Tracking'!$A:$A, 0), 1), \"View\")","v":{"$error":"#N/A"}}]
[{"$f":"HYPERLINK(\"#'Patient Tracking'!\" & ADDRESS(MATCH($D1554, 'Patient Tracking'!$A:$A, 0), 1), \"View\")","v":{"$error":"#N/A"}}]
[{"$f":"HYPERLINK(\"#'Patient Tracking'!\" & ADDRESS(MATCH($D1555, 'Patient Tracking'!$A:$A, 0), 1), \"View\")","v":{"$error":"#N/A"}}]
[{"$f":"HYPERLINK(\"#'Patient Tracking'!\" & ADDRESS(MATCH($D1556, 'Patient Tracking'!$A:$A, 0), 1), \"View\")","v":{"$error":"#N/A"}}]
[{"$f":"HYPERLINK(\"#'Patient Tracking'!\" & ADDRESS(MATCH($D1557, 'Patient Tracking'!$A:$A, 0), 1), \"View\")","v":{"$error":"#N/A"}}]
[{"$f":"HYPERLINK(\"#'Patient Tracking'!\" & ADDRESS(MATCH($D1558, 'Patient Tracking'!$A:$A, 0), 1), \"View\")","v":{"$error":"#N/A"}}]
[{"$f":"HYPERLINK(\"#'Patient Tracking'!\" & ADDRESS(MATCH($D1559, 'Patient Tracking'!$A:$A, 0), 1), \"View\")","v":{"$error":"#N/A"}}]
[{"$f":"HYPERLINK(\"#'Patient Tracking'!\" & ADDRESS(MATCH($D1560, 'Patient Tracking'!$A:$A, 0), 1), \"View\")","v":{"$error":"#N/A"}}]
[{"$f":"HYPERLINK(\"#'Patient Tracking'!\" & ADDRESS(MATCH($D1561, 'Patient Tracking'!$A:$A, 0), 1), \"View\")","v":{"$error":"#N/A"}}]
[{"$f":"HYPERLINK(\"#'Patient Tracking'!\" & ADDRESS(MATCH($D1562, 'Patient Tracking'!$A:$A, 0), 1), \"View\")","v":{"$error":"#N/A"}}]
[{"$f":"HYPERLINK(\"#'Patient Tracking'!\" & ADDRESS(MATCH($D1563, 'Patient Tracking'!$A:$A, 0), 1), \"View\")","v":{"$error":"#N/A"}}]
[{"$f":"HYPERLINK(\"#'Patient Tracking'!\" & ADDRESS(MATCH($D1564, 'Patient Tracking'!$A:$A, 0), 1), \"View\")","v":{"$error":"#N/A"}}]
[{"$f":"HYPERLINK(\"#'Patient Tracking'!\" & ADDRESS(MATCH($D1565, 'Patient Tracking'!$A:$A, 0), 1), \"View\")","v":{"$error":"#N/A"}}]
[{"$f":"HYPERLINK(\"#'Patient Tracking'!\" & ADDRESS(MATCH($D1566, 'Patient Tracking'!$A:$A, 0), 1), \"View\")","v":{"$error":"#N/A"}}]
[{"$f":"HYPERLINK(\"#'Patient Tracking'!\" & ADDRESS(MATCH($D1567, 'Patient Tracking'!$A:$A, 0), 1), \"View\")","v":{"$error":"#N/A"}}]
[{"$f":"HYPERLINK(\"#'Patient Tracking'!\" & ADDRESS(MATCH($D1568, 'Patient Tracking'!$A:$A, 0), 1), \"View\")","v":{"$error":"#N/A"}}]
[{"$f":"HYPERLINK(\"#'Patient Tracking'!\" & ADDRESS(MATCH($D1569, 'Patient Tracking'!$A:$A, 0), 1), \"View\")","v":{"$error":"#N/A"}}]
[{"$f":"HYPERLINK(\"#'Patient Tracking'!\" & ADDRESS(MATCH($D1570, 'Patient Tracking'!$A:$A, 0), 1), \"View\")","v":{"$error":"#N/A"}}]
[{"$f":"HYPERLINK(\"#'Patient Tracking'!\" & ADDRESS(MATCH($D1571, 'Patient Tracking'!$A:$A, 0), 1), \"View\")","v":{"$error":"#N/A"}}]
[{"$f":"HYPERLINK(\"#'Patient Tracking'!\" & ADDRESS(MATCH($D1572, 'Patient Tracking'!$A:$A, 0), 1), \"View\")","v":{"$error":"#N/A"}}]
[{"$f":"HYPERLINK(\"#'Patient Tracking'!\" & ADDRESS(MATCH($D1573, 'Patient Tracking'!$A:$A, 0), 1), \"View\")","v":{"$error":"#N/A"}}]
[{"$f":"HYPERLINK(\"#'Patient Tracking'!\" & ADDRESS(MATCH($D1574, 'Patient Tracking'!$A:$A, 0), 1), \"View\")","v":{"$error":"#N/A"}}]
[{"$f":"HYPERLINK(\"#'Patient Tracking'!\" & ADDRESS(MATCH($D1575, 'Patient Tracking'!$A:$A, 0), 1), \"View\")","v":{"$error":"#N/A"}}]
[{"$f":"HYPERLINK(\"#'Patient Tracking'!\" & ADDRESS(MATCH($D1576, 'Patient Tracking'!$A:$A, 0), 1), \"View\")","v":{"$error":"#N/A"}}]
[{"$f":"HYPERLINK(\"#'Patient Tracking'!\" & ADDRESS(MATCH($D1577, 'Patient Tracking'!$A:$A, 0), 1), \"View\")","v":{"$error":"#N/A"}}]
[{"$f":"HYPERLINK(\"#'Patient Tracking'!\" & ADDRESS(MATCH($D1578, 'Patient Tracking'!$A:$A, 0), 1), \"View\")","v":{"$error":"#N/A"}}]
[{"$f":"HYPERLINK(\"#'Patient Tracking'!\" & ADDRESS(MATCH($D1579, 'Patient Tracking'!$A:$A, 0), 1), \"View\")","v":{"$error":"#N/A"}}]
[{"$f":"HYPERLINK(\"#'Patient Tracking'!\" & ADDRESS(MATCH($D1580, 'Patient Tracking'!$A:$A, 0), 1), \"View\")","v":{"$error":"#N/A"}}]
[{"$f":"HYPERLINK(\"#'Patient Tracking'!\" & ADDRESS(MATCH($D1581, 'Patient Tracking'!$A:$A, 0), 1), \"View\")","v":{"$error":"#N/A"}}]
[{"$f":"HYPERLINK(\"#'Patient Tracking'!\" & ADDRESS(MATCH($D1582, 'Patient Tracking'!$A:$A, 0), 1), \"View\")","v":{"$error":"#N/A"}}]
[{"$f":"HYPERLINK(\"#'Patient Tracking'!\" & ADDRESS(MATCH($D1583, 'Patient Tracking'!$A:$A, 0), 1), \"View\")","v":{"$error":"#N/A"}}]
[{"$f":"HYPERLINK(\"#'Patient Tracking'!\" & ADDRESS(MATCH($D1584, 'Patient Tracking'!$A:$A, 0), 1), \"View\")","v":{"$error":"#N/A"}}]
[{"$f":"HYPERLINK(\"#'Patient Tracking'!\" & ADDRESS(MATCH($D1585, 'Patient Tracking'!$A:$A, 0), 1), \"View\")","v":{"$error":"#N/A"}}]
[{"$f":"HYPERLINK(\"#'Patient Tracking'!\" & ADDRESS(MATCH($D1586, 'Patient Tracking'!$A:$A, 0), 1), \"View\")","v":{"$error":"#N/A"}}]
[{"$f":"HYPERLINK(\"#'Patient Tracking'!\" & ADDRESS(MATCH($D1587, 'Patient Tracking'!$A:$A, 0), 1), \"View\")","v":{"$error":"#N/A"}}]
[{"$f":"HYPERLINK(\"#'Patient Tracking'!\" & ADDRESS(MATCH($D1588, 'Patient Tracking'!$A:$A, 0), 1), \"View\")","v":{"$error":"#N/A"}}]
[{"$f":"HYPERLINK(\"#'Patient Tracking'!\" & ADDRESS(MATCH($D1589, 'Patient Tracking'!$A:$A, 0), 1), \"View\")","v":{"$error":"#N/A"}}]
[{"$f":"HYPERLINK(\"#'Patient Tracking'!\" & ADDRESS(MATCH($D1590, 'Patient Tracking'!$A:$A, 0), 1), \"View\")","v":{"$error":"#N/A"}}]
[{"$f":"HYPERLINK(\"#'Patient Tracking'!\" & ADDRESS(MATCH($D1591, 'Patient Tracking'!$A:$A, 0), 1), \"View\")","v":{"$error":"#N/A"}}]
[{"$f":"HYPERLINK(\"#'Patient Tracking'!\" & ADDRESS(MATCH($D1592, 'Patient Tracking'!$A:$A, 0), 1), \"View\")","v":{"$error":"#N/A"}}]
[{"$f":"HYPERLINK(\"#'Patient Tracking'!\" & ADDRESS(MATCH($D1593, 'Patient Tracking'!$A:$A, 0), 1), \"View\")","v":{"$error":"#N/A"}}]
[{"$f":"HYPERLINK(\"#'Patient Tracking'!\" & ADDRESS(MATCH($D1594, 'Patient Tracking'!$A:$A, 0), 1), \"View\")","v":{"$error":"#N/A"}}]
[{"$f":"HYPERLINK(\"#'Patient Tracking'!\" & ADDRESS(MATCH($D1595, 'Patient Tracking'!$A:$A, 0), 1), \"View\")","v":{"$error":"#N/A"}}]
[{"$f":"HYPERLINK(\"#'Patient Tracking'!\" & ADDRESS(MATCH($D1596, 'Patient Tracking'!$A:$A, 0), 1), \"View\")","v":{"$error":"#N/A"}}]
[{"$f":"HYPERLINK(\"#'Patient Tracking'!\" & ADDRESS(MATCH($D1597, 'Patient Tracking'!$A:$A, 0), 1), \"View\")","v":{"$error":"#N/A"}}]
[{"$f":"HYPERLINK(\"#'Patient Tracking'!\" & ADDRESS(MATCH($D1598, 'Patient Tracking'!$A:$A, 0), 1), \"View\")","v":{"$error":"#N/A"}}]
[{"$f":"HYPERLINK(\"#'Patient Tracking'!\" & ADDRESS(MATCH($D1599, 'Patient Tracking'!$A:$A, 0), 1), \"View\")","v":{"$error":"#N/A"}}]
[{"$f":"HYPERLINK(\"#'Patient Tracking'!\" & ADDRESS(MATCH($D1600, 'Patient Tracking'!$A:$A, 0), 1), \"View\")","v":{"$error":"#N/A"}}]
[{"$f":"HYPERLINK(\"#'Patient Tracking'!\" & ADDRESS(MATCH($D1601, 'Patient Tracking'!$A:$A, 0), 1), \"View\")","v":{"$error":"#N/A"}}]
[{"$f":"HYPERLINK(\"#'Patient Tracking'!\" & ADDRESS(MATCH($D1602, 'Patient Tracking'!$A:$A, 0), 1), \"View\")","v":{"$error":"#N/A"}}]

{"sheet":"Data Validation Lists","index":5,"n_rows":3,"n_cols":2,"rows_kept":3,"cut":false,"hidden":true,"merged":[]}
["Active","1-week follow-up schedule"]
["Relapse Prevention","2-week follow-up schedule"]
["Inactive","1-month follow-up schedule"]

{"sheet":"Data Prep","index":6,"n_rows":161,"n_cols":41,"rows_kept":161,"cut":false,"hidden":true,"merged":[]}
[{"$f":"'Patient Tracking'!C2","v":"Treatment Status"},"Treatment Status Abbrev",{"$f":"'Patient Tracking'!A2","v":"MRN"},"Name",{"$f":"'Patient Tracking'!G2","v":"Follow-up Contact Number"},"current episode","check for correct episode","Episode","Number of Follow-up Contacts","Total Number of Follow-up Contacts","Start Date",{"$f":"'Patient Tracking'!J2","v":"Actual Contact Dates"},"Most Recent Contact","Follow-up dates","Pre-Next Follow-up due","Next Follow-up due","check for gad-7 score","check for phq-9 score","find initial PHQ-9 score","find initial GAD-7 score","check for actual contact","check for contact date","Weeks in Treatment","PHQ-9 Score","GAD-7 Score","Initial PHQ-9 Score","Last Available PHQ-9 Score","PHQ % Dec","Date of last availablePHQ-9","Initial GAD-7 Score","PRE-Last Available GAD-7 Score","PRE2-Last Available GAD-7 Score","Last Available GAD-7 Score","GAD % Dec","PRE-Date of last GAD","Date of Last Available GAD-7 Score","PRE-Pscyh Consult","PRE2-Psych Consult","Most Recent Psychiatric Consultant Note","All Flags","Flag"]
[{"$f":"'Patient Tracking'!C3","v":"Active"},{"$f":"IF(A2=\"Relapse Prevention\",\"RP\",A2)","v":"Active"},{"$f":"'Patient Tracking'!A3","v":1234},{"$f":"'Patient Tracking'!B3","v":"Joe Smith"},{"$f":"'Patient Tracking'!G3","v":"Current Episode Initial Assessment"},{"$f":"MAX(IF(C2:C75=C2,H2:H75,\"\"))","v":1},{"$f":"IF(AND(H2=F2,F2<>0,H2<>0,U2<>0),C2&\"TRUE\",FALSE)","v":false},{"$f":"'Patient Tracking'!F3","v":1},{"$f":"IF(AND(U2=\"CONTACT\"&C2,C2=C1),IF(E2=\"initial assessment\",0,1+I1),IF(C2=C1,I1,0))","v":0},{"$f":"MAX(IF(G2:G75=C2&\"TRUE\",I2:I75,\"\"))","v":6},{"$f":"IF(E2=\"current episode initial assessment\",L2,K1)","v":42826},{"$f":"'Patient Tracking'!J3","v":42826},{"$f":"MAX(IF(U2:U75=U2,L2:L75,\"\"))","v":42826},{"$f":"IF('Patient Tracking'!H3=\"\",999999,'Patient Tracking'!H3)","v":"2-week follow-up schedule"},{"$f":"MIN(IF(C2:C75=C2,N2:N75,\"\"))","v":42941},{"$f":"IF(O2=999999,\"\",O2)","v":42941},{"$f":"IF(AND(Y2<>\".\",Y2<>\"\"),\"GADSCORE\"&G2,\"None\")","v":"None"},{"$f":"IF(AND(X2<>\".\",X2<>\"\"),\"PHQSCORE\"&G2,\"None\")","v":"None"},{"$f":"IF(AND(X2>=0,X2<=27,R2=\"PHQSCORE\"&C2&\"TRUE\",ISNA(MATCH(\"PHQSCORE\"&G2,R1,0))),\"Initial Score\"&C2,\"\")","v":""},{"$f":"IF(AND(Y2>=0,Y2<=21,Q2=\"GADSCORE\"&C2&\"TRUE\",ISNA(MATCH(\"GADSCORE\"&G2,Q1,0))),\"Initial Score\"&C2,\"\")","v":""},{"$f":"IF(AND(E2<>\"current episode initial assessment\",V2<>0),\"CONTACT\"&C2,0)","v":0},{"$f":"IFERROR(L2-1+1,0)","v":42826},{"$f":"IF(E2<100,W1,(TODAY()-K2)/7)","v":14.428571428571429},{"$f":"IF(E2=\"current episode initial assessment\",\"\",'Patient Tracking'!L3)","v":""},{"$f":"IF(E2=\"current episode initial assessment\",\"\",'Patient Tracking'!N3)","v":""},{"$f":"IF(S2=\"initial score\"&C2,X2,IF(AND(C2=C1,Z1>=0,Z1<=27),Z1,IF(R2=\"none\",\"No Score\",\"\")))","v":"No Score"},{"$f":"IF(AND(C2=C1,X2>=0,X2<=27,G2=C2&\"TRUE\"),IF(ISNA(MATCH(\"PHQSCORE\"&C2&\"TRUE\",R3:R75,0)),X2,\"\"),IF(AND(E2=\"current episode initial assessment\",ISNA(MATCH(\"PHQSCORE\"&C2&\"TRUE\",R3:R75,0))),Z2,\"\"))","v":""},{"$f":"IF(AND(AA2<=27,AA2>=0),(AA2/Z2)-1,\"\")","v":""},{"$f":"IF(AA2<>\"\",IF(AA2=\"no score\",\"\",L2),\"\")","v":""},{"$f":"IF(T2=\"initial score\"&C2,Y2,IF(AND(C2=C1,AD1>=0,AD1<=21),AD1,IF(Q2=\"none\",\"No Score\",\"\")))","v":"No Score"},{"$f":"IF(AND(C2=C1,Y2>=0,Y2<=21,G2=C2&\"TRUE\"),IF(ISNA(MATCH(Q2,Q3:Q75,0)),Y2,\"-100\"),\"-100\")","v":"-100"},{"$f":"MAX(IF(Q2:Q75=\"GADSCORE\"&G2,AE2:AE75,IF(C2=C1,AF1,\"-100\")),\"-100\")","v":-100},{"$f":"IF(AF2=-100,\"No Score\",AF2)","v":"No Score"},{"$f":"IF(AND(AG2<=21,AG2>=0),(AG2/AD2)-1,\"\")","v":""},{"$f":"MAX(IF(Q2:Q75=\"GADSCORE\"&C2&\"TRUE\",L2:L75,IF(C2=C1,AJ1,\"\")))","v":42927},{"$f":"IF(AI2<>0,AI2,\"\")","v":"2017-07-11"},{"$f":"'Patient Tracking'!R3","v":42667},{"$f":"IF(AND(E2=\"current episode initial assessment\",AK2<>\"\"),AK2,0)","v":42667},{"$f":"IF(E2=\"current episode Initial assessment\",IF(AL2<>0,AL2,\"\"),AM1)","v":42667},{"$f":"'Patient Tracking'!Q3","v":0},{"$f":"IF(AND(E2=\"current episode initial assessment\",AN2<>0),AN2,IF(E2=\"current episode initial assessment\",\"\",IF(C2=C1,AO1,\"\")))","v":""}]
[{"$f":"'Patient Tracking'!C4","v":"Active"},{"$f":"IF(A3=\"Relapse Prevention\",\"RP\",A3)","v":"Active"},{"$f":"'Patient Tracking'!A4","v":1234},{"$f":"'Patient Tracking'!B4","v":"Joe Smith"},{"$f":"'Patient Tracking'!G4","v":"Initial Assessment"},{"$f":"MAX(IF(C3:C76=C3,H3:H76,\"\"))","v":1},"1234TRUE",{"$f":"'Patient Tracking'!F4","v":1},0,{"$f":"MAX(IF(G3:G76=C3&\"TRUE\",I3:I76,\"\"))","v":6},{"$f":"IF(E3=\"current episode initial assessment\",L3,K2)","v":42826},{"$f":"'Patient Tracking'!J4","v":42826},{"$f":"MAX(IF(U3:U76=U3,L3:L76,\"\"))","v":42927},{"$f":"IF('Patient Tracking'!H4=\"\",999999,'Patient Tracking'!H4)","v":999999},{"$f":"MIN(IF(C3:C76=C3,N3:N76,\"\"))","v":42941},{"$f":"IF(O3=999999,\"\",O3)","v":42941},"GADSCORE1234TRUE","PHQSCORE1234TRUE",{"$f":"IF(AND(X3>=0,X3<=27,R3=\"PHQSCORE\"&C3&\"TRUE\",ISNA(MATCH(\"PHQSCORE\"&G3,R1:R2,0))),\"Initial Score\"&C3,\"\")","v":"Initial Score1234"},{"$f":"IF(AND(Y3>=0,Y3<=21,Q3=\"GADSCORE\"&C3&\"TRUE\",ISNA(MATCH(\"GADSCORE\"&G3,Q1:Q2,0))),\"Initial Score\"&C3,\"\")","v":"Initial Score1234"},"CONTACT1234",42826,14.428571428571429,{"$f":"IF(E3=\"current episode initial assessment\",\"\",'Patient Tracking'!L4)","v":15},{"$f":"IF(E3=\"current episode initial assessment\",\"\",'Patient Tracking'!N4)","v":11},15,"","","",11,"-100",{"$f":"MAX(IF(Q3:Q76=\"GADSCORE\"&G3,AE3:AE76,IF(C3=C2,AF2,\"-100\")),\"-100\")","v":4},4,{"$f":"IF(AND(AG3<=21,AG3>=0),(AG3/AD3)-1,\"\")","v":-0.63636363636363635},{"$f":"MAX(IF(Q3:Q76=\"GADSCORE\"&C3&\"TRUE\",L3:L76,IF(C3=C2,AJ2,\"\")))","v":42927},"2017-07-11",{"$f":"'Patient Tracking'!R4","v":42617},0,42667,{"$f":"'Patient Tracking'!Q4","v":0},""]
[{"$f":"'Patient Tracking'!C5","v":"Active"},"Active",{"$f":"'Patient Tracking'!A5","v":1234},{"$f":"'Patient Tracking'!B5","v":"Joe Smith"},{"$f":"'Patient Tracking'!G5","v":1},{"$f":"MAX(IF(C4:C77=C4,H4:H77,\"\"))","v":1},"1234TRUE",{"$f":"'Patient Tracking'!F5","v":1},1,{"$f":"MAX(IF(G4:G77=C4&\"TRUE\",I4:I77,\"\"))","v":6},42826,{"$f":"'Patient Tracking'!J5","v":42840},{"$f":"MAX(IF(U4:U77=U4,L4:L77,\"\"))","v":42927},{"$f":"IF('Patient Tracking'!H5=\"\",999999,'Patient Tracking'!H5)","v":999999},{"$f":"MIN(IF(C4:C77=C4,N4:N77,\"\"))","v":42941},42941,"GADSCORE1234TRUE","PHQSCORE1234TRUE",{"$f":"IF(AND(X4>=0,X4<=27,R4=\"PHQSCORE\"&C4&\"TRUE\",ISNA(MATCH(\"PHQSCORE\"&G4,R1:R3,0))),\"Initial Score\"&C4,\"\")","v":""},{"$f":"IF(AND(Y4>=0,Y4<=21,Q4=\"GADSCORE\"&C4&\"TRUE\",ISNA(MATCH(\"GADSCORE\"&G4,Q2:Q3,0))),\"Initial Score\"&C4,\"\")","v":""},"CONTACT1234",42840,14.428571428571429,{"$f":"IF(E4=\"current episode initial assessment\",\"\",'Patient Tracking'!L5)","v":13},{"$f":"IF(E4=\"current episode initial assessment\",\"\",'Patient Tracking'!N5)","v":11},15,"","","",11,"-100",{"$f":"MAX(IF(Q4:Q77=\"GADSCORE\"&G4,AE4:AE77,IF(C4=C3,AF3,\"-100\")),\"-100\")","v":4},4,-0.63636363636363635,{"$f":"MAX(IF(Q4:Q77=\"GADSCORE\"&C4&\"TRUE\",L4:L77,IF(C4=C3,AJ3,\"\")))","v":42927},"2017-07-11",{"$f":"'Patient Tracking'!R5","v":42667},0,42667,{"$f":"'Patient Tracking'!Q5","v":0},""]
[{"$f":"'Patient Tracking'!C6","v":"Active"},"Active",{"$f":"'Patient Tracking'!A6","v":1234},{"$f":"'Patient Tracking'!B6","v":"Joe Smith"},{"$f":"'Patient Tracking'!G6","v":2},{"$f":"MAX(IF(C5:C78=C5,H5:H78,\"\"))","v":1},"1234TRUE",{"$f":"'Patient Tracking'!F6","v":1},2,{"$f":"MAX(IF(G5:G78=C5&\"TRUE\",I5:I78,\"\"))","v":6},42826,{"$f":"'Patient Tracking'!J6","v":42854},{"$f":"MAX(IF(U5:U78=U5,L5:L78,\"\"))","v":42927},{"$f":"IF('Patient Tracking'!H6=\"\",999999,'Patient Tracking'!H6)","v":999999},{"$f":"MIN(IF(C5:C78=C5,N5:N78,\"\"))","v":42941},42941,"GADSCORE1234TRUE","PHQSCORE1234TRUE",{"$f":"IF(AND(X5>=0,X5<=27,R5=\"PHQSCORE\"&C5&\"TRUE\",ISNA(MATCH(\"PHQSCORE\"&G5,R1:R4,0))),\"Initial Score\"&C5,\"\")","v":""},{"$f":"IF(AND(Y5>=0,Y5<=21,Q5=\"GADSCORE\"&C5&\"TRUE\",ISNA(MATCH(\"GADSCORE\"&G5,Q1:Q4,0))),\"Initial Score\"&C5,\"\")","v":""},"CONTACT1234",42854,14.428571428571429,{"$f":"IF(E5=\"current episode initial assessment\",\"\",'Patient Tracking'!L6)","v":15},{"$f":"IF(E5=\"current episode initial assessment\",\"\",'Patient Tracking'!N6)","v":9},15,"","","",11,"-100",{"$f":"MAX(IF(Q5:Q78=\"GADSCORE\"&G5,AE5:AE78,IF(C5=C4,AF4,\"-100\")),\"-100\")","v":4},4,-0.63636363636363635,{"$f":"MAX(IF(Q5:Q78=\"GADSCORE\"&C5&\"TRUE\",L5:L78,IF(C5=C4,AJ4,\"\")))","v":42927},"2017-07-11",{"$f":"'Patient Tracking'!R6","v":0},0,42667,{"$f":"'Patient Tracking'!P6","v":0},""]
[{"$f":"'Patient Tracking'!C7","v":"Active"},"Active",{"$f":"'Patient Tracking'!A7","v":1234},{"$f":"'Patient Tracking'!B7","v":"Joe Smith"},{"$f":"'Patient Tracking'!G7","v":3},{"$f":"MAX(IF(C6:C79=C6,H6:H79,\"\"))","v":1},"1234TRUE",{"$f":"'Patient Tracking'!F7","v":1},3,{"$f":"MAX(IF(G6:G79=C6&\"TRUE\",I6:I79,\"\"))","v":6},42826,{"$f":"'Patient Tracking'!J7","v":42867},{"$f":"MAX(IF(U6:U79=U6,L6:L79,\"\"))","v":42927},{"$f":"IF('Patient Tracking'!H7=\"\",999999,'Patient Tracking'!H7)","v":999999},{"$f":"MIN(IF(C6:C79=C6,N6:N79,\"\"))","v":42941},42941,"GADSCORE1234TRUE","PHQSCORE1234TRUE",{"$f":"IF(AND(X6>=0,X6<=27,R6=\"PHQSCORE\"&C6&\"TRUE\",ISNA(MATCH(\"PHQSCORE\"&G6,R1:R5,0))),\"Initial Score\"&C6,\"\")","v":""},{"$f":"IF(AND(Y6>=0,Y6<=21,Q6=\"GADSCORE\"&C6&\"TRUE\",ISNA(MATCH(\"GADSCORE\"&G6,Q1:Q5,0))),\"Initial Score\"&C6,\"\")","v":""},"CONTACT1234",42867,14.428571428571429,{"$f":"IF(E6=\"current episode initial assessment\",\"\",'Patient Tracking'!L7)","v":12},{"$f":"IF(E6=\"current episode initial assessment\",\"\",'Patient Tracking'!N7)","v":6},15,"","","",11,"-100",{"$f":"MAX(IF(Q6:Q79=\"GADSCORE\"&G6,AE6:AE79,IF(C6=C5,AF5,\"-100\")),\"-100\")","v":4},4,-0.63636363636363635,{"$f":"MAX(IF(Q6:Q79=\"GADSCORE\"&C6&\"TRUE\",L6:L79,IF(C6=C5,AJ5,\"\")))","v":42927},"2017-07-11",{"$f":"'Patient Tracking'!R7","v":0},0,42667,{"$f":"'Patient Tracking'!Q7","v":0},""]
[{"$f":"'Patient Tracking'!C8","v":"Active"},"Active",{"$f":"'Patient Tracking'!A8","v":1234},{"$f":"'Patient Tracking'!B8","v":"Joe Smith"},{"$f":"'Patient Tracking'!G8","v":4},{"$f":"MAX(IF(C7:C80=C7,H7:H80,\"\"))","v":1},"1234TRUE",{"$f":"'Patient Tracking'!F8","v":1},4,{"$f":"MAX(IF(G7:G80=C7&\"TRUE\",I7:I80,\"\"))","v":6},42826,{"$f":"'Patient Tracking'!J8","v":42880},{"$f":"MAX(IF(U7:U80=U7,L7:L80,\"\"))","v":42927},{"$f":"IF('Patient Tracking'!H8=\"\",999999,'Patient Tracking'!H8)","v":999999},{"$f":"MIN(IF(C7:C80=C7,N7:N80,\"\"))","v":42941},42941,"GADSCORE1234TRUE","PHQSCORE1234TRUE",{"$f":"IF(AND(X7>=0,X7<=27,R7=\"PHQSCORE\"&C7&\"TRUE\",ISNA(MATCH(\"PHQSCORE\"&G7,R1:R6,0))),\"Initial Score\"&C7,\"\")","v":""},{"$f":"IF(AND(Y7>=0,Y7<=21,Q7=\"GADSCORE\"&C7&\"TRUE\",ISNA(MATCH(\"GADSCORE\"&G7,Q1:Q6,0))),\"Initial Score\"&C7,\"\")","v":""},"CONTACT1234",42880,14.428571428571429,{"$f":"IF(E7=\"current episode initial assessment\",\"\",'Patient Tracking'!L8)","v":11},{"$f":"IF(E7=\"current episode initial assessment\",\"\",'Patient Tracking'!N8)","v":7},15,"","","",11,"-100",{"$f":"MAX(IF(Q7:Q80=\"GADSCORE\"&G7,AE7:AE80,IF(C7=C6,AF6,\"-100\")),\"-100\")","v":4},4,-0.63636363636363635,{"$f":"MAX(IF(Q7:Q80=\"GADSCORE\"&C7&\"TRUE\",L7:L80,IF(C7=C6,AJ6,\"\")))","v":42927},"2017-07-11",{"$f":"'Patient Tracking'!R8","v":0},0,42667,{"$f":"'Patient Tracking'!Q8","v":0},""]
[{"$f":"'Patient Tracking'!C9","v":"Active"},"Active",{"$f":"'Patient Tracking'!A9","v":1234},{"$f":"'Patient Tracking'!B9","v":"Joe Smith"},{"$f":"'Patient Tracking'!G9","v":5},{"$f":"MAX(IF(C8:C81=C8,H8:H81,\"\"))","v":1},"1234TRUE",{"$f":"'Patient Tracking'!F9","v":1},5,{"$f":"MAX(IF(G8:G81=C8&\"TRUE\",I8:I81,\"\"))","v":6},42826,{"$f":"'Patient Tracking'!J9","v":42894},{"$f":"MAX(IF(U8:U81=U8,L8:L81,\"\"))","v":42927},{"$f":"IF('Patient Tracking'!H9=\"\",999999,'Patient Tracking'!H9)","v":999999},{"$f":"MIN(IF(C8:C81=C8,N8:N81,\"\"))","v":42941},42941,"GADSCORE1234TRUE","PHQSCORE1234TRUE",{"$f":"IF(AND(X8>=0,X8<=27,R8=\"PHQSCORE\"&C8&\"TRUE\",ISNA(MATCH(\"PHQSCORE\"&G8,R1:R7,0))),\"Initial Score\"&C8,\"\")","v":""},{"$f":"IF(AND(Y8>=0,Y8<=21,Q8=\"GADSCORE\"&C8&\"TRUE\",ISNA(MATCH(\"GADSCORE\"&G8,Q1:Q7,0))),\"Initial Score\"&C8,\"\")","v":""},"CONTACT1234",42894,14.428571428571429,{"$f":"IF(E8=\"current episode initial assessment\",\"\",'Patient Tracking'!L9)","v":9},{"$f":"IF(E8=\"current episode initial assessment\",\"\",'Patient Tracking'!N9)","v":7},15,"","","",11,"-100",{"$f":"MAX(IF(Q8:Q81=\"GADSCORE\"&G8,AE8:AE81,IF(C8=C7,AF7,\"-100\")),\"-100\")","v":4},4,{"$f":"IF(AND(AG8<=21,AG8>=0),(AG8/AD8)-1,\"\")","v":-0.63636363636363635},{"$f":"MAX(IF(Q8:Q81=\"GADSCORE\"&C8&\"TRUE\",L8:L81,IF(C8=C7,AJ7,\"\")))","v":42927},"2017-07-11",{"$f":"'Patient Tracking'!R9","v":0},0,42667,{"$f":"'Patient Tracking'!Q9","v":0},""]
[{"$f":"'Patient Tracking'!C10","v":"Active"},"Active",{"$f":"'Patient Tracking'!A10","v":1234},{"$f":"'Patient Tracking'!B10","v":"Joe Smith"},{"$f":"'Patient Tracking'!G10","v":6},{"$f":"MAX(IF(C9:C82=C9,H9:H82,\"\"))","v":1},"1234TRUE",{"$f":"'Patient Tracking'!F10","v":1},6,{"$f":"MAX(IF(G9:G82=C9&\"TRUE\",I9:I82,\"\"))","v":6},42826,{"$f":"'Patient Tracking'!J10","v":42927},{"$f":"MAX(IF(U9:U82=U9,L9:L82,\"\"))","v":42927},{"$f":"IF('Patient Tracking'!H10=\"\",999999,'Patient Tracking'!H10)","v":999999},{"$f":"MIN(IF(C9:C82=C9,N9:N82,\"\"))","v":42941},42941,"GADSCORE1234TRUE","PHQSCORE1234TRUE",{"$f":"IF(AND(X9>=0,X9<=27,R9=\"PHQSCORE\"&C9&\"TRUE\",ISNA(MATCH(\"PHQSCORE\"&G9,R1:R8,0))),\"Initial Score\"&C9,\"\")","v":""},{"$f":"IF(AND(Y9>=0,Y9<=21,Q9=\"GADSCORE\"&C9&\"TRUE\",ISNA(MATCH(\"GADSCORE\"&G9,Q1:Q8,0))),\"Initial Score\"&C9,\"\")","v":""},"CONTACT1234",42927,14.428571428571429,{"$f":"IF(E9=\"current episode initial assessment\",\"\",'Patient Tracking'!L10)","v":8},{"$f":"IF(E9=\"current episode initial assessment\",\"\",'Patient Tracking'!N10)","v":4},15,8,-0.46666666666666667,"2017-07-11",11,4,{"$f":"MAX(IF(Q9:Q82=\"GADSCORE\"&G9,AE9:AE82,IF(C9=C8,AF8,\"-100\")),\"-100\")","v":4},4,-0.63636363636363635,{"$f":"MAX(IF(Q9:Q82=\"GADSCORE\"&C9&\"TRUE\",L9:L82,IF(C9=C8,AJ8,\"\")))","v":42927},"2017-07-11",{"$f":"'Patient Tracking'!R10","v":0},0,42667,{"$f":"'Patient Tracking'!Q10","v":0},""]
[{"$f":"'Patient Tracking'!C11","v":"Active"},"Active",{"$f":"'Patient Tracking'!A11","v":1234},{"$f":"'Patient Tracking'!B11","v":"Joe Smith"},{"$f":"'Patient Tracking'!G11","v":""},{"$f":"MAX(IF(C10:C83=C10,H10:H83,\"\"))","v":0},false,{"$f":"'Patient Tracking'!F11","v":0},6,{"$f":"MAX(IF(G10:G83=C10&\"TRUE\",I10:I83,\"\"))","v":0},42826,{"$f":"'Patient Tracking'!J11","v":0},{"$f":"MAX(IF(U10:U83=U10,L10:L83,\"\"))","v":42884},{"$f":"IF('Patient Tracking'!H11=\"\",999999,'Patient Tracking'!H11)","v":42941},{"$f":"MIN(IF(C10:C83=C10,N10:N83,\"\"))","v":42941},42941,"None","None",{"$f":"IF(AND(X10>=0,X10<=27,R10=\"PHQSCORE\"&C10&\"TRUE\",ISNA(MATCH(\"PHQSCORE\"&G10,R1:R9,0))),\"Initial Score\"&C10,\"\")","v":""},{"$f":"IF(AND(Y10>=0,Y10<=21,Q10=\"GADSCORE\"&C10&\"TRUE\",ISNA(MATCH(\"GADSCORE\"&G10,Q1:Q9,0))),\"Initial Score\"&C10,\"\")","v":""},0,0,14.428571428571429,{"$f":"IF(E10=\"current episode initial assessment\",\"\",'Patient Tracking'!L11)","v":"."},{"$f":"IF(E10=\"current episode initial assessment\",\"\",'Patient Tracking'!N11)","v":"."},15,"","","",11,"-100",{"$f":"MAX(IF(Q10:Q83=\"GADSCORE\"&G10,AE10:AE83,IF(C10=C9,AF9,\"-100\")),\"-100\")","v":4},4,-0.63636363636363635,{"$f":"MAX(IF(Q10:Q83=\"GADSCORE\"&C10&\"TRUE\",L10:L83,IF(C10=C9,AJ9,\"\")))","v":42927},"2017-07-11",{"$f":"'Patient Tracking'!R11","v":0},0,42667,{"$f":"'Patient Tracking'!Q11","v":0},""]
[{"$f":"'Patient Tracking'!C12","v":"Active"},"Active",{"$f":"'Patient Tracking'!A12","v":1234},{"$f":"'Patient Tracking'!B12","v":"Joe Smith"},{"$f":"'Patient Tracking'!G12","v":""},{"$f":"MAX(IF(C11:C84=C11,H11:H84,\"\"))","v":0},false,{"$f":"'Patient Tracking'!F12","v":0},6,{"$f":"MAX(IF(G11:G84=C11&\"TRUE\",I11:I84,\"\"))","v":0},42826,{"$f":"'Patient Tracking'!J12","v":0},{"$f":"MAX(IF(U11:U84=U11,L11:L84,\"\"))","v":42884},{"$f":"IF('Patient Tracking'!H12=\"\",999999,'Patient Tracking'!H12)","v":42955},{"$f":"MIN(IF(C11:C84=C11,N11:N84,\"\"))","v":42955},42955,"None","None",{"$f":"IF(AND(X11>=0,X11<=27,R11=\"PHQSCORE\"&C11&\"TRUE\",ISNA(MATCH(\"PHQSCORE\"&G11,R1:R10,0))),\"Initial Score\"&C11,\"\")","v":""},{"$f":"IF(AND(Y11>=0,Y11<=21,Q11=\"GADSCORE\"&C11&\"TRUE\",ISNA(MATCH(\"GADSCORE\"&G11,Q1:Q10,0))),\"Initial Score\"&C11,\"\")","v":""},0,0,14.428571428571429,{"$f":"IF(E11=\"current episode initial assessment\",\"\",'Patient Tracking'!L12)","v":"."},{"$f":"IF(E11=\"current episode initial assessment\",\"\",'Patient Tracking'!N12)","v":"."},15,"",{"$f":"IF(AND(AA11<=27,AA11>=0),(AA11/Z11)-1,\"\")","v":""},"",11,"-100",{"$f":"MAX(IF(Q11:Q84=\"GADSCORE\"&G11,AE11:AE84,IF(C11=C10,AF10,\"-100\")),\"-100\")","v":4},4,-0.63636363636363635,{"$f":"MAX(IF(Q11:Q84=\"GADSCORE\"&C11&\"TRUE\",L11:L84,IF(C11=C10,AJ10,\"\")))","v":42927},"2017-07-11",{"$f":"'Patient Tracking'!R12","v":0},0,42667,{"$f":"'Patient Tracking'!Q12","v":0},""]
[{"$f":"'Patient Tracking'!C13","v":"Active"},"Active",{"$f":"'Patient Tracking'!A13","v":1234},{"$f":"'Patient Tracking'!B13","v":"Joe Smith"},{"$f":"'Patient Tracking'!G13","v":""},{"$f":"MAX(IF(C12:C85=C12,H12:H85,\"\"))","v":0},false,{"$f":"'Patient Tracking'!F13","v":0},6,{"$f":"MAX(IF(G12:G85=C12&\"TRUE\",I12:I85,\"\"))","v":0},42826,{"$f":"'Patient Tracking'!J13","v":0},{"$f":"MAX(IF(U12:U85=U12,L12:L85,\"\"))","v":42884},{"$f":"IF('Patient Tracking'!H13=\"\",999999,'Patient Tracking'!H13)","v":42969},{"$f":"MIN(IF(C12:C85=C12,N12:N85,\"\"))","v":42969},42969,"None","None",{"$f":"IF(AND(X12>=0,X12<=27,R12=\"PHQSCORE\"&C12&\"TRUE\",ISNA(MATCH(\"PHQSCORE\"&G12,R1:R11,0))),\"Initial Score\"&C12,\"\")","v":""},{"$f":"IF(AND(Y12>=0,Y12<=21,Q12=\"GADSCORE\"&C12&\"TRUE\",ISNA(MATCH(\"GADSCORE\"&G12,Q1:Q11,0))),\"Initial Score\"&C12,\"\")","v":""},0,0,14.428571428571429,{"$f":"IF(E12=\"current episode initial assessment\",\"\",'Patient Tracking'!L13)","v":"."},{"$f":"IF(E12=\"current episode initial assessment\",\"\",'Patient Tracking'!N13)","v":"."},15,"","","",11,"-100",{"$f":"MAX(IF(Q12:Q85=\"GADSCORE\"&G12,AE12:AE85,IF(C12=C11,AF11,\"-100\")),\"-100\")","v":4},4,-0.63636363636363635,{"$f":"MAX(IF(Q12:Q85=\"GADSCORE\"&C12&\"TRUE\",L12:L85,IF(C12=C11,AJ11,\"\")))","v":42927},"2017-07-11",{"$f":"'Patient Tracking'!R13","v":0},0,42667,{"$f":"'Patient Tracking'!Q13","v":0},""]
[{"$f":"'Patient Tracking'!C14","v":"Active"},"Active",{"$f":"'Patient Tracking'!A14","v":1234},{"$f":"'Patient Tracking'!B14","v":"Joe Smith"},{"$f":"'Patient Tracking'!G14","v":""},{"$f":"MAX(IF(C13:C86=C13,H13:H86,\"\"))","v":0},false,{"$f":"'Patient Tracking'!F14","v":0},6,{"$f":"MAX(IF(G13:G86=C13&\"TRUE\",I13:I86,\"\"))","v":0},42826,{"$f":"'Patient Tracking'!J14","v":0},{"$f":"MAX(IF(U13:U86=U13,L13:L86,\"\"))","v":42884},{"$f":"IF('Patient Tracking'!H14=\"\",999999,'Patient Tracking'!H14)","v":42983},{"$f":"MIN(IF(C13:C86=C13,N13:N86,\"\"))","v":42983},42983,"None","None",{"$f":"IF(AND(X13>=0,X13<=27,R13=\"PHQSCORE\"&C13&\"TRUE\",ISNA(MATCH(\"PHQSCORE\"&G13,R1:R12,0))),\"Initial Score\"&C13,\"\")","v":""},{"$f":"IF(AND(Y13>=0,Y13<=21,Q13=\"GADSCORE\"&C13&\"TRUE\",ISNA(MATCH(\"GADSCORE\"&G13,Q1:Q12,0))),\"Initial Score\"&C13,\"\")","v":""},0,0,14.428571428571429,{"$f":"IF(E13=\"current episode initial assessment\",\"\",'Patient Tracking'!L14)","v":"."},{"$f":"IF(E13=\"current episode initial assessment\",\"\",'Patient Tracking'!N14)","v":"."},15,"","","",11,"-100",{"$f":"MAX(IF(Q13:Q86=\"GADSCORE\"&G13,AE13:AE86,IF(C13=C12,AF12,\"-100\")),\"-100\")","v":4},4,-0.63636363636363635,{"$f":"MAX(IF(Q13:Q86=\"GADSCORE\"&C13&\"TRUE\",L13:L86,IF(C13=C12,AJ12,\"\")))","v":42927},"2017-07-11",{"$f":"'Patient Tracking'!R14","v":0},0,42667,{"$f":"'Patient Tracking'!Q14","v":0},""]
[{"$f":"'Patient Tracking'!C15","v":"Active"},"Active",{"$f":"'Patient Tracking'!A15","v":1234},{"$f":"'Patient Tracking'!B15","v":"Joe Smith"},{"$f":"'Patient Tracking'!G15","v":""},{"$f":"MAX(IF(C14:C87=C14,H14:H87,\"\"))","v":0},false,{"$f":"'Patient Tracking'!F15","v":0},6,{"$f":"MAX(IF(G14:G87=C14&\"TRUE\",I14:I87,\"\"))","v":0},42826,{"$f":"'Patient Tracking'!J15","v":0},{"$f":"MAX(IF(U14:U87=U14,L14:L87,\"\"))","v":42884},{"$f":"IF('Patient Tracking'!H15=\"\",999999,'Patient Tracking'!H15)","v":42997},{"$f":"MIN(IF(C14:C87=C14,N14:N87,\"\"))","v":42997},42997,"None","None",{"$f":"IF(AND(X14>=0,X14<=27,R14=\"PHQSCORE\"&C14&\"TRUE\",ISNA(MATCH(\"PHQSCORE\"&G14,R1:R13,0))),\"Initial Score\"&C14,\"\")","v":""},{"$f":"IF(AND(Y14>=0,Y14<=21,Q14=\"GADSCORE\"&C14&\"TRUE\",ISNA(MATCH(\"GADSCORE\"&G14,Q1:Q13,0))),\"Initial Score\"&C14,\"\")","v":""},0,0,14.428571428571429,{"$f":"IF(E14=\"current episode initial assessment\",\"\",'Patient Tracking'!L15)","v":"."},{"$f":"IF(E14=\"current episode initial assessment\",\"\",'Patient Tracking'!N15)","v":"."},15,"","","",11,"-100",{"$f":"MAX(IF(Q14:Q87=\"GADSCORE\"&G14,AE14:AE87,IF(C14=C13,AF13,\"-100\")),\"-100\")","v":4},4,-0.63636363636363635,{"$f":"MAX(IF(Q14:Q87=\"GADSCORE\"&C14&\"TRUE\",L14:L87,IF(C14=C13,AJ13,\"\")))","v":42927},"2017-07-11",{"$f":"'Patient Tracking'!R15","v":0},0,42667,{"$f":"'Patient Tracking'!Q15","v":0},""]
[{"$f":"'Patient Tracking'!C16","v":"Active"},"Active",{"$f":"'Patient Tracking'!A16","v":1234},{"$f":"'Patient Tracking'!B16","v":"Joe Smith"},{"$f":"'Patient Tracking'!G16","v":""},{"$f":"MAX(IF(C15:C88=C15,H15:H88,\"\"))","v":0},false,{"$f":"'Patient Tracking'!F16","v":0},6,{"$f":"MAX(IF(G15:G88=C15&\"TRUE\",I15:I88,\"\"))","v":0},42826,{"$f":"'Patient Tracking'!J16","v":0},{"$f":"MAX(IF(U15:U88=U15,L15:L88,\"\"))","v":42884},{"$f":"IF('Patient Tracking'!H16=\"\",999999,'Patient Tracking'!H16)","v":43011},{"$f":"MIN(IF(C15:C88=C15,N15:N88,\"\"))","v":43011},43011,"None","None",{"$f":"IF(AND(X15>=0,X15<=27,R15=\"PHQSCORE\"&C15&\"TRUE\",ISNA(MATCH(\"PHQSCORE\"&G15,R1:R14,0))),\"Initial Score\"&C15,\"\")","v":""},{"$f":"IF(AND(Y15>=0,Y15<=21,Q15=\"GADSCORE\"&C15&\"TRUE\",ISNA(MATCH(\"GADSCORE\"&G15,Q1:Q14,0))),\"Initial Score\"&C15,\"\")","v":""},0,0,14.428571428571429,{"$f":"IF(E15=\"current episode initial assessment\",\"\",'Patient Tracking'!L16)","v":"."},{"$f":"IF(E15=\"current episode initial assessment\",\"\",'Patient Tracking'!N16)","v":"."},15,"","","",11,"-100",{"$f":"MAX(IF(Q15:Q88=\"GADSCORE\"&G15,AE15:AE88,IF(C15=C14,AF14,\"-100\")),\"-100\")","v":4},4,-0.63636363636363635,{"$f":"MAX(IF(Q15:Q88=\"GADSCORE\"&C15&\"TRUE\",L15:L88,IF(C15=C14,AJ14,\"\")))","v":42927},"2017-07-11",{"$f":"'Patient Tracking'!R16","v":0},0,42667,{"$f":"'Patient Tracking'!Q16","v":0},""]
[{"$f":"'Patient Tracking'!C17","v":"Active"},"Active",{"$f":"'Patient Tracking'!A17","v":1234},{"$f":"'Patient Tracking'!B17","v":"Joe Smith"},{"$f":"'Patient Tracking'!G17","v":""},{"$f":"MAX(IF(C16:C89=C16,H16:H89,\"\"))","v":0},false,{"$f":"'Patient Tracking'!F17","v":0},6,{"$f":"MAX(IF(G16:G89=C16&\"TRUE\",I16:I89,\"\"))","v":0},42826,{"$f":"'Patient Tracking'!J17","v":0},{"$f":"MAX(IF(U16:U89=U16,L16:L89,\"\"))","v":42884},{"$f":"IF('Patient Tracking'!H17=\"\",999999,'Patient Tracking'!H17)","v":43025},{"$f":"MIN(IF(C16:C89=C16,N16:N89,\"\"))","v":43025},43025,"None","None",{"$f":"IF(AND(X16>=0,X16<=27,R16=\"PHQSCORE\"&C16&\"TRUE\",ISNA(MATCH(\"PHQSCORE\"&G16,R1:R15,0))),\"Initial Score\"&C16,\"\")","v":""},{"$f":"IF(AND(Y16>=0,Y16<=21,Q16=\"GADSCORE\"&C16&\"TRUE\",ISNA(MATCH(\"GADSCORE\"&G16,Q1:Q15,0))),\"Initial Score\"&C16,\"\")","v":""},0,0,14.428571428571429,{"$f":"IF(E16=\"current episode initial assessment\",\"\",'Patient Tracking'!L17)","v":"."},{"$f":"IF(E16=\"current episode initial assessment\",\"\",'Patient Tracking'!N17)","v":"."},15,"","","",11,"-100",{"$f":"MAX(IF(Q16:Q89=\"GADSCORE\"&G16,AE16:AE89,IF(C16=C15,AF15,\"-100\")),\"-100\")","v":4},4,-0.63636363636363635,{"$f":"MAX(IF(Q16:Q89=\"GADSCORE\"&C16&\"TRUE\",L16:L89,IF(C16=C15,AJ15,\"\")))","v":42927},"2017-07-11",{"$f":"'Patient Tracking'!R17","v":0},0,42667,{"$f":"'Patient Tracking'!Q17","v":0},""]
[{"$f":"'Patient Tracking'!C18","v":"Active"},"Active",{"$f":"'Patient Tracking'!A18","v":1234},{"$f":"'Patient Tracking'!B18","v":"Joe Smith"},{"$f":"'Patient Tracking'!G18","v":""},{"$f":"MAX(IF(C17:C90=C17,H17:H90,\"\"))","v":0},false,{"$f":"'Patient Tracking'!F18","v":0},6,{"$f":"MAX(IF(G17:G90=C17&\"TRUE\",I17:I90,\"\"))","v":0},42826,{"$f":"'Patient Tracking'!J18","v":0},{"$f":"MAX(IF(U17:U90=U17,L17:L90,\"\"))","v":42884},{"$f":"IF('Patient Tracking'!H18=\"\",999999,'Patient Tracking'!H18)","v":43039},{"$f":"MIN(IF(C17:C90=C17,N17:N90,\"\"))","v":43039},43039,"None","None",{"$f":"IF(AND(X17>=0,X17<=27,R17=\"PHQSCORE\"&C17&\"TRUE\",ISNA(MATCH(\"PHQSCORE\"&G17,R1:R16,0))),\"Initial Score\"&C17,\"\")","v":""},{"$f":"IF(AND(Y17>=0,Y17<=21,Q17=\"GADSCORE\"&C17&\"TRUE\",ISNA(MATCH(\"GADSCORE\"&G17,Q1:Q16,0))),\"Initial Score\"&C17,\"\")","v":""},0,0,14.428571428571429,{"$f":"IF(E17=\"current episode initial assessment\",\"\",'Patient Tracking'!L18)","v":"."},{"$f":"IF(E17=\"current episode initial assessment\",\"\",'Patient Tracking'!N18)","v":"."},15,"","","",11,"-100",{"$f":"MAX(IF(Q17:Q90=\"GADSCORE\"&G17,AE17:AE90,IF(C17=C16,AF16,\"-100\")),\"-100\")","v":4},4,-0.63636363636363635,{"$f":"MAX(IF(Q17:Q90=\"GADSCORE\"&C17&\"TRUE\",L17:L90,IF(C17=C16,AJ16,\"\")))","v":42927},"2017-07-11",{"$f":"'Patient Tracking'!R18","v":0},0,42667,{"$f":"'Patient Tracking'!Q18","v":0},""]
[{"$f":"'Patient Tracking'!C19","v":"Active"},"Active",{"$f":"'Patient Tracking'!A19","v":1222},{"$f":"'Patient Tracking'!B19","v":"Bob Dolittle"},{"$f":"'Patient Tracking'!G19","v":"Current Episode Initial Assessment"},{"$f":"MAX(IF(C18:C91=C18,H18:H91,\"\"))","v":2},false,{"$f":"'Patient Tracking'!F19","v":2},0,{"$f":"MAX(IF(G18:G91=C18&\"TRUE\",I18:I91,\"\"))","v":3},42796,{"$f":"'Patient Tracking'!J19","v":42796},{"$f":"MAX(IF(U18:U91=U18,L18:L91,\"\"))","v":42884},{"$f":"IF('Patient Tracking'!H19=\"\",999999,'Patient Tracking'!H19)","v":"2-week follow-up schedule"},{"$f":"MIN(IF(C18:C91=C18,N18:N91,\"\"))","v":42931},42931,"None","None","","",0,42796,18.714285714285715,{"$f":"IF(E18=\"current episode initial assessment\",\"\",'Patient Tracking'!L19)","v":""},{"$f":"IF(E18=\"current episode initial assessment\",\"\",'Patient Tracking'!N19)","v":""},"No Score","","","","No Score","-100",{"$f":"MAX(IF(Q18:Q91=\"GADSCORE\"&G18,AE18:AE91,IF(C18=C17,AF17,\"-100\")),\"-100\")","v":-100},"No Score","",{"$f":"MAX(IF(Q18:Q91=\"GADSCORE\"&C18&\"TRUE\",L18:L91,IF(C18=C17,AJ17,\"\")))","v":42917},{"$f":"IF(AI18<>0,AI18,\"\")","v":"2017-07-01"},{"$f":"'Patient Tracking'!R19","v":42630},42630,42630,{"$f":"'Patient Tracking'!Q19","v":"Flag as safety risk"},"Flag as safety risk"]
[{"$f":"'Patient Tracking'!C20","v":"Active"},"Active",{"$f":"'Patient Tracking'!A20","v":1222},{"$f":"'Patient Tracking'!B20","v":"Bob Dolittle"},{"$f":"'Patient Tracking'!G20","v":"Initial Assessment"},{"$f":"MAX(IF(C19:C92=C19,H19:H92,\"\"))","v":2},false,{"$f":"'Patient Tracking'!F20","v":1},0,{"$f":"MAX(IF(G19:G92=C19&\"TRUE\",I19:I92,\"\"))","v":3},42796,{"$f":"'Patient Tracking'!J20","v":42068},{"$f":"MAX(IF(U19:U92=U19,L19:L92,\"\"))","v":42917},{"$f":"IF('Patient Tracking'!H20=\"\",999999,'Patient Tracking'!H20)","v":999999},{"$f":"MIN(IF(C19:C92=C19,N19:N92,\"\"))","v":42931},42931,"GADSCOREFALSE","PHQSCOREFALSE","","","CONTACT1222",42068,18.714285714285715,{"$f":"IF(E19=\"current episode initial assessment\",\"\",'Patient Tracking'!L20)","v":21},{"$f":"IF(E19=\"current episode initial assessment\",\"\",'Patient Tracking'!N20)","v":12},"","","","","","-100",{"$f":"MAX(IF(Q19:Q92=\"GADSCORE\"&G19,AE19:AE92,IF(C19=C18,AF18,\"-100\")),\"-100\")","v":-100},"No Score","",{"$f":"MAX(IF(Q19:Q92=\"GADSCORE\"&C19&\"TRUE\",L19:L92,IF(C19=C18,AJ18,\"\")))","v":42917},"2017-07-01",{"$f":"'Patient Tracking'!R20","v":42094},0,42630,{"$f":"'Patient Tracking'!Q20","v":0},"Flag as safety risk"]
[{"$f":"'Patient Tracking'!C21","v":"Active"},"Active",{"$f":"'Patient Tracking'!A21","v":1222},{"$f":"'Patient Tracking'!B21","v":"Bob Dolittle"},{"$f":"'Patient Tracking'!G21","v":1},{"$f":"MAX(IF(C20:C93=C20,H20:H93,\"\"))","v":2},false,{"$f":"'Patient Tracking'!F21","v":1},1,{"$f":"MAX(IF(G20:G93=C20&\"TRUE\",I20:I93,\"\"))","v":3},42796,{"$f":"'Patient Tracking'!J21","v":42174},{"$f":"MAX(IF(U20:U93=U20,L20:L93,\"\"))","v":42917},{"$f":"IF('Patient Tracking'!H21=\"\",999999,'Patient Tracking'!H21)","v":999999},{"$f":"MIN(IF(C20:C93=C20,N20:N93,\"\"))","v":42931},42931,"GADSCOREFALSE","PHQSCOREFALSE","","","CONTACT1222",42174,18.714285714285715,{"$f":"IF(E20=\"current episode initial assessment\",\"\",'Patient Tracking'!L21)","v":19},{"$f":"IF(E20=\"current episode initial assessment\",\"\",'Patient Tracking'!N21)","v":10},"","","","","","-100",{"$f":"MAX(IF(Q20:Q93=\"GADSCORE\"&G20,AE20:AE93,IF(C20=C19,AF19,\"-100\")),\"-100\")","v":-100},"No Score","",{"$f":"MAX(IF(Q20:Q93=\"GADSCORE\"&C20&\"TRUE\",L20:L93,IF(C20=C19,AJ19,\"\")))","v":42917},"2017-07-01",{"$f":"'Patient Tracking'!R21","v":42418},0,42630,{"$f":"'Patient Tracking'!Q21","v":0},"Flag as safety risk"]
[{"$f":"'Patient Tracking'!C22","v":"Active"},"Active",{"$f":"'Patient Tracking'!A22","v":1222},{"$f":"'Patient Tracking'!B22","v":"Bob Dolittle"},{"$f":"'Patient Tracking'!G22","v":2},{"$f":"MAX(IF(C21:C94=C21,H21:H94,\"\"))","v":2},false,{"$f":"'Patient Tracking'!F22","v":1},2,{"$f":"MAX(IF(G21:G94=C21&\"TRUE\",I21:I94,\"\"))","v":3},42796,{"$f":"'Patient Tracking'!J22","v":42187},{"$f":"MAX(IF(U21:U94=U21,L21:L94,\"\"))","v":42917},{"$f":"IF('Patient Tracking'!H22=\"\",999999,'Patient Tracking'!H22)","v":999999},{"$f":"MIN(IF(C21:C94=C21,N21:N94,\"\"))","v":42931},42931,"GADSCOREFALSE","PHQSCOREFALSE","","","CONTACT1222",42187,18.714285714285715,{"$f":"IF(E21=\"current episode initial assessment\",\"\",'Patient Tracking'!L22)","v":15},{"$f":"IF(E21=\"current episode initial assessment\",\"\",'Patient Tracking'!N22)","v":7},"","","","","","-100",{"$f":"MAX(IF(Q21:Q94=\"GADSCORE\"&G21,AE21:AE94,IF(C21=C20,AF20,\"-100\")),\"-100\")","v":-100},"No Score","",{"$f":"MAX(IF(Q21:Q94=\"GADSCORE\"&C21&\"TRUE\",L21:L94,IF(C21=C20,AJ20,\"\")))","v":42917},"2017-07-01",{"$f":"'Patient Tracking'!R22","v":42630},0,42630,{"$f":"'Patient Tracking'!Q22","v":0},"Flag as safety risk"]
[{"$f":"'Patient Tracking'!C23","v":"Active"},"Active",{"$f":"'Patient Tracking'!A23","v":1222},{"$f":"'Patient Tracking'!B23","v":"Bob Dolittle"},{"$f":"'Patient Tracking'!G23","v":3},{"$f":"MAX(IF(C22:C95=C22,H22:H95,\"\"))","v":2},false,{"$f":"'Patient Tracking'!F23","v":1},3,{"$f":"MAX(IF(G22:G95=C22&\"TRUE\",I22:I95,\"\"))","v":3},42796,{"$f":"'Patient Tracking'!J23","v":42201},{"$f":"MAX(IF(U22:U95=U22,L22:L95,\"\"))","v":42917},{"$f":"IF('Patient Tracking'!H23=\"\",999999,'Patient Tracking'!H23)","v":999999},{"$f":"MIN(IF(C22:C95=C22,N22:N95,\"\"))","v":42931},42931,"GADSCOREFALSE","PHQSCOREFALSE","","","CONTACT1222",42201,18.714285714285715,{"$f":"IF(E22=\"current episode initial assessment\",\"\",'Patient Tracking'!L23)","v":10},{"$f":"IF(E22=\"current episode initial assessment\",\"\",'Patient Tracking'!N23)","v":7},"","","","","","-100",{"$f":"MAX(IF(Q22:Q95=\"GADSCORE\"&G22,AE22:AE95,IF(C22=C21,AF21,\"-100\")),\"-100\")","v":-100},"No Score","",{"$f":"MAX(IF(Q22:Q95=\"GADSCORE\"&C22&\"TRUE\",L22:L95,IF(C22=C21,AJ21,\"\")))","v":42917},"2017-07-01",{"$f":"'Patient Tracking'!R23","v":0},0,42630,{"$f":"'Patient Tracking'!Q23","v":0},"Flag as safety risk"]
[{"$f":"'Patient Tracking'!C24","v":"Active"},"Active",{"$f":"'Patient Tracking'!A24","v":1222},{"$f":"'Patient Tracking'!B24","v":"Bob Dolittle"},{"$f":"'Patient Tracking'!G24","v":4},{"$f":"MAX(IF(C23:C96=C23,H23:H96,\"\"))","v":2},false,{"$f":"'Patient Tracking'!F24","v":1},4,{"$f":"MAX(IF(G23:G96=C23&\"TRUE\",I23:I96,\"\"))","v":3},42796,{"$f":"'Patient Tracking'!J24","v":42217},{"$f":"MAX(IF(U23:U96=U23,L23:L96,\"\"))","v":42917},{"$f":"IF('Patient Tracking'!H24=\"\",999999,'Patient Tracking'!H24)","v":999999},{"$f":"MIN(IF(C23:C96=C23,N23:N96,\"\"))","v":42931},42931,"GADSCOREFALSE","PHQSCOREFALSE","","","CONTACT1222",42217,18.714285714285715,{"$f":"IF(E23=\"current episode initial assessment\",\"\",'Patient Tracking'!L24)","v":9},{"$f":"IF(E23=\"current episode initial assessment\",\"\",'Patient Tracking'!N24)","v":8},"","","","","","-100",{"$f":"MAX(IF(Q23:Q96=\"GADSCORE\"&G23,AE23:AE96,IF(C23=C22,AF22,\"-100\")),\"-100\")","v":-100},"No Score","",{"$f":"MAX(IF(Q23:Q96=\"GADSCORE\"&C23&\"TRUE\",L23:L96,IF(C23=C22,AJ22,\"\")))","v":42917},"2017-07-01",{"$f":"'Patient Tracking'!R24","v":0},0,42630,{"$f":"'Patient Tracking'!Q24","v":0},"Flag as safety risk"]
[{"$f":"'Patient Tracking'!C25","v":"Active"},"Active",{"$f":"'Patient Tracking'!A25","v":1222},{"$f":"'Patient Tracking'!B25","v":"Bob Dolittle"},{"$f":"'Patient Tracking'!G25","v":5},{"$f":"MAX(IF(C24:C97=C24,H24:H97,\"\"))","v":2},false,{"$f":"'Patient Tracking'!F25","v":1},4,{"$f":"MAX(IF(G24:G97=C24&\"TRUE\",I24:I97,\"\"))","v":3},42796,{"$f":"'Patient Tracking'!J25","v":"Missed"},{"$f":"MAX(IF(U24:U97=U24,L24:L97,\"\"))","v":42884},{"$f":"IF('Patient Tracking'!H25=\"\",999999,'Patient Tracking'!H25)","v":999999},{"$f":"MIN(IF(C24:C97=C24,N24:N97,\"\"))","v":42931},42931,"None","None","","",0,0,18.714285714285715,{"$f":"IF(E24=\"current episode initial assessment\",\"\",'Patient Tracking'!L25)","v":"."},{"$f":"IF(E24=\"current episode initial assessment\",\"\",'Patient Tracking'!N25)","v":"."},"No Score","","","","No Score","-100",{"$f":"MAX(IF(Q24:Q97=\"GADSCORE\"&G24,AE24:AE97,IF(C24=C23,AF23,\"-100\")),\"-100\")","v":-100},"No Score","",{"$f":"MAX(IF(Q24:Q97=\"GADSCORE\"&C24&\"TRUE\",L24:L97,IF(C24=C23,AJ23,\"\")))","v":42917},"2017-07-01",{"$f":"'Patient Tracking'!R25","v":0},0,42630,{"$f":"'Patient Tracking'!Q25","v":0},"Flag as safety risk"]
[{"$f":"'Patient Tracking'!C26","v":"Active"},"Active",{"$f":"'Patient Tracking'!A26","v":1222},{"$f":"'Patient Tracking'!B26","v":"Bob Dolittle"},{"$f":"'Patient Tracking'!G26","v":6},{"$f":"MAX(IF(C25:C98=C25,H25:H98,\"\"))","v":2},false,{"$f":"'Patient Tracking'!F26","v":1},4,{"$f":"MAX(IF(G25:G98=C25&\"TRUE\",I25:I98,\"\"))","v":3},42796,{"$f":"'Patient Tracking'!J26","v":"Missed"},{"$f":"MAX(IF(U25:U98=U25,L25:L98,\"\"))","v":42884},{"$f":"IF('Patient Tracking'!H26=\"\",999999,'Patient Tracking'!H26)","v":999999},{"$f":"MIN(IF(C25:C98=C25,N25:N98,\"\"))","v":42931},42931,"None","None","","",0,0,18.714285714285715,{"$f":"IF(E25=\"current episode initial assessment\",\"\",'Patient Tracking'!L26)","v":"."},{"$f":"IF(E25=\"current episode initial assessment\",\"\",'Patient Tracking'!N26)","v":"."},"No Score","","","","No Score","-100",{"$f":"MAX(IF(Q25:Q98=\"GADSCORE\"&G25,AE25:AE98,IF(C25=C24,AF24,\"-100\")),\"-100\")","v":-100},"No Score","",{"$f":"MAX(IF(Q25:Q98=\"GADSCORE\"&C25&\"TRUE\",L25:L98,IF(C25=C24,AJ24,\"\")))","v":42917},"2017-07-01",{"$f":"'Patient Tracking'!R26","v":0},0,42630,{"$f":"'Patient Tracking'!Q26","v":0},"Flag as safety risk"]
[{"$f":"'Patient Tracking'!C27","v":"Active"},"Active",{"$f":"'Patient Tracking'!A27","v":1222},{"$f":"'Patient Tracking'!B27","v":"Bob Dolittle"},{"$f":"'Patient Tracking'!G27","v":7},{"$f":"MAX(IF(C26:C99=C26,H26:H99,\"\"))","v":2},false,{"$f":"'Patient Tracking'!F27","v":1},5,{"$f":"MAX(IF(G26:G99=C26&\"TRUE\",I26:I99,\"\"))","v":3},42796,{"$f":"'Patient Tracking'!J27","v":42262},{"$f":"MAX(IF(U26:U99=U26,L26:L99,\"\"))","v":42917},{"$f":"IF('Patient Tracking'!H27=\"\",999999,'Patient Tracking'!H27)","v":999999},{"$f":"MIN(IF(C26:C99=C26,N26:N99,\"\"))","v":42931},42931,"None","None","","","CONTACT1222",42262,18.714285714285715,{"$f":"IF(E26=\"current episode initial assessment\",\"\",'Patient Tracking'!L27)","v":"."},{"$f":"IF(E26=\"current episode initial assessment\",\"\",'Patient Tracking'!N27)","v":"."},"No Score","","","","No Score","-100",{"$f":"MAX(IF(Q26:Q99=\"GADSCORE\"&G26,AE26:AE99,IF(C26=C25,AF25,\"-100\")),\"-100\")","v":-100},"No Score","",{"$f":"MAX(IF(Q26:Q99=\"GADSCORE\"&C26&\"TRUE\",L26:L99,IF(C26=C25,AJ25,\"\")))","v":42917},"2017-07-01",{"$f":"'Patient Tracking'!R27","v":0},0,42630,{"$f":"'Patient Tracking'!Q27","v":0},"Flag as safety risk"]
[{"$f":"'Patient Tracking'!C28","v":"Active"},"Active",{"$f":"'Patient Tracking'!A28","v":1222},{"$f":"'Patient Tracking'!B28","v":"Bob Dolittle"},{"$f":"'Patient Tracking'!G28","v":"Initial Assessment"},{"$f":"MAX(IF(C27:C100=C27,H27:H100,\"\"))","v":2},"1222TRUE",{"$f":"'Patient Tracking'!F28","v":2},0,{"$f":"MAX(IF(G27:G100=C27&\"TRUE\",I27:I100,\"\"))","v":3},42796,{"$f":"'Patient Tracking'!J28","v":42796},{"$f":"MAX(IF(U27:U100=U27,L27:L100,\"\"))","v":42917},{"$f":"IF('Patient Tracking'!H28=\"\",999999,'Patient Tracking'!H28)","v":999999},{"$f":"MIN(IF(C27:C100=C27,N27:N100,\"\"))","v":42931},42931,"GADSCORE1222TRUE","PHQSCORE1222TRUE","Initial Score1222","Initial Score1222","CONTACT1222",42796,18.714285714285715,{"$f":"IF(E27=\"current episode initial assessment\",\"\",'Patient Tracking'!L28)","v":22},{"$f":"IF(E27=\"current episode initial assessment\",\"\",'Patient Tracking'!N28)","v":12},22,"","","",12,"-100",{"$f":"MAX(IF(Q27:Q100=\"GADSCORE\"&G27,AE27:AE100,IF(C27=C26,AF26,\"-100\")),\"-100\")","v":10},10,-0.16666666666666663,{"$f":"MAX(IF(Q27:Q100=\"GADSCORE\"&C27&\"TRUE\",L27:L100,IF(C27=C26,AJ26,\"\")))","v":42917},"2017-07-01",{"$f":"'Patient Tracking'!R28","v":0},0,42630,{"$f":"'Patient Tracking'!Q28","v":0},"Flag as safety risk"]
[{"$f":"'Patient Tracking'!C29","v":"Active"},"Active",{"$f":"'Patient Tracking'!A29","v":1222},{"$f":"'Patient Tracking'!B29","v":"Bob Dolittle"},{"$f":"'Patient Tracking'!G29","v":1},{"$f":"MAX(IF(C28:C101=C28,H28:H101,\"\"))","v":2},"1222TRUE",{"$f":"'Patient Tracking'!F29","v":2},1,{"$f":"MAX(IF(G28:G101=C28&\"TRUE\",I28:I101,\"\"))","v":3},42796,{"$f":"'Patient Tracking'!J29","v":42810},{"$f":"MAX(IF(U28:U101=U28,L28:L101,\"\"))","v":42917},{"$f":"IF('Patient Tracking'!H29=\"\",999999,'Patient Tracking'!H29)","v":999999},{"$f":"MIN(IF(C28:C101=C28,N28:N101,\"\"))","v":42931},42931,"GADSCORE1222TRUE","PHQSCORE1222TRUE","","","CONTACT1222",42810,18.714285714285715,{"$f":"IF(E28=\"current episode initial assessment\",\"\",'Patient Tracking'!L29)","v":21},{"$f":"IF(E28=\"current episode initial assessment\",\"\",'Patient Tracking'!N29)","v":10},22,"","","",12,"-100",{"$f":"MAX(IF(Q28:Q101=\"GADSCORE\"&G28,AE28:AE101,IF(C28=C27,AF27,\"-100\")),\"-100\")","v":10},10,-0.16666666666666663,{"$f":"MAX(IF(Q28:Q101=\"GADSCORE\"&C28&\"TRUE\",L28:L101,IF(C28=C27,AJ27,\"\")))","v":42917},"2017-07-01",{"$f":"'Patient Tracking'!R29","v":0},0,42630,{"$f":"'Patient Tracking'!Q29","v":0},"Flag as safety risk"]
[{"$f":"'Patient Tracking'!C30","v":"Active"},"Active",{"$f":"'Patient Tracking'!A30","v":1222},{"$f":"'Patient Tracking'!B30","v":"Bob Dolittle"},{"$f":"'Patient Tracking'!G30","v":2},{"$f":"MAX(IF(C29:C102=C29,H29:H102,\"\"))","v":2},"1222TRUE",{"$f":"'Patient Tracking'!F30","v":2},2,{"$f":"MAX(IF(G29:G102=C29&\"TRUE\",I29:I102,\"\"))","v":3},42796,{"$f":"'Patient Tracking'!J30","v":42824},{"$f":"MAX(IF(U29:U102=U29,L29:L102,\"\"))","v":42917},{"$f":"IF('Patient Tracking'!H30=\"\",999999,'Patient Tracking'!H30)","v":999999},{"$f":"MIN(IF(C29:C102=C29,N29:N102,\"\"))","v":42931},42931,"GADSCORE1222TRUE","PHQSCORE1222TRUE","","","CONTACT1222",42824,18.714285714285715,{"$f":"IF(E29=\"current episode initial assessment\",\"\",'Patient Tracking'!L30)","v":22},{"$f":"IF(E29=\"current episode initial assessment\",\"\",'Patient Tracking'!N30)","v":11},22,"","","",12,"-100",{"$f":"MAX(IF(Q29:Q102=\"GADSCORE\"&G29,AE29:AE102,IF(C29=C28,AF28,\"-100\")),\"-100\")","v":10},10,-0.16666666666666663,{"$f":"MAX(IF(Q29:Q102=\"GADSCORE\"&C29&\"TRUE\",L29:L102,IF(C29=C28,AJ28,\"\")))","v":42917},"2017-07-01",{"$f":"'Patient Tracking'!R30","v":0},0,42630,{"$f":"'Patient Tracking'!Q30","v":0},"Flag as safety risk"]
[{"$f":"'Patient Tracking'!C31","v":"Active"},"Active",{"$f":"'Patient Tracking'!A31","v":1222},{"$f":"'Patient Tracking'!B31","v":"Bob Dolittle"},{"$f":"'Patient Tracking'!G31","v":3},{"$f":"MAX(IF(C30:C103=C30,H30:H103,\"\"))","v":2},false,{"$f":"'Patient Tracking'!F31","v":2},2,{"$f":"MAX(IF(G30:G103=C30&\"TRUE\",I30:I103,\"\"))","v":3},42796,{"$f":"'Patient Tracking'!J31","v":"Missed"},{"$f":"MAX(IF(U30:U103=U30,L30:L103,\"\"))","v":42884},{"$f":"IF('Patient Tracking'!H31=\"\",999999,'Patient Tracking'!H31)","v":999999},{"$f":"MIN(IF(C30:C103=C30,N30:N103,\"\"))","v":42931},42931,"None","None","","",0,0,18.714285714285715,{"$f":"IF(E30=\"current episode initial assessment\",\"\",'Patient Tracking'!L31)","v":"."},{"$f":"IF(E30=\"current episode initial assessment\",\"\",'Patient Tracking'!N31)","v":"."},22,"","","",12,"-100",{"$f":"MAX(IF(Q30:Q103=\"GADSCORE\"&G30,AE30:AE103,IF(C30=C29,AF29,\"-100\")),\"-100\")","v":10},10,-0.16666666666666663,{"$f":"MAX(IF(Q30:Q103=\"GADSCORE\"&C30&\"TRUE\",L30:L103,IF(C30=C29,AJ29,\"\")))","v":42917},"2017-07-01",{"$f":"'Patient Tracking'!R31","v":0},0,42630,{"$f":"'Patient Tracking'!Q31","v":0},"Flag as safety risk"]
[{"$f":"'Patient Tracking'!C32","v":"Active"},"Active",{"$f":"'Patient Tracking'!A32","v":1222},{"$f":"'Patient Tracking'!B32","v":"Bob Dolittle"},{"$f":"'Patient Tracking'!G32","v":4},{"$f":"MAX(IF(C31:C104=C31,H31:H104,\"\"))","v":2},"1222TRUE",{"$f":"'Patient Tracking'!F32","v":2},3,{"$f":"MAX(IF(G31:G104=C31&\"TRUE\",I31:I104,\"\"))","v":3},42796,{"$f":"'Patient Tracking'!J32","v":42917},{"$f":"MAX(IF(U31:U104=U31,L31:L104,\"\"))","v":42917},{"$f":"IF('Patient Tracking'!H32=\"\",999999,'Patient Tracking'!H32)","v":999999},{"$f":"MIN(IF(C31:C104=C31,N31:N104,\"\"))","v":42931},42931,"GADSCORE1222TRUE","PHQSCORE1222TRUE","","","CONTACT1222",42917,18.714285714285715,{"$f":"IF(E31=\"current episode initial assessment\",\"\",'Patient Tracking'!L32)","v":19},{"$f":"IF(E31=\"current episode initial assessment\",\"\",'Patient Tracking'!N32)","v":10},22,19,-0.13636363636363635,"2017-07-01",12,10,{"$f":"MAX(IF(Q31:Q104=\"GADSCORE\"&G31,AE31:AE104,IF(C31=C30,AF30,\"-100\")),\"-100\")","v":10},10,-0.16666666666666663,{"$f":"MAX(IF(Q31:Q104=\"GADSCORE\"&C31&\"TRUE\",L31:L104,IF(C31=C30,AJ30,\"\")))","v":42917},"2017-07-01",{"$f":"'Patient Tracking'!R32","v":0},0,42630,{"$f":"'Patient Tracking'!Q32","v":0},"Flag as safety risk"]
[{"$f":"'Patient Tracking'!C33","v":"Active"},"Active",{"$f":"'Patient Tracking'!A33","v":1222},{"$f":"'Patient Tracking'!B33","v":"Bob Dolittle"},{"$f":"'Patient Tracking'!G33","v":""},{"$f":"MAX(IF(C32:C105=C32,H32:H105,\"\"))","v":0},false,{"$f":"'Patient Tracking'!F33","v":0},3,{"$f":"MAX(IF(G32:G105=C32&\"TRUE\",I32:I105,\"\"))","v":0},42796,{"$f":"'Patient Tracking'!J33","v":0},{"$f":"MAX(IF(U32:U105=U32,L32:L105,\"\"))","v":42884},{"$f":"IF('Patient Tracking'!H33=\"\",999999,'Patient Tracking'!H33)","v":42931},{"$f":"MIN(IF(C32:C105=C32,N32:N105,\"\"))","v":42931},42931,"None","None","","",0,0,18.714285714285715,{"$f":"IF(E32=\"current episode initial assessment\",\"\",'Patient Tracking'!L33)","v":"."},{"$f":"IF(E32=\"current episode initial assessment\",\"\",'Patient Tracking'!N33)","v":"."},22,"","","",12,"-100",{"$f":"MAX(IF(Q32:Q105=\"GADSCORE\"&G32,AE32:AE105,IF(C32=C31,AF31,\"-100\")),\"-100\")","v":10},10,-0.16666666666666663,{"$f":"MAX(IF(Q32:Q105=\"GADSCORE\"&C32&\"TRUE\",L32:L105,IF(C32=C31,AJ31,\"\")))","v":42917},"2017-07-01",{"$f":"'Patient Tracking'!R33","v":0},0,42630,{"$f":"'Patient Tracking'!Q33","v":0},"Flag as safety risk"]
[{"$f":"'Patient Tracking'!C34","v":"Active"},"Active",{"$f":"'Patient Tracking'!A34","v":1222},{"$f":"'Patient Tracking'!B34","v":"Bob Dolittle"},{"$f":"'Patient Tracking'!G34","v":""},{"$f":"MAX(IF(C33:C106=C33,H33:H106,\"\"))","v":0},false,{"$f":"'Patient Tracking'!F34","v":0},3,{"$f":"MAX(IF(G33:G106=C33&\"TRUE\",I33:I106,\"\"))","v":0},42796,{"$f":"'Patient Tracking'!J34","v":0},{"$f":"MAX(IF(U33:U106=U33,L33:L106,\"\"))","v":42884},{"$f":"IF('Patient Tracking'!H34=\"\",999999,'Patient Tracking'!H34)","v":42945},{"$f":"MIN(IF(C33:C106=C33,N33:N106,\"\"))","v":42945},42945,"None","None","","",0,0,18.714285714285715,{"$f":"IF(E33=\"current episode initial assessment\",\"\",'Patient Tracking'!L34)","v":"."},{"$f":"IF(E33=\"current episode initial assessment\",\"\",'Patient Tracking'!N34)","v":"."},22,"","","",12,"-100",{"$f":"MAX(IF(Q33:Q106=\"GADSCORE\"&G33,AE33:AE106,IF(C33=C32,AF32,\"-100\")),\"-100\")","v":10},10,-0.16666666666666663,{"$f":"MAX(IF(Q33:Q106=\"GADSCORE\"&C33&\"TRUE\",L33:L106,IF(C33=C32,AJ32,\"\")))","v":42917},"2017-07-01",{"$f":"'Patient Tracking'!R34","v":0},0,42630,{"$f":"'Patient Tracking'!Q34","v":0},"Flag as safety risk"]
[{"$f":"'Patient Tracking'!C35","v":"Active"},"Active",{"$f":"'Patient Tracking'!A35","v":5555},{"$f":"'Patient Tracking'!B35","v":"Albert Smith"},{"$f":"'Patient Tracking'!G35","v":"Current Episode Initial Assessment"},{"$f":"MAX(IF(C34:C107=C34,H34:H107,\"\"))","v":2},false,{"$f":"'Patient Tracking'!F35","v":2},0,{"$f":"MAX(IF(G34:G107=C34&\"TRUE\",I34:I107,\"\"))","v":5},42799,{"$f":"'Patient Tracking'!J35","v":42799},{"$f":"MAX(IF(U34:U107=U34,L34:L107,\"\"))","v":42884},{"$f":"IF('Patient Tracking'!H35=\"\",999999,'Patient Tracking'!H35)","v":"2-week follow-up schedule"},{"$f":"MIN(IF(C34:C107=C34,N34:N107,\"\"))","v":42944},42944,"None","None","","",0,42799,18.285714285714285,{"$f":"IF(E34=\"current episode initial assessment\",\"\",'Patient Tracking'!L35)","v":""},{"$f":"IF(E34=\"current episode initial assessment\",\"\",'Patient Tracking'!N35)","v":""},"No Score","","","","No Score","-100",{"$f":"MAX(IF(Q34:Q107=\"GADSCORE\"&G34,AE34:AE107,IF(C34=C33,AF33,\"-100\")),\"-100\")","v":-100},"No Score","",{"$f":"MAX(IF(Q34:Q107=\"GADSCORE\"&C34&\"TRUE\",L34:L107,IF(C34=C33,AJ33,\"\")))","v":42916},"2017-06-30",{"$f":"'Patient Tracking'!R35","v":""},0,"",{"$f":"'Patient Tracking'!Q35","v":"Flag for discussion"},"Flag for discussion"]
[{"$f":"'Patient Tracking'!C36","v":"Active"},"Active",{"$f":"'Patient Tracking'!A36","v":5555},{"$f":"'Patient Tracking'!B36","v":"Albert Smith"},{"$f":"'Patient Tracking'!G36","v":"Initial Assessment"},{"$f":"MAX(IF(C35:C108=C35,H35:H108,\"\"))","v":2},false,{"$f":"'Patient Tracking'!F36","v":1},0,{"$f":"MAX(IF(G35:G108=C35&\"TRUE\",I35:I108,\"\"))","v":5},42799,{"$f":"'Patient Tracking'!J36","v":41747},{"$f":"MAX(IF(U35:U108=U35,L35:L108,\"\"))","v":42916},{"$f":"IF('Patient Tracking'!H36=\"\",999999,'Patient Tracking'!H36)","v":999999},{"$f":"MIN(IF(C35:C108=C35,N35:N108,\"\"))","v":42944},42944,"GADSCOREFALSE","PHQSCOREFALSE","","","CONTACT5555",41747,18.285714285714285,{"$f":"IF(E35=\"current episode initial assessment\",\"\",'Patient Tracking'!L36)","v":18},{"$f":"IF(E35=\"current episode initial assessment\",\"\",'Patient Tracking'!N36)","v":14},"","","","","","-100",{"$f":"MAX(IF(Q35:Q108=\"GADSCORE\"&G35,AE35:AE108,IF(C35=C34,AF34,\"-100\")),\"-100\")","v":-100},"No Score","",{"$f":"MAX(IF(Q35:Q108=\"GADSCORE\"&C35&\"TRUE\",L35:L108,IF(C35=C34,AJ34,\"\")))","v":42916},"2017-06-30",{"$f":"'Patient Tracking'!R36","v":0},0,"",{"$f":"'Patient Tracking'!Q36","v":0},"Flag for discussion"]
[{"$f":"'Patient Tracking'!C37","v":"Active"},"Active",{"$f":"'Patient Tracking'!A37","v":5555},{"$f":"'Patient Tracking'!B37","v":"Albert Smith"},{"$f":"'Patient Tracking'!G37","v":1},{"$f":"MAX(IF(C36:C109=C36,H36:H109,\"\"))","v":2},false,{"$f":"'Patient Tracking'!F37","v":1},1,{"$f":"MAX(IF(G36:G109=C36&\"TRUE\",I36:I109,\"\"))","v":5},42799,{"$f":"'Patient Tracking'!J37","v":41761},{"$f":"MAX(IF(U36:U109=U36,L36:L109,\"\"))","v":42916},{"$f":"IF('Patient Tracking'!H37=\"\",999999,'Patient Tracking'!H37)","v":999999},{"$f":"MIN(IF(C36:C109=C36,N36:N109,\"\"))","v":42944},42944,"GADSCOREFALSE","PHQSCOREFALSE","","","CONTACT5555",41761,18.285714285714285,{"$f":"IF(E36=\"current episode initial assessment\",\"\",'Patient Tracking'!L37)","v":19},{"$f":"IF(E36=\"current episode initial assessment\",\"\",'Patient Tracking'!N37)","v":15},"","","","","","-100",{"$f":"MAX(IF(Q36:Q109=\"GADSCORE\"&G36,AE36:AE109,IF(C36=C35,AF35,\"-100\")),\"-100\")","v":-100},"No Score","",{"$f":"MAX(IF(Q36:Q109=\"GADSCORE\"&C36&\"TRUE\",L36:L109,IF(C36=C35,AJ35,\"\")))","v":42916},"2017-06-30",{"$f":"'Patient Tracking'!R37","v":0},0,"",{"$f":"'Patient Tracking'!Q37","v":0},"Flag for discussion"]
[{"$f":"'Patient Tracking'!C38","v":"Active"},"Active",{"$f":"'Patient Tracking'!A38","v":5555},{"$f":"'Patient Tracking'!B38","v":"Albert Smith"},{"$f":"'Patient Tracking'!G38","v":2},{"$f":"MAX(IF(C37:C110=C37,H37:H110,\"\"))","v":2},false,{"$f":"'Patient Tracking'!F38","v":1},2,{"$f":"MAX(IF(G37:G110=C37&\"TRUE\",I37:I110,\"\"))","v":5},42799,{"$f":"'Patient Tracking'!J38","v":41775},{"$f":"MAX(IF(U37:U110=U37,L37:L110,\"\"))","v":42916},{"$f":"IF('Patient Tracking'!H38=\"\",999999,'Patient Tracking'!H38)","v":999999},{"$f":"MIN(IF(C37:C110=C37,N37:N110,\"\"))","v":42944},42944,"GADSCOREFALSE","PHQSCOREFALSE","","","CONTACT5555",41775,18.285714285714285,{"$f":"IF(E37=\"current episode initial assessment\",\"\",'Patient Tracking'!L38)","v":17},{"$f":"IF(E37=\"current episode initial assessment\",\"\",'Patient Tracking'!N38)","v":13},"","","","","","-100",{"$f":"MAX(IF(Q37:Q110=\"GADSCORE\"&G37,AE37:AE110,IF(C37=C36,AF36,\"-100\")),\"-100\")","v":-100},"No Score","",{"$f":"MAX(IF(Q37:Q110=\"GADSCORE\"&C37&\"TRUE\",L37:L110,IF(C37=C36,AJ36,\"\")))","v":42916},"2017-06-30",{"$f":"'Patient Tracking'!R38","v":0},0,"",{"$f":"'Patient Tracking'!Q38","v":0},"Flag for discussion"]
[{"$f":"'Patient Tracking'!C39","v":"Active"},"Active",{"$f":"'Patient Tracking'!A39","v":5555},{"$f":"'Patient Tracking'!B39","v":"Albert Smith"},{"$f":"'Patient Tracking'!G39","v":3},{"$f":"MAX(IF(C38:C111=C38,H38:H111,\"\"))","v":2},false,{"$f":"'Patient Tracking'!F39","v":1},3,{"$f":"MAX(IF(G38:G111=C38&\"TRUE\",I38:I111,\"\"))","v":5},42799,{"$f":"'Patient Tracking'!J39","v":41789},{"$f":"MAX(IF(U38:U111=U38,L38:L111,\"\"))","v":42916},{"$f":"IF('Patient Tracking'!H39=\"\",999999,'Patient Tracking'!H39)","v":999999},{"$f":"MIN(IF(C38:C111=C38,N38:N111,\"\"))","v":42944},42944,"GADSCOREFALSE","PHQSCOREFALSE","","","CONTACT5555",41789,18.285714285714285,{"$f":"IF(E38=\"current episode initial assessment\",\"\",'Patient Tracking'!L39)","v":17},{"$f":"IF(E38=\"current episode initial assessment\",\"\",'Patient Tracking'!N39)","v":14},"","","","","","-100",{"$f":"MAX(IF(Q38:Q111=\"GADSCORE\"&G38,AE38:AE111,IF(C38=C37,AF37,\"-100\")),\"-100\")","v":-100},"No Score","",{"$f":"MAX(IF(Q38:Q111=\"GADSCORE\"&C38&\"TRUE\",L38:L111,IF(C38=C37,AJ37,\"\")))","v":42916},"2017-06-30",{"$f":"'Patient Tracking'!R39","v":0},0,"",{"$f":"'Patient Tracking'!Q39","v":0},"Flag for discussion"]
[{"$f":"'Patient Tracking'!C40","v":"Active"},"Active",{"$f":"'Patient Tracking'!A40","v":5555},{"$f":"'Patient Tracking'!B40","v":"Albert Smith"},{"$f":"'Patient Tracking'!G40","v":4},{"$f":"MAX(IF(C39:C112=C39,H39:H112,\"\"))","v":2},false,{"$f":"'Patient Tracking'!F40","v":1},3,{"$f":"MAX(IF(G39:G112=C39&\"TRUE\",I39:I112,\"\"))","v":5},42799,{"$f":"'Patient Tracking'!J40","v":"Missed"},{"$f":"MAX(IF(U39:U112=U39,L39:L112,\"\"))","v":42884},{"$f":"IF('Patient Tracking'!H40=\"\",999999,'Patient Tracking'!H40)","v":999999},{"$f":"MIN(IF(C39:C112=C39,N39:N112,\"\"))","v":42944},42944,"None","None","","",0,0,18.285714285714285,{"$f":"IF(E39=\"current episode initial assessment\",\"\",'Patient Tracking'!L40)","v":"."},{"$f":"IF(E39=\"current episode initial assessment\",\"\",'Patient Tracking'!N40)","v":"."},"No Score","","","","No Score","-100",{"$f":"MAX(IF(Q39:Q112=\"GADSCORE\"&G39,AE39:AE112,IF(C39=C38,AF38,\"-100\")),\"-100\")","v":-100},"No Score","",{"$f":"MAX(IF(Q39:Q112=\"GADSCORE\"&C39&\"TRUE\",L39:L112,IF(C39=C38,AJ38,\"\")))","v":42916},"2017-06-30",{"$f":"'Patient Tracking'!R40","v":0},0,"",{"$f":"'Patient Tracking'!Q40","v":0},"Flag for discussion"]
[{"$f":"'Patient Tracking'!C41","v":"Active"},"Active",{"$f":"'Patient Tracking'!A41","v":5555},{"$f":"'Patient Tracking'!B41","v":"Albert Smith"},{"$f":"'Patient Tracking'!G41","v":5},{"$f":"MAX(IF(C40:C113=C40,H40:H113,\"\"))","v":2},false,{"$f":"'Patient Tracking'!F41","v":1},3,{"$f":"MAX(IF(G40:G113=C40&\"TRUE\",I40:I113,\"\"))","v":5},42799,{"$f":"'Patient Tracking'!J41","v":"Missed"},{"$f":"MAX(IF(U40:U113=U40,L40:L113,\"\"))","v":42884},{"$f":"IF('Patient Tracking'!H41=\"\",999999,'Patient Tracking'!H41)","v":999999},{"$f":"MIN(IF(C40:C113=C40,N40:N113,\"\"))","v":42944},42944,"None","None","","",0,0,18.285714285714285,{"$f":"IF(E40=\"current episode initial assessment\",\"\",'Patient Tracking'!L41)","v":"."},{"$f":"IF(E40=\"current episode initial assessment\",\"\",'Patient Tracking'!N41)","v":"."},"No Score","","","","No Score","-100",{"$f":"MAX(IF(Q40:Q113=\"GADSCORE\"&G40,AE40:AE113,IF(C40=C39,AF39,\"-100\")),\"-100\")","v":-100},"No Score","",{"$f":"MAX(IF(Q40:Q113=\"GADSCORE\"&C40&\"TRUE\",L40:L113,IF(C40=C39,AJ39,\"\")))","v":42916},"2017-06-30",{"$f":"'Patient Tracking'!R41","v":0},0,"",{"$f":"'Patient Tracking'!Q41","v":0},"Flag for discussion"]
[{"$f":"'Patient Tracking'!C42","v":"Active"},"Active",{"$f":"'Patient Tracking'!A42","v":5555},{"$f":"'Patient Tracking'!B42","v":"Albert Smith"},{"$f":"'Patient Tracking'!G42","v":"Initial Assessment"},{"$f":"MAX(IF(C41:C114=C41,H41:H114,\"\"))","v":2},"5555TRUE",{"$f":"'Patient Tracking'!F42","v":2},0,{"$f":"MAX(IF(G41:G114=C41&\"TRUE\",I41:I114,\"\"))","v":5},42799,{"$f":"'Patient Tracking'!J42","v":42799},{"$f":"MAX(IF(U41:U114=U41,L41:L114,\"\"))","v":42916},{"$f":"IF('Patient Tracking'!H42=\"\",999999,'Patient Tracking'!H42)","v":999999},{"$f":"MIN(IF(C41:C114=C41,N41:N114,\"\"))","v":42944},42944,"GADSCORE5555TRUE","PHQSCORE5555TRUE","Initial Score5555","Initial Score5555","CONTACT5555",42799,18.285714285714285,{"$f":"IF(E41=\"current episode initial assessment\",\"\",'Patient Tracking'!L42)","v":18},{"$f":"IF(E41=\"current episode initial assessment\",\"\",'Patient Tracking'!N42)","v":14},18,"","","",14,"-100",{"$f":"MAX(IF(Q41:Q114=\"GADSCORE\"&G41,AE41:AE114,IF(C41=C40,AF40,\"-100\")),\"-100\")","v":10},10,-0.2857142857142857,{"$f":"MAX(IF(Q41:Q114=\"GADSCORE\"&C41&\"TRUE\",L41:L114,IF(C41=C40,AJ40,\"\")))","v":42916},"2017-06-30",{"$f":"'Patient Tracking'!R42","v":0},0,"",{"$f":"'Patient Tracking'!Q42","v":0},"Flag for discussion"]
[{"$f":"'Patient Tracking'!C43","v":"Active"},"Active",{"$f":"'Patient Tracking'!A43","v":5555},{"$f":"'Patient Tracking'!B43","v":"Albert Smith"},{"$f":"'Patient Tracking'!G43","v":1},{"$f":"MAX(IF(C42:C115=C42,H42:H115,\"\"))","v":2},"5555TRUE",{"$f":"'Patient Tracking'!F43","v":2},1,{"$f":"MAX(IF(G42:G115=C42&\"TRUE\",I42:I115,\"\"))","v":5},42799,{"$f":"'Patient Tracking'!J43","v":42818},{"$f":"MAX(IF(U42:U115=U42,L42:L115,\"\"))","v":42916},{"$f":"IF('Patient Tracking'!H43=\"\",999999,'Patient Tracking'!H43)","v":999999},{"$f":"MIN(IF(C42:C115=C42,N42:N115,\"\"))","v":42944},42944,"GADSCORE5555TRUE","PHQSCORE5555TRUE","","","CONTACT5555",42818,18.285714285714285,{"$f":"IF(E42=\"current episode initial assessment\",\"\",'Patient Tracking'!L43)","v":17},{"$f":"IF(E42=\"current episode initial assessment\",\"\",'Patient Tracking'!N43)","v":11},18,"","","",14,"-100",{"$f":"MAX(IF(Q42:Q115=\"GADSCORE\"&G42,AE42:AE115,IF(C42=C41,AF41,\"-100\")),\"-100\")","v":10},10,-0.2857142857142857,{"$f":"MAX(IF(Q42:Q115=\"GADSCORE\"&C42&\"TRUE\",L42:L115,IF(C42=C41,AJ41,\"\")))","v":42916},"2017-06-30",{"$f":"'Patient Tracking'!R43","v":0},0,"",{"$f":"'Patient Tracking'!Q43","v":0},"Flag for discussion"]
[{"$f":"'Patient Tracking'!C44","v":"Active"},"Active",{"$f":"'Patient Tracking'!A44","v":5555},{"$f":"'Patient Tracking'!B44","v":"Albert Smith"},{"$f":"'Patient Tracking'!G44","v":2},{"$f":"MAX(IF(C43:C116=C43,H43:H116,\"\"))","v":2},"5555TRUE",{"$f":"'Patient Tracking'!F44","v":2},2,{"$f":"MAX(IF(G43:G116=C43&\"TRUE\",I43:I116,\"\"))","v":5},42799,{"$f":"'Patient Tracking'!J44","v":42832},{"$f":"MAX(IF(U43:U116=U43,L43:L116,\"\"))","v":42916},{"$f":"IF('Patient Tracking'!H44=\"\",999999,'Patient Tracking'!H44)","v":999999},{"$f":"MIN(IF(C43:C116=C43,N43:N116,\"\"))","v":42944},42944,"GADSCORE5555TRUE","PHQSCORE5555TRUE","","","CONTACT5555",42832,18.285714285714285,{"$f":"IF(E43=\"current episode initial assessment\",\"\",'Patient Tracking'!L44)","v":18},{"$f":"IF(E43=\"current episode initial assessment\",\"\",'Patient Tracking'!N44)","v":11},18,"","","",14,"-100",{"$f":"MAX(IF(Q43:Q116=\"GADSCORE\"&G43,AE43:AE116,IF(C43=C42,AF42,\"-100\")),\"-100\")","v":10},10,-0.2857142857142857,{"$f":"MAX(IF(Q43:Q116=\"GADSCORE\"&C43&\"TRUE\",L43:L116,IF(C43=C42,AJ42,\"\")))","v":42916},"2017-06-30",{"$f":"'Patient Tracking'!R44","v":0},0,"",{"$f":"'Patient Tracking'!Q44","v":0},"Flag for discussion"]
[{"$f":"'Patient Tracking'!C45","v":"Active"},"Active",{"$f":"'Patient Tracking'!A45","v":5555},{"$f":"'Patient Tracking'!B45","v":"Albert Smith"},{"$f":"'Patient Tracking'!G45","v":3},{"$f":"MAX(IF(C44:C117=C44,H44:H117,\"\"))","v":2},"5555TRUE",{"$f":"'Patient Tracking'!F45","v":2},3,{"$f":"MAX(IF(G44:G117=C44&\"TRUE\",I44:I117,\"\"))","v":5},42799,{"$f":"'Patient Tracking'!J45","v":42846},{"$f":"MAX(IF(U44:U117=U44,L44:L117,\"\"))","v":42916},{"$f":"IF('Patient Tracking'!H45=\"\",999999,'Patient Tracking'!H45)","v":999999},{"$f":"MIN(IF(C44:C117=C44,N44:N117,\"\"))","v":42944},42944,"GADSCORE5555TRUE","PHQSCORE5555TRUE","","","CONTACT5555",42846,18.285714285714285,{"$f":"IF(E44=\"current episode initial assessment\",\"\",'Patient Tracking'!L45)","v":17},{"$f":"IF(E44=\"current episode initial assessment\",\"\",'Patient Tracking'!N45)","v":11},18,"","","",14,"-100",{"$f":"MAX(IF(Q44:Q117=\"GADSCORE\"&G44,AE44:AE117,IF(C44=C43,AF43,\"-100\")),\"-100\")","v":10},10,-0.2857142857142857,{"$f":"MAX(IF(Q44:Q117=\"GADSCORE\"&C44&\"TRUE\",L44:L117,IF(C44=C43,AJ43,\"\")))","v":42916},"2017-06-30",{"$f":"'Patient Tracking'!R45","v":0},0,"",{"$f":"'Patient Tracking'!Q45","v":0},"Flag for discussion"]
[{"$f":"'Patient Tracking'!C46","v":"Active"},"Active",{"$f":"'Patient Tracking'!A46","v":5555},{"$f":"'Patient Tracking'!B46","v":"Albert Smith"},{"$f":"'Patient Tracking'!G46","v":4},{"$f":"MAX(IF(C45:C118=C45,H45:H118,\"\"))","v":2},"5555TRUE",{"$f":"'Patient Tracking'!F46","v":2},4,{"$f":"MAX(IF(G45:G118=C45&\"TRUE\",I45:I118,\"\"))","v":5},42799,{"$f":"'Patient Tracking'!J46","v":42863},{"$f":"MAX(IF(U45:U118=U45,L45:L118,\"\"))","v":42916},{"$f":"IF('Patient Tracking'!H46=\"\",999999,'Patient Tracking'!H46)","v":999999},{"$f":"MIN(IF(C45:C118=C45,N45:N118,\"\"))","v":42944},42944,"GADSCORE5555TRUE","PHQSCORE5555TRUE","","","CONTACT5555",42863,18.285714285714285,{"$f":"IF(E45=\"current episode initial assessment\",\"\",'Patient Tracking'!L46)","v":19},{"$f":"IF(E45=\"current episode initial assessment\",\"\",'Patient Tracking'!N46)","v":10},18,"","","",14,"-100",{"$f":"MAX(IF(Q45:Q118=\"GADSCORE\"&G45,AE45:AE118,IF(C45=C44,AF44,\"-100\")),\"-100\")","v":10},10,-0.2857142857142857,{"$f":"MAX(IF(Q45:Q118=\"GADSCORE\"&C45&\"TRUE\",L45:L118,IF(C45=C44,AJ44,\"\")))","v":42916},"2017-06-30",{"$f":"'Patient Tracking'!R46","v":0},0,"",{"$f":"'Patient Tracking'!Q46","v":0},"Flag for discussion"]
[{"$f":"'Patient Tracking'!C47","v":"Active"},"Active",{"$f":"'Patient Tracking'!A47","v":5555},{"$f":"'Patient Tracking'!B47","v":"Albert Smith"},{"$f":"'Patient Tracking'!G47","v":5},{"$f":"MAX(IF(C46:C119=C46,H46:H119,\"\"))","v":2},"5555TRUE",{"$f":"'Patient Tracking'!F47","v":2},5,{"$f":"MAX(IF(G46:G119=C46&\"TRUE\",I46:I119,\"\"))","v":5},42799,{"$f":"'Patient Tracking'!J47","v":42916},{"$f":"MAX(IF(U46:U119=U46,L46:L119,\"\"))","v":42916},{"$f":"IF('Patient Tracking'!H47=\"\",999999,'Patient Tracking'!H47)","v":999999},{"$f":"MIN(IF(C46:C119=C46,N46:N119,\"\"))","v":42944},42944,"GADSCORE5555TRUE","PHQSCORE5555TRUE","","","CONTACT5555",42916,18.285714285714285,{"$f":"IF(E46=\"current episode initial assessment\",\"\",'Patient Tracking'!L47)","v":18},{"$f":"IF(E46=\"current episode initial assessment\",\"\",'Patient Tracking'!N47)","v":10},18,18,0,"2017-06-30",14,10,{"$f":"MAX(IF(Q46:Q119=\"GADSCORE\"&G46,AE46:AE119,IF(C46=C45,AF45,\"-100\")),\"-100\")","v":10},10,-0.2857142857142857,{"$f":"MAX(IF(Q46:Q119=\"GADSCORE\"&C46&\"TRUE\",L46:L119,IF(C46=C45,AJ45,\"\")))","v":42916},"2017-06-30",{"$f":"'Patient Tracking'!R47","v":0},0,"",{"$f":"'Patient Tracking'!Q47","v":0},"Flag for discussion"]
[{"$f":"'Patient Tracking'!C48","v":"Active"},"Active",{"$f":"'Patient Tracking'!A48","v":5555},{"$f":"'Patient Tracking'!B48","v":"Albert Smith"},{"$f":"'Patient Tracking'!G48","v":6},{"$f":"MAX(IF(C47:C120=C47,H47:H120,\"\"))","v":2},false,{"$f":"'Patient Tracking'!F48","v":2},5,{"$f":"MAX(IF(G47:G120=C47&\"TRUE\",I47:I120,\"\"))","v":0},42799,{"$f":"'Patient Tracking'!J48","v":"Missed"},{"$f":"MAX(IF(U47:U120=U47,L47:L120,\"\"))","v":42884},{"$f":"IF('Patient Tracking'!H48=\"\",999999,'Patient Tracking'!H48)","v":999999},{"$f":"MIN(IF(C47:C120=C47,N47:N120,\"\"))","v":42944},42944,"None","None","","",0,0,18.285714285714285,{"$f":"IF(E47=\"current episode initial assessment\",\"\",'Patient Tracking'!L48)","v":"."},{"$f":"IF(E47=\"current episode initial assessment\",\"\",'Patient Tracking'!N48)","v":"."},18,"","","",14,"-100",{"$f":"MAX(IF(Q47:Q120=\"GADSCORE\"&G47,AE47:AE120,IF(C47=C46,AF46,\"-100\")),\"-100\")","v":10},10,-0.2857142857142857,{"$f":"MAX(IF(Q47:Q120=\"GADSCORE\"&C47&\"TRUE\",L47:L120,IF(C47=C46,AJ46,\"\")))","v":42916},"2017-06-30",{"$f":"'Patient Tracking'!R48","v":0},0,"",{"$f":"'Patient Tracking'!Q48","v":0},"Flag for discussion"]
[{"$f":"'Patient Tracking'!C49","v":"Active"},"Active",{"$f":"'Patient Tracking'!A49","v":5555},{"$f":"'Patient Tracking'!B49","v":"Albert Smith"},{"$f":"'Patient Tracking'!G49","v":""},{"$f":"MAX(IF(C48:C121=C48,H48:H121,\"\"))","v":0},false,{"$f":"'Patient Tracking'!F49","v":0},5,{"$f":"MAX(IF(G48:G121=C48&\"TRUE\",I48:I121,\"\"))","v":0},42799,{"$f":"'Patient Tracking'!J49","v":0},{"$f":"MAX(IF(U48:U121=U48,L48:L121,\"\"))","v":42884},{"$f":"IF('Patient Tracking'!H49=\"\",999999,'Patient Tracking'!H49)","v":42944},{"$f":"MIN(IF(C48:C121=C48,N48:N121,\"\"))","v":42944},42944,"None","None","","",0,0,18.285714285714285,{"$f":"IF(E48=\"current episode initial assessment\",\"\",'Patient Tracking'!L49)","v":"."},{"$f":"IF(E48=\"current episode initial assessment\",\"\",'Patient Tracking'!N49)","v":"."},18,"","","",14,"-100",{"$f":"MAX(IF(Q48:Q121=\"GADSCORE\"&G48,AE48:AE121,IF(C48=C47,AF47,\"-100\")),\"-100\")","v":10},10,-0.2857142857142857,{"$f":"MAX(IF(Q48:Q121=\"GADSCORE\"&C48&\"TRUE\",L48:L121,IF(C48=C47,AJ47,\"\")))","v":42916},"2017-06-30",{"$f":"'Patient Tracking'!R49","v":0},0,"",{"$f":"'Patient Tracking'!Q49","v":0},"Flag for discussion"]
[{"$f":"'Patient Tracking'!C50","v":"Active"},"Active",{"$f":"'Patient Tracking'!A50","v":5555},{"$f":"'Patient Tracking'!B50","v":"Albert Smith"},{"$f":"'Patient Tracking'!G50","v":""},{"$f":"MAX(IF(C49:C122=C49,H49:H122,\"\"))","v":0},false,{"$f":"'Patient Tracking'!F50","v":0},5,{"$f":"MAX(IF(G49:G122=C49&\"TRUE\",I49:I122,\"\"))","v":0},42799,{"$f":"'Patient Tracking'!J50","v":0},{"$f":"MAX(IF(U49:U122=U49,L49:L122,\"\"))","v":42884},{"$f":"IF('Patient Tracking'!H50=\"\",999999,'Patient Tracking'!H50)","v":42958},{"$f":"MIN(IF(C49:C122=C49,N49:N122,\"\"))","v":42958},42958,"None","None","","",0,0,18.285714285714285,{"$f":"IF(E49=\"current episode initial assessment\",\"\",'Patient Tracking'!L50)","v":"."},{"$f":"IF(E49=\"current episode initial assessment\",\"\",'Patient Tracking'!N50)","v":"."},18,"","","",14,"-100",{"$f":"MAX(IF(Q49:Q122=\"GADSCORE\"&G49,AE49:AE122,IF(C49=C48,AF48,\"-100\")),\"-100\")","v":10},10,-0.2857142857142857,{"$f":"MAX(IF(Q49:Q122=\"GADSCORE\"&C49&\"TRUE\",L49:L122,IF(C49=C48,AJ48,\"\")))","v":42916},"2017-06-30",{"$f":"'Patient Tracking'!R50","v":0},0,"",{"$f":"'Patient Tracking'!Q50","v":0},"Flag for discussion"]
[{"$f":"'Patient Tracking'!C51","v":"Inactive"},"Inactive",{"$f":"'Patient Tracking'!A51","v":4321},{"$f":"'Patient Tracking'!B51","v":"John Doe"},{"$f":"'Patient Tracking'!G51","v":"Current Episode Initial Assessment"},{"$f":"MAX(IF(C50:C123=C50,H50:H123,\"\"))","v":1},false,{"$f":"'Patient Tracking'!F51","v":1},0,{"$f":"MAX(IF(G50:G123=C50&\"TRUE\",I50:I123,\"\"))","v":12},42384,{"$f":"'Patient Tracking'!J51","v":42384},{"$f":"MAX(IF(U50:U123=U50,L50:L123,\"\"))","v":42884},{"$f":"IF('Patient Tracking'!H51=\"\",999999,'Patient Tracking'!H51)","v":"1-month follow-up schedule"},{"$f":"MIN(IF(C50:C123=C50,N50:N123,\"\"))","v":42720},42720,"None","None","","",0,42384,77.571428571428569,{"$f":"IF(E50=\"current episode initial assessment\",\"\",'Patient Tracking'!L51)","v":""},{"$f":"IF(E50=\"current episode initial assessment\",\"\",'Patient Tracking'!N51)","v":""},"No Score","","","","No Score","-100",{"$f":"MAX(IF(Q50:Q123=\"GADSCORE\"&G50,AE50:AE123,IF(C50=C49,AF49,\"-100\")),\"-100\")","v":-100},"No Score","",{"$f":"MAX(IF(Q50:Q123=\"GADSCORE\"&C50&\"TRUE\",L50:L123,IF(C50=C49,AJ49,\"\")))","v":42690},"2016-11-16",{"$f":"'Patient Tracking'!R51","v":42675},42675,42675,{"$f":"'Patient Tracking'!Q51","v":0},""]
[{"$f":"'Patient Tracking'!C52","v":"Inactive"},"Inactive",{"$f":"'Patient Tracking'!A52","v":4321},{"$f":"'Patient Tracking'!B52","v":"John Doe"},{"$f":"'Patient Tracking'!G52","v":"Initial Assessment"},{"$f":"MAX(IF(C51:C124=C51,H51:H124,\"\"))","v":1},"4321TRUE",{"$f":"'Patient Tracking'!F52","v":1},0,{"$f":"MAX(IF(G51:G124=C51&\"TRUE\",I51:I124,\"\"))","v":12},42384,{"$f":"'Patient Tracking'!J52","v":42384},{"$f":"MAX(IF(U51:U124=U51,L51:L124,\"\"))","v":42690},{"$f":"IF('Patient Tracking'!H52=\"\",999999,'Patient Tracking'!H52)","v":999999},{"$f":"MIN(IF(C51:C124=C51,N51:N124,\"\"))","v":42720},42720,"GADSCORE4321TRUE","PHQSCORE4321TRUE","Initial Score4321","Initial Score4321","CONTACT4321",42384,77.571428571428569,{"$f":"IF(E51=\"current episode initial assessment\",\"\",'Patient Tracking'!L52)","v":20},{"$f":"IF(E51=\"current episode initial assessment\",\"\",'Patient Tracking'!N52)","v":14},20,"","","",14,"-100",{"$f":"MAX(IF(Q51:Q124=\"GADSCORE\"&G51,AE51:AE124,IF(C51=C50,AF50,\"-100\")),\"-100\")","v":1},1,-0.9285714285714286,{"$f":"MAX(IF(Q51:Q124=\"GADSCORE\"&C51&\"TRUE\",L51:L124,IF(C51=C50,AJ50,\"\")))","v":42690},"2016-11-16",{"$f":"'Patient Tracking'!R52","v":42408},0,42675,{"$f":"'Patient Tracking'!Q52","v":0},""]
[{"$f":"'Patient Tracking'!C53","v":"Inactive"},"Inactive",{"$f":"'Patient Tracking'!A53","v":4321},{"$f":"'Patient Tracking'!B53","v":"John Doe"},{"$f":"'Patient Tracking'!G53","v":1},{"$f":"MAX(IF(C52:C125=C52,H52:H125,\"\"))","v":1},"4321TRUE",{"$f":"'Patient Tracking'!F53","v":1},1,{"$f":"MAX(IF(G52:G125=C52&\"TRUE\",I52:I125,\"\"))","v":12},42384,{"$f":"'Patient Tracking'!J53","v":42397},{"$f":"MAX(IF(U52:U125=U52,L52:L125,\"\"))","v":42690},{"$f":"IF('Patient Tracking'!H53=\"\",999999,'Patient Tracking'!H53)","v":999999},{"$f":"MIN(IF(C52:C125=C52,N52:N125,\"\"))","v":42720},42720,"GADSCORE4321TRUE","PHQSCORE4321TRUE","","","CONTACT4321",42397,77.571428571428569,{"$f":"IF(E52=\"current episode initial assessment\",\"\",'Patient Tracking'!L53)","v":21},{"$f":"IF(E52=\"current episode initial assessment\",\"\",'Patient Tracking'!N53)","v":13},20,"","","",14,"-100",{"$f":"MAX(IF(Q52:Q125=\"GADSCORE\"&G52,AE52:AE125,IF(C52=C51,AF51,\"-100\")),\"-100\")","v":1},1,-0.9285714285714286,{"$f":"MAX(IF(Q52:Q125=\"GADSCORE\"&C52&\"TRUE\",L52:L125,IF(C52=C51,AJ51,\"\")))","v":42690},"2016-11-16",{"$f":"'Patient Tracking'!R53","v":42420},0,42675,{"$f":"'Patient Tracking'!Q53","v":0},""]
[{"$f":"'Patient Tracking'!C54","v":"Inactive"},"Inactive",{"$f":"'Patient Tracking'!A54","v":4321},{"$f":"'Patient Tracking'!B54","v":"John Doe"},{"$f":"'Patient Tracking'!G54","v":2},{"$f":"MAX(IF(C53:C126=C53,H53:H126,\"\"))","v":1},"4321TRUE",{"$f":"'Patient Tracking'!F54","v":1},2,{"$f":"MAX(IF(G53:G126=C53&\"TRUE\",I53:I126,\"\"))","v":12},42384,{"$f":"'Patient Tracking'!J54","v":42412},{"$f":"MAX(IF(U53:U126=U53,L53:L126,\"\"))","v":42690},{"$f":"IF('Patient Tracking'!H54=\"\",999999,'Patient Tracking'!H54)","v":999999},{"$f":"MIN(IF(C53:C126=C53,N53:N126,\"\"))","v":42720},42720,"GADSCORE4321TRUE","PHQSCORE4321TRUE","","","CONTACT4321",42412,77.571428571428569,{"$f":"IF(E53=\"current episode initial assessment\",\"\",'Patient Tracking'!L54)","v":18},{"$f":"IF(E53=\"current episode initial assessment\",\"\",'Patient Tracking'!N54)","v":11},20,"","","",14,"-100",{"$f":"MAX(IF(Q53:Q126=\"GADSCORE\"&G53,AE53:AE126,IF(C53=C52,AF52,\"-100\")),\"-100\")","v":1},1,-0.9285714285714286,{"$f":"MAX(IF(Q53:Q126=\"GADSCORE\"&C53&\"TRUE\",L53:L126,IF(C53=C52,AJ52,\"\")))","v":42690},"2016-11-16",{"$f":"'Patient Tracking'!R54","v":42520},0,42675,{"$f":"'Patient Tracking'!Q54","v":0},""]
[{"$f":"'Patient Tracking'!C55","v":"Inactive"},"Inactive",{"$f":"'Patient Tracking'!A55","v":4321},{"$f":"'Patient Tracking'!B55","v":"John Doe"},{"$f":"'Patient Tracking'!G55","v":3},{"$f":"MAX(IF(C54:C127=C54,H54:H127,\"\"))","v":1},"4321TRUE",{"$f":"'Patient Tracking'!F55","v":1},3,{"$f":"MAX(IF(G54:G127=C54&\"TRUE\",I54:I127,\"\"))","v":12},42384,{"$f":"'Patient Tracking'!J55","v":42425},{"$f":"MAX(IF(U54:U127=U54,L54:L127,\"\"))","v":42690},{"$f":"IF('Patient Tracking'!H55=\"\",999999,'Patient Tracking'!H55)","v":999999},{"$f":"MIN(IF(C54:C127=C54,N54:N127,\"\"))","v":42720},42720,"GADSCORE4321TRUE","PHQSCORE4321TRUE","","","CONTACT4321",42425,77.571428571428569,{"$f":"IF(E54=\"current episode initial assessment\",\"\",'Patient Tracking'!L55)","v":16},{"$f":"IF(E54=\"current episode initial assessment\",\"\",'Patient Tracking'!N55)","v":11},20,"","","",14,"-100",{"$f":"MAX(IF(Q54:Q127=\"GADSCORE\"&G54,AE54:AE127,IF(C54=C53,AF53,\"-100\")),\"-100\")","v":1},1,-0.9285714285714286,{"$f":"MAX(IF(Q54:Q127=\"GADSCORE\"&C54&\"TRUE\",L54:L127,IF(C54=C53,AJ53,\"\")))","v":42690},"2016-11-16",{"$f":"'Patient Tracking'!R55","v":42536},0,42675,{"$f":"'Patient Tracking'!Q55","v":0},""]
[{"$f":"'Patient Tracking'!C56","v":"Inactive"},"Inactive",{"$f":"'Patient Tracking'!A56","v":4321},{"$f":"'Patient Tracking'!B56","v":"John Doe"},{"$f":"'Patient Tracking'!G56","v":4},{"$f":"MAX(IF(C55:C128=C55,H55:H128,\"\"))","v":1},"4321TRUE",{"$f":"'Patient Tracking'!F56","v":1},4,{"$f":"MAX(IF(G55:G128=C55&\"TRUE\",I55:I128,\"\"))","v":12},42384,{"$f":"'Patient Tracking'!J56","v":42438},{"$f":"MAX(IF(U55:U128=U55,L55:L128,\"\"))","v":42690},{"$f":"IF('Patient Tracking'!H56=\"\",999999,'Patient Tracking'!H56)","v":999999},{"$f":"MIN(IF(C55:C128=C55,N55:N128,\"\"))","v":42720},42720,"GADSCORE4321TRUE","PHQSCORE4321TRUE","","","CONTACT4321",42438,77.571428571428569,{"$f":"IF(E55=\"current episode initial assessment\",\"\",'Patient Tracking'!L56)","v":14},{"$f":"IF(E55=\"current episode initial assessment\",\"\",'Patient Tracking'!N56)","v":9},20,"","","",14,"-100",{"$f":"MAX(IF(Q55:Q128=\"GADSCORE\"&G55,AE55:AE128,IF(C55=C54,AF54,\"-100\")),\"-100\")","v":1},1,-0.9285714285714286,{"$f":"MAX(IF(Q55:Q128=\"GADSCORE\"&C55&\"TRUE\",L55:L128,IF(C55=C54,AJ54,\"\")))","v":42690},"2016-11-16",{"$f":"'Patient Tracking'!R56","v":42675},0,42675,{"$f":"'Patient Tracking'!Q56","v":0},""]
[{"$f":"'Patient Tracking'!C57","v":"Inactive"},"Inactive",{"$f":"'Patient Tracking'!A57","v":4321},{"$f":"'Patient Tracking'!B57","v":"John Doe"},{"$f":"'Patient Tracking'!G57","v":5},{"$f":"MAX(IF(C56:C129=C56,H56:H129,\"\"))","v":1},"4321TRUE",{"$f":"'Patient Tracking'!F57","v":1},5,{"$f":"MAX(IF(G56:G129=C56&\"TRUE\",I56:I129,\"\"))","v":12},42384,{"$f":"'Patient Tracking'!J57","v":42454},{"$f":"MAX(IF(U56:U129=U56,L56:L129,\"\"))","v":42690},{"$f":"IF('Patient Tracking'!H57=\"\",999999,'Patient Tracking'!H57)","v":999999},{"$f":"MIN(IF(C56:C129=C56,N56:N129,\"\"))","v":42720},42720,"GADSCORE4321TRUE","PHQSCORE4321TRUE","","","CONTACT4321",42454,77.571428571428569,{"$f":"IF(E56=\"current episode initial assessment\",\"\",'Patient Tracking'!L57)","v":14},{"$f":"IF(E56=\"current episode initial assessment\",\"\",'Patient Tracking'!N57)","v":7},20,"","","",14,"-100",{"$f":"MAX(IF(Q56:Q129=\"GADSCORE\"&G56,AE56:AE129,IF(C56=C55,AF55,\"-100\")),\"-100\")","v":1},1,-0.9285714285714286,{"$f":"MAX(IF(Q56:Q129=\"GADSCORE\"&C56&\"TRUE\",L56:L129,IF(C56=C55,AJ55,\"\")))","v":42690},"2016-11-16",{"$f":"'Patient Tracking'!R57","v":0},0,42675,{"$f":"'Patient Tracking'!Q57","v":0},""]
[{"$f":"'Patient Tracking'!C58","v":"Inactive"},"Inactive",{"$f":"'Patient Tracking'!A58","v":4321},{"$f":"'Patient Tracking'!B58","v":"John Doe"},{"$f":"'Patient Tracking'!G58","v":6},{"$f":"MAX(IF(C57:C130=C57,H57:H130,\"\"))","v":1},"4321TRUE",{"$f":"'Patient Tracking'!F58","v":1},6,{"$f":"MAX(IF(G57:G130=C57&\"TRUE\",I57:I130,\"\"))","v":12},42384,{"$f":"'Patient Tracking'!J58","v":42469},{"$f":"MAX(IF(U57:U130=U57,L57:L130,\"\"))","v":42690},{"$f":"IF('Patient Tracking'!H58=\"\",999999,'Patient Tracking'!H58)","v":999999},{"$f":"MIN(IF(C57:C130=C57,N57:N130,\"\"))","v":42720},42720,"GADSCORE4321TRUE","PHQSCORE4321TRUE","","","CONTACT4321",42469,77.571428571428569,{"$f":"IF(E57=\"current episode initial assessment\",\"\",'Patient Tracking'!L58)","v":11},{"$f":"IF(E57=\"current episode initial assessment\",\"\",'Patient Tracking'!N58)","v":6},20,"","","",14,"-100",{"$f":"MAX(IF(Q57:Q130=\"GADSCORE\"&G57,AE57:AE130,IF(C57=C56,AF56,\"-100\")),\"-100\")","v":1},1,-0.9285714285714286,{"$f":"MAX(IF(Q57:Q130=\"GADSCORE\"&C57&\"TRUE\",L57:L130,IF(C57=C56,AJ56,\"\")))","v":42690},"2016-11-16",{"$f":"'Patient Tracking'!R58","v":0},0,42675,{"$f":"'Patient Tracking'!Q58","v":0},""]
[{"$f":"'Patient Tracking'!C59","v":"Inactive"},"Inactive",{"$f":"'Patient Tracking'!A59","v":4321},{"$f":"'Patient Tracking'!B59","v":"John Doe"},{"$f":"'Patient Tracking'!G59","v":7},{"$f":"MAX(IF(C58:C131=C58,H58:H131,\"\"))","v":1},false,{"$f":"'Patient Tracking'!F59","v":1},6,{"$f":"MAX(IF(G58:G131=C58&\"TRUE\",I58:I131,\"\"))","v":12},42384,{"$f":"'Patient Tracking'!J59","v":"Missed"},{"$f":"MAX(IF(U58:U131=U58,L58:L131,\"\"))","v":42884},{"$f":"IF('Patient Tracking'!H59=\"\",999999,'Patient Tracking'!H59)","v":999999},{"$f":"MIN(IF(C58:C131=C58,N58:N131,\"\"))","v":42720},42720,"None","None","","",0,0,77.571428571428569,{"$f":"IF(E58=\"current episode initial assessment\",\"\",'Patient Tracking'!L59)","v":"."},{"$f":"IF(E58=\"current episode initial assessment\",\"\",'Patient Tracking'!N59)","v":"."},20,"","","",14,"-100",{"$f":"MAX(IF(Q58:Q131=\"GADSCORE\"&G58,AE58:AE131,IF(C58=C57,AF57,\"-100\")),\"-100\")","v":1},1,-0.9285714285714286,{"$f":"MAX(IF(Q58:Q131=\"GADSCORE\"&C58&\"TRUE\",L58:L131,IF(C58=C57,AJ57,\"\")))","v":42690},"2016-11-16",{"$f":"'Patient Tracking'!R59","v":0},0,42675,{"$f":"'Patient Tracking'!Q59","v":0},""]
[{"$f":"'Patient Tracking'!C60","v":"Inactive"},"Inactive",{"$f":"'Patient Tracking'!A60","v":4321},{"$f":"'Patient Tracking'!B60","v":"John Doe"},{"$f":"'Patient Tracking'!G60","v":8},{"$f":"MAX(IF(C59:C132=C59,H59:H132,\"\"))","v":1},"4321TRUE",{"$f":"'Patient Tracking'!F60","v":1},7,{"$f":"MAX(IF(G59:G132=C59&\"TRUE\",I59:I132,\"\"))","v":12},42384,{"$f":"'Patient Tracking'!J60","v":42494},{"$f":"MAX(IF(U59:U132=U59,L59:L132,\"\"))","v":42690},{"$f":"IF('Patient Tracking'!H60=\"\",999999,'Patient Tracking'!H60)","v":999999},{"$f":"MIN(IF(C59:C132=C59,N59:N132,\"\"))","v":42720},42720,"GADSCORE4321TRUE","PHQSCORE4321TRUE","","","CONTACT4321",42494,77.571428571428569,{"$f":"IF(E59=\"current episode initial assessment\",\"\",'Patient Tracking'!L60)","v":8},{"$f":"IF(E59=\"current episode initial assessment\",\"\",'Patient Tracking'!N60)","v":4},20,"","","",14,"-100",{"$f":"MAX(IF(Q59:Q132=\"GADSCORE\"&G59,AE59:AE132,IF(C59=C58,AF58,\"-100\")),\"-100\")","v":1},1,-0.9285714285714286,{"$f":"MAX(IF(Q59:Q132=\"GADSCORE\"&C59&\"TRUE\",L59:L132,IF(C59=C58,AJ58,\"\")))","v":42690},"2016-11-16",{"$f":"'Patient Tracking'!R60","v":0},0,42675,{"$f":"'Patient Tracking'!Q60","v":0},""]
[{"$f":"'Patient Tracking'!C61","v":"Inactive"},"Inactive",{"$f":"'Patient Tracking'!A61","v":4321},{"$f":"'Patient Tracking'!B61","v":"John Doe"},{"$f":"'Patient Tracking'!G61","v":9},{"$f":"MAX(IF(C60:C133=C60,H60:H133,\"\"))","v":1},"4321TRUE",{"$f":"'Patient Tracking'!F61","v":1},8,{"$f":"MAX(IF(G60:G133=C60&\"TRUE\",I60:I133,\"\"))","v":12},42384,{"$f":"'Patient Tracking'!J61","v":42510},{"$f":"MAX(IF(U60:U133=U60,L60:L133,\"\"))","v":42690},{"$f":"IF('Patient Tracking'!H61=\"\",999999,'Patient Tracking'!H61)","v":999999},{"$f":"MIN(IF(C60:C133=C60,N60:N133,\"\"))","v":42720},42720,"GADSCORE4321TRUE","PHQSCORE4321TRUE","","","CONTACT4321",42510,77.571428571428569,{"$f":"IF(E60=\"current episode initial assessment\",\"\",'Patient Tracking'!L61)","v":4},{"$f":"IF(E60=\"current episode initial assessment\",\"\",'Patient Tracking'!N61)","v":4},20,"","","",14,"-100",{"$f":"MAX(IF(Q60:Q133=\"GADSCORE\"&G60,AE60:AE133,IF(C60=C59,AF59,\"-100\")),\"-100\")","v":1},1,-0.9285714285714286,{"$f":"MAX(IF(Q60:Q133=\"GADSCORE\"&C60&\"TRUE\",L60:L133,IF(C60=C59,AJ59,\"\")))","v":42690},"2016-11-16",{"$f":"'Patient Tracking'!R61","v":0},0,42675,{"$f":"'Patient Tracking'!Q61","v":0},""]
[{"$f":"'Patient Tracking'!C62","v":"Inactive"},"Inactive",{"$f":"'Patient Tracking'!A62","v":4321},{"$f":"'Patient Tracking'!B62","v":"John Doe"},{"$f":"'Patient Tracking'!G62","v":10},{"$f":"MAX(IF(C61:C134=C61,H61:H134,\"\"))","v":1},"4321TRUE",{"$f":"'Patient Tracking'!F62","v":1},9,{"$f":"MAX(IF(G61:G134=C61&\"TRUE\",I61:I134,\"\"))","v":12},42384,{"$f":"'Patient Tracking'!J62","v":42527},{"$f":"MAX(IF(U61:U134=U61,L61:L134,\"\"))","v":42690},{"$f":"IF('Patient Tracking'!H62=\"\",999999,'Patient Tracking'!H62)","v":999999},{"$f":"MIN(IF(C61:C134=C61,N61:N134,\"\"))","v":42720},42720,"GADSCORE4321TRUE","PHQSCORE4321TRUE","","","CONTACT4321",42527,77.571428571428569,{"$f":"IF(E61=\"current episode initial assessment\",\"\",'Patient Tracking'!L62)","v":4},{"$f":"IF(E61=\"current episode initial assessment\",\"\",'Patient Tracking'!N62)","v":3},20,"","","",14,"-100",{"$f":"MAX(IF(Q61:Q134=\"GADSCORE\"&G61,AE61:AE134,IF(C61=C60,AF60,\"-100\")),\"-100\")","v":1},1,-0.9285714285714286,{"$f":"MAX(IF(Q61:Q134=\"GADSCORE\"&C61&\"TRUE\",L61:L134,IF(C61=C60,AJ60,\"\")))","v":42690},"2016-11-16",{"$f":"'Patient Tracking'!R62","v":0},0,42675,{"$f":"'Patient Tracking'!Q62","v":0},""]
[{"$f":"'Patient Tracking'!C63","v":"Inactive"},"Inactive",{"$f":"'Patient Tracking'!A63","v":4321},{"$f":"'Patient Tracking'!B63","v":"John Doe"},{"$f":"'Patient Tracking'!G63","v":11},{"$f":"MAX(IF(C62:C135=C62,H62:H135,\"\"))","v":1},"4321TRUE",{"$f":"'Patient Tracking'!F63","v":1},10,{"$f":"MAX(IF(G62:G135=C62&\"TRUE\",I62:I135,\"\"))","v":12},42384,{"$f":"'Patient Tracking'!J63","v":42557},{"$f":"MAX(IF(U62:U135=U62,L62:L135,\"\"))","v":42690},{"$f":"IF('Patient Tracking'!H63=\"\",999999,'Patient Tracking'!H63)","v":999999},{"$f":"MIN(IF(C62:C135=C62,N62:N135,\"\"))","v":42720},42720,"GADSCORE4321TRUE","PHQSCORE4321TRUE","","","CONTACT4321",42557,77.571428571428569,{"$f":"IF(E62=\"current episode initial assessment\",\"\",'Patient Tracking'!L63)","v":2},{"$f":"IF(E62=\"current episode initial assessment\",\"\",'Patient Tracking'!N63)","v":3},20,"","","",14,"-100",{"$f":"MAX(IF(Q62:Q135=\"GADSCORE\"&G62,AE62:AE135,IF(C62=C61,AF61,\"-100\")),\"-100\")","v":1},1,-0.9285714285714286,{"$f":"MAX(IF(Q62:Q135=\"GADSCORE\"&C62&\"TRUE\",L62:L135,IF(C62=C61,AJ61,\"\")))","v":42690},"2016-11-16",{"$f":"'Patient Tracking'!R63","v":0},0,42675,{"$f":"'Patient Tracking'!Q63","v":0},""]
[{"$f":"'Patient Tracking'!C64","v":"Inactive"},"Inactive",{"$f":"'Patient Tracking'!A64","v":4321},{"$f":"'Patient Tracking'!B64","v":"John Doe"},{"$f":"'Patient Tracking'!G64","v":12},{"$f":"MAX(IF(C63:C136=C63,H63:H136,\"\"))","v":1},"4321TRUE",{"$f":"'Patient Tracking'!F64","v":1},11,{"$f":"MAX(IF(G63:G136=C63&\"TRUE\",I63:I136,\"\"))","v":12},42384,{"$f":"'Patient Tracking'!J64","v":42585},{"$f":"MAX(IF(U63:U136=U63,L63:L136,\"\"))","v":42690},{"$f":"IF('Patient Tracking'!H64=\"\",999999,'Patient Tracking'!H64)","v":999999},{"$f":"MIN(IF(C63:C136=C63,N63:N136,\"\"))","v":42720},42720,"GADSCORE4321TRUE","PHQSCORE4321TRUE","","","CONTACT4321",42585,77.571428571428569,{"$f":"IF(E63=\"current episode initial assessment\",\"\",'Patient Tracking'!L64)","v":2},{"$f":"IF(E63=\"current episode initial assessment\",\"\",'Patient Tracking'!N64)","v":1},20,"","","",14,"-100",{"$f":"MAX(IF(Q63:Q136=\"GADSCORE\"&G63,AE63:AE136,IF(C63=C62,AF62,\"-100\")),\"-100\")","v":1},1,-0.9285714285714286,{"$f":"MAX(IF(Q63:Q136=\"GADSCORE\"&C63&\"TRUE\",L63:L136,IF(C63=C62,AJ62,\"\")))","v":42690},"2016-11-16",{"$f":"'Patient Tracking'!R64","v":0},0,42675,{"$f":"'Patient Tracking'!Q64","v":0},""]
[{"$f":"'Patient Tracking'!C65","v":"Inactive"},"Inactive",{"$f":"'Patient Tracking'!A65","v":4321},{"$f":"'Patient Tracking'!B65","v":"John Doe"},{"$f":"'Patient Tracking'!G65","v":13},{"$f":"MAX(IF(C64:C137=C64,H64:H137,\"\"))","v":1},"4321TRUE",{"$f":"'Patient Tracking'!F65","v":1},12,{"$f":"MAX(IF(G64:G137=C64&\"TRUE\",I64:I137,\"\"))","v":12},42384,{"$f":"'Patient Tracking'!J65","v":42690},{"$f":"MAX(IF(U64:U137=U64,L64:L137,\"\"))","v":42690},{"$f":"IF('Patient Tracking'!H65=\"\",999999,'Patient Tracking'!H65)","v":999999},{"$f":"MIN(IF(C64:C137=C64,N64:N137,\"\"))","v":42720},42720,"GADSCORE4321TRUE","PHQSCORE4321TRUE","","","CONTACT4321",42690,77.571428571428569,{"$f":"IF(E64=\"current episode initial assessment\",\"\",'Patient Tracking'!L65)","v":0},{"$f":"IF(E64=\"current episode initial assessment\",\"\",'Patient Tracking'!N65)","v":1},20,0,-1,"2016-11-16",14,1,{"$f":"MAX(IF(Q64:Q137=\"GADSCORE\"&G64,AE64:AE137,IF(C64=C63,AF63,\"-100\")),\"-100\")","v":1},1,-0.9285714285714286,{"$f":"MAX(IF(Q64:Q137=\"GADSCORE\"&C64&\"TRUE\",L64:L137,IF(C64=C63,AJ63,\"\")))","v":42690},"2016-11-16",{"$f":"'Patient Tracking'!R65","v":0},0,42675,{"$f":"'Patient Tracking'!Q65","v":0},""]
[{"$f":"'Patient Tracking'!C66","v":"Inactive"},"Inactive",{"$f":"'Patient Tracking'!A66","v":4321},{"$f":"'Patient Tracking'!B66","v":"John Doe"},{"$f":"'Patient Tracking'!G66","v":""},{"$f":"MAX(IF(C65:C138=C65,H65:H138,\"\"))","v":0},false,{"$f":"'Patient Tracking'!F66","v":0},12,{"$f":"MAX(IF(G65:G138=C65&\"TRUE\",I65:I138,\"\"))","v":0},42384,{"$f":"'Patient Tracking'!J66","v":0},{"$f":"MAX(IF(U65:U138=U65,L65:L138,\"\"))","v":42884},{"$f":"IF('Patient Tracking'!H66=\"\",999999,'Patient Tracking'!H66)","v":42720},{"$f":"MIN(IF(C65:C138=C65,N65:N138,\"\"))","v":42720},42720,"None","None","","",0,0,77.571428571428569,{"$f":"IF(E65=\"current episode initial assessment\",\"\",'Patient Tracking'!L66)","v":"."},{"$f":"IF(E65=\"current episode initial assessment\",\"\",'Patient Tracking'!N66)","v":"."},20,"","","",14,"-100",{"$f":"MAX(IF(Q65:Q138=\"GADSCORE\"&G65,AE65:AE138,IF(C65=C64,AF64,\"-100\")),\"-100\")","v":1},1,-0.9285714285714286,{"$f":"MAX(IF(Q65:Q138=\"GADSCORE\"&C65&\"TRUE\",L65:L138,IF(C65=C64,AJ64,\"\")))","v":42690},"2016-11-16",{"$f":"'Patient Tracking'!R66","v":0},0,42675,{"$f":"'Patient Tracking'!Q66","v":0},""]
[{"$f":"'Patient Tracking'!C67","v":"Active"},"Active",{"$f":"'Patient Tracking'!A67","v":1678},{"$f":"'Patient Tracking'!B67","v":"Susan Test"},{"$f":"'Patient Tracking'!G67","v":"Current Episode Initial Assessment"},{"$f":"MAX(IF(C66:C139=C66,H66:H139,\"\"))","v":1},{"$f":"IF(AND(H66=F66,F66<>0,H66<>0,U66<>0),C66&\"TRUE\",FALSE)","v":false},{"$f":"'Patient Tracking'!F67","v":1},{"$f":"IF(AND(U66=\"CONTACT\"&C66,C66=C65),IF(E66=\"initial assessment\",0,1+I65),IF(C66=C65,I65,0))","v":0},{"$f":"MAX(IF(G66:G139=C66&\"TRUE\",I66:I139,\"\"))","v":10},42694,{"$f":"'Patient Tracking'!J67","v":42694},{"$f":"MAX(IF(U66:U139=U66,L66:L139,\"\"))","v":42884},{"$f":"IF('Patient Tracking'!H67=\"\",999999,'Patient Tracking'!H67)","v":"2-week follow-up schedule"},{"$f":"MIN(IF(C66:C139=C66,N66:N139,\"\"))","v":42902},42902,{"$f":"IF(AND(Y66<>\".\",Y66<>\"\"),\"GADSCORE\"&G66,\"None\")","v":"None"},{"$f":"IF(AND(X66<>\".\",X66<>\"\"),\"PHQSCORE\"&G66,\"None\")","v":"None"},"","",{"$f":"IF(AND(E66<>\"current episode initial assessment\",V66<>0),\"CONTACT\"&C66,0)","v":0},{"$f":"IFERROR(L66-1+1,0)","v":42694},{"$f":"IF(E66<100,W65,(TODAY()-K66)/7)","v":33.285714285714285},{"$f":"IF(E66=\"current episode initial assessment\",\"\",'Patient Tracking'!L67)","v":""},{"$f":"IF(E66=\"current episode initial assessment\",\"\",'Patient Tracking'!N67)","v":""},{"$f":"IF(S66=\"initial score\"&C66,X66,IF(AND(C66=C65,Z65>=0,Z65<=27),Z65,IF(R66=\"none\",\"No Score\",\"\")))","v":"No Score"},{"$f":"IF(AND(C66=C65,X66>=0,X66<=27,G66=C66&\"TRUE\"),IF(ISNA(MATCH(\"PHQSCORE\"&C66&\"TRUE\",R67:R139,0)),X66,\"\"),IF(AND(E66=\"current episode initial assessment\",ISNA(MATCH(\"PHQSCORE\"&C66&\"TRUE\",R67:R139,0))),Z66,\"\"))","v":""},{"$f":"IF(AND(AA66<=27,AA66>=0),(AA66/Z66)-1,\"\")","v":""},{"$f":"IF(AA66<>\"\",IF(AA66=\"no score\",\"\",L66),\"\")","v":""},{"$f":"IF(T66=\"initial score\"&C66,Y66,IF(AND(C66=C65,AD65>=0,AD65<=21),AD65,IF(Q66=\"none\",\"No Score\",\"\")))","v":"No Score"},{"$f":"IF(AND(C66=C65,Y66>=0,Y66<=21,G66=C66&\"TRUE\"),IF(ISNA(MATCH(Q66,Q67:Q139,0)),Y66,\"-100\"),\"-100\")","v":"-100"},{"$f":"MAX(IF(Q66:Q139=\"GADSCORE\"&G66,AE66:AE139,IF(C66=C65,AF65,\"-100\")),\"-100\")","v":-100},{"$f":"IF(AF66=-100,\"No Score\",AF66)","v":"No Score"},"",{"$f":"MAX(IF(Q66:Q139=\"GADSCORE\"&C66&\"TRUE\",L66:L139,IF(C66=C65,AJ65,\"\")))","v":42888},{"$f":"IF(AI66<>0,AI66,\"\")","v":"2017-06-02"},{"$f":"'Patient Tracking'!R67","v":42628},{"$f":"IF(AND(E66=\"current episode initial assessment\",AK66<>\"\"),AK66,0)","v":42628},{"$f":"IF(E66=\"current episode Initial assessment\",IF(AL66<>0,AL66,\"\"),AM65)","v":42628},{"$f":"'Patient Tracking'!Q67","v":"Flag for discussion & safety risk"},{"$f":"IF(AND(E66=\"current episode initial assessment\",AN66<>0),AN66,IF(E66=\"current episode initial assessment\",\"\",IF(C66=C65,AO65,\"\")))","v":"Flag for discussion & safety risk"}]
[{"$f":"'Patient Tracking'!C68","v":"Active"},{"$f":"IF(A67=\"Relapse Prevention\",\"RP\",A67)","v":"Active"},{"$f":"'Patient Tracking'!A68","v":1678},{"$f":"'Patient Tracking'!B68","v":"Susan Test"},{"$f":"'Patient Tracking'!G68","v":"Initial Assessment"},{"$f":"MAX(IF(C67:C140=C67,H67:H140,\"\"))","v":1},"1678TRUE",{"$f":"'Patient Tracking'!F68","v":1},0,{"$f":"MAX(IF(G67:G140=C67&\"TRUE\",I67:I140,\"\"))","v":10},{"$f":"IF(E67=\"current episode initial assessment\",L67,K66)","v":42694},{"$f":"'Patient Tracking'!J68","v":42694},{"$f":"MAX(IF(U67:U140=U67,L67:L140,\"\"))","v":42888},{"$f":"IF('Patient Tracking'!H68=\"\",999999,'Patient Tracking'!H68)","v":999999},{"$f":"MIN(IF(C67:C140=C67,N67:N140,\"\"))","v":42902},{"$f":"IF(O67=999999,\"\",O67)","v":42902},"None","None","","","CONTACT1678",42694,33.285714285714285,{"$f":"IF(E67=\"current episode initial assessment\",\"\",'Patient Tracking'!L68)","v":"."},{"$f":"IF(E67=\"current episode initial assessment\",\"\",'Patient Tracking'!N68)","v":"."},"No Score","","","","No Score","-100",{"$f":"MAX(IF(Q67:Q140=\"GADSCORE\"&G67,AE67:AE140,IF(C67=C66,AF66,\"-100\")),\"-100\")","v":14},14,{"$f":"IF(AND(AG67<=21,AG67>=0),(AG67/AD67)-1,\"\")","v":{"$error":"#VALUE!"}},{"$f":"MAX(IF(Q67:Q140=\"GADSCORE\"&C67&\"TRUE\",L67:L140,IF(C67=C66,AJ66,\"\")))","v":42888},"2017-06-02",{"$f":"'Patient Tracking'!R68","v":42459},0,42628,{"$f":"'Patient Tracking'!Q68","v":0},"Flag for discussion & safety risk"]
[{"$f":"'Patient Tracking'!C69","v":"Active"},"Active",{"$f":"'Patient Tracking'!A69","v":1678},{"$f":"'Patient Tracking'!B69","v":"Susan Test"},{"$f":"'Patient Tracking'!G69","v":1},{"$f":"MAX(IF(C68:C141=C68,H68:H141,\"\"))","v":1},"1678TRUE",{"$f":"'Patient Tracking'!F69","v":1},1,{"$f":"MAX(IF(G68:G141=C68&\"TRUE\",I68:I141,\"\"))","v":10},42694,{"$f":"'Patient Tracking'!J69","v":42708},{"$f":"MAX(IF(U68:U141=U68,L68:L141,\"\"))","v":42888},{"$f":"IF('Patient Tracking'!H69=\"\",999999,'Patient Tracking'!H69)","v":999999},{"$f":"MIN(IF(C68:C141=C68,N68:N141,\"\"))","v":42902},42902,"None","None","","","CONTACT1678",42708,33.285714285714285,{"$f":"IF(E68=\"current episode initial assessment\",\"\",'Patient Tracking'!L69)","v":"."},{"$f":"IF(E68=\"current episode initial assessment\",\"\",'Patient Tracking'!N69)","v":"."},"No Score","","","","No Score","-100",{"$f":"MAX(IF(Q68:Q141=\"GADSCORE\"&G68,AE68:AE141,IF(C68=C67,AF67,\"-100\")),\"-100\")","v":14},14,{"$error":"#VALUE!"},{"$f":"MAX(IF(Q68:Q141=\"GADSCORE\"&C68&\"TRUE\",L68:L141,IF(C68=C67,AJ67,\"\")))","v":42888},"2017-06-02",{"$f":"'Patient Tracking'!R69","v":42510},0,42628,{"$f":"'Patient Tracking'!Q69","v":0},"Flag for discussion & safety risk"]
[{"$f":"'Patient Tracking'!C70","v":"Active"},"Active",{"$f":"'Patient Tracking'!A70","v":1678},{"$f":"'Patient Tracking'!B70","v":"Susan Test"},{"$f":"'Patient Tracking'!G70","v":2},{"$f":"MAX(IF(C69:C142=C69,H69:H142,\"\"))","v":1},"1678TRUE",{"$f":"'Patient Tracking'!F70","v":1},2,{"$f":"MAX(IF(G69:G142=C69&\"TRUE\",I69:I142,\"\"))","v":10},42694,{"$f":"'Patient Tracking'!J70","v":42720},{"$f":"MAX(IF(U69:U142=U69,L69:L142,\"\"))","v":42888},{"$f":"IF('Patient Tracking'!H70=\"\",999999,'Patient Tracking'!H70)","v":999999},{"$f":"MIN(IF(C69:C142=C69,N69:N142,\"\"))","v":42902},42902,"None","None","","","CONTACT1678",42720,33.285714285714285,{"$f":"IF(E69=\"current episode initial assessment\",\"\",'Patient Tracking'!L70)","v":"."},{"$f":"IF(E69=\"current episode initial assessment\",\"\",'Patient Tracking'!N70)","v":"."},"No Score","","","","No Score","-100",{"$f":"MAX(IF(Q69:Q142=\"GADSCORE\"&G69,AE69:AE142,IF(C69=C68,AF68,\"-100\")),\"-100\")","v":14},14,{"$error":"#VALUE!"},{"$f":"MAX(IF(Q69:Q142=\"GADSCORE\"&C69&\"TRUE\",L69:L142,IF(C69=C68,AJ68,\"\")))","v":42888},"2017-06-02",{"$f":"'Patient Tracking'!R70","v":42552},0,42628,{"$f":"'Patient Tracking'!Q70","v":0},"Flag for discussion & safety risk"]
[{"$f":"'Patient Tracking'!C71","v":"Active"},"Active",{"$f":"'Patient Tracking'!A71","v":1678},{"$f":"'Patient Tracking'!B71","v":"Susan Test"},{"$f":"'Patient Tracking'!G71","v":3},{"$f":"MAX(IF(C70:C143=C70,H70:H143,\"\"))","v":1},"1678TRUE",{"$f":"'Patient Tracking'!F71","v":1},3,{"$f":"MAX(IF(G70:G143=C70&\"TRUE\",I70:I143,\"\"))","v":10},42694,{"$f":"'Patient Tracking'!J71","v":42733},{"$f":"MAX(IF(U70:U143=U70,L70:L143,\"\"))","v":42888},{"$f":"IF('Patient Tracking'!H71=\"\",999999,'Patient Tracking'!H71)","v":999999},{"$f":"MIN(IF(C70:C143=C70,N70:N143,\"\"))","v":42902},42902,"GADSCORE1678TRUE","PHQSCORE1678TRUE","Initial Score1678","Initial Score1678","CONTACT1678",42733,33.285714285714285,{"$f":"IF(E70=\"current episode initial assessment\",\"\",'Patient Tracking'!L71)","v":22},{"$f":"IF(E70=\"current episode initial assessment\",\"\",'Patient Tracking'!N71)","v":18},22,"","","",18,"-100",{"$f":"MAX(IF(Q70:Q143=\"GADSCORE\"&G70,AE70:AE143,IF(C70=C69,AF69,\"-100\")),\"-100\")","v":14},14,-0.22222222222222221,{"$f":"MAX(IF(Q70:Q143=\"GADSCORE\"&C70&\"TRUE\",L70:L143,IF(C70=C69,AJ69,\"\")))","v":42888},"2017-06-02",{"$f":"'Patient Tracking'!R71","v":42628},0,42628,{"$f":"'Patient Tracking'!Q71","v":0},"Flag for discussion & safety risk"]
[{"$f":"'Patient Tracking'!C72","v":"Active"},"Active",{"$f":"'Patient Tracking'!A72","v":1678},{"$f":"'Patient Tracking'!B72","v":"Susan Test"},{"$f":"'Patient Tracking'!G72","v":4},{"$f":"MAX(IF(C71:C144=C71,H71:H144,\"\"))","v":1},"1678TRUE",{"$f":"'Patient Tracking'!F72","v":1},4,{"$f":"MAX(IF(G71:G144=C71&\"TRUE\",I71:I144,\"\"))","v":10},42694,{"$f":"'Patient Tracking'!J72","v":42749},{"$f":"MAX(IF(U71:U144=U71,L71:L144,\"\"))","v":42888},{"$f":"IF('Patient Tracking'!H72=\"\",999999,'Patient Tracking'!H72)","v":999999},{"$f":"MIN(IF(C71:C144=C71,N71:N144,\"\"))","v":42902},42902,"GADSCORE1678TRUE","PHQSCORE1678TRUE","","","CONTACT1678",42749,33.285714285714285,{"$f":"IF(E71=\"current episode initial assessment\",\"\",'Patient Tracking'!L72)","v":21},{"$f":"IF(E71=\"current episode initial assessment\",\"\",'Patient Tracking'!N72)","v":18},22,"","","",18,"-100",{"$f":"MAX(IF(Q71:Q144=\"GADSCORE\"&G71,AE71:AE144,IF(C71=C70,AF70,\"-100\")),\"-100\")","v":14},14,-0.22222222222222221,{"$f":"MAX(IF(Q71:Q144=\"GADSCORE\"&C71&\"TRUE\",L71:L144,IF(C71=C70,AJ70,\"\")))","v":42888},"2017-06-02",{"$f":"'Patient Tracking'!R72","v":0},0,42628,{"$f":"'Patient Tracking'!Q72","v":0},"Flag for discussion & safety risk"]
[{"$f":"'Patient Tracking'!C73","v":"Active"},"Active",{"$f":"'Patient Tracking'!A73","v":1678},{"$f":"'Patient Tracking'!B73","v":"Susan Test"},{"$f":"'Patient Tracking'!G73","v":5},{"$f":"MAX(IF(C72:C145=C72,H72:H145,\"\"))","v":1},false,{"$f":"'Patient Tracking'!F73","v":1},4,{"$f":"MAX(IF(G72:G145=C72&\"TRUE\",I72:I145,\"\"))","v":10},42694,{"$f":"'Patient Tracking'!J73","v":"Missed"},{"$f":"MAX(IF(U72:U145=U72,L72:L145,\"\"))","v":42884},{"$f":"IF('Patient Tracking'!H73=\"\",999999,'Patient Tracking'!H73)","v":999999},{"$f":"MIN(IF(C72:C145=C72,N72:N145,\"\"))","v":42902},42902,"None","None","","",0,0,33.285714285714285,{"$f":"IF(E72=\"current episode initial assessment\",\"\",'Patient Tracking'!L73)","v":"."},{"$f":"IF(E72=\"current episode initial assessment\",\"\",'Patient Tracking'!N73)","v":"."},22,"","","",18,"-100",{"$f":"MAX(IF(Q72:Q145=\"GADSCORE\"&G72,AE72:AE145,IF(C72=C71,AF71,\"-100\")),\"-100\")","v":14},14,-0.22222222222222221,{"$f":"MAX(IF(Q72:Q145=\"GADSCORE\"&C72&\"TRUE\",L72:L145,IF(C72=C71,AJ71,\"\")))","v":42888},"2017-06-02",{"$f":"'Patient Tracking'!R73","v":0},0,42628,{"$f":"'Patient Tracking'!Q73","v":0},"Flag for discussion & safety risk"]
[{"$f":"'Patient Tracking'!C74","v":"Active"},"Active",{"$f":"'Patient Tracking'!A74","v":1678},{"$f":"'Patient Tracking'!B74","v":"Susan Test"},{"$f":"'Patient Tracking'!G74","v":6},{"$f":"MAX(IF(C73:C146=C73,H73:H146,\"\"))","v":1},"1678TRUE",{"$f":"'Patient Tracking'!F74","v":1},5,{"$f":"MAX(IF(G73:G146=C73&\"TRUE\",I73:I146,\"\"))","v":10},42694,{"$f":"'Patient Tracking'!J74","v":42777},{"$f":"MAX(IF(U73:U146=U73,L73:L146,\"\"))","v":42888},{"$f":"IF('Patient Tracking'!H74=\"\",999999,'Patient Tracking'!H74)","v":999999},{"$f":"MIN(IF(C73:C146=C73,N73:N146,\"\"))","v":42902},42902,"None","PHQSCORE1678TRUE","","","CONTACT1678",42777,33.285714285714285,{"$f":"IF(E73=\"current episode initial assessment\",\"\",'Patient Tracking'!L74)","v":20},{"$f":"IF(E73=\"current episode initial assessment\",\"\",'Patient Tracking'!N74)","v":"."},22,"","","",18,"-100",{"$f":"MAX(IF(Q73:Q146=\"GADSCORE\"&G73,AE73:AE146,IF(C73=C72,AF72,\"-100\")),\"-100\")","v":14},14,-0.22222222222222221,{"$f":"MAX(IF(Q73:Q146=\"GADSCORE\"&C73&\"TRUE\",L73:L146,IF(C73=C72,AJ72,\"\")))","v":42888},"2017-06-02",{"$f":"'Patient Tracking'!R74","v":0},0,42628,{"$f":"'Patient Tracking'!Q74","v":0},"Flag for discussion & safety risk"]
[{"$f":"'Patient Tracking'!C75","v":"Active"},"Active",{"$f":"'Patient Tracking'!A75","v":1678},{"$f":"'Patient Tracking'!B75","v":"Susan Test"},{"$f":"'Patient Tracking'!G75","v":7},{"$f":"MAX(IF(C74:C147=C74,H74:H147,\"\"))","v":1},"1678TRUE",{"$f":"'Patient Tracking'!F75","v":1},6,{"$f":"MAX(IF(G74:G147=C74&\"TRUE\",I74:I147,\"\"))","v":10},42694,{"$f":"'Patient Tracking'!J75","v":42791},{"$f":"MAX(IF(U74:U147=U74,L74:L147,\"\"))","v":42888},{"$f":"IF('Patient Tracking'!H75=\"\",999999,'Patient Tracking'!H75)","v":999999},{"$f":"MIN(IF(C74:C147=C74,N74:N147,\"\"))","v":42902},42902,"GADSCORE1678TRUE","PHQSCORE1678TRUE","","","CONTACT1678",42791,33.285714285714285,{"$f":"IF(E74=\"current episode initial assessment\",\"\",'Patient Tracking'!L75)","v":22},{"$f":"IF(E74=\"current episode initial assessment\",\"\",'Patient Tracking'!N75)","v":19},22,"","","",18,"-100",{"$f":"MAX(IF(Q74:Q147=\"GADSCORE\"&G74,AE74:AE147,IF(C74=C73,AF73,\"-100\")),\"-100\")","v":14},14,-0.22222222222222221,{"$f":"MAX(IF(Q74:Q147=\"GADSCORE\"&C74&\"TRUE\",L74:L147,IF(C74=C73,AJ73,\"\")))","v":42888},"2017-06-02",{"$f":"'Patient Tracking'!R75","v":0},0,42628,{"$f":"'Patient Tracking'!Q75","v":0},"Flag for discussion & safety risk"]
[{"$f":"'Patient Tracking'!C76","v":"Active"},"Active",{"$f":"'Patient Tracking'!A76","v":1678},{"$f":"'Patient Tracking'!B76","v":"Susan Test"},{"$f":"'Patient Tracking'!G76","v":8},{"$f":"MAX(IF(C75:C148=C75,H75:H148,\"\"))","v":1},false,{"$f":"'Patient Tracking'!F76","v":1},6,{"$f":"MAX(IF(G75:G148=C75&\"TRUE\",I75:I148,\"\"))","v":10},42694,{"$f":"'Patient Tracking'!J76","v":"Missed"},{"$f":"MAX(IF(U75:U148=U75,L75:L148,\"\"))","v":42884},{"$f":"IF('Patient Tracking'!H76=\"\",999999,'Patient Tracking'!H76)","v":999999},{"$f":"MIN(IF(C75:C148=C75,N75:N148,\"\"))","v":42902},42902,"None","None","","",0,0,33.285714285714285,{"$f":"IF(E75=\"current episode initial assessment\",\"\",'Patient Tracking'!L76)","v":"."},{"$f":"IF(E75=\"current episode initial assessment\",\"\",'Patient Tracking'!N76)","v":"."},22,"","","",18,"-100",{"$f":"MAX(IF(Q75:Q148=\"GADSCORE\"&G75,AE75:AE148,IF(C75=C74,AF74,\"-100\")),\"-100\")","v":14},14,-0.22222222222222221,{"$f":"MAX(IF(Q75:Q148=\"GADSCORE\"&C75&\"TRUE\",L75:L148,IF(C75=C74,AJ74,\"\")))","v":42888},"2017-06-02",{"$f":"'Patient Tracking'!R76","v":0},0,42628,{"$f":"'Patient Tracking'!Q76","v":0},"Flag for discussion & safety risk"]
[{"$f":"'Patient Tracking'!C77","v":"Active"},"Active",{"$f":"'Patient Tracking'!A77","v":1678},{"$f":"'Patient Tracking'!B77","v":"Susan Test"},{"$f":"'Patient Tracking'!G77","v":9},{"$f":"MAX(IF(C76:C149=C76,H76:H149,\"\"))","v":1},"1678TRUE",{"$f":"'Patient Tracking'!F77","v":1},7,{"$f":"MAX(IF(G76:G149=C76&\"TRUE\",I76:I149,\"\"))","v":10},42694,{"$f":"'Patient Tracking'!J77","v":42816},{"$f":"MAX(IF(U76:U149=U76,L76:L149,\"\"))","v":42888},{"$f":"IF('Patient Tracking'!H77=\"\",999999,'Patient Tracking'!H77)","v":999999},{"$f":"MIN(IF(C76:C149=C76,N76:N149,\"\"))","v":42902},42902,"GADSCORE1678TRUE","PHQSCORE1678TRUE","","","CONTACT1678",42816,33.285714285714285,{"$f":"IF(E76=\"current episode initial assessment\",\"\",'Patient Tracking'!L77)","v":19},{"$f":"IF(E76=\"current episode initial assessment\",\"\",'Patient Tracking'!N77)","v":17},22,"","","",18,"-100",{"$f":"MAX(IF(Q76:Q149=\"GADSCORE\"&G76,AE76:AE149,IF(C76=C75,AF75,\"-100\")),\"-100\")","v":14},14,-0.22222222222222221,{"$f":"MAX(IF(Q76:Q149=\"GADSCORE\"&C76&\"TRUE\",L76:L149,IF(C76=C75,AJ75,\"\")))","v":42888},"2017-06-02",{"$f":"'Patient Tracking'!R77","v":0},0,42628,{"$f":"'Patient Tracking'!Q77","v":0},"Flag for discussion & safety risk"]
[{"$f":"'Patient Tracking'!C78","v":"Active"},"Active",{"$f":"'Patient Tracking'!A78","v":1678},{"$f":"'Patient Tracking'!B78","v":"Susan Test"},{"$f":"'Patient Tracking'!G78","v":10},{"$f":"MAX(IF(C77:C150=C77,H77:H150,\"\"))","v":1},"1678TRUE",{"$f":"'Patient Tracking'!F78","v":1},8,{"$f":"MAX(IF(G77:G150=C77&\"TRUE\",I77:I150,\"\"))","v":10},42694,{"$f":"'Patient Tracking'!J78","v":42830},{"$f":"MAX(IF(U77:U150=U77,L77:L150,\"\"))","v":42888},{"$f":"IF('Patient Tracking'!H78=\"\",999999,'Patient Tracking'!H78)","v":999999},{"$f":"MIN(IF(C77:C150=C77,N77:N150,\"\"))","v":42902},42902,"GADSCORE1678TRUE","PHQSCORE1678TRUE","","","CONTACT1678",42830,33.285714285714285,{"$f":"IF(E77=\"current episode initial assessment\",\"\",'Patient Tracking'!L78)","v":16},{"$f":"IF(E77=\"current episode initial assessment\",\"\",'Patient Tracking'!N78)","v":17},22,"","","",18,"-100",{"$f":"MAX(IF(Q77:Q150=\"GADSCORE\"&G77,AE77:AE150,IF(C77=C76,AF76,\"-100\")),\"-100\")","v":14},14,-0.22222222222222221,{"$f":"MAX(IF(Q77:Q150=\"GADSCORE\"&C77&\"TRUE\",L77:L150,IF(C77=C76,AJ76,\"\")))","v":42888},"2017-06-02",{"$f":"'Patient Tracking'!R78","v":0},0,42628,{"$f":"'Patient Tracking'!Q78","v":0},"Flag for discussion & safety risk"]
[{"$f":"'Patient Tracking'!C79","v":"Active"},"Active",{"$f":"'Patient Tracking'!A79","v":1678},{"$f":"'Patient Tracking'!B79","v":"Susan Test"},{"$f":"'Patient Tracking'!G79","v":11},{"$f":"MAX(IF(C78:C151=C78,H78:H151,\"\"))","v":1},"1678TRUE",{"$f":"'Patient Tracking'!F79","v":1},9,{"$f":"MAX(IF(G78:G151=C78&\"TRUE\",I78:I151,\"\"))","v":10},42694,{"$f":"'Patient Tracking'!J79","v":42855},{"$f":"MAX(IF(U78:U151=U78,L78:L151,\"\"))","v":42888},{"$f":"IF('Patient Tracking'!H79=\"\",999999,'Patient Tracking'!H79)","v":999999},{"$f":"MIN(IF(C78:C151=C78,N78:N151,\"\"))","v":42902},42902,"None","PHQSCORE1678TRUE","","","CONTACT1678",42855,33.285714285714285,{"$f":"IF(E78=\"current episode initial assessment\",\"\",'Patient Tracking'!L79)","v":17},{"$f":"IF(E78=\"current episode initial assessment\",\"\",'Patient Tracking'!N79)","v":"."},22,"","","",18,"-100",{"$f":"MAX(IF(Q78:Q151=\"GADSCORE\"&G78,AE78:AE151,IF(C78=C77,AF77,\"-100\")),\"-100\")","v":14},14,-0.22222222222222221,{"$f":"MAX(IF(Q78:Q151=\"GADSCORE\"&C78&\"TRUE\",L78:L151,IF(C78=C77,AJ77,\"\")))","v":42888},"2017-06-02",{"$f":"'Patient Tracking'!R79","v":0},0,42628,{"$f":"'Patient Tracking'!Q79","v":0},"Flag for discussion & safety risk"]
[{"$f":"'Patient Tracking'!C80","v":"Active"},"Active",{"$f":"'Patient Tracking'!A80","v":1678},{"$f":"'Patient Tracking'!B80","v":"Susan Test"},{"$f":"'Patient Tracking'!G80","v":12},{"$f":"MAX(IF(C79:C152=C79,H79:H152,\"\"))","v":1},"1678TRUE",{"$f":"'Patient Tracking'!F80","v":1},10,{"$f":"MAX(IF(G79:G152=C79&\"TRUE\",I79:I152,\"\"))","v":10},42694,{"$f":"'Patient Tracking'!J80","v":42888},{"$f":"MAX(IF(U79:U152=U79,L79:L152,\"\"))","v":42888},{"$f":"IF('Patient Tracking'!H80=\"\",999999,'Patient Tracking'!H80)","v":999999},{"$f":"MIN(IF(C79:C152=C79,N79:N152,\"\"))","v":42902},42902,"GADSCORE1678TRUE","PHQSCORE1678TRUE","","","CONTACT1678",42888,33.285714285714285,{"$f":"IF(E79=\"current episode initial assessment\",\"\",'Patient Tracking'!L80)","v":15},{"$f":"IF(E79=\"current episode initial assessment\",\"\",'Patient Tracking'!N80)","v":14},22,15,-0.31818181818181823,"2017-06-02",18,14,{"$f":"MAX(IF(Q79:Q152=\"GADSCORE\"&G79,AE79:AE152,IF(C79=C78,AF78,\"-100\")),\"-100\")","v":14},14,-0.22222222222222221,{"$f":"MAX(IF(Q79:Q152=\"GADSCORE\"&C79&\"TRUE\",L79:L152,IF(C79=C78,AJ78,\"\")))","v":42888},"2017-06-02",{"$f":"'Patient Tracking'!R80","v":0},0,42628,{"$f":"'Patient Tracking'!Q80","v":0},"Flag for discussion & safety risk"]
[{"$f":"'Patient Tracking'!C81","v":"Active"},"Active",{"$f":"'Patient Tracking'!A81","v":1678},{"$f":"'Patient Tracking'!B81","v":"Susan Test"},{"$f":"'Patient Tracking'!G81","v":""},{"$f":"MAX(IF(C80:C153=C80,H80:H153,\"\"))","v":0},false,{"$f":"'Patient Tracking'!F81","v":0},10,{"$f":"MAX(IF(G80:G153=C80&\"TRUE\",I80:I153,\"\"))","v":0},42694,{"$f":"'Patient Tracking'!J81","v":0},{"$f":"MAX(IF(U80:U153=U80,L80:L153,\"\"))","v":42884},{"$f":"IF('Patient Tracking'!H81=\"\",999999,'Patient Tracking'!H81)","v":42902},{"$f":"MIN(IF(C80:C153=C80,N80:N153,\"\"))","v":42902},42902,"None","None","","",0,0,33.285714285714285,{"$f":"IF(E80=\"current episode initial assessment\",\"\",'Patient Tracking'!L81)","v":"."},{"$f":"IF(E80=\"current episode initial assessment\",\"\",'Patient Tracking'!N81)","v":"."},22,"","","",18,"-100",{"$f":"MAX(IF(Q80:Q153=\"GADSCORE\"&G80,AE80:AE153,IF(C80=C79,AF79,\"-100\")),\"-100\")","v":14},14,-0.22222222222222221,{"$f":"MAX(IF(Q80:Q153=\"GADSCORE\"&C80&\"TRUE\",L80:L153,IF(C80=C79,AJ79,\"\")))","v":42888},"2017-06-02",{"$f":"'Patient Tracking'!R81","v":0},0,42628,{"$f":"'Patient Tracking'!Q81","v":0},"Flag for discussion & safety risk"]
[{"$f":"'Patient Tracking'!C82","v":"Active"},"Active",{"$f":"'Patient Tracking'!A82","v":1678},{"$f":"'Patient Tracking'!B82","v":"Susan Test"},{"$f":"'Patient Tracking'!G82","v":""},{"$f":"MAX(IF(C81:C154=C81,H81:H154,\"\"))","v":0},false,{"$f":"'Patient Tracking'!F82","v":0},10,{"$f":"MAX(IF(G81:G154=C81&\"TRUE\",I81:I154,\"\"))","v":0},42694,{"$f":"'Patient Tracking'!J82","v":0},{"$f":"MAX(IF(U81:U154=U81,L81:L154,\"\"))","v":42884},{"$f":"IF('Patient Tracking'!H82=\"\",999999,'Patient Tracking'!H82)","v":42916},{"$f":"MIN(IF(C81:C154=C81,N81:N154,\"\"))","v":42916},42916,"None","None",{"$f":"IF(AND(X81>=0,X81<=27,R81=\"PHQSCORE\"&C81&\"TRUE\",ISNA(MATCH(\"PHQSCORE\"&G81,R65:R80,0))),\"Initial Score\"&C81,\"\")","v":""},{"$f":"IF(AND(Y81>=0,Y81<=21,Q81=\"GADSCORE\"&C81&\"TRUE\",ISNA(MATCH(\"GADSCORE\"&G81,Q65:Q80,0))),\"Initial Score\"&C81,\"\")","v":""},0,0,33.285714285714285,{"$f":"IF(E81=\"current episode initial assessment\",\"\",'Patient Tracking'!L82)","v":"."},{"$f":"IF(E81=\"current episode initial assessment\",\"\",'Patient Tracking'!N82)","v":"."},22,"","","",18,"-100",{"$f":"MAX(IF(Q81:Q154=\"GADSCORE\"&G81,AE81:AE154,IF(C81=C80,AF80,\"-100\")),\"-100\")","v":14},14,-0.22222222222222221,{"$f":"MAX(IF(Q81:Q154=\"GADSCORE\"&C81&\"TRUE\",L81:L154,IF(C81=C80,AJ80,\"\")))","v":42888},"2017-06-02",{"$f":"'Patient Tracking'!R82","v":0},0,42628,{"$f":"'Patient Tracking'!Q82","v":0},"Flag for discussion & safety risk"]
[{"$f":"'Patient Tracking'!C83","v":"Active"},"Active",{"$f":"'Patient Tracking'!A83","v":6789},{"$f":"'Patient Tracking'!B83","v":"Nancy Fake"},{"$f":"'Patient Tracking'!G83","v":"Current Episode Initial Assessment"},{"$f":"MAX(IF(C82:C155=C82,H82:H155,\"\"))","v":1},false,{"$f":"'Patient Tracking'!F83","v":1},0,{"$f":"MAX(IF(G82:G155=C82&\"TRUE\",I82:I155,\"\"))","v":0},42884,{"$f":"'Patient Tracking'!J83","v":42884},{"$f":"MAX(IF(U82:U155=U82,L82:L155,\"\"))","v":42884},{"$f":"IF('Patient Tracking'!H83=\"\",999999,'Patient Tracking'!H83)","v":"2-week follow-up schedule"},{"$f":"MIN(IF(C82:C155=C82,N82:N155,\"\"))","v":42898},42898,"None","None","","",0,42884,6.1428571428571432,{"$f":"IF(E82=\"current episode initial assessment\",\"\",'Patient Tracking'!L83)","v":""},{"$f":"IF(E82=\"current episode initial assessment\",\"\",'Patient Tracking'!N83)","v":""},"No Score","No Score","","","No Score","-100",{"$f":"MAX(IF(Q82:Q155=\"GADSCORE\"&G82,AE82:AE155,IF(C82=C81,AF81,\"-100\")),\"-100\")","v":-100},"No Score","",{"$f":"MAX(IF(Q82:Q155=\"GADSCORE\"&C82&\"TRUE\",L82:L155,IF(C82=C81,AJ81,\"\")))","v":0},"",{"$f":"'Patient Tracking'!R83","v":""},0,"",{"$f":"'Patient Tracking'!Q83","v":0},""]
[{"$f":"'Patient Tracking'!C84","v":"Active"},"Active",{"$f":"'Patient Tracking'!A84","v":6789},{"$f":"'Patient Tracking'!B84","v":"Nancy Fake"},{"$f":"'Patient Tracking'!G84","v":"Initial Assessment"},{"$f":"MAX(IF(C83:C156=C83,H83:H156,\"\"))","v":1},"6789TRUE",{"$f":"'Patient Tracking'!F84","v":1},0,{"$f":"MAX(IF(G83:G156=C83&\"TRUE\",I83:I156,\"\"))","v":0},42884,{"$f":"'Patient Tracking'!J84","v":42884},{"$f":"MAX(IF(U83:U156=U83,L83:L156,\"\"))","v":42884},{"$f":"IF('Patient Tracking'!H84=\"\",999999,'Patient Tracking'!H84)","v":999999},{"$f":"MIN(IF(C83:C156=C83,N83:N156,\"\"))","v":42898},42898,"None","None","","","CONTACT6789",42884,6.1428571428571432,{"$f":"IF(E83=\"current episode initial assessment\",\"\",'Patient Tracking'!L84)","v":"."},{"$f":"IF(E83=\"current episode initial assessment\",\"\",'Patient Tracking'!N84)","v":"."},"No Score","","","","No Score","-100",{"$f":"MAX(IF(Q83:Q156=\"GADSCORE\"&G83,AE83:AE156,IF(C83=C82,AF82,\"-100\")),\"-100\")","v":-100},"No Score","",{"$f":"MAX(IF(Q83:Q156=\"GADSCORE\"&C83&\"TRUE\",L83:L156,IF(C83=C82,AJ82,\"\")))","v":0},"",{"$f":"'Patient Tracking'!R84","v":0},0,"",{"$f":"'Patient Tracking'!Q84","v":0},""]
[{"$f":"'Patient Tracking'!C85","v":"Active"},"Active",{"$f":"'Patient Tracking'!A85","v":6789},{"$f":"'Patient Tracking'!B85","v":"Nancy Fake"},{"$f":"'Patient Tracking'!G85","v":""},{"$f":"MAX(IF(C84:C157=C84,H84:H157,\"\"))","v":0},false,{"$f":"'Patient Tracking'!F85","v":0},0,{"$f":"MAX(IF(G84:G157=C84&\"TRUE\",I84:I157,\"\"))","v":0},42884,{"$f":"'Patient Tracking'!J85","v":0},{"$f":"MAX(IF(U84:U157=U84,L84:L157,\"\"))","v":42719},{"$f":"IF('Patient Tracking'!H85=\"\",999999,'Patient Tracking'!H85)","v":42898},{"$f":"MIN(IF(C84:C157=C84,N84:N157,\"\"))","v":42898},42898,"None","None","","",0,0,6.1428571428571432,{"$f":"IF(E84=\"current episode initial assessment\",\"\",'Patient Tracking'!L85)","v":"."},{"$f":"IF(E84=\"current episode initial assessment\",\"\",'Patient Tracking'!N85)","v":"."},"No Score","","","","No Score","-100",{"$f":"MAX(IF(Q84:Q157=\"GADSCORE\"&G84,AE84:AE157,IF(C84=C83,AF83,\"-100\")),\"-100\")","v":-100},"No Score","",{"$f":"MAX(IF(Q84:Q157=\"GADSCORE\"&C84&\"TRUE\",L84:L157,IF(C84=C83,AJ83,\"\")))","v":0},"",{"$f":"'Patient Tracking'!R85","v":0},0,"",{"$f":"'Patient Tracking'!Q85","v":0},""]
[{"$f":"'Patient Tracking'!C86","v":"Active"},"Active",{"$f":"'Patient Tracking'!A86","v":6789},{"$f":"'Patient Tracking'!B86","v":"Nancy Fake"},{"$f":"'Patient Tracking'!G86","v":""},{"$f":"MAX(IF(C85:C158=C85,H85:H158,\"\"))","v":0},false,{"$f":"'Patient Tracking'!F86","v":0},0,{"$f":"MAX(IF(G85:G158=C85&\"TRUE\",I85:I158,\"\"))","v":0},42884,{"$f":"'Patient Tracking'!J86","v":0},{"$f":"MAX(IF(U85:U158=U85,L85:L158,\"\"))","v":42719},{"$f":"IF('Patient Tracking'!H86=\"\",999999,'Patient Tracking'!H86)","v":42912},{"$f":"MIN(IF(C85:C158=C85,N85:N158,\"\"))","v":42912},42912,"None","None","","",0,0,6.1428571428571432,{"$f":"IF(E85=\"current episode initial assessment\",\"\",'Patient Tracking'!L86)","v":"."},{"$f":"IF(E85=\"current episode initial assessment\",\"\",'Patient Tracking'!N86)","v":"."},"No Score","","","","No Score","-100",{"$f":"MAX(IF(Q85:Q158=\"GADSCORE\"&G85,AE85:AE158,IF(C85=C84,AF84,\"-100\")),\"-100\")","v":-100},"No Score","",{"$f":"MAX(IF(Q85:Q158=\"GADSCORE\"&C85&\"TRUE\",L85:L158,IF(C85=C84,AJ84,\"\")))","v":0},"",{"$f":"'Patient Tracking'!R86","v":0},0,"",{"$f":"'Patient Tracking'!Q86","v":0},""]
[{"$f":"'Patient Tracking'!C87","v":"Active"},"Active",{"$f":"'Patient Tracking'!A87","v":6789},{"$f":"'Patient Tracking'!B87","v":"Nancy Fake"},{"$f":"'Patient Tracking'!G87","v":""},{"$f":"MAX(IF(C86:C159=C86,H86:H159,\"\"))","v":0},false,{"$f":"'Patient Tracking'!F87","v":0},0,{"$f":"MAX(IF(G86:G159=C86&\"TRUE\",I86:I159,\"\"))","v":0},42884,{"$f":"'Patient Tracking'!J87","v":0},{"$f":"MAX(IF(U86:U159=U86,L86:L159,\"\"))","v":42719},{"$f":"IF('Patient Tracking'!H87=\"\",999999,'Patient Tracking'!H87)","v":42926},{"$f":"MIN(IF(C86:C159=C86,N86:N159,\"\"))","v":42926},42926,"None","None","","",0,0,6.1428571428571432,{"$f":"IF(E86=\"current episode initial assessment\",\"\",'Patient Tracking'!L87)","v":"."},{"$f":"IF(E86=\"current episode initial assessment\",\"\",'Patient Tracking'!N87)","v":"."},"No Score","","","","No Score","-100",{"$f":"MAX(IF(Q86:Q159=\"GADSCORE\"&G86,AE86:AE159,IF(C86=C85,AF85,\"-100\")),\"-100\")","v":-100},"No Score","",{"$f":"MAX(IF(Q86:Q159=\"GADSCORE\"&C86&\"TRUE\",L86:L159,IF(C86=C85,AJ85,\"\")))","v":0},"",{"$f":"'Patient Tracking'!R87","v":0},0,"",{"$f":"'Patient Tracking'!Q87","v":0},""]
[{"$f":"'Patient Tracking'!C88","v":"Active"},"Active",{"$f":"'Patient Tracking'!A88","v":6789},{"$f":"'Patient Tracking'!B88","v":"Nancy Fake"},{"$f":"'Patient Tracking'!G88","v":""},{"$f":"MAX(IF(C87:C160=C87,H87:H160,\"\"))","v":0},false,{"$f":"'Patient Tracking'!F88","v":0},0,{"$f":"MAX(IF(G87:G160=C87&\"TRUE\",I87:I160,\"\"))","v":0},42884,{"$f":"'Patient Tracking'!J88","v":0},{"$f":"MAX(IF(U87:U160=U87,L87:L160,\"\"))","v":42719},{"$f":"IF('Patient Tracking'!H88=\"\",999999,'Patient Tracking'!H88)","v":42940},{"$f":"MIN(IF(C87:C160=C87,N87:N160,\"\"))","v":42940},42940,"None","None","","",0,0,6.1428571428571432,{"$f":"IF(E87=\"current episode initial assessment\",\"\",'Patient Tracking'!L88)","v":"."},{"$f":"IF(E87=\"current episode initial assessment\",\"\",'Patient Tracking'!N88)","v":"."},"No Score","","","","No Score","-100",{"$f":"MAX(IF(Q87:Q160=\"GADSCORE\"&G87,AE87:AE160,IF(C87=C86,AF86,\"-100\")),\"-100\")","v":-100},"No Score","",{"$f":"MAX(IF(Q87:Q160=\"GADSCORE\"&C87&\"TRUE\",L87:L160,IF(C87=C86,AJ86,\"\")))","v":0},"",{"$f":"'Patient Tracking'!R88","v":0},0,"",{"$f":"'Patient Tracking'!Q88","v":0},""]
[{"$f":"'Patient Tracking'!C89","v":"Active"},"Active",{"$f":"'Patient Tracking'!A89","v":6789},{"$f":"'Patient Tracking'!B89","v":"Nancy Fake"},{"$f":"'Patient Tracking'!G89","v":""},{"$f":"MAX(IF(C88:C161=C88,H88:H161,\"\"))","v":0},false,{"$f":"'Patient Tracking'!F89","v":0},0,{"$f":"MAX(IF(G88:G161=C88&\"TRUE\",I88:I161,\"\"))","v":0},42884,{"$f":"'Patient Tracking'!J89","v":0},{"$f":"MAX(IF(U88:U161=U88,L88:L161,\"\"))","v":42719},{"$f":"IF('Patient Tracking'!H89=\"\",999999,'Patient Tracking'!H89)","v":42954},{"$f":"MIN(IF(C88:C161=C88,N88:N161,\"\"))","v":42954},42954,"None","None","","",0,0,6.1428571428571432,{"$f":"IF(E88=\"current episode initial assessment\",\"\",'Patient Tracking'!L89)","v":"."},{"$f":"IF(E88=\"current episode initial assessment\",\"\",'Patient Tracking'!N89)","v":"."},"No Score","","","","No Score","-100",{"$f":"MAX(IF(Q88:Q161=\"GADSCORE\"&G88,AE88:AE161,IF(C88=C87,AF87,\"-100\")),\"-100\")","v":-100},"No Score","",{"$f":"MAX(IF(Q88:Q161=\"GADSCORE\"&C88&\"TRUE\",L88:L161,IF(C88=C87,AJ87,\"\")))","v":0},"",{"$f":"'Patient Tracking'!R89","v":0},0,"",{"$f":"'Patient Tracking'!Q89","v":0},""]
[{"$f":"'Patient Tracking'!C90","v":"Active"},"Active",{"$f":"'Patient Tracking'!A90","v":6789},{"$f":"'Patient Tracking'!B90","v":"Nancy Fake"},{"$f":"'Patient Tracking'!G90","v":""},{"$f":"MAX(IF(C89:C162=C89,H89:H162,\"\"))","v":0},false,{"$f":"'Patient Tracking'!F90","v":0},0,{"$f":"MAX(IF(G89:G162=C89&\"TRUE\",I89:I162,\"\"))","v":0},42884,{"$f":"'Patient Tracking'!J90","v":0},{"$f":"MAX(IF(U89:U162=U89,L89:L162,\"\"))","v":42719},{"$f":"IF('Patient Tracking'!H90=\"\",999999,'Patient Tracking'!H90)","v":42968},{"$f":"MIN(IF(C89:C162=C89,N89:N162,\"\"))","v":42968},42968,"None","None","","",0,0,6.1428571428571432,{"$f":"IF(E89=\"current episode initial assessment\",\"\",'Patient Tracking'!L90)","v":"."},{"$f":"IF(E89=\"current episode initial assessment\",\"\",'Patient Tracking'!N90)","v":"."},"No Score","","","","No Score","-100",{"$f":"MAX(IF(Q89:Q162=\"GADSCORE\"&G89,AE89:AE162,IF(C89=C88,AF88,\"-100\")),\"-100\")","v":-100},"No Score","",{"$f":"MAX(IF(Q89:Q162=\"GADSCORE\"&C89&\"TRUE\",L89:L162,IF(C89=C88,AJ88,\"\")))","v":0},"",{"$f":"'Patient Tracking'!R90","v":0},0,"",{"$f":"'Patient Tracking'!Q90","v":0},""]
[{"$f":"'Patient Tracking'!C91","v":"Active"},"Active",{"$f":"'Patient Tracking'!A91","v":6789},{"$f":"'Patient Tracking'!B91","v":"Nancy Fake"},{"$f":"'Patient Tracking'!G91","v":""},{"$f":"MAX(IF(C90:C163=C90,H90:H163,\"\"))","v":0},false,{"$f":"'Patient Tracking'!F91","v":0},0,{"$f":"MAX(IF(G90:G163=C90&\"TRUE\",I90:I163,\"\"))","v":0},42884,{"$f":"'Patient Tracking'!J91","v":0},{"$f":"MAX(IF(U90:U163=U90,L90:L163,\"\"))","v":42719},{"$f":"IF('Patient Tracking'!H91=\"\",999999,'Patient Tracking'!H91)","v":42982},{"$f":"MIN(IF(C90:C163=C90,N90:N163,\"\"))","v":42982},42982,"None","None","","",0,0,6.1428571428571432,{"$f":"IF(E90=\"current episode initial assessment\",\"\",'Patient Tracking'!L91)","v":"."},{"$f":"IF(E90=\"current episode initial assessment\",\"\",'Patient Tracking'!N91)","v":"."},"No Score","","","","No Score","-100",{"$f":"MAX(IF(Q90:Q163=\"GADSCORE\"&G90,AE90:AE163,IF(C90=C89,AF89,\"-100\")),\"-100\")","v":-100},"No Score","",{"$f":"MAX(IF(Q90:Q163=\"GADSCORE\"&C90&\"TRUE\",L90:L163,IF(C90=C89,AJ89,\"\")))","v":0},"",{"$f":"'Patient Tracking'!R91","v":0},0,"",{"$f":"'Patient Tracking'!Q91","v":0},""]
[{"$f":"'Patient Tracking'!C92","v":"Active"},"Active",{"$f":"'Patient Tracking'!A92","v":6789},{"$f":"'Patient Tracking'!B92","v":"Nancy Fake"},{"$f":"'Patient Tracking'!G92","v":""},{"$f":"MAX(IF(C91:C164=C91,H91:H164,\"\"))","v":0},false,{"$f":"'Patient Tracking'!F92","v":0},0,{"$f":"MAX(IF(G91:G164=C91&\"TRUE\",I91:I164,\"\"))","v":0},42884,{"$f":"'Patient Tracking'!J92","v":0},{"$f":"MAX(IF(U91:U164=U91,L91:L164,\"\"))","v":42719},{"$f":"IF('Patient Tracking'!H92=\"\",999999,'Patient Tracking'!H92)","v":42996},{"$f":"MIN(IF(C91:C164=C91,N91:N164,\"\"))","v":42996},42996,"None","None","","",0,0,6.1428571428571432,{"$f":"IF(E91=\"current episode initial assessment\",\"\",'Patient Tracking'!L92)","v":"."},{"$f":"IF(E91=\"current episode initial assessment\",\"\",'Patient Tracking'!N92)","v":"."},"No Score","","","","No Score","-100",{"$f":"MAX(IF(Q91:Q164=\"GADSCORE\"&G91,AE91:AE164,IF(C91=C90,AF90,\"-100\")),\"-100\")","v":-100},"No Score","",{"$f":"MAX(IF(Q91:Q164=\"GADSCORE\"&C91&\"TRUE\",L91:L164,IF(C91=C90,AJ90,\"\")))","v":0},"",{"$f":"'Patient Tracking'!R92","v":0},0,"",{"$f":"'Patient Tracking'!Q92","v":0},""]
[{"$f":"'Patient Tracking'!C93","v":"Active"},"Active",{"$f":"'Patient Tracking'!A93","v":6789},{"$f":"'Patient Tracking'!B93","v":"Nancy Fake"},{"$f":"'Patient Tracking'!G93","v":""},{"$f":"MAX(IF(C92:C165=C92,H92:H165,\"\"))","v":0},false,{"$f":"'Patient Tracking'!F93","v":0},0,{"$f":"MAX(IF(G92:G165=C92&\"TRUE\",I92:I165,\"\"))","v":0},42884,{"$f":"'Patient Tracking'!J93","v":0},{"$f":"MAX(IF(U92:U165=U92,L92:L165,\"\"))","v":42719},{"$f":"IF('Patient Tracking'!H93=\"\",999999,'Patient Tracking'!H93)","v":43010},{"$f":"MIN(IF(C92:C165=C92,N92:N165,\"\"))","v":43010},43010,"None","None","","",0,0,6.1428571428571432,{"$f":"IF(E92=\"current episode initial assessment\",\"\",'Patient Tracking'!L93)","v":"."},{"$f":"IF(E92=\"current episode initial assessment\",\"\",'Patient Tracking'!N93)","v":"."},"No Score","","","","No Score","-100",{"$f":"MAX(IF(Q92:Q165=\"GADSCORE\"&G92,AE92:AE165,IF(C92=C91,AF91,\"-100\")),\"-100\")","v":-100},"No Score","",{"$f":"MAX(IF(Q92:Q165=\"GADSCORE\"&C92&\"TRUE\",L92:L165,IF(C92=C91,AJ91,\"\")))","v":0},"",{"$f":"'Patient Tracking'!R93","v":0},0,"",{"$f":"'Patient Tracking'!Q93","v":0},""]
[{"$f":"'Patient Tracking'!C94","v":"Active"},"Active",{"$f":"'Patient Tracking'!A94","v":6789},{"$f":"'Patient Tracking'!B94","v":"Nancy Fake"},{"$f":"'Patient Tracking'!G94","v":""},{"$f":"MAX(IF(C93:C166=C93,H93:H166,\"\"))","v":0},false,{"$f":"'Patient Tracking'!F94","v":0},0,{"$f":"MAX(IF(G93:G166=C93&\"TRUE\",I93:I166,\"\"))","v":0},42884,{"$f":"'Patient Tracking'!J94","v":0},{"$f":"MAX(IF(U93:U166=U93,L93:L166,\"\"))","v":42719},{"$f":"IF('Patient Tracking'!H94=\"\",999999,'Patient Tracking'!H94)","v":43024},{"$f":"MIN(IF(C93:C166=C93,N93:N166,\"\"))","v":43024},43024,"None","None","","",0,0,6.1428571428571432,{"$f":"IF(E93=\"current episode initial assessment\",\"\",'Patient Tracking'!L94)","v":"."},{"$f":"IF(E93=\"current episode initial assessment\",\"\",'Patient Tracking'!N94)","v":"."},"No Score","","","","No Score","-100",{"$f":"MAX(IF(Q93:Q166=\"GADSCORE\"&G93,AE93:AE166,IF(C93=C92,AF92,\"-100\")),\"-100\")","v":-100},"No Score","",{"$f":"MAX(IF(Q93:Q166=\"GADSCORE\"&C93&\"TRUE\",L93:L166,IF(C93=C92,AJ92,\"\")))","v":0},"",{"$f":"'Patient Tracking'!R94","v":0},0,"",{"$f":"'Patient Tracking'!Q94","v":0},""]
[{"$f":"'Patient Tracking'!C95","v":"Active"},"Active",{"$f":"'Patient Tracking'!A95","v":6789},{"$f":"'Patient Tracking'!B95","v":"Nancy Fake"},{"$f":"'Patient Tracking'!G95","v":""},{"$f":"MAX(IF(C94:C167=C94,H94:H167,\"\"))","v":0},false,{"$f":"'Patient Tracking'!F95","v":0},0,{"$f":"MAX(IF(G94:G167=C94&\"TRUE\",I94:I167,\"\"))","v":0},42884,{"$f":"'Patient Tracking'!J95","v":0},{"$f":"MAX(IF(U94:U167=U94,L94:L167,\"\"))","v":42719},{"$f":"IF('Patient Tracking'!H95=\"\",999999,'Patient Tracking'!H95)","v":43038},{"$f":"MIN(IF(C94:C167=C94,N94:N167,\"\"))","v":43038},43038,"None","None","","",0,0,6.1428571428571432,{"$f":"IF(E94=\"current episode initial assessment\",\"\",'Patient Tracking'!L95)","v":"."},{"$f":"IF(E94=\"current episode initial assessment\",\"\",'Patient Tracking'!N95)","v":"."},"No Score","","","","No Score","-100",{"$f":"MAX(IF(Q94:Q167=\"GADSCORE\"&G94,AE94:AE167,IF(C94=C93,AF93,\"-100\")),\"-100\")","v":-100},"No Score","",{"$f":"MAX(IF(Q94:Q167=\"GADSCORE\"&C94&\"TRUE\",L94:L167,IF(C94=C93,AJ93,\"\")))","v":0},"",{"$f":"'Patient Tracking'!R95","v":0},0,"",{"$f":"'Patient Tracking'!Q95","v":0},""]
[{"$f":"'Patient Tracking'!C96","v":"Active"},"Active",{"$f":"'Patient Tracking'!A96","v":6789},{"$f":"'Patient Tracking'!B96","v":"Nancy Fake"},{"$f":"'Patient Tracking'!G96","v":""},{"$f":"MAX(IF(C95:C168=C95,H95:H168,\"\"))","v":0},false,{"$f":"'Patient Tracking'!F96","v":0},0,{"$f":"MAX(IF(G95:G168=C95&\"TRUE\",I95:I168,\"\"))","v":0},42884,{"$f":"'Patient Tracking'!J96","v":0},{"$f":"MAX(IF(U95:U168=U95,L95:L168,\"\"))","v":42719},{"$f":"IF('Patient Tracking'!H96=\"\",999999,'Patient Tracking'!H96)","v":43052},{"$f":"MIN(IF(C95:C168=C95,N95:N168,\"\"))","v":43052},43052,"None","None","","",0,0,6.1428571428571432,{"$f":"IF(E95=\"current episode initial assessment\",\"\",'Patient Tracking'!L96)","v":"."},{"$f":"IF(E95=\"current episode initial assessment\",\"\",'Patient Tracking'!N96)","v":"."},"No Score","","","","No Score","-100",{"$f":"MAX(IF(Q95:Q168=\"GADSCORE\"&G95,AE95:AE168,IF(C95=C94,AF94,\"-100\")),\"-100\")","v":-100},"No Score","",{"$f":"MAX(IF(Q95:Q168=\"GADSCORE\"&C95&\"TRUE\",L95:L168,IF(C95=C94,AJ94,\"\")))","v":0},"",{"$f":"'Patient Tracking'!R96","v":0},0,"",{"$f":"'Patient Tracking'!Q96","v":0},""]
[{"$f":"'Patient Tracking'!C97","v":"Active"},"Active",{"$f":"'Patient Tracking'!A97","v":6789},{"$f":"'Patient Tracking'!B97","v":"Nancy Fake"},{"$f":"'Patient Tracking'!G97","v":""},{"$f":"MAX(IF(C96:C169=C96,H96:H169,\"\"))","v":0},false,{"$f":"'Patient Tracking'!F97","v":0},0,{"$f":"MAX(IF(G96:G169=C96&\"TRUE\",I96:I169,\"\"))","v":0},42884,{"$f":"'Patient Tracking'!J97","v":0},{"$f":"MAX(IF(U96:U169=U96,L96:L169,\"\"))","v":42719},{"$f":"IF('Patient Tracking'!H97=\"\",999999,'Patient Tracking'!H97)","v":43066},{"$f":"MIN(IF(C96:C169=C96,N96:N169,\"\"))","v":43066},43066,"None","None","","",0,0,6.1428571428571432,{"$f":"IF(E96=\"current episode initial assessment\",\"\",'Patient Tracking'!L97)","v":"."},{"$f":"IF(E96=\"current episode initial assessment\",\"\",'Patient Tracking'!N97)","v":"."},"No Score","","","","No Score","-100",{"$f":"MAX(IF(Q96:Q169=\"GADSCORE\"&G96,AE96:AE169,IF(C96=C95,AF95,\"-100\")),\"-100\")","v":-100},"No Score","",{"$f":"MAX(IF(Q96:Q169=\"GADSCORE\"&C96&\"TRUE\",L96:L169,IF(C96=C95,AJ95,\"\")))","v":0},"",{"$f":"'Patient Tracking'!R97","v":0},0,"",{"$f":"'Patient Tracking'!Q97","v":0},""]
[{"$f":"'Patient Tracking'!C98","v":"Active"},"Active",{"$f":"'Patient Tracking'!A98","v":6789},{"$f":"'Patient Tracking'!B98","v":"Nancy Fake"},{"$f":"'Patient Tracking'!G98","v":""},{"$f":"MAX(IF(C97:C170=C97,H97:H170,\"\"))","v":0},false,{"$f":"'Patient Tracking'!F98","v":0},0,{"$f":"MAX(IF(G97:G170=C97&\"TRUE\",I97:I170,\"\"))","v":0},42884,{"$f":"'Patient Tracking'!J98","v":0},{"$f":"MAX(IF(U97:U170=U97,L97:L170,\"\"))","v":42719},{"$f":"IF('Patient Tracking'!H98=\"\",999999,'Patient Tracking'!H98)","v":43080},{"$f":"MIN(IF(C97:C170=C97,N97:N170,\"\"))","v":43080},43080,"None","None","","",0,0,6.1428571428571432,{"$f":"IF(E97=\"current episode initial assessment\",\"\",'Patient Tracking'!L98)","v":"."},{"$f":"IF(E97=\"current episode initial assessment\",\"\",'Patient Tracking'!N98)","v":"."},"No Score","","","","No Score","-100",{"$f":"MAX(IF(Q97:Q170=\"GADSCORE\"&G97,AE97:AE170,IF(C97=C96,AF96,\"-100\")),\"-100\")","v":-100},"No Score","",{"$f":"MAX(IF(Q97:Q170=\"GADSCORE\"&C97&\"TRUE\",L97:L170,IF(C97=C96,AJ96,\"\")))","v":0},"",{"$f":"'Patient Tracking'!R98","v":0},0,"",{"$f":"'Patient Tracking'!Q98","v":0},""]
[{"$f":"'Patient Tracking'!C99","v":"Relapse Prevention"},"RP",{"$f":"'Patient Tracking'!A99","v":2500},{"$f":"'Patient Tracking'!B99","v":"Betty Test"},{"$f":"'Patient Tracking'!G99","v":"Current Episode Initial Assessment"},{"$f":"MAX(IF(C98:C171=C98,H98:H171,\"\"))","v":1},false,{"$f":"'Patient Tracking'!F99","v":1},0,{"$f":"MAX(IF(G98:G171=C98&\"TRUE\",I98:I171,\"\"))","v":10},42719,{"$f":"'Patient Tracking'!J99","v":42719},{"$f":"MAX(IF(U98:U171=U98,L98:L171,\"\"))","v":42719},{"$f":"IF('Patient Tracking'!H99=\"\",999999,'Patient Tracking'!H99)","v":"1-month follow-up schedule"},{"$f":"MIN(IF(C98:C171=C98,N98:N171,\"\"))","v":42900},42900,"None","None","","",0,42719,29.714285714285715,{"$f":"IF(E98=\"current episode initial assessment\",\"\",'Patient Tracking'!L99)","v":""},{"$f":"IF(E98=\"current episode initial assessment\",\"\",'Patient Tracking'!N99)","v":""},"No Score","","","","No Score","-100",{"$f":"MAX(IF(Q98:Q171=\"GADSCORE\"&G98,AE98:AE171,IF(C98=C97,AF97,\"-100\")),\"-100\")","v":-100},"No Score","",{"$f":"MAX(IF(Q98:Q171=\"GADSCORE\"&C98&\"TRUE\",L98:L171,IF(C98=C97,AJ97,\"\")))","v":42870},"2017-05-15",{"$f":"'Patient Tracking'!R99","v":""},0,"",{"$f":"'Patient Tracking'!Q99","v":0},""]
[{"$f":"'Patient Tracking'!C100","v":"Relapse Prevention"},"RP",{"$f":"'Patient Tracking'!A100","v":2500},{"$f":"'Patient Tracking'!B100","v":"Betty Test"},{"$f":"'Patient Tracking'!G100","v":"Initial Assessment"},{"$f":"MAX(IF(C99:C172=C99,H99:H172,\"\"))","v":1},"2500TRUE",{"$f":"'Patient Tracking'!F100","v":1},0,{"$f":"MAX(IF(G99:G172=C99&\"TRUE\",I99:I172,\"\"))","v":10},42719,{"$f":"'Patient Tracking'!J100","v":42719},{"$f":"MAX(IF(U99:U172=U99,L99:L172,\"\"))","v":42870},{"$f":"IF('Patient Tracking'!H100=\"\",999999,'Patient Tracking'!H100)","v":999999},{"$f":"MIN(IF(C99:C172=C99,N99:N172,\"\"))","v":42900},42900,"GADSCORE2500TRUE","PHQSCORE2500TRUE","Initial Score2500","Initial Score2500","CONTACT2500",42719,29.714285714285715,{"$f":"IF(E99=\"current episode initial assessment\",\"\",'Patient Tracking'!L100)","v":12},{"$f":"IF(E99=\"current episode initial assessment\",\"\",'Patient Tracking'!N100)","v":9},12,"","","",9,"-100",{"$f":"MAX(IF(Q99:Q172=\"GADSCORE\"&G99,AE99:AE172,IF(C99=C98,AF98,\"-100\")),\"-100\")","v":3},3,-0.66666666666666674,{"$f":"MAX(IF(Q99:Q172=\"GADSCORE\"&C99&\"TRUE\",L99:L172,IF(C99=C98,AJ98,\"\")))","v":42870},"2017-05-15",{"$f":"'Patient Tracking'!R100","v":0},0,"",{"$f":"'Patient Tracking'!Q100","v":0},""]
[{"$f":"'Patient Tracking'!C101","v":"Relapse Prevention"},"RP",{"$f":"'Patient Tracking'!A101","v":2500},{"$f":"'Patient Tracking'!B101","v":"Betty Test"},{"$f":"'Patient Tracking'!G101","v":1},{"$f":"MAX(IF(C100:C173=C100,H100:H173,\"\"))","v":1},"2500TRUE",{"$f":"'Patient Tracking'!F101","v":1},1,{"$f":"MAX(IF(G100:G173=C100&\"TRUE\",I100:I173,\"\"))","v":10},42719,{"$f":"'Patient Tracking'!J101","v":42733},{"$f":"MAX(IF(U100:U173=U100,L100:L173,\"\"))","v":42870},{"$f":"IF('Patient Tracking'!H101=\"\",999999,'Patient Tracking'!H101)","v":999999},{"$f":"MIN(IF(C100:C173=C100,N100:N173,\"\"))","v":42900},42900,"GADSCORE2500TRUE","PHQSCORE2500TRUE","","","CONTACT2500",42733,29.714285714285715,{"$f":"IF(E100=\"current episode initial assessment\",\"\",'Patient Tracking'!L101)","v":9},{"$f":"IF(E100=\"current episode initial assessment\",\"\",'Patient Tracking'!N101)","v":7},12,"","","",9,"-100",{"$f":"MAX(IF(Q100:Q173=\"GADSCORE\"&G100,AE100:AE173,IF(C100=C99,AF99,\"-100\")),\"-100\")","v":3},3,-0.66666666666666674,{"$f":"MAX(IF(Q100:Q173=\"GADSCORE\"&C100&\"TRUE\",L100:L173,IF(C100=C99,AJ99,\"\")))","v":42870},"2017-05-15",{"$f":"'Patient Tracking'!R101","v":0},0,"",{"$f":"'Patient Tracking'!Q101","v":0},""]
[{"$f":"'Patient Tracking'!C102","v":"Relapse Prevention"},"RP",{"$f":"'Patient Tracking'!A102","v":2500},{"$f":"'Patient Tracking'!B102","v":"Betty Test"},{"$f":"'Patient Tracking'!G102","v":2},{"$f":"MAX(IF(C101:C174=C101,H101:H174,\"\"))","v":1},"2500TRUE",{"$f":"'Patient Tracking'!F102","v":1},2,{"$f":"MAX(IF(G101:G174=C101&\"TRUE\",I101:I174,\"\"))","v":10},42719,{"$f":"'Patient Tracking'!J102","v":42747},{"$f":"MAX(IF(U101:U174=U101,L101:L174,\"\"))","v":42870},{"$f":"IF('Patient Tracking'!H102=\"\",999999,'Patient Tracking'!H102)","v":999999},{"$f":"MIN(IF(C101:C174=C101,N101:N174,\"\"))","v":42900},42900,"GADSCORE2500TRUE","PHQSCORE2500TRUE","","","CONTACT2500",42747,29.714285714285715,{"$f":"IF(E101=\"current episode initial assessment\",\"\",'Patient Tracking'!L102)","v":7},{"$f":"IF(E101=\"current episode initial assessment\",\"\",'Patient Tracking'!N102)","v":8},12,"","","",9,"-100",{"$f":"MAX(IF(Q101:Q174=\"GADSCORE\"&G101,AE101:AE174,IF(C101=C100,AF100,\"-100\")),\"-100\")","v":3},3,-0.66666666666666674,{"$f":"MAX(IF(Q101:Q174=\"GADSCORE\"&C101&\"TRUE\",L101:L174,IF(C101=C100,AJ100,\"\")))","v":42870},"2017-05-15",{"$f":"'Patient Tracking'!R102","v":0},0,"",{"$f":"'Patient Tracking'!Q102","v":0},""]
[{"$f":"'Patient Tracking'!C103","v":"Relapse Prevention"},"RP",{"$f":"'Patient Tracking'!A103","v":2500},{"$f":"'Patient Tracking'!B103","v":"Betty Test"},{"$f":"'Patient Tracking'!G103","v":3},{"$f":"MAX(IF(C102:C175=C102,H102:H175,\"\"))","v":1},"2500TRUE",{"$f":"'Patient Tracking'!F103","v":1},3,{"$f":"MAX(IF(G102:G175=C102&\"TRUE\",I102:I175,\"\"))","v":10},42719,{"$f":"'Patient Tracking'!J103","v":42760},{"$f":"MAX(IF(U102:U175=U102,L102:L175,\"\"))","v":42870},{"$f":"IF('Patient Tracking'!H103=\"\",999999,'Patient Tracking'!H103)","v":999999},{"$f":"MIN(IF(C102:C175=C102,N102:N175,\"\"))","v":42900},42900,"GADSCORE2500TRUE","PHQSCORE2500TRUE","","","CONTACT2500",42760,29.714285714285715,{"$f":"IF(E102=\"current episode initial assessment\",\"\",'Patient Tracking'!L103)","v":8},{"$f":"IF(E102=\"current episode initial assessment\",\"\",'Patient Tracking'!N103)","v":5},12,"","","",9,"-100",{"$f":"MAX(IF(Q102:Q175=\"GADSCORE\"&G102,AE102:AE175,IF(C102=C101,AF101,\"-100\")),\"-100\")","v":3},3,-0.66666666666666674,{"$f":"MAX(IF(Q102:Q175=\"GADSCORE\"&C102&\"TRUE\",L102:L175,IF(C102=C101,AJ101,\"\")))","v":42870},"2017-05-15",{"$f":"'Patient Tracking'!R103","v":0},0,"",{"$f":"'Patient Tracking'!Q103","v":0},""]
[{"$f":"'Patient Tracking'!C104","v":"Relapse Prevention"},"RP",{"$f":"'Patient Tracking'!A104","v":2500},{"$f":"'Patient Tracking'!B104","v":"Betty Test"},{"$f":"'Patient Tracking'!G104","v":4},{"$f":"MAX(IF(C103:C176=C103,H103:H176,\"\"))","v":1},"2500TRUE",{"$f":"'Patient Tracking'!F104","v":1},4,{"$f":"MAX(IF(G103:G176=C103&\"TRUE\",I103:I176,\"\"))","v":10},42719,{"$f":"'Patient Tracking'!J104","v":42775},{"$f":"MAX(IF(U103:U176=U103,L103:L176,\"\"))","v":42870},{"$f":"IF('Patient Tracking'!H104=\"\",999999,'Patient Tracking'!H104)","v":999999},{"$f":"MIN(IF(C103:C176=C103,N103:N176,\"\"))","v":42900},42900,"GADSCORE2500TRUE","PHQSCORE2500TRUE","","","CONTACT2500",42775,29.714285714285715,{"$f":"IF(E103=\"current episode initial assessment\",\"\",'Patient Tracking'!L104)","v":6},{"$f":"IF(E103=\"current episode initial assessment\",\"\",'Patient Tracking'!N104)","v":6},12,"","","",9,"-100",{"$f":"MAX(IF(Q103:Q176=\"GADSCORE\"&G103,AE103:AE176,IF(C103=C102,AF102,\"-100\")),\"-100\")","v":3},3,-0.66666666666666674,{"$f":"MAX(IF(Q103:Q176=\"GADSCORE\"&C103&\"TRUE\",L103:L176,IF(C103=C102,AJ102,\"\")))","v":42870},"2017-05-15",{"$f":"'Patient Tracking'!R104","v":0},0,"",{"$f":"'Patient Tracking'!Q104","v":0},""]
[{"$f":"'Patient Tracking'!C105","v":"Relapse Prevention"},"RP",{"$f":"'Patient Tracking'!A105","v":2500},{"$f":"'Patient Tracking'!B105","v":"Betty Test"},{"$f":"'Patient Tracking'!G105","v":5},{"$f":"MAX(IF(C104:C177=C104,H104:H177,\"\"))","v":1},"2500TRUE",{"$f":"'Patient Tracking'!F105","v":1},5,{"$f":"MAX(IF(G104:G177=C104&\"TRUE\",I104:I177,\"\"))","v":10},42719,{"$f":"'Patient Tracking'!J105","v":42786},{"$f":"MAX(IF(U104:U177=U104,L104:L177,\"\"))","v":42870},{"$f":"IF('Patient Tracking'!H105=\"\",999999,'Patient Tracking'!H105)","v":999999},{"$f":"MIN(IF(C104:C177=C104,N104:N177,\"\"))","v":42900},42900,"GADSCORE2500TRUE","PHQSCORE2500TRUE","","","CONTACT2500",42786,29.714285714285715,{"$f":"IF(E104=\"current episode initial assessment\",\"\",'Patient Tracking'!L105)","v":4},{"$f":"IF(E104=\"current episode initial assessment\",\"\",'Patient Tracking'!N105)","v":4},12,"","","",9,"-100",{"$f":"MAX(IF(Q104:Q177=\"GADSCORE\"&G104,AE104:AE177,IF(C104=C103,AF103,\"-100\")),\"-100\")","v":3},3,-0.66666666666666674,{"$f":"MAX(IF(Q104:Q177=\"GADSCORE\"&C104&\"TRUE\",L104:L177,IF(C104=C103,AJ103,\"\")))","v":42870},"2017-05-15",{"$f":"'Patient Tracking'!R105","v":0},0,"",{"$f":"'Patient Tracking'!Q105","v":0},""]
[{"$f":"'Patient Tracking'!C106","v":"Relapse Prevention"},"RP",{"$f":"'Patient Tracking'!A106","v":2500},{"$f":"'Patient Tracking'!B106","v":"Betty Test"},{"$f":"'Patient Tracking'!G106","v":6},{"$f":"MAX(IF(C105:C178=C105,H105:H178,\"\"))","v":1},"2500TRUE",{"$f":"'Patient Tracking'!F106","v":1},6,{"$f":"MAX(IF(G105:G178=C105&\"TRUE\",I105:I178,\"\"))","v":10},42719,{"$f":"'Patient Tracking'!J106","v":42797},{"$f":"MAX(IF(U105:U178=U105,L105:L178,\"\"))","v":42870},{"$f":"IF('Patient Tracking'!H106=\"\",999999,'Patient Tracking'!H106)","v":999999},{"$f":"MIN(IF(C105:C178=C105,N105:N178,\"\"))","v":42900},42900,"GADSCORE2500TRUE","PHQSCORE2500TRUE","","","CONTACT2500",42797,29.714285714285715,{"$f":"IF(E105=\"current episode initial assessment\",\"\",'Patient Tracking'!L106)","v":3},{"$f":"IF(E105=\"current episode initial assessment\",\"\",'Patient Tracking'!N106)","v":3},12,"","","",9,"-100",{"$f":"MAX(IF(Q105:Q178=\"GADSCORE\"&G105,AE105:AE178,IF(C105=C104,AF104,\"-100\")),\"-100\")","v":3},3,-0.66666666666666674,{"$f":"MAX(IF(Q105:Q178=\"GADSCORE\"&C105&\"TRUE\",L105:L178,IF(C105=C104,AJ104,\"\")))","v":42870},"2017-05-15",{"$f":"'Patient Tracking'!R106","v":0},0,"",{"$f":"'Patient Tracking'!Q106","v":0},""]
[{"$f":"'Patient Tracking'!C107","v":"Relapse Prevention"},"RP",{"$f":"'Patient Tracking'!A107","v":2500},{"$f":"'Patient Tracking'!B107","v":"Betty Test"},{"$f":"'Patient Tracking'!G107","v":7},{"$f":"MAX(IF(C106:C179=C106,H106:H179,\"\"))","v":1},"2500TRUE",{"$f":"'Patient Tracking'!F107","v":1},7,{"$f":"MAX(IF(G106:G179=C106&\"TRUE\",I106:I179,\"\"))","v":10},42719,{"$f":"'Patient Tracking'!J107","v":42811},{"$f":"MAX(IF(U106:U179=U106,L106:L179,\"\"))","v":42870},{"$f":"IF('Patient Tracking'!H107=\"\",999999,'Patient Tracking'!H107)","v":999999},{"$f":"MIN(IF(C106:C179=C106,N106:N179,\"\"))","v":42900},42900,"GADSCORE2500TRUE","PHQSCORE2500TRUE","","","CONTACT2500",42811,29.714285714285715,{"$f":"IF(E106=\"current episode initial assessment\",\"\",'Patient Tracking'!L107)","v":4},{"$f":"IF(E106=\"current episode initial assessment\",\"\",'Patient Tracking'!N107)","v":3},12,"","","",9,"-100",{"$f":"MAX(IF(Q106:Q179=\"GADSCORE\"&G106,AE106:AE179,IF(C106=C105,AF105,\"-100\")),\"-100\")","v":3},3,-0.66666666666666674,{"$f":"MAX(IF(Q106:Q179=\"GADSCORE\"&C106&\"TRUE\",L106:L179,IF(C106=C105,AJ105,\"\")))","v":42870},"2017-05-15",{"$f":"'Patient Tracking'!R107","v":0},0,"",{"$f":"'Patient Tracking'!Q107","v":0},""]
[{"$f":"'Patient Tracking'!C108","v":"Relapse Prevention"},"RP",{"$f":"'Patient Tracking'!A108","v":2500},{"$f":"'Patient Tracking'!B108","v":"Betty Test"},{"$f":"'Patient Tracking'!G108","v":8},{"$f":"MAX(IF(C107:C180=C107,H107:H180,\"\"))","v":1},"2500TRUE",{"$f":"'Patient Tracking'!F108","v":1},8,{"$f":"MAX(IF(G107:G180=C107&\"TRUE\",I107:I180,\"\"))","v":10},42719,{"$f":"'Patient Tracking'!J108","v":42841},{"$f":"MAX(IF(U107:U180=U107,L107:L180,\"\"))","v":42870},{"$f":"IF('Patient Tracking'!H108=\"\",999999,'Patient Tracking'!H108)","v":999999},{"$f":"MIN(IF(C107:C180=C107,N107:N180,\"\"))","v":42900},42900,"GADSCORE2500TRUE","PHQSCORE2500TRUE","","","CONTACT2500",42841,29.714285714285715,{"$f":"IF(E107=\"current episode initial assessment\",\"\",'Patient Tracking'!L108)","v":4},{"$f":"IF(E107=\"current episode initial assessment\",\"\",'Patient Tracking'!N108)","v":2},12,"","","",9,"-100",{"$f":"MAX(IF(Q107:Q180=\"GADSCORE\"&G107,AE107:AE180,IF(C107=C106,AF106,\"-100\")),\"-100\")","v":3},3,-0.66666666666666674,{"$f":"MAX(IF(Q107:Q180=\"GADSCORE\"&C107&\"TRUE\",L107:L180,IF(C107=C106,AJ106,\"\")))","v":42870},"2017-05-15",{"$f":"'Patient Tracking'!R108","v":0},0,"",{"$f":"'Patient Tracking'!Q108","v":0},""]
[{"$f":"'Patient Tracking'!C109","v":"Relapse Prevention"},"RP",{"$f":"'Patient Tracking'!A109","v":2500},{"$f":"'Patient Tracking'!B109","v":"Betty Test"},{"$f":"'Patient Tracking'!G109","v":9},{"$f":"MAX(IF(C108:C181=C108,H108:H181,\"\"))","v":1},"2500TRUE",{"$f":"'Patient Tracking'!F109","v":1},9,{"$f":"MAX(IF(G108:G181=C108&\"TRUE\",I108:I181,\"\"))","v":10},42719,{"$f":"'Patient Tracking'!J109","v":42842},{"$f":"MAX(IF(U108:U181=U108,L108:L181,\"\"))","v":42870},{"$f":"IF('Patient Tracking'!H109=\"\",999999,'Patient Tracking'!H109)","v":999999},{"$f":"MIN(IF(C108:C181=C108,N108:N181,\"\"))","v":42900},42900,"GADSCORE2500TRUE","PHQSCORE2500TRUE","","","CONTACT2500",42842,29.714285714285715,{"$f":"IF(E108=\"current episode initial assessment\",\"\",'Patient Tracking'!L109)","v":2},{"$f":"IF(E108=\"current episode initial assessment\",\"\",'Patient Tracking'!N109)","v":2},12,"","","",9,"-100",{"$f":"MAX(IF(Q108:Q181=\"GADSCORE\"&G108,AE108:AE181,IF(C108=C107,AF107,\"-100\")),\"-100\")","v":3},3,-0.66666666666666674,{"$f":"MAX(IF(Q108:Q181=\"GADSCORE\"&C108&\"TRUE\",L108:L181,IF(C108=C107,AJ107,\"\")))","v":42870},"2017-05-15",{"$f":"'Patient Tracking'!R109","v":0},0,"",{"$f":"'Patient Tracking'!Q109","v":0},""]
[{"$f":"'Patient Tracking'!C110","v":"Relapse Prevention"},"RP",{"$f":"'Patient Tracking'!A110","v":2500},{"$f":"'Patient Tracking'!B110","v":"Betty Test"},{"$f":"'Patient Tracking'!G110","v":10},{"$f":"MAX(IF(C109:C182=C109,H109:H182,\"\"))","v":1},"2500TRUE",{"$f":"'Patient Tracking'!F110","v":1},10,{"$f":"MAX(IF(G109:G182=C109&\"TRUE\",I109:I182,\"\"))","v":10},42719,{"$f":"'Patient Tracking'!J110","v":42870},{"$f":"MAX(IF(U109:U182=U109,L109:L182,\"\"))","v":42870},{"$f":"IF('Patient Tracking'!H110=\"\",999999,'Patient Tracking'!H110)","v":999999},{"$f":"MIN(IF(C109:C182=C109,N109:N182,\"\"))","v":42900},42900,"GADSCORE2500TRUE","PHQSCORE2500TRUE","","","CONTACT2500",42870,29.714285714285715,{"$f":"IF(E109=\"current episode initial assessment\",\"\",'Patient Tracking'!L110)","v":1},{"$f":"IF(E109=\"current episode initial assessment\",\"\",'Patient Tracking'!N110)","v":3},12,1,-0.91666666666666663,"2017-05-15",9,3,{"$f":"MAX(IF(Q109:Q182=\"GADSCORE\"&G109,AE109:AE182,IF(C109=C108,AF108,\"-100\")),\"-100\")","v":3},3,-0.66666666666666674,{"$f":"MAX(IF(Q109:Q182=\"GADSCORE\"&C109&\"TRUE\",L109:L182,IF(C109=C108,AJ108,\"\")))","v":42870},"2017-05-15",{"$f":"'Patient Tracking'!R110","v":0},0,"",{"$f":"'Patient Tracking'!Q110","v":0},""]
[{"$f":"'Patient Tracking'!C111","v":"Relapse Prevention"},"RP",{"$f":"'Patient Tracking'!A111","v":2500},{"$f":"'Patient Tracking'!B111","v":"Betty Test"},{"$f":"'Patient Tracking'!G111","v":""},{"$f":"MAX(IF(C110:C183=C110,H110:H183,\"\"))","v":0},false,{"$f":"'Patient Tracking'!F111","v":0},10,{"$f":"MAX(IF(G110:G183=C110&\"TRUE\",I110:I183,\"\"))","v":0},42719,{"$f":"'Patient Tracking'!J111","v":0},{"$f":"MAX(IF(U110:U183=U110,L110:L183,\"\"))","v":0},{"$f":"IF('Patient Tracking'!H111=\"\",999999,'Patient Tracking'!H111)","v":42900},{"$f":"MIN(IF(C110:C183=C110,N110:N183,\"\"))","v":42900},42900,"None","None","","",0,0,29.714285714285715,{"$f":"IF(E110=\"current episode initial assessment\",\"\",'Patient Tracking'!L111)","v":"."},{"$f":"IF(E110=\"current episode initial assessment\",\"\",'Patient Tracking'!N111)","v":"."},12,"","","",9,"-100",{"$f":"MAX(IF(Q110:Q183=\"GADSCORE\"&G110,AE110:AE183,IF(C110=C109,AF109,\"-100\")),\"-100\")","v":3},3,-0.66666666666666674,{"$f":"MAX(IF(Q110:Q183=\"GADSCORE\"&C110&\"TRUE\",L110:L183,IF(C110=C109,AJ109,\"\")))","v":42870},"2017-05-15",{"$f":"'Patient Tracking'!R111","v":0},0,"",{"$f":"'Patient Tracking'!Q111","v":0},""]
[{"$f":"'Patient Tracking'!C112","v":"Relapse Prevention"},"RP",{"$f":"'Patient Tracking'!A112","v":2500},{"$f":"'Patient Tracking'!B112","v":"Betty Test"},{"$f":"'Patient Tracking'!G112","v":""},{"$f":"MAX(IF(C111:C184=C111,H111:H184,\"\"))","v":0},false,{"$f":"'Patient Tracking'!F112","v":0},10,{"$f":"MAX(IF(G111:G184=C111&\"TRUE\",I111:I184,\"\"))","v":0},42719,{"$f":"'Patient Tracking'!J112","v":0},{"$f":"MAX(IF(U111:U184=U111,L111:L184,\"\"))","v":0},{"$f":"IF('Patient Tracking'!H112=\"\",999999,'Patient Tracking'!H112)","v":42930},{"$f":"MIN(IF(C111:C184=C111,N111:N184,\"\"))","v":42930},42930,"None","None","","",0,0,29.714285714285715,{"$f":"IF(E111=\"current episode initial assessment\",\"\",'Patient Tracking'!L112)","v":"."},{"$f":"IF(E111=\"current episode initial assessment\",\"\",'Patient Tracking'!N112)","v":"."},12,"","","",9,"-100",{"$f":"MAX(IF(Q111:Q184=\"GADSCORE\"&G111,AE111:AE184,IF(C111=C110,AF110,\"-100\")),\"-100\")","v":3},3,-0.66666666666666674,{"$f":"MAX(IF(Q111:Q184=\"GADSCORE\"&C111&\"TRUE\",L111:L184,IF(C111=C110,AJ110,\"\")))","v":42870},"2017-05-15",{"$f":"'Patient Tracking'!R112","v":0},0,"",{"$f":"'Patient Tracking'!Q112","v":0},""]
[{"$f":"'Patient Tracking'!C113","v":"Relapse Prevention"},"RP",{"$f":"'Patient Tracking'!A113","v":2500},{"$f":"'Patient Tracking'!B113","v":"Betty Test"},{"$f":"'Patient Tracking'!G113","v":""},{"$f":"MAX(IF(C112:C185=C112,H112:H185,\"\"))","v":0},false,{"$f":"'Patient Tracking'!F113","v":0},10,{"$f":"MAX(IF(G112:G185=C112&\"TRUE\",I112:I185,\"\"))","v":0},42719,{"$f":"'Patient Tracking'!J113","v":0},{"$f":"MAX(IF(U112:U185=U112,L112:L185,\"\"))","v":0},{"$f":"IF('Patient Tracking'!H113=\"\",999999,'Patient Tracking'!H113)","v":42960},{"$f":"MIN(IF(C112:C185=C112,N112:N185,\"\"))","v":42960},42960,"None","None","","",0,0,29.714285714285715,{"$f":"IF(E112=\"current episode initial assessment\",\"\",'Patient Tracking'!L113)","v":"."},{"$f":"IF(E112=\"current episode initial assessment\",\"\",'Patient Tracking'!N113)","v":"."},12,"","","",9,"-100",{"$f":"MAX(IF(Q112:Q185=\"GADSCORE\"&G112,AE112:AE185,IF(C112=C111,AF111,\"-100\")),\"-100\")","v":3},3,-0.66666666666666674,{"$f":"MAX(IF(Q112:Q185=\"GADSCORE\"&C112&\"TRUE\",L112:L185,IF(C112=C111,AJ111,\"\")))","v":42870},"2017-05-15",{"$f":"'Patient Tracking'!R113","v":0},0,"",{"$f":"'Patient Tracking'!Q113","v":0},""]
[{"$f":"'Patient Tracking'!C114","v":"Relapse Prevention"},"RP",{"$f":"'Patient Tracking'!A114","v":2500},{"$f":"'Patient Tracking'!B114","v":"Betty Test"},{"$f":"'Patient Tracking'!G114","v":""},{"$f":"MAX(IF(C113:C186=C113,H113:H186,\"\"))","v":0},false,{"$f":"'Patient Tracking'!F114","v":0},10,{"$f":"MAX(IF(G113:G186=C113&\"TRUE\",I113:I186,\"\"))","v":0},42719,{"$f":"'Patient Tracking'!J114","v":0},{"$f":"MAX(IF(U113:U186=U113,L113:L186,\"\"))","v":0},{"$f":"IF('Patient Tracking'!H114=\"\",999999,'Patient Tracking'!H114)","v":42990},{"$f":"MIN(IF(C113:C186=C113,N113:N186,\"\"))","v":42990},42990,"None","None","","",0,0,29.714285714285715,{"$f":"IF(E113=\"current episode initial assessment\",\"\",'Patient Tracking'!L114)","v":"."},{"$f":"IF(E113=\"current episode initial assessment\",\"\",'Patient Tracking'!N114)","v":"."},12,"","","",9,"-100",{"$f":"MAX(IF(Q113:Q186=\"GADSCORE\"&G113,AE113:AE186,IF(C113=C112,AF112,\"-100\")),\"-100\")","v":3},3,-0.66666666666666674,{"$f":"MAX(IF(Q113:Q186=\"GADSCORE\"&C113&\"TRUE\",L113:L186,IF(C113=C112,AJ112,\"\")))","v":42870},"2017-05-15",{"$f":"'Patient Tracking'!R114","v":0},0,"",{"$f":"'Patient Tracking'!Q114","v":0},""]
[{"$f":"'Patient Tracking'!C115","v":0},0,{"$f":"'Patient Tracking'!A115","v":0},{"$f":"'Patient Tracking'!B115","v":0},{"$f":"'Patient Tracking'!G115","v":"Current Episode Initial Assessment"},{"$f":"MAX(IF(C114:C187=C114,H114:H187,\"\"))","v":0},false,{"$f":"'Patient Tracking'!F115","v":0},0,{"$f":"MAX(IF(G114:G187=C114&\"TRUE\",I114:I187,\"\"))","v":0},"",{"$f":"'Patient Tracking'!J115","v":""},{"$f":"MAX(IF(U114:U187=U114,L114:L187,\"\"))","v":0},{"$f":"IF('Patient Tracking'!H115=\"\",999999,'Patient Tracking'!H115)","v":"2-week follow-up schedule"},{"$f":"MIN(IF(C114:C187=C114,N114:N187,\"\"))","v":0},0,"None","None","","",0,0,{"$error":"#VALUE!"},{"$f":"IF(E114=\"current episode initial assessment\",\"\",'Patient Tracking'!L115)","v":""},{"$f":"IF(E114=\"current episode initial assessment\",\"\",'Patient Tracking'!N115)","v":""},"No Score","No Score","","","No Score","-100",{"$f":"MAX(IF(Q114:Q187=\"GADSCORE\"&G114,AE114:AE187,IF(C114=C113,AF113,\"-100\")),\"-100\")","v":-100},"No Score","",{"$f":"MAX(IF(Q114:Q187=\"GADSCORE\"&C114&\"TRUE\",L114:L187,IF(C114=C113,AJ113,\"\")))","v":0},"",{"$f":"'Patient Tracking'!R115","v":""},0,"",{"$f":"'Patient Tracking'!Q115","v":0},""]
[{"$f":"'Patient Tracking'!C116","v":""},"",{"$f":"'Patient Tracking'!A116","v":""},{"$f":"'Patient Tracking'!B116","v":""},{"$f":"'Patient Tracking'!G116","v":"Initial Assessment"},{"$f":"MAX(IF(C115:C188=C115,H115:H188,\"\"))","v":0},false,{"$f":"'Patient Tracking'!F116","v":0},0,{"$f":"MAX(IF(G115:G188=C115&\"TRUE\",I115:I188,\"\"))","v":0},"",{"$f":"'Patient Tracking'!J116","v":0},{"$f":"MAX(IF(U115:U188=U115,L115:L188,\"\"))","v":0},{"$f":"IF('Patient Tracking'!H116=\"\",999999,'Patient Tracking'!H116)","v":" "},{"$f":"MIN(IF(C115:C188=C115,N115:N188,\"\"))","v":0},0,"None","None","","",0,0,{"$error":"#VALUE!"},{"$f":"IF(E115=\"current episode initial assessment\",\"\",'Patient Tracking'!L116)","v":"."},{"$f":"IF(E115=\"current episode initial assessment\",\"\",'Patient Tracking'!N116)","v":"."},"No Score","","","","No Score","-100",{"$f":"MAX(IF(Q115:Q188=\"GADSCORE\"&G115,AE115:AE188,IF(C115=C114,AF114,\"-100\")),\"-100\")","v":-100},"No Score","",{"$f":"MAX(IF(Q115:Q188=\"GADSCORE\"&C115&\"TRUE\",L115:L188,IF(C115=C114,AJ114,\"\")))","v":0},"",{"$f":"'Patient Tracking'!R116","v":0},0,"",{"$f":"'Patient Tracking'!Q116","v":0},""]
[{"$f":"'Patient Tracking'!C117","v":""},"",{"$f":"'Patient Tracking'!A117","v":""},{"$f":"'Patient Tracking'!B117","v":""},{"$f":"'Patient Tracking'!G117","v":""},{"$f":"MAX(IF(C116:C189=C116,H116:H189,\"\"))","v":0},false,{"$f":"'Patient Tracking'!F117","v":0},0,{"$f":"MAX(IF(G116:G189=C116&\"TRUE\",I116:I189,\"\"))","v":0},"",{"$f":"'Patient Tracking'!J117","v":0},{"$f":"MAX(IF(U116:U189=U116,L116:L189,\"\"))","v":0},{"$f":"IF('Patient Tracking'!H117=\"\",999999,'Patient Tracking'!H117)","v":" "},{"$f":"MIN(IF(C116:C189=C116,N116:N189,\"\"))","v":0},0,"None","None","","",0,0,{"$error":"#VALUE!"},{"$f":"IF(E116=\"current episode initial assessment\",\"\",'Patient Tracking'!L117)","v":"."},{"$f":"IF(E116=\"current episode initial assessment\",\"\",'Patient Tracking'!N117)","v":"."},"No Score","","","","No Score","-100",{"$f":"MAX(IF(Q116:Q189=\"GADSCORE\"&G116,AE116:AE189,IF(C116=C115,AF115,\"-100\")),\"-100\")","v":-100},"No Score","",{"$f":"MAX(IF(Q116:Q189=\"GADSCORE\"&C116&\"TRUE\",L116:L189,IF(C116=C115,AJ115,\"\")))","v":0},"",{"$f":"'Patient Tracking'!R117","v":0},0,"",{"$f":"'Patient Tracking'!Q117","v":0},""]
[{"$f":"'Patient Tracking'!C118","v":""},"",{"$f":"'Patient Tracking'!A118","v":""},{"$f":"'Patient Tracking'!B118","v":""},{"$f":"'Patient Tracking'!G118","v":""},{"$f":"MAX(IF(C117:C190=C117,H117:H190,\"\"))","v":0},false,{"$f":"'Patient Tracking'!F118","v":0},0,{"$f":"MAX(IF(G117:G190=C117&\"TRUE\",I117:I190,\"\"))","v":0},"",{"$f":"'Patient Tracking'!J118","v":0},{"$f":"MAX(IF(U117:U190=U117,L117:L190,\"\"))","v":0},{"$f":"IF('Patient Tracking'!H118=\"\",999999,'Patient Tracking'!H118)","v":" "},{"$f":"MIN(IF(C117:C190=C117,N117:N190,\"\"))","v":0},0,"None","None","","",0,0,{"$error":"#VALUE!"},{"$f":"IF(E117=\"current episode initial assessment\",\"\",'Patient Tracking'!L118)","v":"."},{"$f":"IF(E117=\"current episode initial assessment\",\"\",'Patient Tracking'!N118)","v":"."},"No Score","","","","No Score","-100",{"$f":"MAX(IF(Q117:Q190=\"GADSCORE\"&G117,AE117:AE190,IF(C117=C116,AF116,\"-100\")),\"-100\")","v":-100},"No Score","",{"$f":"MAX(IF(Q117:Q190=\"GADSCORE\"&C117&\"TRUE\",L117:L190,IF(C117=C116,AJ116,\"\")))","v":0},"",{"$f":"'Patient Tracking'!R118","v":0},0,"",{"$f":"'Patient Tracking'!Q118","v":0},""]
[{"$f":"'Patient Tracking'!C119","v":""},"",{"$f":"'Patient Tracking'!A119","v":""},{"$f":"'Patient Tracking'!B119","v":""},{"$f":"'Patient Tracking'!G119","v":""},{"$f":"MAX(IF(C118:C191=C118,H118:H191,\"\"))","v":0},false,{"$f":"'Patient Tracking'!F119","v":0},0,{"$f":"MAX(IF(G118:G191=C118&\"TRUE\",I118:I191,\"\"))","v":0},"",{"$f":"'Patient Tracking'!J119","v":0},{"$f":"MAX(IF(U118:U191=U118,L118:L191,\"\"))","v":0},{"$f":"IF('Patient Tracking'!H119=\"\",999999,'Patient Tracking'!H119)","v":" "},{"$f":"MIN(IF(C118:C191=C118,N118:N191,\"\"))","v":0},0,"None","None","","",0,0,{"$error":"#VALUE!"},{"$f":"IF(E118=\"current episode initial assessment\",\"\",'Patient Tracking'!L119)","v":"."},{"$f":"IF(E118=\"current episode initial assessment\",\"\",'Patient Tracking'!N119)","v":"."},"No Score","","","","No Score","-100",{"$f":"MAX(IF(Q118:Q191=\"GADSCORE\"&G118,AE118:AE191,IF(C118=C117,AF117,\"-100\")),\"-100\")","v":-100},"No Score","",{"$f":"MAX(IF(Q118:Q191=\"GADSCORE\"&C118&\"TRUE\",L118:L191,IF(C118=C117,AJ117,\"\")))","v":0},"",{"$f":"'Patient Tracking'!R119","v":0},0,"",{"$f":"'Patient Tracking'!Q119","v":0},""]
[{"$f":"'Patient Tracking'!C120","v":""},"",{"$f":"'Patient Tracking'!A120","v":""},{"$f":"'Patient Tracking'!B120","v":""},{"$f":"'Patient Tracking'!G120","v":""},{"$f":"MAX(IF(C119:C192=C119,H119:H192,\"\"))","v":0},false,{"$f":"'Patient Tracking'!F120","v":0},0,{"$f":"MAX(IF(G119:G192=C119&\"TRUE\",I119:I192,\"\"))","v":0},"",{"$f":"'Patient Tracking'!J120","v":0},{"$f":"MAX(IF(U119:U192=U119,L119:L192,\"\"))","v":0},{"$f":"IF('Patient Tracking'!H120=\"\",999999,'Patient Tracking'!H120)","v":" "},{"$f":"MIN(IF(C119:C192=C119,N119:N192,\"\"))","v":0},0,"None","None","","",0,0,{"$error":"#VALUE!"},{"$f":"IF(E119=\"current episode initial assessment\",\"\",'Patient Tracking'!L120)","v":"."},{"$f":"IF(E119=\"current episode initial assessment\",\"\",'Patient Tracking'!N120)","v":"."},"No Score","","","","No Score","-100",{"$f":"MAX(IF(Q119:Q192=\"GADSCORE\"&G119,AE119:AE192,IF(C119=C118,AF118,\"-100\")),\"-100\")","v":-100},"No Score","",{"$f":"MAX(IF(Q119:Q192=\"GADSCORE\"&C119&\"TRUE\",L119:L192,IF(C119=C118,AJ118,\"\")))","v":0},"",{"$f":"'Patient Tracking'!R120","v":0},0,"",{"$f":"'Patient Tracking'!Q120","v":0},""]
[{"$f":"'Patient Tracking'!C121","v":""},"",{"$f":"'Patient Tracking'!A121","v":""},{"$f":"'Patient Tracking'!B121","v":""},{"$f":"'Patient Tracking'!G121","v":""},{"$f":"MAX(IF(C120:C193=C120,H120:H193,\"\"))","v":0},false,{"$f":"'Patient Tracking'!F121","v":0},0,{"$f":"MAX(IF(G120:G193=C120&\"TRUE\",I120:I193,\"\"))","v":0},"",{"$f":"'Patient Tracking'!J121","v":0},{"$f":"MAX(IF(U120:U193=U120,L120:L193,\"\"))","v":0},{"$f":"IF('Patient Tracking'!H121=\"\",999999,'Patient Tracking'!H121)","v":" "},{"$f":"MIN(IF(C120:C193=C120,N120:N193,\"\"))","v":0},0,"None","None","","",0,0,{"$error":"#VALUE!"},{"$f":"IF(E120=\"current episode initial assessment\",\"\",'Patient Tracking'!L121)","v":"."},{"$f":"IF(E120=\"current episode initial assessment\",\"\",'Patient Tracking'!N121)","v":"."},"No Score","","","","No Score","-100",{"$f":"MAX(IF(Q120:Q193=\"GADSCORE\"&G120,AE120:AE193,IF(C120=C119,AF119,\"-100\")),\"-100\")","v":-100},"No Score","",{"$f":"MAX(IF(Q120:Q193=\"GADSCORE\"&C120&\"TRUE\",L120:L193,IF(C120=C119,AJ119,\"\")))","v":0},"",{"$f":"'Patient Tracking'!R121","v":0},0,"",{"$f":"'Patient Tracking'!Q121","v":0},""]
[{"$f":"'Patient Tracking'!C122","v":""},"",{"$f":"'Patient Tracking'!A122","v":""},{"$f":"'Patient Tracking'!B122","v":""},{"$f":"'Patient Tracking'!G122","v":""},{"$f":"MAX(IF(C121:C194=C121,H121:H194,\"\"))","v":0},false,{"$f":"'Patient Tracking'!F122","v":0},0,{"$f":"MAX(IF(G121:G194=C121&\"TRUE\",I121:I194,\"\"))","v":0},"",{"$f":"'Patient Tracking'!J122","v":0},{"$f":"MAX(IF(U121:U194=U121,L121:L194,\"\"))","v":0},{"$f":"IF('Patient Tracking'!H122=\"\",999999,'Patient Tracking'!H122)","v":" "},{"$f":"MIN(IF(C121:C194=C121,N121:N194,\"\"))","v":0},0,"None","None","","",0,0,{"$error":"#VALUE!"},{"$f":"IF(E121=\"current episode initial assessment\",\"\",'Patient Tracking'!L122)","v":"."},{"$f":"IF(E121=\"current episode initial assessment\",\"\",'Patient Tracking'!N122)","v":"."},"No Score","","","","No Score","-100",{"$f":"MAX(IF(Q121:Q194=\"GADSCORE\"&G121,AE121:AE194,IF(C121=C120,AF120,\"-100\")),\"-100\")","v":-100},"No Score","",{"$f":"MAX(IF(Q121:Q194=\"GADSCORE\"&C121&\"TRUE\",L121:L194,IF(C121=C120,AJ120,\"\")))","v":0},"",{"$f":"'Patient Tracking'!R122","v":0},0,"",{"$f":"'Patient Tracking'!Q122","v":0},""]
[{"$f":"'Patient Tracking'!C123","v":""},"",{"$f":"'Patient Tracking'!A123","v":""},{"$f":"'Patient Tracking'!B123","v":""},{"$f":"'Patient Tracking'!G123","v":""},{"$f":"MAX(IF(C122:C195=C122,H122:H195,\"\"))","v":0},false,{"$f":"'Patient Tracking'!F123","v":0},0,{"$f":"MAX(IF(G122:G195=C122&\"TRUE\",I122:I195,\"\"))","v":0},"",{"$f":"'Patient Tracking'!J123","v":0},{"$f":"MAX(IF(U122:U195=U122,L122:L195,\"\"))","v":0},{"$f":"IF('Patient Tracking'!H123=\"\",999999,'Patient Tracking'!H123)","v":" "},{"$f":"MIN(IF(C122:C195=C122,N122:N195,\"\"))","v":0},0,"None","None","","",0,0,{"$error":"#VALUE!"},{"$f":"IF(E122=\"current episode initial assessment\",\"\",'Patient Tracking'!L123)","v":"."},{"$f":"IF(E122=\"current episode initial assessment\",\"\",'Patient Tracking'!N123)","v":"."},"No Score","","","","No Score","-100",{"$f":"MAX(IF(Q122:Q195=\"GADSCORE\"&G122,AE122:AE195,IF(C122=C121,AF121,\"-100\")),\"-100\")","v":-100},"No Score","",{"$f":"MAX(IF(Q122:Q195=\"GADSCORE\"&C122&\"TRUE\",L122:L195,IF(C122=C121,AJ121,\"\")))","v":0},"",{"$f":"'Patient Tracking'!R123","v":0},0,"",{"$f":"'Patient Tracking'!Q123","v":0},""]
[{"$f":"'Patient Tracking'!C124","v":""},"",{"$f":"'Patient Tracking'!A124","v":""},{"$f":"'Patient Tracking'!B124","v":""},{"$f":"'Patient Tracking'!G124","v":""},{"$f":"MAX(IF(C123:C196=C123,H123:H196,\"\"))","v":0},false,{"$f":"'Patient Tracking'!F124","v":0},0,{"$f":"MAX(IF(G123:G196=C123&\"TRUE\",I123:I196,\"\"))","v":0},"",{"$f":"'Patient Tracking'!J124","v":0},{"$f":"MAX(IF(U123:U196=U123,L123:L196,\"\"))","v":0},{"$f":"IF('Patient Tracking'!H124=\"\",999999,'Patient Tracking'!H124)","v":" "},{"$f":"MIN(IF(C123:C196=C123,N123:N196,\"\"))","v":0},0,"None","None","","",0,0,{"$error":"#VALUE!"},{"$f":"IF(E123=\"current episode initial assessment\",\"\",'Patient Tracking'!L124)","v":"."},{"$f":"IF(E123=\"current episode initial assessment\",\"\",'Patient Tracking'!N124)","v":"."},"No Score","","","","No Score","-100",{"$f":"MAX(IF(Q123:Q196=\"GADSCORE\"&G123,AE123:AE196,IF(C123=C122,AF122,\"-100\")),\"-100\")","v":-100},"No Score","",{"$f":"MAX(IF(Q123:Q196=\"GADSCORE\"&C123&\"TRUE\",L123:L196,IF(C123=C122,AJ122,\"\")))","v":0},"",{"$f":"'Patient Tracking'!R124","v":0},0,"",{"$f":"'Patient Tracking'!Q124","v":0},""]
[{"$f":"'Patient Tracking'!C125","v":""},"",{"$f":"'Patient Tracking'!A125","v":""},{"$f":"'Patient Tracking'!B125","v":""},{"$f":"'Patient Tracking'!G125","v":""},{"$f":"MAX(IF(C124:C197=C124,H124:H197,\"\"))","v":0},false,{"$f":"'Patient Tracking'!F125","v":0},0,{"$f":"MAX(IF(G124:G197=C124&\"TRUE\",I124:I197,\"\"))","v":0},"",{"$f":"'Patient Tracking'!J125","v":0},{"$f":"MAX(IF(U124:U197=U124,L124:L197,\"\"))","v":0},{"$f":"IF('Patient Tracking'!H125=\"\",999999,'Patient Tracking'!H125)","v":" "},{"$f":"MIN(IF(C124:C197=C124,N124:N197,\"\"))","v":0},0,"None","None","","",0,0,{"$error":"#VALUE!"},{"$f":"IF(E124=\"current episode initial assessment\",\"\",'Patient Tracking'!L125)","v":"."},{"$f":"IF(E124=\"current episode initial assessment\",\"\",'Patient Tracking'!N125)","v":"."},"No Score","","","","No Score","-100",{"$f":"MAX(IF(Q124:Q197=\"GADSCORE\"&G124,AE124:AE197,IF(C124=C123,AF123,\"-100\")),\"-100\")","v":-100},"No Score","",{"$f":"MAX(IF(Q124:Q197=\"GADSCORE\"&C124&\"TRUE\",L124:L197,IF(C124=C123,AJ123,\"\")))","v":0},"",{"$f":"'Patient Tracking'!R125","v":0},0,"",{"$f":"'Patient Tracking'!Q125","v":0},""]
[{"$f":"'Patient Tracking'!C126","v":""},"",{"$f":"'Patient Tracking'!A126","v":""},{"$f":"'Patient Tracking'!B126","v":""},{"$f":"'Patient Tracking'!G126","v":""},{"$f":"MAX(IF(C125:C198=C125,H125:H198,\"\"))","v":0},false,{"$f":"'Patient Tracking'!F126","v":0},0,{"$f":"MAX(IF(G125:G198=C125&\"TRUE\",I125:I198,\"\"))","v":0},"",{"$f":"'Patient Tracking'!J126","v":0},{"$f":"MAX(IF(U125:U198=U125,L125:L198,\"\"))","v":0},{"$f":"IF('Patient Tracking'!H126=\"\",999999,'Patient Tracking'!H126)","v":" "},{"$f":"MIN(IF(C125:C198=C125,N125:N198,\"\"))","v":0},0,"None","None","","",0,0,{"$error":"#VALUE!"},{"$f":"IF(E125=\"current episode initial assessment\",\"\",'Patient Tracking'!L126)","v":"."},{"$f":"IF(E125=\"current episode initial assessment\",\"\",'Patient Tracking'!N126)","v":"."},"No Score","","","","No Score","-100",{"$f":"MAX(IF(Q125:Q198=\"GADSCORE\"&G125,AE125:AE198,IF(C125=C124,AF124,\"-100\")),\"-100\")","v":-100},"No Score","",{"$f":"MAX(IF(Q125:Q198=\"GADSCORE\"&C125&\"TRUE\",L125:L198,IF(C125=C124,AJ124,\"\")))","v":0},"",{"$f":"'Patient Tracking'!R126","v":0},0,"",{"$f":"'Patient Tracking'!Q126","v":0},""]
[{"$f":"'Patient Tracking'!C127","v":""},"",{"$f":"'Patient Tracking'!A127","v":""},{"$f":"'Patient Tracking'!B127","v":""},{"$f":"'Patient Tracking'!G127","v":""},{"$f":"MAX(IF(C126:C199=C126,H126:H199,\"\"))","v":0},false,{"$f":"'Patient Tracking'!F127","v":0},0,{"$f":"MAX(IF(G126:G199=C126&\"TRUE\",I126:I199,\"\"))","v":0},"",{"$f":"'Patient Tracking'!J127","v":0},{"$f":"MAX(IF(U126:U199=U126,L126:L199,\"\"))","v":0},{"$f":"IF('Patient Tracking'!H127=\"\",999999,'Patient Tracking'!H127)","v":" "},{"$f":"MIN(IF(C126:C199=C126,N126:N199,\"\"))","v":0},0,"None","None","","",0,0,{"$error":"#VALUE!"},{"$f":"IF(E126=\"current episode initial assessment\",\"\",'Patient Tracking'!L127)","v":"."},{"$f":"IF(E126=\"current episode initial assessment\",\"\",'Patient Tracking'!N127)","v":"."},"No Score","","","","No Score","-100",{"$f":"MAX(IF(Q126:Q199=\"GADSCORE\"&G126,AE126:AE199,IF(C126=C125,AF125,\"-100\")),\"-100\")","v":-100},"No Score","",{"$f":"MAX(IF(Q126:Q199=\"GADSCORE\"&C126&\"TRUE\",L126:L199,IF(C126=C125,AJ125,\"\")))","v":0},"",{"$f":"'Patient Tracking'!R127","v":0},0,"",{"$f":"'Patient Tracking'!Q127","v":0},""]
[{"$f":"'Patient Tracking'!C128","v":""},"",{"$f":"'Patient Tracking'!A128","v":""},{"$f":"'Patient Tracking'!B128","v":""},{"$f":"'Patient Tracking'!G128","v":""},{"$f":"MAX(IF(C127:C200=C127,H127:H200,\"\"))","v":0},false,{"$f":"'Patient Tracking'!F128","v":0},0,{"$f":"MAX(IF(G127:G200=C127&\"TRUE\",I127:I200,\"\"))","v":0},"",{"$f":"'Patient Tracking'!J128","v":0},{"$f":"MAX(IF(U127:U200=U127,L127:L200,\"\"))","v":0},{"$f":"IF('Patient Tracking'!H128=\"\",999999,'Patient Tracking'!H128)","v":" "},{"$f":"MIN(IF(C127:C200=C127,N127:N200,\"\"))","v":0},0,"None","None","","",0,0,{"$error":"#VALUE!"},{"$f":"IF(E127=\"current episode initial assessment\",\"\",'Patient Tracking'!L128)","v":"."},{"$f":"IF(E127=\"current episode initial assessment\",\"\",'Patient Tracking'!N128)","v":"."},"No Score","","","","No Score","-100",{"$f":"MAX(IF(Q127:Q200=\"GADSCORE\"&G127,AE127:AE200,IF(C127=C126,AF126,\"-100\")),\"-100\")","v":-100},"No Score","",{"$f":"MAX(IF(Q127:Q200=\"GADSCORE\"&C127&\"TRUE\",L127:L200,IF(C127=C126,AJ126,\"\")))","v":0},"",{"$f":"'Patient Tracking'!R128","v":0},0,"",{"$f":"'Patient Tracking'!Q128","v":0},""]
[{"$f":"'Patient Tracking'!C129","v":""},"",{"$f":"'Patient Tracking'!A129","v":""},{"$f":"'Patient Tracking'!B129","v":""},{"$f":"'Patient Tracking'!G129","v":""},{"$f":"MAX(IF(C128:C201=C128,H128:H201,\"\"))","v":0},false,{"$f":"'Patient Tracking'!F129","v":0},0,{"$f":"MAX(IF(G128:G201=C128&\"TRUE\",I128:I201,\"\"))","v":0},"",{"$f":"'Patient Tracking'!J129","v":0},{"$f":"MAX(IF(U128:U201=U128,L128:L201,\"\"))","v":0},{"$f":"IF('Patient Tracking'!H129=\"\",999999,'Patient Tracking'!H129)","v":" "},{"$f":"MIN(IF(C128:C201=C128,N128:N201,\"\"))","v":0},0,"None","None","","",0,0,{"$error":"#VALUE!"},{"$f":"IF(E128=\"current episode initial assessment\",\"\",'Patient Tracking'!L129)","v":"."},{"$f":"IF(E128=\"current episode initial assessment\",\"\",'Patient Tracking'!N129)","v":"."},"No Score","","","","No Score","-100",{"$f":"MAX(IF(Q128:Q201=\"GADSCORE\"&G128,AE128:AE201,IF(C128=C127,AF127,\"-100\")),\"-100\")","v":-100},"No Score","",{"$f":"MAX(IF(Q128:Q201=\"GADSCORE\"&C128&\"TRUE\",L128:L201,IF(C128=C127,AJ127,\"\")))","v":0},"",{"$f":"'Patient Tracking'!R129","v":0},0,"",{"$f":"'Patient Tracking'!Q129","v":0},""]
[{"$f":"'Patient Tracking'!C130","v":""},"",{"$f":"'Patient Tracking'!A130","v":""},{"$f":"'Patient Tracking'!B130","v":""},{"$f":"'Patient Tracking'!G130","v":""},{"$f":"MAX(IF(C129:C202=C129,H129:H202,\"\"))","v":0},false,{"$f":"'Patient Tracking'!F130","v":0},0,{"$f":"MAX(IF(G129:G202=C129&\"TRUE\",I129:I202,\"\"))","v":0},"",{"$f":"'Patient Tracking'!J130","v":0},{"$f":"MAX(IF(U129:U202=U129,L129:L202,\"\"))","v":0},{"$f":"IF('Patient Tracking'!H130=\"\",999999,'Patient Tracking'!H130)","v":" "},{"$f":"MIN(IF(C129:C202=C129,N129:N202,\"\"))","v":0},0,"None","None","","",0,0,{"$error":"#VALUE!"},{"$f":"IF(E129=\"current episode initial assessment\",\"\",'Patient Tracking'!L130)","v":"."},{"$f":"IF(E129=\"current episode initial assessment\",\"\",'Patient Tracking'!N130)","v":"."},"No Score","","","","No Score","-100",{"$f":"MAX(IF(Q129:Q202=\"GADSCORE\"&G129,AE129:AE202,IF(C129=C128,AF128,\"-100\")),\"-100\")","v":-100},"No Score","",{"$f":"MAX(IF(Q129:Q202=\"GADSCORE\"&C129&\"TRUE\",L129:L202,IF(C129=C128,AJ128,\"\")))","v":0},"",{"$f":"'Patient Tracking'!R130","v":0},0,"",{"$f":"'Patient Tracking'!Q130","v":0},""]
[{"$f":"'Patient Tracking'!C131","v":0},0,{"$f":"'Patient Tracking'!A131","v":0},{"$f":"'Patient Tracking'!B131","v":0},{"$f":"'Patient Tracking'!G131","v":"Current Episode Initial Assessment"},{"$f":"MAX(IF(C130:C203=C130,H130:H203,\"\"))","v":0},{"$f":"IF(AND(H130=F130,F130<>0,H130<>0,U130<>0),C130&\"TRUE\",FALSE)","v":false},{"$f":"'Patient Tracking'!F131","v":0},{"$f":"IF(AND(U130=\"CONTACT\"&C130,C130=C129),IF(E130=\"initial assessment\",0,1+I129),IF(C130=C129,I129,0))","v":0},{"$f":"MAX(IF(G130:G203=C130&\"TRUE\",I130:I203,\"\"))","v":0},"",{"$f":"'Patient Tracking'!J131","v":""},{"$f":"MAX(IF(U130:U203=U130,L130:L203,\"\"))","v":0},{"$f":"IF('Patient Tracking'!H131=\"\",999999,'Patient Tracking'!H131)","v":"2-week follow-up schedule"},{"$f":"MIN(IF(C130:C203=C130,N130:N203,\"\"))","v":0},0,{"$f":"IF(AND(Y130<>\".\",Y130<>\"\"),\"GADSCORE\"&G130,\"None\")","v":"None"},{"$f":"IF(AND(X130<>\".\",X130<>\"\"),\"PHQSCORE\"&G130,\"None\")","v":"None"},"","",{"$f":"IF(AND(E130<>\"current episode initial assessment\",V130<>0),\"CONTACT\"&C130,0)","v":0},{"$f":"IFERROR(L130-1+1,0)","v":0},{"$f":"IF(E130<100,W129,(TODAY()-K130)/7)","v":{"$error":"#VALUE!"}},{"$f":"IF(E130=\"current episode initial assessment\",\"\",'Patient Tracking'!L131)","v":""},{"$f":"IF(E130=\"current episode initial assessment\",\"\",'Patient Tracking'!N131)","v":""},{"$f":"IF(S130=\"initial score\"&C130,X130,IF(AND(C130=C129,Z129>=0,Z129<=27),Z129,IF(R130=\"none\",\"No Score\",\"\")))","v":"No Score"},{"$f":"IF(AND(C130=C129,X130>=0,X130<=27,G130=C130&\"TRUE\"),IF(ISNA(MATCH(\"PHQSCORE\"&C130&\"TRUE\",R131:R203,0)),X130,\"\"),IF(AND(E130=\"current episode initial assessment\",ISNA(MATCH(\"PHQSCORE\"&C130&\"TRUE\",R131:R203,0))),Z130,\"\"))","v":"No Score"},{"$f":"IF(AND(AA130<=27,AA130>=0),(AA130/Z130)-1,\"\")","v":""},{"$f":"IF(AA130<>\"\",IF(AA130=\"no score\",\"\",L130),\"\")","v":""},{"$f":"IF(T130=\"initial score\"&C130,Y130,IF(AND(C130=C129,AD129>=0,AD129<=21),AD129,IF(Q130=\"none\",\"No Score\",\"\")))","v":"No Score"},{"$f":"IF(AND(C130=C129,Y130>=0,Y130<=21,G130=C130&\"TRUE\"),IF(ISNA(MATCH(Q130,Q131:Q203,0)),Y130,\"-100\"),\"-100\")","v":"-100"},{"$f":"MAX(IF(Q130:Q203=\"GADSCORE\"&G130,AE130:AE203,IF(C130=C129,AF129,\"-100\")),\"-100\")","v":-100},{"$f":"IF(AF130=-100,\"No Score\",AF130)","v":"No Score"},"",{"$f":"MAX(IF(Q130:Q203=\"GADSCORE\"&C130&\"TRUE\",L130:L203,IF(C130=C129,AJ129,\"\")))","v":0},{"$f":"IF(AI130<>0,AI130,\"\")","v":""},{"$f":"'Patient Tracking'!R131","v":""},{"$f":"IF(AND(E130=\"current episode initial assessment\",AK130<>\"\"),AK130,0)","v":0},{"$f":"IF(E130=\"current episode Initial assessment\",IF(AL130<>0,AL130,\"\"),AM129)","v":""},{"$f":"'Patient Tracking'!Q131","v":0},{"$f":"IF(AND(E130=\"current episode initial assessment\",AN130<>0),AN130,IF(E130=\"current episode initial assessment\",\"\",IF(C130=C129,AO129,\"\")))","v":""}]
[{"$f":"'Patient Tracking'!C132","v":""},{"$f":"IF(A131=\"Relapse Prevention\",\"RP\",A131)","v":""},{"$f":"'Patient Tracking'!A132","v":""},{"$f":"'Patient Tracking'!B132","v":""},{"$f":"'Patient Tracking'!G132","v":"Initial Assessment"},{"$f":"MAX(IF(C131:C204=C131,H131:H204,\"\"))","v":0},false,{"$f":"'Patient Tracking'!F132","v":0},0,{"$f":"MAX(IF(G131:G204=C131&\"TRUE\",I131:I204,\"\"))","v":0},{"$f":"IF(E131=\"current episode initial assessment\",L131,K130)","v":""},{"$f":"'Patient Tracking'!J132","v":0},{"$f":"MAX(IF(U131:U204=U131,L131:L204,\"\"))","v":0},{"$f":"IF('Patient Tracking'!H132=\"\",999999,'Patient Tracking'!H132)","v":" "},{"$f":"MIN(IF(C131:C204=C131,N131:N204,\"\"))","v":0},{"$f":"IF(O131=999999,\"\",O131)","v":0},"None","None","","",0,0,{"$error":"#VALUE!"},{"$f":"IF(E131=\"current episode initial assessment\",\"\",'Patient Tracking'!L132)","v":"."},{"$f":"IF(E131=\"current episode initial assessment\",\"\",'Patient Tracking'!N132)","v":"."},"No Score","","","","No Score","-100",{"$f":"MAX(IF(Q131:Q204=\"GADSCORE\"&G131,AE131:AE204,IF(C131=C130,AF130,\"-100\")),\"-100\")","v":-100},"No Score",{"$f":"IF(AND(AG131<=21,AG131>=0),(AG131/AD131)-1,\"\")","v":""},{"$f":"MAX(IF(Q131:Q204=\"GADSCORE\"&C131&\"TRUE\",L131:L204,IF(C131=C130,AJ130,\"\")))","v":0},"",{"$f":"'Patient Tracking'!R132","v":0},0,"",{"$f":"'Patient Tracking'!Q132","v":0},""]
[{"$f":"'Patient Tracking'!C133","v":""},"",{"$f":"'Patient Tracking'!A133","v":""},{"$f":"'Patient Tracking'!B133","v":""},{"$f":"'Patient Tracking'!G133","v":""},{"$f":"MAX(IF(C132:C205=C132,H132:H205,\"\"))","v":0},false,{"$f":"'Patient Tracking'!F133","v":0},0,{"$f":"MAX(IF(G132:G205=C132&\"TRUE\",I132:I205,\"\"))","v":0},"",{"$f":"'Patient Tracking'!J133","v":0},{"$f":"MAX(IF(U132:U205=U132,L132:L205,\"\"))","v":0},{"$f":"IF('Patient Tracking'!H133=\"\",999999,'Patient Tracking'!H133)","v":" "},{"$f":"MIN(IF(C132:C205=C132,N132:N205,\"\"))","v":0},0,"None","None","","",0,0,{"$error":"#VALUE!"},{"$f":"IF(E132=\"current episode initial assessment\",\"\",'Patient Tracking'!L133)","v":"."},{"$f":"IF(E132=\"current episode initial assessment\",\"\",'Patient Tracking'!N133)","v":"."},"No Score","","","","No Score","-100",{"$f":"MAX(IF(Q132:Q205=\"GADSCORE\"&G132,AE132:AE205,IF(C132=C131,AF131,\"-100\")),\"-100\")","v":-100},"No Score","",{"$f":"MAX(IF(Q132:Q205=\"GADSCORE\"&C132&\"TRUE\",L132:L205,IF(C132=C131,AJ131,\"\")))","v":0},"",{"$f":"'Patient Tracking'!R133","v":0},0,"",{"$f":"'Patient Tracking'!Q133","v":0},""]
[{"$f":"'Patient Tracking'!C134","v":""},"",{"$f":"'Patient Tracking'!A134","v":""},{"$f":"'Patient Tracking'!B134","v":""},{"$f":"'Patient Tracking'!G134","v":""},{"$f":"MAX(IF(C133:C206=C133,H133:H206,\"\"))","v":0},false,{"$f":"'Patient Tracking'!F134","v":0},0,{"$f":"MAX(IF(G133:G206=C133&\"TRUE\",I133:I206,\"\"))","v":0},"",{"$f":"'Patient Tracking'!J134","v":0},{"$f":"MAX(IF(U133:U206=U133,L133:L206,\"\"))","v":0},{"$f":"IF('Patient Tracking'!H134=\"\",999999,'Patient Tracking'!H134)","v":" "},{"$f":"MIN(IF(C133:C206=C133,N133:N206,\"\"))","v":0},0,"None","None","","",0,0,{"$error":"#VALUE!"},{"$f":"IF(E133=\"current episode initial assessment\",\"\",'Patient Tracking'!L134)","v":"."},{"$f":"IF(E133=\"current episode initial assessment\",\"\",'Patient Tracking'!N134)","v":"."},"No Score","","","","No Score","-100",{"$f":"MAX(IF(Q133:Q206=\"GADSCORE\"&G133,AE133:AE206,IF(C133=C132,AF132,\"-100\")),\"-100\")","v":-100},"No Score","",{"$f":"MAX(IF(Q133:Q206=\"GADSCORE\"&C133&\"TRUE\",L133:L206,IF(C133=C132,AJ132,\"\")))","v":0},"",{"$f":"'Patient Tracking'!R134","v":0},0,"",{"$f":"'Patient Tracking'!Q134","v":0},""]
[{"$f":"'Patient Tracking'!C135","v":""},"",{"$f":"'Patient Tracking'!A135","v":""},{"$f":"'Patient Tracking'!B135","v":""},{"$f":"'Patient Tracking'!G135","v":""},{"$f":"MAX(IF(C134:C207=C134,H134:H207,\"\"))","v":0},false,{"$f":"'Patient Tracking'!F135","v":0},0,{"$f":"MAX(IF(G134:G207=C134&\"TRUE\",I134:I207,\"\"))","v":0},"",{"$f":"'Patient Tracking'!J135","v":0},{"$f":"MAX(IF(U134:U207=U134,L134:L207,\"\"))","v":0},{"$f":"IF('Patient Tracking'!H135=\"\",999999,'Patient Tracking'!H135)","v":" "},{"$f":"MIN(IF(C134:C207=C134,N134:N207,\"\"))","v":0},0,"None","None","","",0,0,{"$error":"#VALUE!"},{"$f":"IF(E134=\"current episode initial assessment\",\"\",'Patient Tracking'!L135)","v":"."},{"$f":"IF(E134=\"current episode initial assessment\",\"\",'Patient Tracking'!N135)","v":"."},"No Score","","","","No Score","-100",{"$f":"MAX(IF(Q134:Q207=\"GADSCORE\"&G134,AE134:AE207,IF(C134=C133,AF133,\"-100\")),\"-100\")","v":-100},"No Score","",{"$f":"MAX(IF(Q134:Q207=\"GADSCORE\"&C134&\"TRUE\",L134:L207,IF(C134=C133,AJ133,\"\")))","v":0},"",{"$f":"'Patient Tracking'!R135","v":0},0,"",{"$f":"'Patient Tracking'!Q135","v":0},""]
[{"$f":"'Patient Tracking'!C136","v":""},"",{"$f":"'Patient Tracking'!A136","v":""},{"$f":"'Patient Tracking'!B136","v":""},{"$f":"'Patient Tracking'!G136","v":""},{"$f":"MAX(IF(C135:C208=C135,H135:H208,\"\"))","v":0},false,{"$f":"'Patient Tracking'!F136","v":0},0,{"$f":"MAX(IF(G135:G208=C135&\"TRUE\",I135:I208,\"\"))","v":0},"",{"$f":"'Patient Tracking'!J136","v":0},{"$f":"MAX(IF(U135:U208=U135,L135:L208,\"\"))","v":0},{"$f":"IF('Patient Tracking'!H136=\"\",999999,'Patient Tracking'!H136)","v":" "},{"$f":"MIN(IF(C135:C208=C135,N135:N208,\"\"))","v":0},0,"None","None","","",0,0,{"$error":"#VALUE!"},{"$f":"IF(E135=\"current episode initial assessment\",\"\",'Patient Tracking'!L136)","v":"."},{"$f":"IF(E135=\"current episode initial assessment\",\"\",'Patient Tracking'!N136)","v":"."},"No Score","","","","No Score","-100",{"$f":"MAX(IF(Q135:Q208=\"GADSCORE\"&G135,AE135:AE208,IF(C135=C134,AF134,\"-100\")),\"-100\")","v":-100},"No Score","",{"$f":"MAX(IF(Q135:Q208=\"GADSCORE\"&C135&\"TRUE\",L135:L208,IF(C135=C134,AJ134,\"\")))","v":0},"",{"$f":"'Patient Tracking'!R136","v":0},0,"",{"$f":"'Patient Tracking'!Q136","v":0},""]
[{"$f":"'Patient Tracking'!C137","v":""},"",{"$f":"'Patient Tracking'!A137","v":""},{"$f":"'Patient Tracking'!B137","v":""},{"$f":"'Patient Tracking'!G137","v":""},{"$f":"MAX(IF(C136:C209=C136,H136:H209,\"\"))","v":0},false,{"$f":"'Patient Tracking'!F137","v":0},0,{"$f":"MAX(IF(G136:G209=C136&\"TRUE\",I136:I209,\"\"))","v":0},"",{"$f":"'Patient Tracking'!J137","v":0},{"$f":"MAX(IF(U136:U209=U136,L136:L209,\"\"))","v":0},{"$f":"IF('Patient Tracking'!H137=\"\",999999,'Patient Tracking'!H137)","v":" "},{"$f":"MIN(IF(C136:C209=C136,N136:N209,\"\"))","v":0},0,"None","None","","",0,0,{"$error":"#VALUE!"},{"$f":"IF(E136=\"current episode initial assessment\",\"\",'Patient Tracking'!L137)","v":"."},{"$f":"IF(E136=\"current episode initial assessment\",\"\",'Patient Tracking'!N137)","v":"."},"No Score","","","","No Score","-100",{"$f":"MAX(IF(Q136:Q209=\"GADSCORE\"&G136,AE136:AE209,IF(C136=C135,AF135,\"-100\")),\"-100\")","v":-100},"No Score","",{"$f":"MAX(IF(Q136:Q209=\"GADSCORE\"&C136&\"TRUE\",L136:L209,IF(C136=C135,AJ135,\"\")))","v":0},"",{"$f":"'Patient Tracking'!R137","v":0},0,"",{"$f":"'Patient Tracking'!Q137","v":0},""]
[{"$f":"'Patient Tracking'!C138","v":""},"",{"$f":"'Patient Tracking'!A138","v":""},{"$f":"'Patient Tracking'!B138","v":""},{"$f":"'Patient Tracking'!G138","v":""},{"$f":"MAX(IF(C137:C210=C137,H137:H210,\"\"))","v":0},false,{"$f":"'Patient Tracking'!F138","v":0},0,{"$f":"MAX(IF(G137:G210=C137&\"TRUE\",I137:I210,\"\"))","v":0},"",{"$f":"'Patient Tracking'!J138","v":0},{"$f":"MAX(IF(U137:U210=U137,L137:L210,\"\"))","v":0},{"$f":"IF('Patient Tracking'!H138=\"\",999999,'Patient Tracking'!H138)","v":" "},{"$f":"MIN(IF(C137:C210=C137,N137:N210,\"\"))","v":0},0,"None","None","","",0,0,{"$error":"#VALUE!"},{"$f":"IF(E137=\"current episode initial assessment\",\"\",'Patient Tracking'!L138)","v":"."},{"$f":"IF(E137=\"current episode initial assessment\",\"\",'Patient Tracking'!N138)","v":"."},"No Score","","","","No Score","-100",{"$f":"MAX(IF(Q137:Q210=\"GADSCORE\"&G137,AE137:AE210,IF(C137=C136,AF136,\"-100\")),\"-100\")","v":-100},"No Score","",{"$f":"MAX(IF(Q137:Q210=\"GADSCORE\"&C137&\"TRUE\",L137:L210,IF(C137=C136,AJ136,\"\")))","v":0},"",{"$f":"'Patient Tracking'!R138","v":0},0,"",{"$f":"'Patient Tracking'!Q138","v":0},""]
[{"$f":"'Patient Tracking'!C139","v":""},"",{"$f":"'Patient Tracking'!A139","v":""},{"$f":"'Patient Tracking'!B139","v":""},{"$f":"'Patient Tracking'!G139","v":""},{"$f":"MAX(IF(C138:C211=C138,H138:H211,\"\"))","v":0},false,{"$f":"'Patient Tracking'!F139","v":0},0,{"$f":"MAX(IF(G138:G211=C138&\"TRUE\",I138:I211,\"\"))","v":0},"",{"$f":"'Patient Tracking'!J139","v":0},{"$f":"MAX(IF(U138:U211=U138,L138:L211,\"\"))","v":0},{"$f":"IF('Patient Tracking'!H139=\"\",999999,'Patient Tracking'!H139)","v":" "},{"$f":"MIN(IF(C138:C211=C138,N138:N211,\"\"))","v":0},0,"None","None","","",0,0,{"$error":"#VALUE!"},{"$f":"IF(E138=\"current episode initial assessment\",\"\",'Patient Tracking'!L139)","v":"."},{"$f":"IF(E138=\"current episode initial assessment\",\"\",'Patient Tracking'!N139)","v":"."},"No Score","","","","No Score","-100",{"$f":"MAX(IF(Q138:Q211=\"GADSCORE\"&G138,AE138:AE211,IF(C138=C137,AF137,\"-100\")),\"-100\")","v":-100},"No Score","",{"$f":"MAX(IF(Q138:Q211=\"GADSCORE\"&C138&\"TRUE\",L138:L211,IF(C138=C137,AJ137,\"\")))","v":0},"",{"$f":"'Patient Tracking'!R139","v":0},0,"",{"$f":"'Patient Tracking'!Q139","v":0},""]
[{"$f":"'Patient Tracking'!C140","v":""},"",{"$f":"'Patient Tracking'!A140","v":""},{"$f":"'Patient Tracking'!B140","v":""},{"$f":"'Patient Tracking'!G140","v":""},{"$f":"MAX(IF(C139:C212=C139,H139:H212,\"\"))","v":0},false,{"$f":"'Patient Tracking'!F140","v":0},0,{"$f":"MAX(IF(G139:G212=C139&\"TRUE\",I139:I212,\"\"))","v":0},"",{"$f":"'Patient Tracking'!J140","v":0},{"$f":"MAX(IF(U139:U212=U139,L139:L212,\"\"))","v":0},{"$f":"IF('Patient Tracking'!H140=\"\",999999,'Patient Tracking'!H140)","v":" "},{"$f":"MIN(IF(C139:C212=C139,N139:N212,\"\"))","v":0},0,"None","None","","",0,0,{"$error":"#VALUE!"},{"$f":"IF(E139=\"current episode initial assessment\",\"\",'Patient Tracking'!L140)","v":"."},{"$f":"IF(E139=\"current episode initial assessment\",\"\",'Patient Tracking'!N140)","v":"."},"No Score","","","","No Score","-100",{"$f":"MAX(IF(Q139:Q212=\"GADSCORE\"&G139,AE139:AE212,IF(C139=C138,AF138,\"-100\")),\"-100\")","v":-100},"No Score","",{"$f":"MAX(IF(Q139:Q212=\"GADSCORE\"&C139&\"TRUE\",L139:L212,IF(C139=C138,AJ138,\"\")))","v":0},"",{"$f":"'Patient Tracking'!R140","v":0},0,"",{"$f":"'Patient Tracking'!Q140","v":0},""]
[{"$f":"'Patient Tracking'!C141","v":""},"",{"$f":"'Patient Tracking'!A141","v":""},{"$f":"'Patient Tracking'!B141","v":""},{"$f":"'Patient Tracking'!G141","v":""},{"$f":"MAX(IF(C140:C213=C140,H140:H213,\"\"))","v":0},false,{"$f":"'Patient Tracking'!F141","v":0},0,{"$f":"MAX(IF(G140:G213=C140&\"TRUE\",I140:I213,\"\"))","v":0},"",{"$f":"'Patient Tracking'!J141","v":0},{"$f":"MAX(IF(U140:U213=U140,L140:L213,\"\"))","v":0},{"$f":"IF('Patient Tracking'!H141=\"\",999999,'Patient Tracking'!H141)","v":" "},{"$f":"MIN(IF(C140:C213=C140,N140:N213,\"\"))","v":0},0,"None","None","","",0,0,{"$error":"#VALUE!"},{"$f":"IF(E140=\"current episode initial assessment\",\"\",'Patient Tracking'!L141)","v":"."},{"$f":"IF(E140=\"current episode initial assessment\",\"\",'Patient Tracking'!N141)","v":"."},"No Score","","","","No Score","-100",{"$f":"MAX(IF(Q140:Q213=\"GADSCORE\"&G140,AE140:AE213,IF(C140=C139,AF139,\"-100\")),\"-100\")","v":-100},"No Score","",{"$f":"MAX(IF(Q140:Q213=\"GADSCORE\"&C140&\"TRUE\",L140:L213,IF(C140=C139,AJ139,\"\")))","v":0},"",{"$f":"'Patient Tracking'!R141","v":0},0,"",{"$f":"'Patient Tracking'!Q141","v":0},""]
[{"$f":"'Patient Tracking'!C142","v":""},"",{"$f":"'Patient Tracking'!A142","v":""},{"$f":"'Patient Tracking'!B142","v":""},{"$f":"'Patient Tracking'!G142","v":""},{"$f":"MAX(IF(C141:C214=C141,H141:H214,\"\"))","v":0},false,{"$f":"'Patient Tracking'!F142","v":0},0,{"$f":"MAX(IF(G141:G214=C141&\"TRUE\",I141:I214,\"\"))","v":0},"",{"$f":"'Patient Tracking'!J142","v":0},{"$f":"MAX(IF(U141:U214=U141,L141:L214,\"\"))","v":0},{"$f":"IF('Patient Tracking'!H142=\"\",999999,'Patient Tracking'!H142)","v":" "},{"$f":"MIN(IF(C141:C214=C141,N141:N214,\"\"))","v":0},0,"None","None","","",0,0,{"$error":"#VALUE!"},{"$f":"IF(E141=\"current episode initial assessment\",\"\",'Patient Tracking'!L142)","v":"."},{"$f":"IF(E141=\"current episode initial assessment\",\"\",'Patient Tracking'!N142)","v":"."},"No Score","","","","No Score","-100",{"$f":"MAX(IF(Q141:Q214=\"GADSCORE\"&G141,AE141:AE214,IF(C141=C140,AF140,\"-100\")),\"-100\")","v":-100},"No Score","",{"$f":"MAX(IF(Q141:Q214=\"GADSCORE\"&C141&\"TRUE\",L141:L214,IF(C141=C140,AJ140,\"\")))","v":0},"",{"$f":"'Patient Tracking'!R142","v":0},0,"",{"$f":"'Patient Tracking'!Q142","v":0},""]
[{"$f":"'Patient Tracking'!C143","v":""},"",{"$f":"'Patient Tracking'!A143","v":""},{"$f":"'Patient Tracking'!B143","v":""},{"$f":"'Patient Tracking'!G143","v":""},{"$f":"MAX(IF(C142:C215=C142,H142:H215,\"\"))","v":0},false,{"$f":"'Patient Tracking'!F143","v":0},0,{"$f":"MAX(IF(G142:G215=C142&\"TRUE\",I142:I215,\"\"))","v":0},"",{"$f":"'Patient Tracking'!J143","v":0},{"$f":"MAX(IF(U142:U215=U142,L142:L215,\"\"))","v":0},{"$f":"IF('Patient Tracking'!H143=\"\",999999,'Patient Tracking'!H143)","v":" "},{"$f":"MIN(IF(C142:C215=C142,N142:N215,\"\"))","v":0},0,"None","None","","",0,0,{"$error":"#VALUE!"},{"$f":"IF(E142=\"current episode initial assessment\",\"\",'Patient Tracking'!L143)","v":"."},{"$f":"IF(E142=\"current episode initial assessment\",\"\",'Patient Tracking'!N143)","v":"."},"No Score","","","","No Score","-100",{"$f":"MAX(IF(Q142:Q215=\"GADSCORE\"&G142,AE142:AE215,IF(C142=C141,AF141,\"-100\")),\"-100\")","v":-100},"No Score","",{"$f":"MAX(IF(Q142:Q215=\"GADSCORE\"&C142&\"TRUE\",L142:L215,IF(C142=C141,AJ141,\"\")))","v":0},"",{"$f":"'Patient Tracking'!R143","v":0},0,"",{"$f":"'Patient Tracking'!Q143","v":0},""]
[{"$f":"'Patient Tracking'!C144","v":""},"",{"$f":"'Patient Tracking'!A144","v":""},{"$f":"'Patient Tracking'!B144","v":""},{"$f":"'Patient Tracking'!G144","v":""},{"$f":"MAX(IF(C143:C216=C143,H143:H216,\"\"))","v":0},false,{"$f":"'Patient Tracking'!F144","v":0},0,{"$f":"MAX(IF(G143:G216=C143&\"TRUE\",I143:I216,\"\"))","v":0},"",{"$f":"'Patient Tracking'!J144","v":0},{"$f":"MAX(IF(U143:U216=U143,L143:L216,\"\"))","v":0},{"$f":"IF('Patient Tracking'!H144=\"\",999999,'Patient Tracking'!H144)","v":" "},{"$f":"MIN(IF(C143:C216=C143,N143:N216,\"\"))","v":0},0,"None","None","","",0,0,{"$error":"#VALUE!"},{"$f":"IF(E143=\"current episode initial assessment\",\"\",'Patient Tracking'!L144)","v":"."},{"$f":"IF(E143=\"current episode initial assessment\",\"\",'Patient Tracking'!N144)","v":"."},"No Score","","","","No Score","-100",{"$f":"MAX(IF(Q143:Q216=\"GADSCORE\"&G143,AE143:AE216,IF(C143=C142,AF142,\"-100\")),\"-100\")","v":-100},"No Score","",{"$f":"MAX(IF(Q143:Q216=\"GADSCORE\"&C143&\"TRUE\",L143:L216,IF(C143=C142,AJ142,\"\")))","v":0},"",{"$f":"'Patient Tracking'!R144","v":0},0,"",{"$f":"'Patient Tracking'!Q144","v":0},""]
[{"$f":"'Patient Tracking'!C145","v":""},"",{"$f":"'Patient Tracking'!A145","v":""},{"$f":"'Patient Tracking'!B145","v":""},{"$f":"'Patient Tracking'!G145","v":""},{"$f":"MAX(IF(C144:C217=C144,H144:H217,\"\"))","v":0},false,{"$f":"'Patient Tracking'!F145","v":0},0,{"$f":"MAX(IF(G144:G217=C144&\"TRUE\",I144:I217,\"\"))","v":0},"",{"$f":"'Patient Tracking'!J145","v":0},{"$f":"MAX(IF(U144:U217=U144,L144:L217,\"\"))","v":0},{"$f":"IF('Patient Tracking'!H145=\"\",999999,'Patient Tracking'!H145)","v":" "},{"$f":"MIN(IF(C144:C217=C144,N144:N217,\"\"))","v":0},0,"None","None","","",0,0,{"$error":"#VALUE!"},{"$f":"IF(E144=\"current episode initial assessment\",\"\",'Patient Tracking'!L145)","v":"."},{"$f":"IF(E144=\"current episode initial assessment\",\"\",'Patient Tracking'!N145)","v":"."},"No Score","","","","No Score","-100",{"$f":"MAX(IF(Q144:Q217=\"GADSCORE\"&G144,AE144:AE217,IF(C144=C143,AF143,\"-100\")),\"-100\")","v":-100},"No Score","",{"$f":"MAX(IF(Q144:Q217=\"GADSCORE\"&C144&\"TRUE\",L144:L217,IF(C144=C143,AJ143,\"\")))","v":0},"",{"$f":"'Patient Tracking'!R145","v":0},0,"",{"$f":"'Patient Tracking'!Q145","v":0},""]
[{"$f":"'Patient Tracking'!C146","v":""},"",{"$f":"'Patient Tracking'!A146","v":""},{"$f":"'Patient Tracking'!B146","v":""},{"$f":"'Patient Tracking'!G146","v":""},{"$f":"MAX(IF(C145:C218=C145,H145:H218,\"\"))","v":0},false,{"$f":"'Patient Tracking'!F146","v":0},0,{"$f":"MAX(IF(G145:G218=C145&\"TRUE\",I145:I218,\"\"))","v":0},"",{"$f":"'Patient Tracking'!J146","v":0},{"$f":"MAX(IF(U145:U218=U145,L145:L218,\"\"))","v":0},{"$f":"IF('Patient Tracking'!H146=\"\",999999,'Patient Tracking'!H146)","v":" "},{"$f":"MIN(IF(C145:C218=C145,N145:N218,\"\"))","v":0},0,"None","None",{"$f":"IF(AND(X145>=0,X145<=27,R145=\"PHQSCORE\"&C145&\"TRUE\",ISNA(MATCH(\"PHQSCORE\"&G145,R129:R144,0))),\"Initial Score\"&C145,\"\")","v":""},{"$f":"IF(AND(Y145>=0,Y145<=21,Q145=\"GADSCORE\"&C145&\"TRUE\",ISNA(MATCH(\"GADSCORE\"&G145,Q129:Q144,0))),\"Initial Score\"&C145,\"\")","v":""},0,0,{"$error":"#VALUE!"},{"$f":"IF(E145=\"current episode initial assessment\",\"\",'Patient Tracking'!L146)","v":"."},{"$f":"IF(E145=\"current episode initial assessment\",\"\",'Patient Tracking'!N146)","v":"."},"No Score","","","","No Score","-100",{"$f":"MAX(IF(Q145:Q218=\"GADSCORE\"&G145,AE145:AE218,IF(C145=C144,AF144,\"-100\")),\"-100\")","v":-100},"No Score","",{"$f":"MAX(IF(Q145:Q218=\"GADSCORE\"&C145&\"TRUE\",L145:L218,IF(C145=C144,AJ144,\"\")))","v":0},"",{"$f":"'Patient Tracking'!R146","v":0},0,"",{"$f":"'Patient Tracking'!Q146","v":0},""]
[{"$f":"'Patient Tracking'!C147","v":0},0,{"$f":"'Patient Tracking'!A147","v":0},{"$f":"'Patient Tracking'!B147","v":0},{"$f":"'Patient Tracking'!G147","v":"Current Episode Initial Assessment"},{"$f":"MAX(IF(C146:C219=C146,H146:H219,\"\"))","v":0},false,{"$f":"'Patient Tracking'!F147","v":0},0,{"$f":"MAX(IF(G146:G219=C146&\"TRUE\",I146:I219,\"\"))","v":0},"",{"$f":"'Patient Tracking'!J147","v":""},{"$f":"MAX(IF(U146:U219=U146,L146:L219,\"\"))","v":0},{"$f":"IF('Patient Tracking'!H147=\"\",999999,'Patient Tracking'!H147)","v":"2-week follow-up schedule"},{"$f":"MIN(IF(C146:C219=C146,N146:N219,\"\"))","v":0},0,"None","None","","",0,0,{"$error":"#VALUE!"},{"$f":"IF(E146=\"current episode initial assessment\",\"\",'Patient Tracking'!L147)","v":""},{"$f":"IF(E146=\"current episode initial assessment\",\"\",'Patient Tracking'!N147)","v":""},"No Score","No Score","","","No Score","-100",{"$f":"MAX(IF(Q146:Q219=\"GADSCORE\"&G146,AE146:AE219,IF(C146=C145,AF145,\"-100\")),\"-100\")","v":-100},"No Score","",{"$f":"MAX(IF(Q146:Q219=\"GADSCORE\"&C146&\"TRUE\",L146:L219,IF(C146=C145,AJ145,\"\")))","v":0},"",{"$f":"'Patient Tracking'!R147","v":""},0,"",{"$f":"'Patient Tracking'!Q147","v":0},""]
[{"$f":"'Patient Tracking'!C148","v":""},"",{"$f":"'Patient Tracking'!A148","v":""},{"$f":"'Patient Tracking'!B148","v":""},{"$f":"'Patient Tracking'!G148","v":"Initial Assessment"},{"$f":"MAX(IF(C147:C220=C147,H147:H220,\"\"))","v":0},false,{"$f":"'Patient Tracking'!F148","v":0},0,{"$f":"MAX(IF(G147:G220=C147&\"TRUE\",I147:I220,\"\"))","v":0},"",{"$f":"'Patient Tracking'!J148","v":0},{"$f":"MAX(IF(U147:U220=U147,L147:L220,\"\"))","v":0},{"$f":"IF('Patient Tracking'!H148=\"\",999999,'Patient Tracking'!H148)","v":" "},{"$f":"MIN(IF(C147:C220=C147,N147:N220,\"\"))","v":0},0,"None","None","","",0,0,{"$error":"#VALUE!"},{"$f":"IF(E147=\"current episode initial assessment\",\"\",'Patient Tracking'!L148)","v":"."},{"$f":"IF(E147=\"current episode initial assessment\",\"\",'Patient Tracking'!N148)","v":"."},"No Score","","","","No Score","-100",{"$f":"MAX(IF(Q147:Q220=\"GADSCORE\"&G147,AE147:AE220,IF(C147=C146,AF146,\"-100\")),\"-100\")","v":-100},"No Score","",{"$f":"MAX(IF(Q147:Q220=\"GADSCORE\"&C147&\"TRUE\",L147:L220,IF(C147=C146,AJ146,\"\")))","v":0},"",{"$f":"'Patient Tracking'!R148","v":0},0,"",{"$f":"'Patient Tracking'!Q148","v":0},""]
[{"$f":"'Patient Tracking'!C149","v":""},"",{"$f":"'Patient Tracking'!A149","v":""},{"$f":"'Patient Tracking'!B149","v":""},{"$f":"'Patient Tracking'!G149","v":""},{"$f":"MAX(IF(C148:C221=C148,H148:H221,\"\"))","v":0},false,{"$f":"'Patient Tracking'!F149","v":0},0,{"$f":"MAX(IF(G148:G221=C148&\"TRUE\",I148:I221,\"\"))","v":0},"",{"$f":"'Patient Tracking'!J149","v":0},{"$f":"MAX(IF(U148:U221=U148,L148:L221,\"\"))","v":0},{"$f":"IF('Patient Tracking'!H149=\"\",999999,'Patient Tracking'!H149)","v":" "},{"$f":"MIN(IF(C148:C221=C148,N148:N221,\"\"))","v":0},0,"None","None","","",0,0,{"$error":"#VALUE!"},{"$f":"IF(E148=\"current episode initial assessment\",\"\",'Patient Tracking'!L149)","v":"."},{"$f":"IF(E148=\"current episode initial assessment\",\"\",'Patient Tracking'!N149)","v":"."},"No Score","","","","No Score","-100",{"$f":"MAX(IF(Q148:Q221=\"GADSCORE\"&G148,AE148:AE221,IF(C148=C147,AF147,\"-100\")),\"-100\")","v":-100},"No Score","",{"$f":"MAX(IF(Q148:Q221=\"GADSCORE\"&C148&\"TRUE\",L148:L221,IF(C148=C147,AJ147,\"\")))","v":0},"",{"$f":"'Patient Tracking'!R149","v":0},0,"",{"$f":"'Patient Tracking'!Q149","v":0},""]
[{"$f":"'Patient Tracking'!C150","v":""},"",{"$f":"'Patient Tracking'!A150","v":""},{"$f":"'Patient Tracking'!B150","v":""},{"$f":"'Patient Tracking'!G150","v":""},{"$f":"MAX(IF(C149:C222=C149,H149:H222,\"\"))","v":0},false,{"$f":"'Patient Tracking'!F150","v":0},0,{"$f":"MAX(IF(G149:G222=C149&\"TRUE\",I149:I222,\"\"))","v":0},"",{"$f":"'Patient Tracking'!J150","v":0},{"$f":"MAX(IF(U149:U222=U149,L149:L222,\"\"))","v":0},{"$f":"IF('Patient Tracking'!H150=\"\",999999,'Patient Tracking'!H150)","v":" "},{"$f":"MIN(IF(C149:C222=C149,N149:N222,\"\"))","v":0},0,"None","None","","",0,0,{"$error":"#VALUE!"},{"$f":"IF(E149=\"current episode initial assessment\",\"\",'Patient Tracking'!L150)","v":"."},{"$f":"IF(E149=\"current episode initial assessment\",\"\",'Patient Tracking'!N150)","v":"."},"No Score","","","","No Score","-100",{"$f":"MAX(IF(Q149:Q222=\"GADSCORE\"&G149,AE149:AE222,IF(C149=C148,AF148,\"-100\")),\"-100\")","v":-100},"No Score","",{"$f":"MAX(IF(Q149:Q222=\"GADSCORE\"&C149&\"TRUE\",L149:L222,IF(C149=C148,AJ148,\"\")))","v":0},"",{"$f":"'Patient Tracking'!R150","v":0},0,"",{"$f":"'Patient Tracking'!Q150","v":0},""]
[{"$f":"'Patient Tracking'!C151","v":""},"",{"$f":"'Patient Tracking'!A151","v":""},{"$f":"'Patient Tracking'!B151","v":""},{"$f":"'Patient Tracking'!G151","v":""},{"$f":"MAX(IF(C150:C223=C150,H150:H223,\"\"))","v":0},false,{"$f":"'Patient Tracking'!F151","v":0},0,{"$f":"MAX(IF(G150:G223=C150&\"TRUE\",I150:I223,\"\"))","v":0},"",{"$f":"'Patient Tracking'!J151","v":0},{"$f":"MAX(IF(U150:U223=U150,L150:L223,\"\"))","v":0},{"$f":"IF('Patient Tracking'!H151=\"\",999999,'Patient Tracking'!H151)","v":" "},{"$f":"MIN(IF(C150:C223=C150,N150:N223,\"\"))","v":0},0,"None","None","","",0,0,{"$error":"#VALUE!"},{"$f":"IF(E150=\"current episode initial assessment\",\"\",'Patient Tracking'!L151)","v":"."},{"$f":"IF(E150=\"current episode initial assessment\",\"\",'Patient Tracking'!N151)","v":"."},"No Score","","","","No Score","-100",{"$f":"MAX(IF(Q150:Q223=\"GADSCORE\"&G150,AE150:AE223,IF(C150=C149,AF149,\"-100\")),\"-100\")","v":-100},"No Score","",{"$f":"MAX(IF(Q150:Q223=\"GADSCORE\"&C150&\"TRUE\",L150:L223,IF(C150=C149,AJ149,\"\")))","v":0},"",{"$f":"'Patient Tracking'!R151","v":0},0,"",{"$f":"'Patient Tracking'!Q151","v":0},""]
[{"$f":"'Patient Tracking'!C152","v":""},"",{"$f":"'Patient Tracking'!A152","v":""},{"$f":"'Patient Tracking'!B152","v":""},{"$f":"'Patient Tracking'!G152","v":""},{"$f":"MAX(IF(C151:C224=C151,H151:H224,\"\"))","v":0},false,{"$f":"'Patient Tracking'!F152","v":0},0,{"$f":"MAX(IF(G151:G224=C151&\"TRUE\",I151:I224,\"\"))","v":0},"",{"$f":"'Patient Tracking'!J152","v":0},{"$f":"MAX(IF(U151:U224=U151,L151:L224,\"\"))","v":0},{"$f":"IF('Patient Tracking'!H152=\"\",999999,'Patient Tracking'!H152)","v":" "},{"$f":"MIN(IF(C151:C224=C151,N151:N224,\"\"))","v":0},0,"None","None","","",0,0,{"$error":"#VALUE!"},{"$f":"IF(E151=\"current episode initial assessment\",\"\",'Patient Tracking'!L152)","v":"."},{"$f":"IF(E151=\"current episode initial assessment\",\"\",'Patient Tracking'!N152)","v":"."},"No Score","","","","No Score","-100",{"$f":"MAX(IF(Q151:Q224=\"GADSCORE\"&G151,AE151:AE224,IF(C151=C150,AF150,\"-100\")),\"-100\")","v":-100},"No Score","",{"$f":"MAX(IF(Q151:Q224=\"GADSCORE\"&C151&\"TRUE\",L151:L224,IF(C151=C150,AJ150,\"\")))","v":0},"",{"$f":"'Patient Tracking'!R152","v":0},0,"",{"$f":"'Patient Tracking'!Q152","v":0},""]
[{"$f":"'Patient Tracking'!C153","v":""},"",{"$f":"'Patient Tracking'!A153","v":""},{"$f":"'Patient Tracking'!B153","v":""},{"$f":"'Patient Tracking'!G153","v":""},{"$f":"MAX(IF(C152:C225=C152,H152:H225,\"\"))","v":0},false,{"$f":"'Patient Tracking'!F153","v":0},0,{"$f":"MAX(IF(G152:G225=C152&\"TRUE\",I152:I225,\"\"))","v":0},"",{"$f":"'Patient Tracking'!J153","v":0},{"$f":"MAX(IF(U152:U225=U152,L152:L225,\"\"))","v":0},{"$f":"IF('Patient Tracking'!H153=\"\",999999,'Patient Tracking'!H153)","v":" "},{"$f":"MIN(IF(C152:C225=C152,N152:N225,\"\"))","v":0},0,"None","None","","",0,0,{"$error":"#VALUE!"},{"$f":"IF(E152=\"current episode initial assessment\",\"\",'Patient Tracking'!L153)","v":"."},{"$f":"IF(E152=\"current episode initial assessment\",\"\",'Patient Tracking'!N153)","v":"."},"No Score","","","","No Score","-100",{"$f":"MAX(IF(Q152:Q225=\"GADSCORE\"&G152,AE152:AE225,IF(C152=C151,AF151,\"-100\")),\"-100\")","v":-100},"No Score","",{"$f":"MAX(IF(Q152:Q225=\"GADSCORE\"&C152&\"TRUE\",L152:L225,IF(C152=C151,AJ151,\"\")))","v":0},"",{"$f":"'Patient Tracking'!R153","v":0},0,"",{"$f":"'Patient Tracking'!Q153","v":0},""]
[{"$f":"'Patient Tracking'!C154","v":""},"",{"$f":"'Patient Tracking'!A154","v":""},{"$f":"'Patient Tracking'!B154","v":""},{"$f":"'Patient Tracking'!G154","v":""},{"$f":"MAX(IF(C153:C226=C153,H153:H226,\"\"))","v":0},false,{"$f":"'Patient Tracking'!F154","v":0},0,{"$f":"MAX(IF(G153:G226=C153&\"TRUE\",I153:I226,\"\"))","v":0},"",{"$f":"'Patient Tracking'!J154","v":0},{"$f":"MAX(IF(U153:U226=U153,L153:L226,\"\"))","v":0},{"$f":"IF('Patient Tracking'!H154=\"\",999999,'Patient Tracking'!H154)","v":" "},{"$f":"MIN(IF(C153:C226=C153,N153:N226,\"\"))","v":0},0,"None","None","","",0,0,{"$error":"#VALUE!"},{"$f":"IF(E153=\"current episode initial assessment\",\"\",'Patient Tracking'!L154)","v":"."},{"$f":"IF(E153=\"current episode initial assessment\",\"\",'Patient Tracking'!N154)","v":"."},"No Score","","","","No Score","-100",{"$f":"MAX(IF(Q153:Q226=\"GADSCORE\"&G153,AE153:AE226,IF(C153=C152,AF152,\"-100\")),\"-100\")","v":-100},"No Score","",{"$f":"MAX(IF(Q153:Q226=\"GADSCORE\"&C153&\"TRUE\",L153:L226,IF(C153=C152,AJ152,\"\")))","v":0},"",{"$f":"'Patient Tracking'!R154","v":0},0,"",{"$f":"'Patient Tracking'!Q154","v":0},""]
[{"$f":"'Patient Tracking'!C155","v":""},"",{"$f":"'Patient Tracking'!A155","v":""},{"$f":"'Patient Tracking'!B155","v":""},{"$f":"'Patient Tracking'!G155","v":""},{"$f":"MAX(IF(C154:C227=C154,H154:H227,\"\"))","v":0},false,{"$f":"'Patient Tracking'!F155","v":0},0,{"$f":"MAX(IF(G154:G227=C154&\"TRUE\",I154:I227,\"\"))","v":0},"",{"$f":"'Patient Tracking'!J155","v":0},{"$f":"MAX(IF(U154:U227=U154,L154:L227,\"\"))","v":0},{"$f":"IF('Patient Tracking'!H155=\"\",999999,'Patient Tracking'!H155)","v":" "},{"$f":"MIN(IF(C154:C227=C154,N154:N227,\"\"))","v":0},0,"None","None","","",0,0,{"$error":"#VALUE!"},{"$f":"IF(E154=\"current episode initial assessment\",\"\",'Patient Tracking'!L155)","v":"."},{"$f":"IF(E154=\"current episode initial assessment\",\"\",'Patient Tracking'!N155)","v":"."},"No Score","","","","No Score","-100",{"$f":"MAX(IF(Q154:Q227=\"GADSCORE\"&G154,AE154:AE227,IF(C154=C153,AF153,\"-100\")),\"-100\")","v":-100},"No Score","",{"$f":"MAX(IF(Q154:Q227=\"GADSCORE\"&C154&\"TRUE\",L154:L227,IF(C154=C153,AJ153,\"\")))","v":0},"",{"$f":"'Patient Tracking'!R155","v":0},0,"",{"$f":"'Patient Tracking'!Q155","v":0},""]
[{"$f":"'Patient Tracking'!C156","v":""},"",{"$f":"'Patient Tracking'!A156","v":""},{"$f":"'Patient Tracking'!B156","v":""},{"$f":"'Patient Tracking'!G156","v":""},{"$f":"MAX(IF(C155:C228=C155,H155:H228,\"\"))","v":0},false,{"$f":"'Patient Tracking'!F156","v":0},0,{"$f":"MAX(IF(G155:G228=C155&\"TRUE\",I155:I228,\"\"))","v":0},"",{"$f":"'Patient Tracking'!J156","v":0},{"$f":"MAX(IF(U155:U228=U155,L155:L228,\"\"))","v":0},{"$f":"IF('Patient Tracking'!H156=\"\",999999,'Patient Tracking'!H156)","v":" "},{"$f":"MIN(IF(C155:C228=C155,N155:N228,\"\"))","v":0},0,"None","None","","",0,0,{"$error":"#VALUE!"},{"$f":"IF(E155=\"current episode initial assessment\",\"\",'Patient Tracking'!L156)","v":"."},{"$f":"IF(E155=\"current episode initial assessment\",\"\",'Patient Tracking'!N156)","v":"."},"No Score","","","","No Score","-100",{"$f":"MAX(IF(Q155:Q228=\"GADSCORE\"&G155,AE155:AE228,IF(C155=C154,AF154,\"-100\")),\"-100\")","v":-100},"No Score","",{"$f":"MAX(IF(Q155:Q228=\"GADSCORE\"&C155&\"TRUE\",L155:L228,IF(C155=C154,AJ154,\"\")))","v":0},"",{"$f":"'Patient Tracking'!R156","v":0},0,"",{"$f":"'Patient Tracking'!Q156","v":0},""]
[{"$f":"'Patient Tracking'!C157","v":""},"",{"$f":"'Patient Tracking'!A157","v":""},{"$f":"'Patient Tracking'!B157","v":""},{"$f":"'Patient Tracking'!G157","v":""},{"$f":"MAX(IF(C156:C229=C156,H156:H229,\"\"))","v":0},false,{"$f":"'Patient Tracking'!F157","v":0},0,{"$f":"MAX(IF(G156:G229=C156&\"TRUE\",I156:I229,\"\"))","v":0},"",{"$f":"'Patient Tracking'!J157","v":0},{"$f":"MAX(IF(U156:U229=U156,L156:L229,\"\"))","v":0},{"$f":"IF('Patient Tracking'!H157=\"\",999999,'Patient Tracking'!H157)","v":" "},{"$f":"MIN(IF(C156:C229=C156,N156:N229,\"\"))","v":0},0,"None","None","","",0,0,{"$error":"#VALUE!"},{"$f":"IF(E156=\"current episode initial assessment\",\"\",'Patient Tracking'!L157)","v":"."},{"$f":"IF(E156=\"current episode initial assessment\",\"\",'Patient Tracking'!N157)","v":"."},"No Score","","","","No Score","-100",{"$f":"MAX(IF(Q156:Q229=\"GADSCORE\"&G156,AE156:AE229,IF(C156=C155,AF155,\"-100\")),\"-100\")","v":-100},"No Score","",{"$f":"MAX(IF(Q156:Q229=\"GADSCORE\"&C156&\"TRUE\",L156:L229,IF(C156=C155,AJ155,\"\")))","v":0},"",{"$f":"'Patient Tracking'!R157","v":0},0,"",{"$f":"'Patient Tracking'!Q157","v":0},""]
[{"$f":"'Patient Tracking'!C158","v":""},"",{"$f":"'Patient Tracking'!A158","v":""},{"$f":"'Patient Tracking'!B158","v":""},{"$f":"'Patient Tracking'!G158","v":""},{"$f":"MAX(IF(C157:C230=C157,H157:H230,\"\"))","v":0},false,{"$f":"'Patient Tracking'!F158","v":0},0,{"$f":"MAX(IF(G157:G230=C157&\"TRUE\",I157:I230,\"\"))","v":0},"",{"$f":"'Patient Tracking'!J158","v":0},{"$f":"MAX(IF(U157:U230=U157,L157:L230,\"\"))","v":0},{"$f":"IF('Patient Tracking'!H158=\"\",999999,'Patient Tracking'!H158)","v":" "},{"$f":"MIN(IF(C157:C230=C157,N157:N230,\"\"))","v":0},0,"None","None","","",0,0,{"$error":"#VALUE!"},{"$f":"IF(E157=\"current episode initial assessment\",\"\",'Patient Tracking'!L158)","v":"."},{"$f":"IF(E157=\"current episode initial assessment\",\"\",'Patient Tracking'!N158)","v":"."},"No Score","","","","No Score","-100",{"$f":"MAX(IF(Q157:Q230=\"GADSCORE\"&G157,AE157:AE230,IF(C157=C156,AF156,\"-100\")),\"-100\")","v":-100},"No Score","",{"$f":"MAX(IF(Q157:Q230=\"GADSCORE\"&C157&\"TRUE\",L157:L230,IF(C157=C156,AJ156,\"\")))","v":0},"",{"$f":"'Patient Tracking'!R158","v":0},0,"",{"$f":"'Patient Tracking'!Q158","v":0},""]
[{"$f":"'Patient Tracking'!C159","v":""},"",{"$f":"'Patient Tracking'!A159","v":""},{"$f":"'Patient Tracking'!B159","v":""},{"$f":"'Patient Tracking'!G159","v":""},{"$f":"MAX(IF(C158:C231=C158,H158:H231,\"\"))","v":0},false,{"$f":"'Patient Tracking'!F159","v":0},0,{"$f":"MAX(IF(G158:G231=C158&\"TRUE\",I158:I231,\"\"))","v":0},"",{"$f":"'Patient Tracking'!J159","v":0},{"$f":"MAX(IF(U158:U231=U158,L158:L231,\"\"))","v":0},{"$f":"IF('Patient Tracking'!H159=\"\",999999,'Patient Tracking'!H159)","v":" "},{"$f":"MIN(IF(C158:C231=C158,N158:N231,\"\"))","v":0},0,"None","None","","",0,0,{"$error":"#VALUE!"},{"$f":"IF(E158=\"current episode initial assessment\",\"\",'Patient Tracking'!L159)","v":"."},{"$f":"IF(E158=\"current episode initial assessment\",\"\",'Patient Tracking'!N159)","v":"."},"No Score","","","","No Score","-100",{"$f":"MAX(IF(Q158:Q231=\"GADSCORE\"&G158,AE158:AE231,IF(C158=C157,AF157,\"-100\")),\"-100\")","v":-100},"No Score","",{"$f":"MAX(IF(Q158:Q231=\"GADSCORE\"&C158&\"TRUE\",L158:L231,IF(C158=C157,AJ157,\"\")))","v":0},"",{"$f":"'Patient Tracking'!R159","v":0},0,"",{"$f":"'Patient Tracking'!Q159","v":0},""]
[{"$f":"'Patient Tracking'!C160","v":""},"",{"$f":"'Patient Tracking'!A160","v":""},{"$f":"'Patient Tracking'!B160","v":""},{"$f":"'Patient Tracking'!G160","v":""},{"$f":"MAX(IF(C159:C232=C159,H159:H232,\"\"))","v":0},false,{"$f":"'Patient Tracking'!F160","v":0},0,{"$f":"MAX(IF(G159:G232=C159&\"TRUE\",I159:I232,\"\"))","v":0},"",{"$f":"'Patient Tracking'!J160","v":0},{"$f":"MAX(IF(U159:U232=U159,L159:L232,\"\"))","v":0},{"$f":"IF('Patient Tracking'!H160=\"\",999999,'Patient Tracking'!H160)","v":" "},{"$f":"MIN(IF(C159:C232=C159,N159:N232,\"\"))","v":0},0,"None","None","","",0,0,{"$error":"#VALUE!"},{"$f":"IF(E159=\"current episode initial assessment\",\"\",'Patient Tracking'!L160)","v":"."},{"$f":"IF(E159=\"current episode initial assessment\",\"\",'Patient Tracking'!N160)","v":"."},"No Score","","","","No Score","-100",{"$f":"MAX(IF(Q159:Q232=\"GADSCORE\"&G159,AE159:AE232,IF(C159=C158,AF158,\"-100\")),\"-100\")","v":-100},"No Score","",{"$f":"MAX(IF(Q159:Q232=\"GADSCORE\"&C159&\"TRUE\",L159:L232,IF(C159=C158,AJ158,\"\")))","v":0},"",{"$f":"'Patient Tracking'!R160","v":0},0,"",{"$f":"'Patient Tracking'!Q160","v":0},""]
[{"$f":"'Patient Tracking'!C161","v":""},"",{"$f":"'Patient Tracking'!A161","v":""},{"$f":"'Patient Tracking'!B161","v":""},{"$f":"'Patient Tracking'!G161","v":""},{"$f":"MAX(IF(C160:C233=C160,H160:H233,\"\"))","v":0},false,{"$f":"'Patient Tracking'!F161","v":0},0,{"$f":"MAX(IF(G160:G233=C160&\"TRUE\",I160:I233,\"\"))","v":0},"",{"$f":"'Patient Tracking'!J161","v":0},{"$f":"MAX(IF(U160:U233=U160,L160:L233,\"\"))","v":0},{"$f":"IF('Patient Tracking'!H161=\"\",999999,'Patient Tracking'!H161)","v":" "},{"$f":"MIN(IF(C160:C233=C160,N160:N233,\"\"))","v":0},0,"None","None","","",0,0,{"$error":"#VALUE!"},{"$f":"IF(E160=\"current episode initial assessment\",\"\",'Patient Tracking'!L161)","v":"."},{"$f":"IF(E160=\"current episode initial assessment\",\"\",'Patient Tracking'!N161)","v":"."},"No Score","","","","No Score","-100",{"$f":"MAX(IF(Q160:Q233=\"GADSCORE\"&G160,AE160:AE233,IF(C160=C159,AF159,\"-100\")),\"-100\")","v":-100},"No Score","",{"$f":"MAX(IF(Q160:Q233=\"GADSCORE\"&C160&\"TRUE\",L160:L233,IF(C160=C159,AJ159,\"\")))","v":0},"",{"$f":"'Patient Tracking'!R161","v":0},0,"",{"$f":"'Patient Tracking'!Q161","v":0},""]
[{"$f":"'Patient Tracking'!C162","v":""},"",{"$f":"'Patient Tracking'!A162","v":""},{"$f":"'Patient Tracking'!B162","v":""},{"$f":"'Patient Tracking'!G162","v":""},{"$f":"MAX(IF(C161:C234=C161,H161:H234,\"\"))","v":0},false,{"$f":"'Patient Tracking'!F162","v":0},0,{"$f":"MAX(IF(G161:G234=C161&\"TRUE\",I161:I234,\"\"))","v":0},"",{"$f":"'Patient Tracking'!J162","v":0},{"$f":"MAX(IF(U161:U234=U161,L161:L234,\"\"))","v":0},{"$f":"IF('Patient Tracking'!H162=\"\",999999,'Patient Tracking'!H162)","v":" "},{"$f":"MIN(IF(C161:C234=C161,N161:N234,\"\"))","v":0},0,"None","None","","",0,0,{"$error":"#VALUE!"},{"$f":"IF(E161=\"current episode initial assessment\",\"\",'Patient Tracking'!L162)","v":"."},{"$f":"IF(E161=\"current episode initial assessment\",\"\",'Patient Tracking'!N162)","v":"."},"No Score","","","","No Score","-100",{"$f":"MAX(IF(Q161:Q234=\"GADSCORE\"&G161,AE161:AE234,IF(C161=C160,AF160,\"-100\")),\"-100\")","v":-100},"No Score","",{"$f":"MAX(IF(Q161:Q234=\"GADSCORE\"&C161&\"TRUE\",L161:L234,IF(C161=C160,AJ160,\"\")))","v":0},"",{"$f":"'Patient Tracking'!R162","v":0},0,"",{"$f":"'Patient Tracking'!Q162","v":0},""]